{"text_format":"1","workbook":"xlsx","n_sheets":42,"sheets":["Instrukcijos","Navigacija","Bendrieji įvesties duomenys","Elementų išlaidų apibendrinimas","Pastato išlaidų apibendrinimas","1. Pamatai","2. Perdangos","3. Sienos","4. Durys","5. Langai","6. Laiptai","7. Stogas","8. Vidaus apdaila","9. Išorės apdaila","10. Šildymo sistema (vidaus)","11. Šildymo sistema (lauko)","12. Šaldymas ir oro kondiciona","13. Ventiliacija","14. Vandentiekio sistema (vida","15. Vandentiekio sistema (lauk","16. Nuotekų šalinimo sistema","17. Nuotekų šalinimo sistema","18. Elektros instaliacija (vid","19. Elektros instaliacija (lau","20. Dujos","21. Apsaugos sistema","22. Telekomunikacijos","23. Gaisro gesinimo sistema","24. Transportavimo sistema","25. Lietaus surinkimo sistema","Elementų tarnavimo trukmė","Alternatyvūs pasirinkimai","Bendrosios pastato išlaidos","Forma","Miestų klasifikatorius","Administravimas","IP","SĄRAŠAI","Klasifikatorius","Klasifikatorius2","Modifikuoti svoriai ","Statybos vertės pasiskirstymas"],"not_rendered":{"charts":0,"images":27,"macros":1,"external_links":1,"defined_names":271,"comments":0,"pivot_tables":0},"unopened":[],"bounds":{"document_bytes":16777216,"sheet_cells":100000,"rows_first":2000,"rows_last":500,"rows_between":2000,"halvings":0,"cell_chars":16384,"cell_head_chars":4096},"cells_cut":0,"cells_raw":0,"read":"whole","date_system":"1900"}

{"sheet":"Instrukcijos","index":0,"n_rows":25,"n_cols":5,"rows_kept":25,"cut":false,"hidden":false,"merged":[]}
[]
[null,null,null,null,"PILDYMO INSTRUKCIJOS "]
[null,null,null,null,"Tikslas "]
[]
[null,null,null,null,"Skaičiuoklės paskirtis - įvertinti viso gyvavimo ciklo sąnaudas (GCS) pasirinktam turto vienetui. Nuoseklus GCS metodikos ir atitinkamai šios skaičiuoklės taikymas padės efektyviau vykdyti viešojo sektoriaus investicijų vertinimo, biudžeto planavimo ir finansų valdymo funkcijas. Skaičiuoklės pagalba taip pat siekiama prisidėti prie viešojo sektoriaus išteklių panaudojimo efektyvinimo bei investicinių projektų finansinio ir ekonominio naudingumo didinimo."]
[]
[null,null,null,null,"1. Navigacijos lapas "]
[]
[null,null,null,null,"Navigacijos lape yra pateikiama navigacinė panelė, iš kurios yra pasiekiamos visos kitos skaičiuoklės dalys (įvesties, skaičiavimų, rezultatų lapai). Pagal savo paskirtį skaičiuoklės lapai yra skirstomi į keturias kategorijas: 1) Bendrųjų įvesties duomenų lapas; 2) Skirtingų pastato elementų duomenų įvesties lapai; 3) Naudingo tarnavimo laikotarpio apskaičiavimo lapas; 4) Finansinių rezultatų apibendrinimo lapai. "]
[]
[null,null,null,null,"2. Bendrieji įvesties duomenys"]
[]
[null,null,null,null,"Bendrųjų įvesties duomenų lapas yra skirtas bendrojo pobūdžio informacijos apie konkretų investavimo objektą pateikimui. Duomenys turėtų būti įvedami į atitinkamus C stulpelio laukelius, atsižvelgiant į aprašymus, kurie yra pateikti to paties lapo B stulpelyje. "]
[]
[null,null,null,null,"3. Pastato elementų duomenų įvesties lapai "]
[]
[null,null,null,null,"Pastato elementų duomenų įvesties kategorija apima 25 atskirus lapus (1. Pamatai - 25. Lietaus surinkimo sistema), skirtus specifinėms pastato sudedamosioms dalims, bei papildomą lapą (Bendrosios pastato išlaidų įvestys), kuris apima bendrąsias (t.y., į atskiras sudedamąsias dalis neišskaidomas) pastato sąnaudų grupių išlaidas.\n\nŠiuos lapus reikia užpildyti palaipsniui - vieną po kito, atsižvelgiant į juose pateiktas instrukcijas. Pastato įvesties duomenų lapuose žalia spalva pažymėti langeliai turėtų būti užpildyti skaičiuoklės naudotojo - pildytojo, tuo tarpu pilkos spalvos langeliuose atliekami automatiniai skaičiavimai ir šie langeliai neturėtų būti keičiami rankiniu būdu.\n\nSVARBU: Palikus vieną iš pastato įvesties duomenų lapų, į jį sugrįžti galima paspaudus ant atitinkamos to pastato elemento nuorodos navigacijos lape. Visa iki to laiko įvesta informacija yra išsaugoma ir prieinama vėl sugrįžus į pasirinktą lapą. "]
[]
[null,null,null,null,"4. Pastato duomenų perkėlimas ir naudingo tarnavimo laikotarpio atnaujinimas"]
[]
[null,null,null,null,"Suvedus visus reikiamus duomenis į pastato elementų duomenų įvesties lapus, dalis juose pateiktos informacijos turi būti perkelta į lapą „Elementų tarnavimo trukmė“. Tai turėtų būti padaryta minėtame lape paspaudus mygtuką „Perkelti pastato elementų duomenis“. Atlikus šią funkciją, lape esanti lentelė bus automatiškai užpildyta duomenimis, kurie yra reikalingi, norint apskaičiuoti pastato naudingo tarnavimo laikotarpį.\n\nPerkėlus įvesties duomenis, turėtų būti spaudžiamas mygtukas „Atnaujinti naudingo tarnavimo laikotarpius“. Tai leis atnaujinti skaičiuoklėje naudojamas pastato elementų duomenų lenteles bei rezultatus, atsižvelgiant į apskaičiuotą pastato naudingo tarnavimo laikotarpį.\n\nSVARBU: Pastato naudingo tarnavimo laikotarpis apskaičiuojamas kaip svertinis visų jo sudedamųjų dalių vidurkis. Kiekvieno elemento svorius galima pamatyti paslėptame skaičiuoklės lape „Modifikuoti svoriai“ (paspaudus ant bet kurio iš skaičiuoklės lapų, pasirinkus „Unhide“ funkcionalumą ir atsiradusiuoje lentelėje paspaudus ant lapo „Modifikuoti svoriai\" pavadinimo)."]
[]
[null,null,null,null,"5. Finansinių rezultatų peržiūra"]
[]
[null,null,null,null,"Atnaujinus naudingo tarnavimo laikotarpius, galutiniai finansiniai rezultai yra pasiekiami lapuose „Elementų išlaidų apibendrinimas\" ir „Pastato išlaidų apibendrinimas\". "]

{"sheet":"Navigacija","index":1,"n_rows":38,"n_cols":27,"rows_kept":38,"cut":false,"hidden":false,"merged":[]}
[]
[]
[]
[]
[]
[]
[]
[]
[]
[]
[]
[null,null,null,null,null,null,null,null,null,null,null,null,null,"Navigacija",null,null,null,null,null,null,null,null,null,null,null,"Elementas","Ar pabaigta pildyti?"]
[]
[null,null,null,null,null,null,null,null,null,null,null,null,null,null,null,null,null,null,null,null,null,null,null,null,null,"1. Pamatai",{"$f":"'1. Pamatai'!$F$38","v":"Ne"}]
[null,null,null,null,null,null,null,null,null,null,null,null,null,null,null,null,null,null,null,null,null,null,null,null,null,"2. Perdangos",{"$f":"'2. Perdangos'!$F$38","v":"Ne"}]
[null,null,null,null,null,null,null,null,null,null,null,null,null,null,null,null,null,null,null,null,null,null,null,null,null,"3. Sienos",{"$f":"'3. Sienos'!$F$38","v":"Ne"}]
[null,null,null,null,null,null,null,null,null,null,null,null,null,null,null,null,null,null,null,null,null,null,null,null,null,"4. Durys",{"$f":"'4. Durys'!$F$38","v":"Ne"}]
[null,null,null,null,null,null,null,null,null,null,null,null,null,null,null,null,null,null,null,null,null,null,null,null,null,"5. Langai",{"$f":"'5. Langai'!$F$38","v":"Ne"}]
[null,null,null,null,null,null,null,null,null,null,null,null,null,null,null,null,null,null,null,null,null,null,null,null,null,"6. Laiptai",{"$f":"'6. Laiptai'!$F$38","v":"Ne"}]
[null,null,null,null,null,null,null,null,null,null,null,null,null,null,null,null,null,null,null,null,null,null,null,null,null,"7. Stogas",{"$f":"'7. Stogas'!$F$38","v":"Ne"}]
[null,null,null,null,null,null,null,null,null,null,null,null,null,null,null,null,null,null,null,null,null,null,null,null,null,"8. Vidaus apdaila",{"$f":"'8. Vidaus apdaila'!$F$38","v":"Ne"}]
[null,null,null,null,null,null,null,null,null,null,null,null,null,null,null,null,null,null,null,null,null,null,null,null,null,"9. Išorės apdaila",{"$f":"'9. Išorės apdaila'!$F$38","v":"Ne"}]
[null,null,null,null,null,null,null,null,null,null,null,null,null,null,null,null,null,null,null,null,null,null,null,null,null,"10. Šldymo sistema (vidaus)",{"$f":"'10. Šildymo sistema (vidaus)'!$F$38","v":"Ne"}]
[null,null,null,null,null,null,null,null,null,null,null,null,null,null,null,null,null,null,null,null,null,null,null,null,null,"11. Šildymo sistema (lauko)",{"$f":"'11. Šildymo sistema (lauko)'!$F$38","v":"Ne"}]
[null,null,null,null,null,null,null,null,null,null,null,null,null,null,null,null,null,null,null,null,null,null,null,null,null,"12. Šaldymo ir oro kondicionavimas",{"$f":"'12. Šaldymas ir oro kondiciona'!$F$38","v":"Ne"}]
[null,null,null,null,null,null,null,null,null,null,null,null,null,null,null,null,null,null,null,null,null,null,null,null,null,"13. Ventiliacija",{"$f":"'13. Ventiliacija'!$F$38","v":"Ne"}]
[null,null,null,null,null,null,null,null,null,null,null,null,null,null,null,null,null,null,null,null,null,null,null,null,null,"14. Vandentiekio sistema (vidaus)",{"$f":"'14. Vandentiekio sistema (vida'!$F$38","v":"Ne"}]
[null,null,null,null,null,null,null,null,null,null,null,null,null,null,null,null,null,null,null,null,null,null,null,null,null,"15. Vendentiekio sistema (lauko)",{"$f":"'15. Vandentiekio sistema (lauk'!$F$38","v":"Ne"}]
[null,null,null,null,null,null,null,null,null,null,null,null,null,null,null,null,null,null,null,null,null,null,null,null,null,"16. Nuotekų šalinimo sistema (vidaus)",{"$f":"'16. Nuotekų šalinimo sistema'!$F$38","v":"Ne"}]
[null,null,null,null,null,null,null,null,null,null,null,null,null,null,null,null,null,null,null,null,null,null,null,null,null,"17. Nuotekų šalinimo sistema (lauko)",{"$f":"'17. Nuotekų šalinimo sistema'!$F$38","v":"Ne"}]
[null,null,null,null,null,null,null,null,null,null,null,null,null,null,null,null,null,null,null,null,null,null,null,null,null,"18. Elektros instaliacija (vidaus)",{"$f":"'18. Elektros instaliacija (vid'!$F$38","v":"Ne"}]
[null,null,null,null,null,null,null,null,null,null,null,null,null,null,null,null,null,null,null,null,null,null,null,null,null,"19. Elektros instaliacija (lauko)",{"$f":"'19. Elektros instaliacija (lau'!$F$38","v":"Ne"}]
[null,null,null,null,null,null,null,null,null,null,null,null,null,null,null,null,null,null,null,null,null,null,null,null,null,"20. Dujos",{"$f":"'20. Dujos'!$F$38","v":"Ne"}]
[null,null,null,null,null,null,null,null,null,null,null,null,null,null,null,null,null,null,null,null,null,null,null,null,null,"21. Apsaugos sistema",{"$f":"'21. Apsaugos sistema'!$F$38","v":"Ne"}]
[null,null,null,null,null,null,null,null,null,null,null,null,null,null,null,null,null,null,null,null,null,null,null,null,null,"22. Telekomunikacijos",{"$f":"'22. Telekomunikacijos'!$F$38","v":"Ne"}]
[null,null,null,null,null,null,null,null,null,null,null,null,null,null,null,null,null,null,null,null,null,null,null,null,null,"23. Gaisro gesinimo sistema",{"$f":"'23. Gaisro gesinimo sistema'!$F$38","v":"Ne"}]
[null,null,null,null,null,null,null,null,null,null,null,null,null,null,null,null,null,null,null,null,null,null,null,null,null,"24. Transportavimo sistema",{"$f":"'24. Transportavimo sistema'!$F$38","v":"Ne"}]
[null,null,null,null,null,null,null,null,null,null,null,null,null,null,null,null,null,null,null,null,null,null,null,null,null,"25. Lietaus surinkimo sistema",{"$f":"'25. Lietaus surinkimo sistema'!$F$38","v":"Ne"}]

{"sheet":"Bendrieji įvesties duomenys","index":2,"n_rows":1102,"n_cols":19,"rows_kept":1102,"cut":false,"hidden":false,"merged":[[8,1,8,2],[40,1,40,2]]}
[null,null,null,null,null,null,null,null,null,null,null,null,null,null,null,null,"Alytaus apskritis","Akmenės r. sav.","Akmenė"]
[null,"PASTATŲ GYVAVIMO CIKLO SĄNAUDŲ SKAIČIUOKLĖ",null,null,null,null,null,null,null,null,null,null,null,null,null,null,"Kauno apskritis","Alytaus m. sav.","Alytus"]
[null,"Bendrieji įvesties duomenys",null,null,null,null,null,null,null,null,null,null,null,null,null,null,"Klaipėdos apskritis","Alytaus r. sav.","Anykščiai"]
[null,null,null,null,null,null,null,null,null,null,null,null,null,null,null,null,"Marijampolės apskritis","Anykščių r. sav.","Ariogala"]
[null,null,null,null,null,null,null,null,null,null,null,null,null,null,null,null,"Panevėžio apskritis","Birštono sav.","Baltoji Vokė"]
[null,"Pildymo data (YYYY-MM-DD)","2019-06-10",null,null,null,null,null,null,null,null,null,null,null,null,null,"Šiaulių apskritis","Biržų r. sav.","Birštonas"]
[null,null,null,null,null,null,null,null,null,null,null,null,null,null,null,null,"Tauragės apskritis","Druskininkų sav.","Biržai"]
[null,null,null,null,null,null,null,null,null,null,null,null,null,null,null,null,"Telšių apskritis","Elektrėnų sav.","Daugai"]
[null,"Duomenys apie turto / investavimo objektą",null,null,null,null,null,null,null,null,null,null,null,null,null,null,"Utenos apskritis","Ignalinos r. sav.","Druskininkai"]
[null,"Investavimo tikslas",null,null,null,null,null,null,null,null,null,null,null,null,null,null,"Vilniaus apskritis","Jonavos r. sav.","Dūkštas"]
[null,"Turto savininkas",null,null,null,null,null,null,null,null,null,null,null,null,null,null,null,"Joniškio r. sav.","Dusetos"]
[null,null,null,null,null,null,null,null,null,null,null,null,null,null,null,null,null,"Jurbarko r. sav.","Eišiškės"]
[null,"Turto valdytojas ",null,null,null,null,null,null,null,null,null,null,null,null,null,null,null,"Kaišiadorių r. sav.","Elektrėnai"]
[null,null,null,null,null,null,null,null,null,null,null,null,null,null,null,null,null,"Kalvarijos sav.","Ežerėlis"]
[null,"Turto valdymo forma",null,null,null,null,null,null,null,null,null,null,null,null,null,null,null,"Kauno m. sav.","Gargždai"]
[null,null,null,null,null,null,null,null,null,null,null,null,null,null,null,null,null,"Kauno r. sav.","Garliava"]
[null,"Apskritis, kurioje yra turtas",null,null,null,null,null,null,null,null,null,null,null,null,null,null,null,"Kazlų Rūdos sav.","Gelgaudiškis"]
[null,null,null,null,null,null,null,null,null,null,null,null,null,null,null,null,null,"Kėdainių r. sav.","Grigiškės"]
[null,"Savivaldybė, kurioje yra turtas",null,null,null,null,null,null,null,null,null,null,null,null,null,null,null,"Kelmės r. sav.","Ignalina"]
[null,null,null,null,null,null,null,null,null,null,null,null,null,null,null,null,null,"Klaipėdos m. sav.","Jieznas"]
[null,"Miestas, kuriame yra turtas",null,null,null,null,null,null,null,null,null,null,null,null,null,null,null,"Klaipėdos r. sav.","Jonava"]
[null,null,null,null,null,null,null,null,null,null,null,null,null,null,null,null,null,"Kretingos r. sav.","Joniškėlis"]
[null,"Tikslus turto buvimo (registracijos) adresas",null,null,null,null,null,null,null,null,null,null,null,null,null,null,null,"Kupiškio r. sav.","Joniškis"]
[null,null,null,null,null,null,null,null,null,null,null,null,null,null,null,null,null,"Lazdijų r. sav.","Jurbarkas"]
[null,"Ekonominės veiklos sektorius",null,null,null,null,null,null,null,null,null,null,null,null,null,null,null,"Marijampolės r. sav.","Kaišiadorys"]
[null,null,null,null,null,null,null,null,null,null,null,null,null,null,null,null,null,"Marijampolės sav.","Kalvarija"]
[null,"Unikalus nekilnojamo turto objekto numeris",null,null,null,null,null,null,null,null,null,null,null,null,null,null,null,"Mažeikių r. sav.","Kaunas"]
[null,null,null,null,null,null,null,null,null,null,null,null,null,null,null,null,null,"Molėtų r. sav.","Kavarskas"]
[null,"Turto / investavimo objekto tipas (paskirtis)","Administraciniai pastatai",null,null,null,null,null,null,null,null,null,null,null,null,null,null,"Neringos sav.","Kazlų Rūda"]
[null,null,null,null,null,null,null,null,null,null,null,null,null,null,null,null,null,"Pagėgių sav.","Kėdainiai"]
[null,"Turto / investavimo objekto sub-tipas",null,null,null,null,null,null,null,null,null,null,null,null,null,null,null,"Pakruojo r. sav.","Kelmė"]
[null,null,null,null,null,null,null,null,null,null,null,null,null,null,null,null,null,"Palangos m. sav.","Kybartai"]
[null,"Įvedimo į eksploataciją data (YYYY-MM-DD) (praeityje sukurto objekto)",null,null,null,null,null,null,null,null,null,null,null,null,null,null,null,"Panevėžio m. sav.","Klaipėda"]
[null,"Atkūrimo sąnaudos (statybos vertė)",null,null,null,null,null,null,null,null,null,null,null,null,null,null,null,"Panevėžio r. sav.","Kretinga"]
[null,"Taikoma reali finansinė diskonto norma",0.04,null,null,null,null,null,null,null,null,null,null,null,null,null,null,"Pasvalio r. sav.","Kudirkos Naumiestis"]
[null,null,null,null,null,null,null,null,null,null,null,null,null,null,null,null,null,"Plungės r. sav.","Kupiškis"]
[null,"Taikoma socialinė diskonto norma",0.05,null,null,null,null,null,null,null,null,null,null,null,null,null,null,"Prienų r. sav.","Vilkaviškis"]
[null,null,null,null,null,null,null,null,null,null,null,null,null,null,null,null,null,"Šiaulių m. sav.","Kuršėnai"]
[null,"Pastato tarnavimo laikotarpio pabaiga",{"$f":"IF(C33>0,C33+'Elementų tarnavimo trukmė'!O7*365,C6+'Elementų tarnavimo trukmė'!O7*365)","v":"2019-06-10"},null,null,null,null,null,null,null,null,null,null,null,null,null,null,"Radviliškio r. sav.","Lazdijai"]
[null,null,null,null,null,null,null,null,null,null,null,null,null,null,null,null,null,"Raseinių r. sav.","Lentvaris"]
[null,"Turto / investavimo objekto fiziniai parametrai",null,null,null,null,null,null,null,null,null,null,null,null,null,null,null,"Rietavo sav.","Linkuva"]
[null,null,null,null,null,null,null,null,null,null,null,null,null,null,null,null,null,"Rokiškio r. sav.","Marijampolė"]
[null,"Bendras patalpų plotas, kv. m.",null,null,null,null,null,null,null,null,null,null,null,null,null,null,null,"Skuodo r. sav.","Mažeikiai"]
[null,null,null,null,null,null,null,null,null,null,null,null,null,null,null,null,null,"Šakių r. sav.","Molėtai"]
[null,"Aukštų skaičius, vnt.",null,null,null,null,null,null,null,null,null,null,null,null,null,null,null,"Šalčininkų r. sav.","Naujoji Akmenė"]
[null,null,null,null,null,null,null,null,null,null,null,null,null,null,null,null,null,"Šiaulių r. sav.","Nemenčinė"]
[null,"Darbuotojų skaičius, vnt.",null,null,null,null,null,null,null,null,null,null,null,null,null,null,null,"Šilalės r. sav.","Neringa"]
[null,null,null,null,null,null,null,null,null,null,null,null,null,null,null,null,null,"Šilutės r. sav.","Obeliai"]
[null,"Pastato energinis efektyvumas",null,null,null,null,null,null,null,null,null,null,null,null,null,null,null,"Širvintų r. sav.","Pabradė"]
[null,null,null,null,null,null,null,null,null,null,null,null,null,null,null,null,null,"Švenčionių r. sav.","Pagėgiai"]
[null,"Šildymo tipas",null,null,null,null,null,null,null,null,null,null,null,null,null,null,null,"Tauragės r. sav.","Pakruojis"]
[null,null,null,null,null,null,null,null,null,null,null,null,null,null,null,null,null,"Telšių r. sav.","Palanga"]
[null,null,null,null,null,null,null,null,null,null,null,null,null,null,null,null,null,"Trakų r. sav.","Pandėlys"]
[null,null,null,null,null,null,null,null,null,null,null,null,null,null,null,null,null,"Ukmergės r. sav.","Panemunė"]
[null,null,null,null,null,null,null,null,null,null,null,null,null,null,null,null,null,"Utenos r. sav.","Panevėžys"]
[null,null,null,null,null,null,null,null,null,null,null,null,null,null,null,null,null,"Varėnos r. sav.","Pasvalys"]
[null,null,null,null,null,null,null,null,null,null,null,null,null,null,null,null,null,"Vilkaviškio r. sav.","Plungė"]
[null,null,null,null,null,null,null,null,null,null,null,null,null,null,null,null,null,"Vilniaus m. sav.","Priekulė"]
[null,null,null,null,null,null,null,null,null,null,null,null,null,null,null,null,null,"Vilniaus r. sav.","Prienai"]
[null,null,null,null,null,null,null,null,null,null,null,null,null,null,null,null,null,"Visagino sav.","Radviliškis"]
[null,null,null,null,null,null,null,null,null,null,null,null,null,null,null,null,null,"Zarasų r. sav.","Ramygala"]
[null,null,null,null,null,null,null,null,null,null,null,null,null,null,null,null,null,null,"Raseiniai"]
[null,null,null,null,null,null,null,null,null,null,null,null,null,null,null,null,null,null,"Rietavas"]
[null,null,null,null,null,null,null,null,null,null,null,null,null,null,null,null,null,null,"Rokškis"]
[null,null,null,null,null,null,null,null,null,null,null,null,null,null,null,null,null,null,"Rūdiškės"]
[null,null,null,null,null,null,null,null,null,null,null,null,null,null,null,null,null,null,"Salantai"]
[null,null,null,null,null,null,null,null,null,null,null,null,null,null,null,null,null,null,"Seda"]
[null,null,null,null,null,null,null,null,null,null,null,null,null,null,null,null,null,null,"Simnas"]
[null,null,null,null,null,null,null,null,null,null,null,null,null,null,null,null,null,null,"Skaudvilė"]
[null,null,null,null,null,null,null,null,null,null,null,null,null,null,null,null,null,null,"Skuodas"]
[null,null,null,null,null,null,null,null,null,null,null,null,null,null,null,null,null,null,"Smalininkai"]
[null,null,null,null,null,null,null,null,null,null,null,null,null,null,null,null,null,null,"Subačius"]
[null,null,null,null,null,null,null,null,null,null,null,null,null,null,null,null,null,null,"Šakiai"]
[null,null,null,null,null,null,null,null,null,null,null,null,null,null,null,null,null,null,"Šalčininkai"]
[null,null,null,null,null,null,null,null,null,null,null,null,null,null,null,null,null,null,"Šeduva"]
[null,null,null,null,null,null,null,null,null,null,null,null,null,null,null,null,null,null,"Šiauliai"]
[null,null,null,null,null,null,null,null,null,null,null,null,null,null,null,null,null,null,"Šilalė"]
[null,null,null,null,null,null,null,null,null,null,null,null,null,null,null,null,null,null,"Šilutė"]
[null,null,null,null,null,null,null,null,null,null,null,null,null,null,null,null,null,null,"Širvintos"]
[null,null,null,null,null,null,null,null,null,null,null,null,null,null,null,null,null,null,"Švenčionėliai"]
[null,null,null,null,null,null,null,null,null,null,null,null,null,null,null,null,null,null,"Švenčionys"]
[null,null,null,null,null,null,null,null,null,null,null,null,null,null,null,null,null,null,"Tauragė"]
[null,null,null,null,null,null,null,null,null,null,null,null,null,null,null,null,null,null,"Telšiai"]
[null,null,null,null,null,null,null,null,null,null,null,null,null,null,null,null,null,null,"Tytuvėnai"]
[null,null,null,null,null,null,null,null,null,null,null,null,null,null,null,null,null,null,"Trakai"]
[null,null,null,null,null,null,null,null,null,null,null,null,null,null,null,null,null,null,"Troškūnai"]
[null,null,null,null,null,null,null,null,null,null,null,null,null,null,null,null,null,null,"Ukmergė"]
[null,null,null,null,null,null,null,null,null,null,null,null,null,null,null,null,null,null,"Utena"]
[null,null,null,null,null,null,null,null,null,null,null,null,null,null,null,null,null,null,"Užventis"]
[null,null,null,null,null,null,null,null,null,null,null,null,null,null,null,null,null,null,"Vabalninkas"]
[null,null,null,null,null,null,null,null,null,null,null,null,null,null,null,null,null,null,"Varėna"]
[null,null,null,null,null,null,null,null,null,null,null,null,null,null,null,null,null,null,"Varniai"]
[null,null,null,null,null,null,null,null,null,null,null,null,null,null,null,null,null,null,"Veisiejai"]
[null,null,null,null,null,null,null,null,null,null,null,null,null,null,null,null,null,null,"Venta"]
[null,null,null,null,null,null,null,null,null,null,null,null,null,null,null,null,null,null,"Vienkšiai"]
[null,null,null,null,null,null,null,null,null,null,null,null,null,null,null,null,null,null,"Vievis"]
[null,null,null,null,null,null,null,null,null,null,null,null,null,null,null,null,null,null,"Vilkija"]
[null,null,null,null,null,null,null,null,null,null,null,null,null,null,null,null,null,null,"Vilnius"]
[null,null,null,null,null,null,null,null,null,null,null,null,null,null,null,null,null,null,"Virbalis"]
[null,null,null,null,null,null,null,null,null,null,null,null,null,null,null,null,null,null,"Visaginas"]
[null,null,null,null,null,null,null,null,null,null,null,null,null,null,null,null,null,null,"Zarasai"]
[null,null,null,null,null,null,null,null,null,null,null,null,null,null,null,null,null,null,"Žagarė"]
[null,null,null,null,null,null,null,null,null,null,null,null,null,null,null,null,null,null,"Žiežmariai"]
[]
[]
[]
[]
[]
[]
[]
[]
[]
[]
[]
[]
[]
[]
[]
[]
[]
[]
[]
[]
[]
[]
[]
[]
[]
[]
[]
[]
[]
[]
[]
[]
[]
[]
[]
[]
[]
[]
[]
[]
[]
[]
[]
[]
[]
[]
[]
[]
[]
[]
[]
[]
[]
[]
[]
[]
[]
[]
[]
[]
[]
[]
[]
[]
[]
[]
[]
[]
[]
[]
[]
[]
[]
[]
[]
[]
[]
[]
[]
[]
[]
[]
[]
[]
[]
[]
[]
[]
[]
[]
[]
[]
[]
[]
[]
[]
[]
[]
[]
[]
[]
[]
[]
[]
[]
[]
[]
[]
[]
[]
[]
[]
[]
[]
[]
[]
[]
[]
[]
[]
[]
[]
[]
[]
[]
[]
[]
[]
[]
[]
[]
[]
[]
[]
[]
[]
[]
[]
[]
[]
[]
[]
[]
[]
[]
[]
[]
[]
[]
[]
[]
[]
[]
[]
[]
[]
[]
[]
[]
[]
[]
[]
[]
[]
[]
[]
[]
[]
[]
[]
[]
[]
[]
[]
[]
[]
[]
[]
[]
[]
[]
[]
[]
[]
[]
[]
[]
[]
[]
[]
[]
[]
[]
[]
[]
[]
[]
[]
[]
[]
[]
[]
[]
[]
[]
[]
[]
[]
[]
[]
[]
[]
[]
[]
[]
[]
[]
[]
[]
[]
[]
[]
[]
[]
[]
[]
[]
[]
[]
[]
[]
[]
[]
[]
[]
[]
[]
[]
[]
[]
[]
[]
[]
[]
[]
[]
[]
[]
[]
[]
[]
[]
[]
[]
[]
[]
[]
[]
[]
[]
[]
[]
[]
[]
[]
[]
[]
[]
[]
[]
[]
[]
[]
[]
[]
[]
[]
[]
[]
[]
[]
[]
[]
[]
[]
[]
[]
[]
[]
[]
[]
[]
[]
[]
[]
[]
[]
[]
[]
[]
[]
[]
[]
[]
[]
[]
[]
[]
[]
[]
[]
[]
[]
[]
[]
[]
[]
[]
[]
[]
[]
[]
[]
[]
[]
[]
[]
[]
[]
[]
[]
[]
[]
[]
[]
[]
[]
[]
[]
[]
[]
[]
[]
[]
[]
[]
[]
[]
[]
[]
[]
[]
[]
[]
[]
[]
[]
[]
[]
[]
[]
[]
[]
[]
[]
[]
[]
[]
[]
[]
[]
[]
[]
[]
[]
[]
[]
[]
[]
[]
[]
[]
[]
[]
[]
[]
[]
[]
[]
[]
[]
[]
[]
[]
[]
[]
[]
[]
[]
[]
[]
[]
[]
[]
[]
[]
[]
[]
[]
[]
[]
[]
[]
[]
[]
[]
[]
[]
[]
[]
[]
[]
[]
[]
[]
[]
[]
[]
[]
[]
[]
[]
[]
[]
[]
[]
[]
[]
[]
[]
[]
[]
[]
[]
[]
[]
[]
[]
[]
[]
[]
[]
[]
[]
[]
[]
[]
[]
[]
[]
[]
[]
[]
[]
[]
[]
[]
[]
[]
[]
[]
[]
[]
[]
[]
[]
[]
[]
[]
[]
[]
[]
[]
[]
[]
[]
[]
[]
[]
[]
[]
[]
[]
[]
[]
[]
[]
[]
[]
[]
[]
[]
[]
[]
[]
[]
[]
[]
[]
[]
[]
[]
[]
[]
[]
[]
[]
[]
[]
[]
[]
[]
[]
[]
[]
[]
[]
[]
[]
[]
[]
[]
[]
[]
[]
[]
[]
[]
[]
[]
[]
[]
[]
[]
[]
[]
[]
[]
[]
[]
[]
[]
[]
[]
[]
[]
[]
[]
[]
[]
[]
[]
[]
[]
[]
[]
[]
[]
[]
[]
[]
[]
[]
[]
[]
[]
[]
[]
[]
[]
[]
[]
[]
[]
[]
[]
[]
[]
[]
[]
[]
[]
[]
[]
[]
[]
[]
[]
[]
[]
[]
[]
[]
[]
[]
[]
[]
[]
[]
[]
[]
[]
[]
[]
[]
[]
[]
[]
[]
[]
[]
[]
[]
[]
[]
[]
[]
[]
[]
[]
[]
[]
[]
[]
[]
[]
[]
[]
[]
[]
[]
[]
[]
[]
[]
[]
[]
[]
[]
[]
[]
[]
[]
[]
[]
[]
[]
[]
[]
[]
[]
[]
[]
[]
[]
[]
[]
[]
[]
[]
[]
[]
[]
[]
[]
[]
[]
[]
[]
[]
[]
[]
[]
[]
[]
[]
[]
[]
[]
[]
[]
[]
[]
[]
[]
[]
[]
[]
[]
[]
[]
[]
[]
[]
[]
[]
[]
[]
[]
[]
[]
[]
[]
[]
[]
[]
[]
[]
[]
[]
[]
[]
[]
[]
[]
[]
[]
[]
[]
[]
[]
[]
[]
[]
[]
[]
[]
[]
[]
[]
[]
[]
[]
[]
[]
[]
[]
[]
[]
[]
[]
[]
[]
[]
[]
[]
[]
[]
[]
[]
[]
[]
[]
[]
[]
[]
[]
[]
[]
[]
[]
[]
[]
[]
[]
[]
[]
[]
[]
[]
[]
[]
[]
[]
[]
[]
[]
[]
[]
[]
[]
[]
[]
[]
[]
[]
[]
[]
[]
[]
[]
[]
[]
[]
[]
[]
[]
[]
[]
[]
[]
[]
[]
[]
[]
[]
[]
[]
[]
[]
[]
[]
[]
[]
[]
[]
[]
[]
[]
[]
[]
[]
[]
[]
[]
[]
[]
[]
[]
[]
[]
[]
[]
[]
[]
[]
[]
[]
[]
[]
[]
[]
[]
[]
[]
[]
[]
[]
[]
[]
[]
[]
[]
[]
[]
[]
[]
[]
[]
[]
[]
[]
[]
[]
[]
[]
[]
[]
[]
[]
[]
[]
[]
[]
[]
[]
[]
[]
[]
[]
[]
[]
[]
[]
[]
[]
[]
[null,null,null,null,null,null,null,null,null,null,null,null,null,null,null,null,"Marijampolės apskritis","Lazdijų r. sav.","Vabalninkas"]
[null,null,null,null,null,null,null,null,null,null,null,null,null,null,null,null,"Panevėžio apskritis","Varėnos r. sav.","Druskininkai"]
[null,null,null,null,null,null,null,null,null,null,null,null,null,null,null,null,"Šiaulių apskritis","Birštono sav.","Lazdijai"]
[null,null,null,null,null,null,null,null,null,null,null,null,null,null,null,null,"Tauragės apskritis","Jonavos r. sav.","Veisiejai"]
[null,null,null,null,null,null,null,null,null,null,null,null,null,null,null,null,"Telšių apskritis","Kaišiadorių r. sav.","Varėna"]
[null,null,null,null,null,null,null,null,null,null,null,null,null,null,null,null,"Utenos apskritis","Kauno m. sav.","Birštonas"]
[null,null,null,null,null,null,null,null,null,null,null,null,null,null,null,null,"Vilniaus apskritis","Kauno r. sav.","Jonava"]
[null,null,null,null,null,null,null,null,null,null,null,null,null,null,null,null,"Vilniaus apskritis","Kėdainių r. sav.","Kaišiadorys"]
[null,null,null,null,null,null,null,null,null,null,null,null,null,null,null,null,null,"Prienų r. sav.","Žiežmariai"]
[null,null,null,null,null,null,null,null,null,null,null,null,null,null,null,null,null,"Raseinių r. sav.","Kaunas"]
[null,null,null,null,null,null,null,null,null,null,null,null,null,null,null,null,null,"Klaipėdos m. sav.","Ežerėlis"]
[null,null,null,null,null,null,null,null,null,null,null,null,null,null,null,null,null,"Klaipėdos r. sav.","Jonava"]
[null,null,null,null,null,null,null,null,null,null,null,null,null,null,null,null,null,"Kretingos r. sav.","Vilkija"]
[null,null,null,null,null,null,null,null,null,null,null,null,null,null,null,null,null,"Neringos sav.","Kėdainiai"]
[null,null,null,null,null,null,null,null,null,null,null,null,null,null,null,null,null,"Palangos m. sav.","Jieznas"]
[null,null,null,null,null,null,null,null,null,null,null,null,null,null,null,null,null,"Skuodo r. sav.","Prienai"]
[null,null,null,null,null,null,null,null,null,null,null,null,null,null,null,null,null,"Šilutės r. sav.","Ariogala"]
[null,null,null,null,null,null,null,null,null,null,null,null,null,null,null,null,null,"Kalvarijos sav.","Raseiniai"]
[null,null,null,null,null,null,null,null,null,null,null,null,null,null,null,null,null,"Kazlų Rūdos sav.","Klaipėda"]
[null,null,null,null,null,null,null,null,null,null,null,null,null,null,null,null,null,"Marijampolės sav.","Gargždai"]
[null,null,null,null,null,null,null,null,null,null,null,null,null,null,null,null,null,"Marijampolės r. sav.","Garliava"]
[null,null,null,null,null,null,null,null,null,null,null,null,null,null,null,null,null,"Šakių r. sav.","Priekulė"]
[null,null,null,null,null,null,null,null,null,null,null,null,null,null,null,null,null,"Vilkaviškio r. sav.","Salantai"]
[null,null,null,null,null,null,null,null,null,null,null,null,null,null,null,null,null,"Biržų r. sav.","Kretinga"]
[null,null,null,null,null,null,null,null,null,null,null,null,null,null,null,null,null,"Kupiškio r. sav.","Neringa"]
[null,null,null,null,null,null,null,null,null,null,null,null,null,null,null,null,null,"Panevėžio m. sav.","Palanga"]
[null,null,null,null,null,null,null,null,null,null,null,null,null,null,null,null,null,"Panevėžio r. sav.","Skuodas"]
[null,null,null,null,null,null,null,null,null,null,null,null,null,null,null,null,null,"Pasvalio r. sav.","Šilutė"]
[null,null,null,null,null,null,null,null,null,null,null,null,null,null,null,null,null,"Rokiškio r. sav.","Kalvarija"]
[null,null,null,null,null,null,null,null,null,null,null,null,null,null,null,null,null,"Akmenės r. sav.","Kazlų Rūda"]
[null,null,null,null,null,null,null,null,null,null,null,null,null,null,null,null,null,"Joniškio r. sav.","Marijampolė"]
[null,null,null,null,null,null,null,null,null,null,null,null,null,null,null,null,null,"Kelmės r. sav.","Gelgaudiškis"]
[null,null,null,null,null,null,null,null,null,null,null,null,null,null,null,null,null,"Pakruojo r. sav.","Kudirkos Naumiestis"]
[null,null,null,null,null,null,null,null,null,null,null,null,null,null,null,null,null,"Radviliškio r. sav.","Šakiai"]
[null,null,null,null,null,null,null,null,null,null,null,null,null,null,null,null,null,"Šiaulių m. sav.","Vilkaviškis"]
[null,null,null,null,null,null,null,null,null,null,null,null,null,null,null,null,null,"Šiaulių r. sav.","Kybartai"]
[null,null,null,null,null,null,null,null,null,null,null,null,null,null,null,null,null,"Jurbarko r. sav.","Virbalis"]
[null,null,null,null,null,null,null,null,null,null,null,null,null,null,null,null,null,"Pagėgių sav.","Biržai"]
[null,null,null,null,null,null,null,null,null,null,null,null,null,null,null,null,null,"Šilalės r. sav.","Kupiškis"]
[null,null,null,null,null,null,null,null,null,null,null,null,null,null,null,null,null,"Tauragės r. sav.","Subačius"]
[null,null,null,null,null,null,null,null,null,null,null,null,null,null,null,null,null,"Mažeikių r. sav.","Panevėžys"]
[null,null,null,null,null,null,null,null,null,null,null,null,null,null,null,null,null,"Plungės r. sav.","Joniškėlis"]
[null,null,null,null,null,null,null,null,null,null,null,null,null,null,null,null,null,"Rietavo sav.","Ramygala"]
[null,null,null,null,null,null,null,null,null,null,null,null,null,null,null,null,null,"Telšių r. sav.","Pasvalys"]
[null,null,null,null,null,null,null,null,null,null,null,null,null,null,null,null,null,"Anykščių r. sav.","Rokškis"]
[null,null,null,null,null,null,null,null,null,null,null,null,null,null,null,null,null,"Ignalinos r. sav.","Obeliai"]
[null,null,null,null,null,null,null,null,null,null,null,null,null,null,null,null,null,"Molėtų r. sav.","Pandėlys"]
[null,null,null,null,null,null,null,null,null,null,null,null,null,null,null,null,null,"Utenos r. sav.","Akmenė"]
[null,null,null,null,null,null,null,null,null,null,null,null,null,null,null,null,null,"Visagino sav.","Naujoji Akmenė"]
[null,null,null,null,null,null,null,null,null,null,null,null,null,null,null,null,null,"Zarasų r. sav.","Venta"]
[null,null,null,null,null,null,null,null,null,null,null,null,null,null,null,null,null,"Elektrėnų sav.","Joniškis"]
[null,null,null,null,null,null,null,null,null,null,null,null,null,null,null,null,null,"Šalčininkų r. sav.","Žagarė"]
[null,null,null,null,null,null,null,null,null,null,null,null,null,null,null,null,null,"Širvintų r. sav.","Kelmė"]
[null,null,null,null,null,null,null,null,null,null,null,null,null,null,null,null,null,"Švenčionių r. sav.","Tytuvėnai"]
[null,null,null,null,null,null,null,null,null,null,null,null,null,null,null,null,null,"Trakų r. sav.","Užventis"]
[null,null,null,null,null,null,null,null,null,null,null,null,null,null,null,null,null,"Ukmergės r. sav.","Pakruojis"]
[null,null,null,null,null,null,null,null,null,null,null,null,null,null,null,null,null,"Vilniaus m. sav.","Linkuva"]
[null,null,null,null,null,null,null,null,null,null,null,null,null,null,null,null,null,"Vilniaus r. sav.","Radviliškis"]
[null,null,null,null,null,null,null,null,null,null,null,null,null,null,null,null,null,"Vilniaus r. sav.","Šeduva"]
[null,null,null,null,null,null,null,null,null,null,null,null,null,null,null,null,null,null,"Šiauliai"]
[null,null,null,null,null,null,null,null,null,null,null,null,null,null,null,null,null,null,"Kuršėnai"]
[null,null,null,null,null,null,null,null,null,null,null,null,null,null,null,null,null,null,"Jurbarkas"]
[null,null,null,null,null,null,null,null,null,null,null,null,null,null,null,null,null,null,"Smalininkai"]
[null,null,null,null,null,null,null,null,null,null,null,null,null,null,null,null,null,null,"Pagėgiai"]
[null,null,null,null,null,null,null,null,null,null,null,null,null,null,null,null,null,null,"Panemunė"]
[null,null,null,null,null,null,null,null,null,null,null,null,null,null,null,null,null,null,"Šilalė"]
[null,null,null,null,null,null,null,null,null,null,null,null,null,null,null,null,null,null,"Tauragė"]
[null,null,null,null,null,null,null,null,null,null,null,null,null,null,null,null,null,null,"Skaudvilė"]
[null,null,null,null,null,null,null,null,null,null,null,null,null,null,null,null,null,null,"Mažeikiai"]
[null,null,null,null,null,null,null,null,null,null,null,null,null,null,null,null,null,null,"Seda"]
[null,null,null,null,null,null,null,null,null,null,null,null,null,null,null,null,null,null,"Vienkšiai"]
[null,null,null,null,null,null,null,null,null,null,null,null,null,null,null,null,null,null,"Plungė"]
[null,null,null,null,null,null,null,null,null,null,null,null,null,null,null,null,null,null,"Rietavas"]
[null,null,null,null,null,null,null,null,null,null,null,null,null,null,null,null,null,null,"Telšiai"]
[null,null,null,null,null,null,null,null,null,null,null,null,null,null,null,null,null,null,"Varniai"]
[null,null,null,null,null,null,null,null,null,null,null,null,null,null,null,null,null,null,"Anykščiai"]
[null,null,null,null,null,null,null,null,null,null,null,null,null,null,null,null,null,null,"Kavarskas"]
[null,null,null,null,null,null,null,null,null,null,null,null,null,null,null,null,null,null,"Troškūnai"]
[null,null,null,null,null,null,null,null,null,null,null,null,null,null,null,null,null,null,"Dūkštas"]
[null,null,null,null,null,null,null,null,null,null,null,null,null,null,null,null,null,null,"Ignalina"]
[null,null,null,null,null,null,null,null,null,null,null,null,null,null,null,null,null,null,"Molėtai"]
[null,null,null,null,null,null,null,null,null,null,null,null,null,null,null,null,null,null,"Utena"]
[null,null,null,null,null,null,null,null,null,null,null,null,null,null,null,null,null,null,"Visaginas"]
[null,null,null,null,null,null,null,null,null,null,null,null,null,null,null,null,null,null,"Dusetos"]
[null,null,null,null,null,null,null,null,null,null,null,null,null,null,null,null,null,null,"Zarasai"]
[null,null,null,null,null,null,null,null,null,null,null,null,null,null,null,null,null,null,"Elektrėnai"]
[null,null,null,null,null,null,null,null,null,null,null,null,null,null,null,null,null,null,"Vievis"]
[null,null,null,null,null,null,null,null,null,null,null,null,null,null,null,null,null,null,"Baltoji Vokė"]
[null,null,null,null,null,null,null,null,null,null,null,null,null,null,null,null,null,null,"Eišiškės"]
[null,null,null,null,null,null,null,null,null,null,null,null,null,null,null,null,null,null,"Širvintos"]
[null,null,null,null,null,null,null,null,null,null,null,null,null,null,null,null,null,null,"Švenčionys"]
[null,null,null,null,null,null,null,null,null,null,null,null,null,null,null,null,null,null,"Švenčionėliai"]
[null,null,null,null,null,null,null,null,null,null,null,null,null,null,null,null,null,null,"Pabradė"]
[null,null,null,null,null,null,null,null,null,null,null,null,null,null,null,null,null,null,"Trakai"]
[null,null,null,null,null,null,null,null,null,null,null,null,null,null,null,null,null,null,"Lentvaris"]
[null,null,null,null,null,null,null,null,null,null,null,null,null,null,null,null,null,null,"Rūdiškės"]
[null,null,null,null,null,null,null,null,null,null,null,null,null,null,null,null,null,null,"Ukmergė"]
[null,null,null,null,null,null,null,null,null,null,null,null,null,null,null,null,null,null,"Grigiškės"]
[null,null,null,null,null,null,null,null,null,null,null,null,null,null,null,null,null,null,"Vilnius"]
[null,null,null,null,null,null,null,null,null,null,null,null,null,null,null,null,null,null,"Nemenčinė"]
[null,null,null,null,null,null,null,null,null,null,null,null,null,null,null,null,null,null,"Šalčininkai"]
[null,null,null,null,null,null,null,null,null,null,null,null,null,null,null,null,null,null,"Šalčininkai"]

{"sheet":"Elementų išlaidų apibendrinimas","index":3,"n_rows":171,"n_cols":12,"rows_kept":171,"cut":false,"hidden":false,"merged":[]}
[]
[null,"PASTATŲ GYVAVIMO CIKLO SĄNAUDŲ SKAIČIUOKLĖ"]
[]
[]
[]
[null,"Pastato investicijų bei eksploatavimo ir veiklos išlaidų apibendrinimas pagal pastato elementus"]
[]
[null,"Investicijų išlaidos","Iš viso, EUR",{"$f":"YEAR('Bendrieji įvesties duomenys'!$C$6)+COLUMN(C8)-3","v":2019},{"$f":"YEAR('Bendrieji įvesties duomenys'!$C$6)+COLUMN(D8)-3","v":2020},{"$f":"YEAR('Bendrieji įvesties duomenys'!$C$6)+COLUMN(E8)-3","v":2021},{"$f":"YEAR('Bendrieji įvesties duomenys'!$C$6)+COLUMN(F8)-3","v":2022},{"$f":"YEAR('Bendrieji įvesties duomenys'!$C$6)+COLUMN(G8)-3","v":2023},{"$f":"YEAR('Bendrieji įvesties duomenys'!$C$6)+COLUMN(H8)-3","v":2024},{"$f":"YEAR('Bendrieji įvesties duomenys'!$C$6)+COLUMN(I8)-3","v":2025},{"$f":"YEAR('Bendrieji įvesties duomenys'!$C$6)+COLUMN(J8)-3","v":2026},{"$f":"YEAR('Bendrieji įvesties duomenys'!$C$6)+COLUMN(K8)-3","v":2027}]
[]
[null,"A. Turto įsigijimo ir kūrimo išlaidos",{"$f":"SUM(D10:OFFSET(D10,0,1000))","v":0},{"$f":"SUM(D11:D35)","v":0},{"$f":"SUM(E11:E35)","v":0},{"$f":"SUM(F11:F35)","v":0},{"$f":"SUM(G11:G35)","v":0},{"$f":"SUM(H11:H35)","v":0},{"$f":"SUM(I11:I35)","v":0},0,0,0]
["1. ","Pamatai",{"$f":"SUM(D11:OFFSET(D11,0,1000))","v":0},{"$f":"'1. Pamatai'!M3","v":0},{"$f":"'1. Pamatai'!N3","v":0},{"$f":"'1. Pamatai'!O3","v":0},{"$f":"'1. Pamatai'!P3","v":0},{"$f":"'1. Pamatai'!Q3","v":0},{"$f":"'1. Pamatai'!R3","v":0},{"$f":"'1. Pamatai'!S3","v":0},{"$f":"'1. Pamatai'!T3","v":0},{"$f":"'1. Pamatai'!U3","v":0}]
["2.","Perdangos",{"$f":"SUM(D12:OFFSET(D12,0,1000))","v":0},{"$f":"'2. Perdangos'!M3","v":0},{"$f":"'2. Perdangos'!N3","v":0},{"$f":"'2. Perdangos'!O3","v":0},{"$f":"'2. Perdangos'!P3","v":0},{"$f":"'2. Perdangos'!Q3","v":0},{"$f":"'2. Perdangos'!R3","v":0},{"$f":"'2. Perdangos'!S3","v":0},{"$f":"'2. Perdangos'!T3","v":0},{"$f":"'2. Perdangos'!U3","v":0}]
["3. ","Sienos",{"$f":"SUM(D13:OFFSET(D13,0,1000))","v":0},{"$f":"'3. Sienos'!M3","v":0},{"$f":"'3. Sienos'!N3","v":0},{"$f":"'3. Sienos'!O3","v":0},{"$f":"'3. Sienos'!P3","v":0},{"$f":"'3. Sienos'!Q3","v":0},{"$f":"'3. Sienos'!R3","v":0},{"$f":"'3. Sienos'!S3","v":0},{"$f":"'3. Sienos'!T3","v":0},{"$f":"'3. Sienos'!U3","v":0}]
["4.","Durys",{"$f":"SUM(D14:OFFSET(D14,0,1000))","v":0},{"$f":"'4. Durys'!M3","v":0},{"$f":"'4. Durys'!N3","v":0},{"$f":"'4. Durys'!O3","v":0},{"$f":"'4. Durys'!P3","v":0},{"$f":"'4. Durys'!Q3","v":0},{"$f":"'4. Durys'!R3","v":0},{"$f":"'4. Durys'!S3","v":0},{"$f":"'4. Durys'!T3","v":0},{"$f":"'4. Durys'!U3","v":0}]
["5.","Langai",{"$f":"SUM(D15:OFFSET(D15,0,1000))","v":0},{"$f":"'5. Langai'!M3","v":0},{"$f":"'5. Langai'!N3","v":0},{"$f":"'5. Langai'!O3","v":0},{"$f":"'5. Langai'!P3","v":0},{"$f":"'5. Langai'!Q3","v":0},{"$f":"'5. Langai'!R3","v":0},{"$f":"'5. Langai'!S3","v":0},{"$f":"'5. Langai'!T3","v":0},{"$f":"'5. Langai'!U3","v":0}]
["6.","Laiptai",{"$f":"SUM(D16:OFFSET(D16,0,1000))","v":0},{"$f":"'6. Laiptai'!M3","v":0},{"$f":"'6. Laiptai'!N3","v":0},{"$f":"'6. Laiptai'!O3","v":0},{"$f":"'6. Laiptai'!P3","v":0},{"$f":"'6. Laiptai'!Q3","v":0},{"$f":"'6. Laiptai'!R3","v":0},{"$f":"'6. Laiptai'!S3","v":0},{"$f":"'6. Laiptai'!T3","v":0},{"$f":"'6. Laiptai'!U3","v":0}]
["7.","Stogas",{"$f":"SUM(D17:OFFSET(D17,0,1000))","v":0},{"$f":"'7. Stogas'!M3","v":0},{"$f":"'7. Stogas'!N3","v":0},{"$f":"'7. Stogas'!O3","v":0},{"$f":"'7. Stogas'!P3","v":0},{"$f":"'7. Stogas'!Q3","v":0},{"$f":"'7. Stogas'!R3","v":0},{"$f":"'7. Stogas'!S3","v":0},{"$f":"'7. Stogas'!T3","v":0},{"$f":"'7. Stogas'!U3","v":0}]
["8.","Vidaus apdaila",{"$f":"SUM(D18:OFFSET(D18,0,1000))","v":0},{"$f":"'8. Vidaus apdaila'!M3","v":0},{"$f":"'8. Vidaus apdaila'!N3","v":0},{"$f":"'8. Vidaus apdaila'!O3","v":0},{"$f":"'8. Vidaus apdaila'!P3","v":0},{"$f":"'8. Vidaus apdaila'!Q3","v":0},{"$f":"'8. Vidaus apdaila'!R3","v":0},{"$f":"'8. Vidaus apdaila'!S3","v":0},{"$f":"'8. Vidaus apdaila'!T3","v":0},{"$f":"'8. Vidaus apdaila'!U3","v":0}]
["9.","Išorės apdaila",{"$f":"SUM(D19:OFFSET(D19,0,1000))","v":0},{"$f":"'9. Išorės apdaila'!M3","v":0},{"$f":"'9. Išorės apdaila'!N3","v":0},{"$f":"'9. Išorės apdaila'!O3","v":0},{"$f":"'9. Išorės apdaila'!P3","v":0},{"$f":"'9. Išorės apdaila'!Q3","v":0},{"$f":"'9. Išorės apdaila'!R3","v":0},{"$f":"'9. Išorės apdaila'!S3","v":0},{"$f":"'9. Išorės apdaila'!T3","v":0},{"$f":"'9. Išorės apdaila'!U3","v":0}]
["10.","Šildymo sistema (vidaus)",{"$f":"SUM(D20:OFFSET(D20,0,1000))","v":0},{"$f":"'10. Šildymo sistema (vidaus)'!M3","v":0},{"$f":"'10. Šildymo sistema (vidaus)'!N3","v":0},{"$f":"'10. Šildymo sistema (vidaus)'!O3","v":0},{"$f":"'10. Šildymo sistema (vidaus)'!P3","v":0},{"$f":"'10. Šildymo sistema (vidaus)'!Q3","v":0},{"$f":"'10. Šildymo sistema (vidaus)'!R3","v":0},{"$f":"'10. Šildymo sistema (vidaus)'!S3","v":0},{"$f":"'10. Šildymo sistema (vidaus)'!T3","v":0},{"$f":"'10. Šildymo sistema (vidaus)'!U3","v":0}]
["11.","Šildymo sistema (lauko)",{"$f":"SUM(D21:OFFSET(D21,0,1000))","v":0},{"$f":"'11. Šildymo sistema (lauko)'!M3","v":0},{"$f":"'11. Šildymo sistema (lauko)'!N3","v":0},{"$f":"'11. Šildymo sistema (lauko)'!O3","v":0},{"$f":"'11. Šildymo sistema (lauko)'!P3","v":0},{"$f":"'11. Šildymo sistema (lauko)'!Q3","v":0},{"$f":"'11. Šildymo sistema (lauko)'!R3","v":0},{"$f":"'11. Šildymo sistema (lauko)'!S3","v":0},{"$f":"'11. Šildymo sistema (lauko)'!T3","v":0},{"$f":"'11. Šildymo sistema (lauko)'!U3","v":0}]
["12.","Šaldymas ir oro kondicionavimas",{"$f":"SUM(D22:OFFSET(D22,0,1000))","v":0},{"$f":"'12. Šaldymas ir oro kondiciona'!M3","v":0},{"$f":"'12. Šaldymas ir oro kondiciona'!N3","v":0},{"$f":"'12. Šaldymas ir oro kondiciona'!O3","v":0},{"$f":"'12. Šaldymas ir oro kondiciona'!P3","v":0},{"$f":"'12. Šaldymas ir oro kondiciona'!Q3","v":0},{"$f":"'12. Šaldymas ir oro kondiciona'!R3","v":0},{"$f":"'12. Šaldymas ir oro kondiciona'!S3","v":0},{"$f":"'12. Šaldymas ir oro kondiciona'!T3","v":0},{"$f":"'12. Šaldymas ir oro kondiciona'!U3","v":0}]
["13.","Ventiliacija (vėdinimas)",{"$f":"SUM(D23:OFFSET(D23,0,1000))","v":0},{"$f":"'13. Ventiliacija'!M3","v":0},{"$f":"'13. Ventiliacija'!N3","v":0},{"$f":"'13. Ventiliacija'!O3","v":0},{"$f":"'13. Ventiliacija'!P3","v":0},{"$f":"'13. Ventiliacija'!Q3","v":0},{"$f":"'13. Ventiliacija'!R3","v":0},{"$f":"'13. Ventiliacija'!S3","v":0},{"$f":"'13. Ventiliacija'!T3","v":0},{"$f":"'13. Ventiliacija'!U3","v":0}]
["14.","Vandentiekio sistema (vidaus)",{"$f":"SUM(D24:OFFSET(D24,0,1000))","v":0},{"$f":"'14. Vandentiekio sistema (vida'!M3","v":0},{"$f":"'14. Vandentiekio sistema (vida'!N3","v":0},{"$f":"'14. Vandentiekio sistema (vida'!O3","v":0},{"$f":"'14. Vandentiekio sistema (vida'!P3","v":0},{"$f":"'14. Vandentiekio sistema (vida'!Q3","v":0},{"$f":"'14. Vandentiekio sistema (vida'!R3","v":0},{"$f":"'14. Vandentiekio sistema (vida'!S3","v":0},{"$f":"'14. Vandentiekio sistema (vida'!T3","v":0},{"$f":"'14. Vandentiekio sistema (vida'!U3","v":0}]
["15.","Vandentiekio sistema (lauko)",{"$f":"SUM(D25:OFFSET(D25,0,1000))","v":0},{"$f":"'15. Vandentiekio sistema (lauk'!M3","v":0},{"$f":"'15. Vandentiekio sistema (lauk'!N3","v":0},{"$f":"'15. Vandentiekio sistema (lauk'!O3","v":0},{"$f":"'15. Vandentiekio sistema (lauk'!P3","v":0},{"$f":"'15. Vandentiekio sistema (lauk'!Q3","v":0},{"$f":"'15. Vandentiekio sistema (lauk'!R3","v":0},{"$f":"'15. Vandentiekio sistema (lauk'!S3","v":0},{"$f":"'15. Vandentiekio sistema (lauk'!T3","v":0},{"$f":"'15. Vandentiekio sistema (lauk'!U3","v":0}]
["16.","Nuotekų šalinimo sistema (vidaus)",{"$f":"SUM(D26:OFFSET(D26,0,1000))","v":0},{"$f":"'16. Nuotekų šalinimo sistema'!M3","v":0},{"$f":"'16. Nuotekų šalinimo sistema'!N3","v":0},{"$f":"'16. Nuotekų šalinimo sistema'!O3","v":0},{"$f":"'16. Nuotekų šalinimo sistema'!P3","v":0},{"$f":"'16. Nuotekų šalinimo sistema'!Q3","v":0},{"$f":"'16. Nuotekų šalinimo sistema'!R3","v":0},{"$f":"'16. Nuotekų šalinimo sistema'!S3","v":0},{"$f":"'16. Nuotekų šalinimo sistema'!T3","v":0},{"$f":"'16. Nuotekų šalinimo sistema'!U3","v":0}]
["17.","Nuotekų šalinimo sistema (lauko)",{"$f":"SUM(D27:OFFSET(D27,0,1000))","v":0},{"$f":"'17. Nuotekų šalinimo sistema'!M3","v":0},{"$f":"'17. Nuotekų šalinimo sistema'!N3","v":0},{"$f":"'17. Nuotekų šalinimo sistema'!O3","v":0},{"$f":"'17. Nuotekų šalinimo sistema'!P3","v":0},{"$f":"'17. Nuotekų šalinimo sistema'!Q3","v":0},{"$f":"'17. Nuotekų šalinimo sistema'!R3","v":0},{"$f":"'17. Nuotekų šalinimo sistema'!S3","v":0},{"$f":"'17. Nuotekų šalinimo sistema'!T3","v":0},{"$f":"'17. Nuotekų šalinimo sistema'!U3","v":0}]
["18.","Elektros instaliacija (vidaus)",{"$f":"SUM(D28:OFFSET(D28,0,1000))","v":0},{"$f":"'18. Elektros instaliacija (vid'!M3","v":0},{"$f":"'18. Elektros instaliacija (vid'!N3","v":0},{"$f":"'18. Elektros instaliacija (vid'!O3","v":0},{"$f":"'18. Elektros instaliacija (vid'!P3","v":0},{"$f":"'18. Elektros instaliacija (vid'!Q3","v":0},{"$f":"'18. Elektros instaliacija (vid'!R3","v":0},{"$f":"'18. Elektros instaliacija (vid'!S3","v":0},{"$f":"'18. Elektros instaliacija (vid'!T3","v":0},{"$f":"'18. Elektros instaliacija (vid'!U3","v":0}]
["19.","Elektros instaliacija (lauko)",{"$f":"SUM(D29:OFFSET(D29,0,1000))","v":0},{"$f":"'19. Elektros instaliacija (lau'!M3","v":0},{"$f":"'19. Elektros instaliacija (lau'!N3","v":0},{"$f":"'19. Elektros instaliacija (lau'!O3","v":0},{"$f":"'19. Elektros instaliacija (lau'!P3","v":0},{"$f":"'19. Elektros instaliacija (lau'!Q3","v":0},{"$f":"'19. Elektros instaliacija (lau'!R3","v":0},{"$f":"'19. Elektros instaliacija (lau'!S3","v":0},{"$f":"'19. Elektros instaliacija (lau'!T3","v":0},{"$f":"'19. Elektros instaliacija (lau'!U3","v":0}]
["20.","Dujos",{"$f":"SUM(D30:OFFSET(D30,0,1000))","v":0},{"$f":"'20. Dujos'!M3","v":0},{"$f":"'20. Dujos'!N3","v":0},{"$f":"'20. Dujos'!O3","v":0},{"$f":"'20. Dujos'!P3","v":0},{"$f":"'20. Dujos'!Q3","v":0},{"$f":"'20. Dujos'!R3","v":0},{"$f":"'20. Dujos'!S3","v":0},{"$f":"'20. Dujos'!T3","v":0},{"$f":"'20. Dujos'!U3","v":0}]
["21.","Apsaugos sistema",{"$f":"SUM(D31:OFFSET(D31,0,1000))","v":0},{"$f":"'21. Apsaugos sistema'!M3","v":0},{"$f":"'21. Apsaugos sistema'!N3","v":0},{"$f":"'21. Apsaugos sistema'!O3","v":0},{"$f":"'21. Apsaugos sistema'!P3","v":0},{"$f":"'21. Apsaugos sistema'!Q3","v":0},{"$f":"'21. Apsaugos sistema'!R3","v":0},{"$f":"'21. Apsaugos sistema'!S3","v":0},{"$f":"'21. Apsaugos sistema'!T3","v":0},{"$f":"'21. Apsaugos sistema'!U3","v":0}]
["22.","Telekomunikacijos",{"$f":"SUM(D32:OFFSET(D32,0,1000))","v":0},{"$f":"'22. Telekomunikacijos'!M3","v":0},{"$f":"'22. Telekomunikacijos'!N3","v":0},{"$f":"'22. Telekomunikacijos'!O3","v":0},{"$f":"'22. Telekomunikacijos'!P3","v":0},{"$f":"'22. Telekomunikacijos'!Q3","v":0},{"$f":"'22. Telekomunikacijos'!R3","v":0},{"$f":"'22. Telekomunikacijos'!S3","v":0},{"$f":"'22. Telekomunikacijos'!T3","v":0},{"$f":"'22. Telekomunikacijos'!U3","v":0}]
["23.","Gaisro gesinimo sistema",{"$f":"SUM(D33:OFFSET(D33,0,1000))","v":0},{"$f":"'23. Gaisro gesinimo sistema'!M3","v":0},{"$f":"'23. Gaisro gesinimo sistema'!N3","v":0},{"$f":"'23. Gaisro gesinimo sistema'!O3","v":0},{"$f":"'23. Gaisro gesinimo sistema'!P3","v":0},{"$f":"'23. Gaisro gesinimo sistema'!Q3","v":0},{"$f":"'23. Gaisro gesinimo sistema'!R3","v":0},{"$f":"'23. Gaisro gesinimo sistema'!S3","v":0},{"$f":"'23. Gaisro gesinimo sistema'!T3","v":0},{"$f":"'23. Gaisro gesinimo sistema'!U3","v":0}]
["24.","Transportavimo sistema",{"$f":"SUM(D34:OFFSET(D34,0,1000))","v":0},{"$f":"'24. Transportavimo sistema'!M3","v":0},{"$f":"'24. Transportavimo sistema'!N3","v":0},{"$f":"'24. Transportavimo sistema'!O3","v":0},{"$f":"'24. Transportavimo sistema'!P3","v":0},{"$f":"'24. Transportavimo sistema'!Q3","v":0},{"$f":"'24. Transportavimo sistema'!R3","v":0},{"$f":"'24. Transportavimo sistema'!S3","v":0},{"$f":"'24. Transportavimo sistema'!T3","v":0},{"$f":"'24. Transportavimo sistema'!U3","v":0}]
["25.","Lietaus bei gruntinių vandenų surinkimo / nuvedimo sistemos",{"$f":"SUM(D35:OFFSET(D35,0,1000))","v":0},{"$f":"'25. Lietaus surinkimo sistema'!M3","v":0},{"$f":"'25. Lietaus surinkimo sistema'!N3","v":0},{"$f":"'25. Lietaus surinkimo sistema'!O3","v":0},{"$f":"'25. Lietaus surinkimo sistema'!P3","v":0},{"$f":"'25. Lietaus surinkimo sistema'!Q3","v":0},{"$f":"'25. Lietaus surinkimo sistema'!R3","v":0},{"$f":"'25. Lietaus surinkimo sistema'!S3","v":0},{"$f":"'25. Lietaus surinkimo sistema'!T3","v":0},{"$f":"'25. Lietaus surinkimo sistema'!U3","v":0}]
[null,"B. Kitos paslaugos ir išlaidos",{"$f":"SUM(D36:OFFSET(D36,0,1000))","v":0},{"$f":"SUM(D37:D62)","v":0},{"$f":"SUM(E37:E62)","v":0},{"$f":"SUM(F37:F62)","v":0},{"$f":"SUM(G37:G62)","v":0},{"$f":"SUM(H37:H62)","v":0},{"$f":"SUM(I37:I62)","v":0},0,0,0]
["1. ","Pamatai",{"$f":"SUM(D37:OFFSET(D37,0,1000))","v":0},{"$f":"'1. Pamatai'!M11","v":0},{"$f":"'1. Pamatai'!N11","v":0},{"$f":"'1. Pamatai'!O11","v":0},{"$f":"'1. Pamatai'!P11","v":0},{"$f":"'1. Pamatai'!Q11","v":0},{"$f":"'1. Pamatai'!R11","v":0},{"$f":"'1. Pamatai'!S11","v":0},{"$f":"'1. Pamatai'!T11","v":0},{"$f":"'1. Pamatai'!U11","v":0}]
["2.","Perdangos",{"$f":"SUM(D38:OFFSET(D38,0,1000))","v":0},{"$f":"'2. Perdangos'!M11","v":0},{"$f":"'2. Perdangos'!N11","v":0},{"$f":"'2. Perdangos'!O11","v":0},{"$f":"'2. Perdangos'!P11","v":0},{"$f":"'2. Perdangos'!Q11","v":0},{"$f":"'2. Perdangos'!R11","v":0},{"$f":"'2. Perdangos'!S11","v":0},{"$f":"'2. Perdangos'!T11","v":0},{"$f":"'2. Perdangos'!U11","v":0}]
["3. ","Sienos",{"$f":"SUM(D39:OFFSET(D39,0,1000))","v":0},{"$f":"'3. Sienos'!M11","v":0},{"$f":"'3. Sienos'!N11","v":0},{"$f":"'3. Sienos'!O11","v":0},{"$f":"'3. Sienos'!P11","v":0},{"$f":"'3. Sienos'!Q11","v":0},{"$f":"'3. Sienos'!R11","v":0},{"$f":"'3. Sienos'!S11","v":0},{"$f":"'3. Sienos'!T11","v":0},{"$f":"'3. Sienos'!U11","v":0}]
["4.","Durys",{"$f":"SUM(D40:OFFSET(D40,0,1000))","v":0},{"$f":"'4. Durys'!M11","v":0},{"$f":"'4. Durys'!N11","v":0},{"$f":"'4. Durys'!O11","v":0},{"$f":"'4. Durys'!P11","v":0},{"$f":"'4. Durys'!Q11","v":0},{"$f":"'4. Durys'!R11","v":0},{"$f":"'4. Durys'!S11","v":0},{"$f":"'4. Durys'!T11","v":0},{"$f":"'4. Durys'!U11","v":0}]
["5.","Langai",{"$f":"SUM(D41:OFFSET(D41,0,1000))","v":0},{"$f":"'5. Langai'!M11","v":0},{"$f":"'5. Langai'!N11","v":0},{"$f":"'5. Langai'!O11","v":0},{"$f":"'5. Langai'!P11","v":0},{"$f":"'5. Langai'!Q11","v":0},{"$f":"'5. Langai'!R11","v":0},{"$f":"'5. Langai'!S11","v":0},{"$f":"'5. Langai'!T11","v":0},{"$f":"'5. Langai'!U11","v":0}]
["6.","Laiptai",{"$f":"SUM(D42:OFFSET(D42,0,1000))","v":0},{"$f":"'6. Laiptai'!M11","v":0},{"$f":"'6. Laiptai'!N11","v":0},{"$f":"'6. Laiptai'!O11","v":0},{"$f":"'6. Laiptai'!P11","v":0},{"$f":"'6. Laiptai'!Q11","v":0},{"$f":"'6. Laiptai'!R11","v":0},{"$f":"'6. Laiptai'!S11","v":0},{"$f":"'6. Laiptai'!T11","v":0},{"$f":"'6. Laiptai'!U11","v":0}]
["7.","Stogas",{"$f":"SUM(D43:OFFSET(D43,0,1000))","v":0},{"$f":"'7. Stogas'!M11","v":0},{"$f":"'7. Stogas'!N11","v":0},{"$f":"'7. Stogas'!O11","v":0},{"$f":"'7. Stogas'!P11","v":0},{"$f":"'7. Stogas'!Q11","v":0},{"$f":"'7. Stogas'!R11","v":0},{"$f":"'7. Stogas'!S11","v":0},{"$f":"'7. Stogas'!T11","v":0},{"$f":"'7. Stogas'!U11","v":0}]
["8.","Vidaus apdaila",{"$f":"SUM(D44:OFFSET(D44,0,1000))","v":0},{"$f":"'8. Vidaus apdaila'!M11","v":0},{"$f":"'8. Vidaus apdaila'!N11","v":0},{"$f":"'8. Vidaus apdaila'!O11","v":0},{"$f":"'8. Vidaus apdaila'!P11","v":0},{"$f":"'8. Vidaus apdaila'!Q11","v":0},{"$f":"'8. Vidaus apdaila'!R11","v":0},{"$f":"'8. Vidaus apdaila'!S11","v":0},{"$f":"'8. Vidaus apdaila'!T11","v":0},{"$f":"'8. Vidaus apdaila'!U11","v":0}]
["9.","Išorės apdaila",{"$f":"SUM(D45:OFFSET(D45,0,1000))","v":0},{"$f":"'9. Išorės apdaila'!M11","v":0},{"$f":"'9. Išorės apdaila'!N11","v":0},{"$f":"'9. Išorės apdaila'!O11","v":0},{"$f":"'9. Išorės apdaila'!P11","v":0},{"$f":"'9. Išorės apdaila'!Q11","v":0},{"$f":"'9. Išorės apdaila'!R11","v":0},{"$f":"'9. Išorės apdaila'!S11","v":0},{"$f":"'9. Išorės apdaila'!T11","v":0},{"$f":"'9. Išorės apdaila'!U11","v":0}]
["10.","Šildymo sistema (vidaus)",{"$f":"SUM(D46:OFFSET(D46,0,1000))","v":0},{"$f":"'10. Šildymo sistema (vidaus)'!M11","v":0},{"$f":"'10. Šildymo sistema (vidaus)'!N11","v":0},{"$f":"'10. Šildymo sistema (vidaus)'!O11","v":0},{"$f":"'10. Šildymo sistema (vidaus)'!P11","v":0},{"$f":"'10. Šildymo sistema (vidaus)'!Q11","v":0},{"$f":"'10. Šildymo sistema (vidaus)'!R11","v":0},{"$f":"'10. Šildymo sistema (vidaus)'!S11","v":0},{"$f":"'10. Šildymo sistema (vidaus)'!T11","v":0},{"$f":"'10. Šildymo sistema (vidaus)'!U11","v":0}]
["11.","Šildymo sistema (lauko)",{"$f":"SUM(D47:OFFSET(D47,0,1000))","v":0},{"$f":"'11. Šildymo sistema (lauko)'!M11","v":0},{"$f":"'11. Šildymo sistema (lauko)'!N11","v":0},{"$f":"'11. Šildymo sistema (lauko)'!O11","v":0},{"$f":"'11. Šildymo sistema (lauko)'!P11","v":0},{"$f":"'11. Šildymo sistema (lauko)'!Q11","v":0},{"$f":"'11. Šildymo sistema (lauko)'!R11","v":0},{"$f":"'11. Šildymo sistema (lauko)'!S11","v":0},{"$f":"'11. Šildymo sistema (lauko)'!T11","v":0},{"$f":"'11. Šildymo sistema (lauko)'!U11","v":0}]
["12.","Šaldymas ir oro kondicionavimas",{"$f":"SUM(D48:OFFSET(D48,0,1000))","v":0},{"$f":"'12. Šaldymas ir oro kondiciona'!M11","v":0},{"$f":"'12. Šaldymas ir oro kondiciona'!N11","v":0},{"$f":"'12. Šaldymas ir oro kondiciona'!O11","v":0},{"$f":"'12. Šaldymas ir oro kondiciona'!P11","v":0},{"$f":"'12. Šaldymas ir oro kondiciona'!Q11","v":0},{"$f":"'12. Šaldymas ir oro kondiciona'!R11","v":0},{"$f":"'12. Šaldymas ir oro kondiciona'!S11","v":0},{"$f":"'12. Šaldymas ir oro kondiciona'!T11","v":0},{"$f":"'12. Šaldymas ir oro kondiciona'!U11","v":0}]
["13.","Ventiliacija (vėdinimas)",{"$f":"SUM(D49:OFFSET(D49,0,1000))","v":0},{"$f":"'13. Ventiliacija'!M11","v":0},{"$f":"'13. Ventiliacija'!N11","v":0},{"$f":"'13. Ventiliacija'!O11","v":0},{"$f":"'13. Ventiliacija'!P11","v":0},{"$f":"'13. Ventiliacija'!Q11","v":0},{"$f":"'13. Ventiliacija'!R11","v":0},{"$f":"'13. Ventiliacija'!S11","v":0},{"$f":"'13. Ventiliacija'!T11","v":0},{"$f":"'13. Ventiliacija'!U11","v":0}]
["14.","Vandentiekio sistema (vidaus)",{"$f":"SUM(D50:OFFSET(D50,0,1000))","v":0},{"$f":"'14. Vandentiekio sistema (vida'!M11","v":0},{"$f":"'14. Vandentiekio sistema (vida'!N11","v":0},{"$f":"'14. Vandentiekio sistema (vida'!O11","v":0},{"$f":"'14. Vandentiekio sistema (vida'!P11","v":0},{"$f":"'14. Vandentiekio sistema (vida'!Q11","v":0},{"$f":"'14. Vandentiekio sistema (vida'!R11","v":0},{"$f":"'14. Vandentiekio sistema (vida'!S11","v":0},{"$f":"'14. Vandentiekio sistema (vida'!T11","v":0},{"$f":"'14. Vandentiekio sistema (vida'!U11","v":0}]
["15.","Vandentiekio sistema (lauko)",{"$f":"SUM(D51:OFFSET(D51,0,1000))","v":0},{"$f":"'15. Vandentiekio sistema (lauk'!M11","v":0},{"$f":"'15. Vandentiekio sistema (lauk'!N11","v":0},{"$f":"'15. Vandentiekio sistema (lauk'!O11","v":0},{"$f":"'15. Vandentiekio sistema (lauk'!P11","v":0},{"$f":"'15. Vandentiekio sistema (lauk'!Q11","v":0},{"$f":"'15. Vandentiekio sistema (lauk'!R11","v":0},{"$f":"'15. Vandentiekio sistema (lauk'!S11","v":0},{"$f":"'15. Vandentiekio sistema (lauk'!T11","v":0},{"$f":"'15. Vandentiekio sistema (lauk'!U11","v":0}]
["16.","Nuotekų šalinimo sistema (vidaus)",{"$f":"SUM(D52:OFFSET(D52,0,1000))","v":0},{"$f":"'16. Nuotekų šalinimo sistema'!M11","v":0},{"$f":"'16. Nuotekų šalinimo sistema'!N11","v":0},{"$f":"'16. Nuotekų šalinimo sistema'!O11","v":0},{"$f":"'16. Nuotekų šalinimo sistema'!P11","v":0},{"$f":"'16. Nuotekų šalinimo sistema'!Q11","v":0},{"$f":"'16. Nuotekų šalinimo sistema'!R11","v":0},{"$f":"'16. Nuotekų šalinimo sistema'!S11","v":0},{"$f":"'16. Nuotekų šalinimo sistema'!T11","v":0},{"$f":"'16. Nuotekų šalinimo sistema'!U11","v":0}]
["17.","Nuotekų šalinimo sistema (lauko)",{"$f":"SUM(D53:OFFSET(D53,0,1000))","v":0},{"$f":"'17. Nuotekų šalinimo sistema'!M11","v":0},{"$f":"'17. Nuotekų šalinimo sistema'!N11","v":0},{"$f":"'17. Nuotekų šalinimo sistema'!O11","v":0},{"$f":"'17. Nuotekų šalinimo sistema'!P11","v":0},{"$f":"'17. Nuotekų šalinimo sistema'!Q11","v":0},{"$f":"'17. Nuotekų šalinimo sistema'!R11","v":0},{"$f":"'17. Nuotekų šalinimo sistema'!S11","v":0},{"$f":"'17. Nuotekų šalinimo sistema'!T11","v":0},{"$f":"'17. Nuotekų šalinimo sistema'!U11","v":0}]
["18.","Elektros instaliacija (vidaus)",{"$f":"SUM(D54:OFFSET(D54,0,1000))","v":0},{"$f":"'18. Elektros instaliacija (vid'!M11","v":0},{"$f":"'18. Elektros instaliacija (vid'!N11","v":0},{"$f":"'18. Elektros instaliacija (vid'!O11","v":0},{"$f":"'18. Elektros instaliacija (vid'!P11","v":0},{"$f":"'18. Elektros instaliacija (vid'!Q11","v":0},{"$f":"'18. Elektros instaliacija (vid'!R11","v":0},{"$f":"'18. Elektros instaliacija (vid'!S11","v":0},{"$f":"'18. Elektros instaliacija (vid'!T11","v":0},{"$f":"'18. Elektros instaliacija (vid'!U11","v":0}]
["19.","Elektros instaliacija (lauko)",{"$f":"SUM(D55:OFFSET(D55,0,1000))","v":0},{"$f":"'19. Elektros instaliacija (lau'!M11","v":0},{"$f":"'19. Elektros instaliacija (lau'!N11","v":0},{"$f":"'19. Elektros instaliacija (lau'!O11","v":0},{"$f":"'19. Elektros instaliacija (lau'!P11","v":0},{"$f":"'19. Elektros instaliacija (lau'!Q11","v":0},{"$f":"'19. Elektros instaliacija (lau'!R11","v":0},{"$f":"'19. Elektros instaliacija (lau'!S11","v":0},{"$f":"'19. Elektros instaliacija (lau'!T11","v":0},{"$f":"'19. Elektros instaliacija (lau'!U11","v":0}]
["20.","Dujos",{"$f":"SUM(D56:OFFSET(D56,0,1000))","v":0},{"$f":"'20. Dujos'!M11","v":0},{"$f":"'20. Dujos'!N11","v":0},{"$f":"'20. Dujos'!O11","v":0},{"$f":"'20. Dujos'!P11","v":0},{"$f":"'20. Dujos'!Q11","v":0},{"$f":"'20. Dujos'!R11","v":0},{"$f":"'20. Dujos'!S11","v":0},{"$f":"'20. Dujos'!T11","v":0},{"$f":"'20. Dujos'!U11","v":0}]
["21.","Apsaugos sistema",{"$f":"SUM(D57:OFFSET(D57,0,1000))","v":0},{"$f":"'21. Apsaugos sistema'!M11","v":0},{"$f":"'21. Apsaugos sistema'!N11","v":0},{"$f":"'21. Apsaugos sistema'!O11","v":0},{"$f":"'21. Apsaugos sistema'!P11","v":0},{"$f":"'21. Apsaugos sistema'!Q11","v":0},{"$f":"'21. Apsaugos sistema'!R11","v":0},{"$f":"'21. Apsaugos sistema'!S11","v":0},{"$f":"'21. Apsaugos sistema'!T11","v":0},{"$f":"'21. Apsaugos sistema'!U11","v":0}]
["22.","Telekomunikacijos",{"$f":"SUM(D58:OFFSET(D58,0,1000))","v":0},{"$f":"'22. Telekomunikacijos'!M11","v":0},{"$f":"'22. Telekomunikacijos'!N11","v":0},{"$f":"'22. Telekomunikacijos'!O11","v":0},{"$f":"'22. Telekomunikacijos'!P11","v":0},{"$f":"'22. Telekomunikacijos'!Q11","v":0},{"$f":"'22. Telekomunikacijos'!R11","v":0},{"$f":"'22. Telekomunikacijos'!S11","v":0},{"$f":"'22. Telekomunikacijos'!T11","v":0},{"$f":"'22. Telekomunikacijos'!U11","v":0}]
["23.","Gaisro gesinimo sistema",{"$f":"SUM(D59:OFFSET(D59,0,1000))","v":0},{"$f":"'23. Gaisro gesinimo sistema'!M11","v":0},{"$f":"'23. Gaisro gesinimo sistema'!N11","v":0},{"$f":"'23. Gaisro gesinimo sistema'!O11","v":0},{"$f":"'23. Gaisro gesinimo sistema'!P11","v":0},{"$f":"'23. Gaisro gesinimo sistema'!Q11","v":0},{"$f":"'23. Gaisro gesinimo sistema'!R11","v":0},{"$f":"'23. Gaisro gesinimo sistema'!S11","v":0},{"$f":"'23. Gaisro gesinimo sistema'!T11","v":0},{"$f":"'23. Gaisro gesinimo sistema'!U11","v":0}]
["24.","Transportavimo sistema",{"$f":"SUM(D60:OFFSET(D60,0,1000))","v":0},{"$f":"'24. Transportavimo sistema'!M11","v":0},{"$f":"'24. Transportavimo sistema'!N11","v":0},{"$f":"'24. Transportavimo sistema'!O11","v":0},{"$f":"'24. Transportavimo sistema'!P11","v":0},{"$f":"'24. Transportavimo sistema'!Q11","v":0},{"$f":"'24. Transportavimo sistema'!R11","v":0},{"$f":"'24. Transportavimo sistema'!S11","v":0},{"$f":"'24. Transportavimo sistema'!T11","v":0},{"$f":"'24. Transportavimo sistema'!U11","v":0}]
["25.","Lietaus bei gruntinių vandenų surinkimo / nuvedimo sistemos",{"$f":"SUM(D61:OFFSET(D61,0,1000))","v":0},{"$f":"'25. Lietaus surinkimo sistema'!M11","v":0},{"$f":"'25. Lietaus surinkimo sistema'!N11","v":0},{"$f":"'25. Lietaus surinkimo sistema'!O11","v":0},{"$f":"'25. Lietaus surinkimo sistema'!P11","v":0},{"$f":"'25. Lietaus surinkimo sistema'!Q11","v":0},{"$f":"'25. Lietaus surinkimo sistema'!R11","v":0},{"$f":"'25. Lietaus surinkimo sistema'!S11","v":0},{"$f":"'25. Lietaus surinkimo sistema'!T11","v":0},{"$f":"'25. Lietaus surinkimo sistema'!U11","v":0}]
[26,"Kitos bendrosios pastato paslaugos ir išlaidos",{"$f":"SUM(D62:OFFSET(D62,0,1000))","v":0},{"$f":"'Bendrosios pastato išlaidos'!F18","v":0},{"$f":"'Bendrosios pastato išlaidos'!G18","v":0},{"$f":"'Bendrosios pastato išlaidos'!H18","v":0},{"$f":"'Bendrosios pastato išlaidos'!I18","v":0},{"$f":"'Bendrosios pastato išlaidos'!J18","v":0},{"$f":"'Bendrosios pastato išlaidos'!K18","v":0},{"$f":"'Bendrosios pastato išlaidos'!L18","v":0},{"$f":"'Bendrosios pastato išlaidos'!M18","v":0},{"$f":"'Bendrosios pastato išlaidos'!N18","v":0}]
[null,"Iš viso (A + B)",{"$f":"SUM(D63:OFFSET(D63,0,1000))","v":0},{"$f":"SUM(D64:D88)","v":0},{"$f":"SUM(E64:E88)","v":0},0,0,0,0,0,0,0]
["1. ","Pamatai",{"$f":"SUM(D64:OFFSET(D64,0,1000))","v":0},{"$f":"D11+D37","v":0},{"$f":"E11+E37","v":0},0,0,0,0,0,0,0]
["2.","Perdangos",{"$f":"SUM(D65:OFFSET(D65,0,1000))","v":0},0,{"$f":"E12+E38","v":0},0,0,0,0,0,0,0]
["3. ","Sienos",{"$f":"SUM(D66:OFFSET(D66,0,1000))","v":0},0,{"$f":"E13+E39","v":0},0,0,0,0,0,0,0]
["4.","Durys",{"$f":"SUM(D67:OFFSET(D67,0,1000))","v":0},0,{"$f":"E14+E40","v":0},0,0,0,0,0,0,0]
["5.","Langai",{"$f":"SUM(D68:OFFSET(D68,0,1000))","v":0},0,{"$f":"E15+E41","v":0},0,0,0,0,0,0,0]
["6.","Laiptai",{"$f":"SUM(D69:OFFSET(D69,0,1000))","v":0},0,{"$f":"E16+E42","v":0},0,0,0,0,0,0,0]
["7.","Stogas",{"$f":"SUM(D70:OFFSET(D70,0,1000))","v":0},0,{"$f":"E17+E43","v":0},0,0,0,0,0,0,0]
["8.","Vidaus apdaila",{"$f":"SUM(D71:OFFSET(D71,0,1000))","v":0},0,{"$f":"E18+E44","v":0},0,0,0,0,0,0,0]
["9.","Išorės apdaila",{"$f":"SUM(D72:OFFSET(D72,0,1000))","v":0},0,{"$f":"E19+E45","v":0},0,0,0,0,0,0,0]
["10.","Šildymo sistema (vidaus)",{"$f":"SUM(D73:OFFSET(D73,0,1000))","v":0},0,{"$f":"E20+E46","v":0},0,0,0,0,0,0,0]
["11.","Šildymo sistema (lauko)",{"$f":"SUM(D74:OFFSET(D74,0,1000))","v":0},0,{"$f":"E21+E47","v":0},0,0,0,0,0,0,0]
["12.","Šaldymas ir oro kondicionavimas",{"$f":"SUM(D75:OFFSET(D75,0,1000))","v":0},0,{"$f":"E22+E48","v":0},0,0,0,0,0,0,0]
["13.","Ventiliacija (vėdinimas)",{"$f":"SUM(D76:OFFSET(D76,0,1000))","v":0},0,{"$f":"E23+E49","v":0},0,0,0,0,0,0,0]
["14.","Vandentiekio sistema (vidaus)",{"$f":"SUM(D77:OFFSET(D77,0,1000))","v":0},0,{"$f":"E24+E50","v":0},0,0,0,0,0,0,0]
["15.","Vandentiekio sistema (lauko)",{"$f":"SUM(D78:OFFSET(D78,0,1000))","v":0},0,{"$f":"E25+E51","v":0},0,0,0,0,0,0,0]
["16.","Nuotekų šalinimo sistema (vidaus)",{"$f":"SUM(D79:OFFSET(D79,0,1000))","v":0},0,{"$f":"E26+E52","v":0},0,0,0,0,0,0,0]
["17.","Nuotekų šalinimo sistema (lauko)",{"$f":"SUM(D80:OFFSET(D80,0,1000))","v":0},0,{"$f":"E27+E53","v":0},0,0,0,0,0,0,0]
["18.","Elektros instaliacija (vidaus)",{"$f":"SUM(D81:OFFSET(D81,0,1000))","v":0},0,{"$f":"E28+E54","v":0},0,0,0,0,0,0,0]
["19.","Elektros instaliacija (lauko)",{"$f":"SUM(D82:OFFSET(D82,0,1000))","v":0},0,{"$f":"E29+E55","v":0},0,0,0,0,0,0,0]
["20.","Dujos",{"$f":"SUM(D83:OFFSET(D83,0,1000))","v":0},0,{"$f":"E30+E56","v":0},0,0,0,0,0,0,0]
["21.","Apsaugos sistema",{"$f":"SUM(D84:OFFSET(D84,0,1000))","v":0},0,{"$f":"E31+E57","v":0},0,0,0,0,0,0,0]
["22.","Telekomunikacijos",{"$f":"SUM(D85:OFFSET(D85,0,1000))","v":0},0,{"$f":"E32+E58","v":0},0,0,0,0,0,0,0]
["23.","Gaisro gesinimo sistema",{"$f":"SUM(D86:OFFSET(D86,0,1000))","v":0},0,{"$f":"E33+E59","v":0},0,0,0,0,0,0,0]
["24.","Transportavimo sistema",{"$f":"SUM(D87:OFFSET(D87,0,1000))","v":0},0,{"$f":"E34+E60","v":0},0,0,0,0,0,0,0]
["25.","Lietaus bei gruntinių vandenų surinkimo / nuvedimo sistemos",{"$f":"SUM(D88:OFFSET(D88,0,1000))","v":0},0,{"$f":"E35+E61","v":0},0,0,0,0,0,0,0]
[null,"C. Likutinės vertės pinigų srautas",{"$f":"SUM(D89:OFFSET(D89,0,1000))","v":0},{"$f":"SUM(D90:D114)","v":0},{"$f":"SUM(E90:E114)","v":0},{"$f":"SUM(F90:F114)","v":0},{"$f":"SUM(G90:G114)","v":0},{"$f":"SUM(H90:H114)","v":0},{"$f":"SUM(I90:I114)","v":0},0,0,0]
["1. ","Pamatai",{"$f":"SUM(D90:OFFSET(D90,0,1000))","v":0},{"$f":"'1. Pamatai'!M12","v":0},{"$f":"'1. Pamatai'!N12","v":0},{"$f":"'1. Pamatai'!O12","v":0},{"$f":"'1. Pamatai'!P12","v":0},{"$f":"'1. Pamatai'!Q12","v":0},{"$f":"'1. Pamatai'!R12","v":0},{"$f":"'1. Pamatai'!S12","v":0},{"$f":"'1. Pamatai'!T12","v":0},{"$f":"'1. Pamatai'!U12","v":0}]
["2.","Perdangos",{"$f":"SUM(D91:OFFSET(D91,0,1000))","v":0},{"$f":"'2. Perdangos'!M12","v":0},{"$f":"'2. Perdangos'!N12","v":0},{"$f":"'2. Perdangos'!O12","v":0},{"$f":"'2. Perdangos'!P12","v":0},{"$f":"'2. Perdangos'!Q12","v":0},{"$f":"'2. Perdangos'!R12","v":0},{"$f":"'2. Perdangos'!S12","v":0},{"$f":"'2. Perdangos'!T12","v":0},{"$f":"'2. Perdangos'!U12","v":0}]
["3. ","Sienos",{"$f":"SUM(D92:OFFSET(D92,0,1000))","v":0},{"$f":"'3. Sienos'!M12","v":0},{"$f":"'3. Sienos'!N12","v":0},{"$f":"'3. Sienos'!O12","v":0},{"$f":"'3. Sienos'!P12","v":0},{"$f":"'3. Sienos'!Q12","v":0},{"$f":"'3. Sienos'!R12","v":0},{"$f":"'3. Sienos'!S12","v":0},{"$f":"'3. Sienos'!T12","v":0},{"$f":"'3. Sienos'!U12","v":0}]
["4.","Durys",{"$f":"SUM(D93:OFFSET(D93,0,1000))","v":0},{"$f":"'4. Durys'!M12","v":0},{"$f":"'4. Durys'!N12","v":0},{"$f":"'4. Durys'!O12","v":0},{"$f":"'4. Durys'!P12","v":0},{"$f":"'4. Durys'!Q12","v":0},{"$f":"'4. Durys'!R12","v":0},{"$f":"'4. Durys'!S12","v":0},{"$f":"'4. Durys'!T12","v":0},{"$f":"'4. Durys'!U12","v":0}]
["5.","Langai",{"$f":"SUM(D94:OFFSET(D94,0,1000))","v":0},{"$f":"'5. Langai'!M12","v":0},{"$f":"'5. Langai'!N12","v":0},{"$f":"'5. Langai'!O12","v":0},{"$f":"'5. Langai'!P12","v":0},{"$f":"'5. Langai'!Q12","v":0},{"$f":"'5. Langai'!R12","v":0},{"$f":"'5. Langai'!S12","v":0},{"$f":"'5. Langai'!T12","v":0},{"$f":"'5. Langai'!U12","v":0}]
["6.","Laiptai",{"$f":"SUM(D95:OFFSET(D95,0,1000))","v":0},{"$f":"'6. Laiptai'!M12","v":0},{"$f":"'6. Laiptai'!N12","v":0},{"$f":"'6. Laiptai'!O12","v":0},{"$f":"'6. Laiptai'!P12","v":0},{"$f":"'6. Laiptai'!Q12","v":0},{"$f":"'6. Laiptai'!R12","v":0},{"$f":"'6. Laiptai'!S12","v":0},{"$f":"'6. Laiptai'!T12","v":0},{"$f":"'6. Laiptai'!U12","v":0}]
["7.","Stogas",{"$f":"SUM(D96:OFFSET(D96,0,1000))","v":0},{"$f":"'7. Stogas'!M12","v":0},{"$f":"'7. Stogas'!N12","v":0},{"$f":"'7. Stogas'!O12","v":0},{"$f":"'7. Stogas'!P12","v":0},{"$f":"'7. Stogas'!Q12","v":0},{"$f":"'7. Stogas'!R12","v":0},{"$f":"'7. Stogas'!S12","v":0},{"$f":"'7. Stogas'!T12","v":0},{"$f":"'7. Stogas'!U12","v":0}]
["8.","Vidaus apdaila",{"$f":"SUM(D97:OFFSET(D97,0,1000))","v":0},{"$f":"'8. Vidaus apdaila'!M12","v":0},{"$f":"'8. Vidaus apdaila'!N12","v":0},{"$f":"'8. Vidaus apdaila'!O12","v":0},{"$f":"'8. Vidaus apdaila'!P12","v":0},{"$f":"'8. Vidaus apdaila'!Q12","v":0},{"$f":"'8. Vidaus apdaila'!R12","v":0},{"$f":"'8. Vidaus apdaila'!S12","v":0},{"$f":"'8. Vidaus apdaila'!T12","v":0},{"$f":"'8. Vidaus apdaila'!U12","v":0}]
["9.","Išorės apdaila",{"$f":"SUM(D98:OFFSET(D98,0,1000))","v":0},{"$f":"'9. Išorės apdaila'!M12","v":0},{"$f":"'9. Išorės apdaila'!N12","v":0},{"$f":"'9. Išorės apdaila'!O12","v":0},{"$f":"'9. Išorės apdaila'!P12","v":0},{"$f":"'9. Išorės apdaila'!Q12","v":0},{"$f":"'9. Išorės apdaila'!R12","v":0},{"$f":"'9. Išorės apdaila'!S12","v":0},{"$f":"'9. Išorės apdaila'!T12","v":0},{"$f":"'9. Išorės apdaila'!U12","v":0}]
["10.","Šildymo sistema (vidaus)",{"$f":"SUM(D99:OFFSET(D99,0,1000))","v":0},{"$f":"'10. Šildymo sistema (vidaus)'!M12","v":0},{"$f":"'10. Šildymo sistema (vidaus)'!N12","v":0},{"$f":"'10. Šildymo sistema (vidaus)'!O12","v":0},{"$f":"'10. Šildymo sistema (vidaus)'!P12","v":0},{"$f":"'10. Šildymo sistema (vidaus)'!Q12","v":0},{"$f":"'10. Šildymo sistema (vidaus)'!R12","v":0},{"$f":"'10. Šildymo sistema (vidaus)'!S12","v":0},{"$f":"'10. Šildymo sistema (vidaus)'!T12","v":0},{"$f":"'10. Šildymo sistema (vidaus)'!U12","v":0}]
["11.","Šildymo sistema (lauko)",{"$f":"SUM(D100:OFFSET(D100,0,1000))","v":0},{"$f":"'11. Šildymo sistema (lauko)'!M12","v":0},{"$f":"'11. Šildymo sistema (lauko)'!N12","v":0},{"$f":"'11. Šildymo sistema (lauko)'!O12","v":0},{"$f":"'11. Šildymo sistema (lauko)'!P12","v":0},{"$f":"'11. Šildymo sistema (lauko)'!Q12","v":0},{"$f":"'11. Šildymo sistema (lauko)'!R12","v":0},{"$f":"'11. Šildymo sistema (lauko)'!S12","v":0},{"$f":"'11. Šildymo sistema (lauko)'!T12","v":0},{"$f":"'11. Šildymo sistema (lauko)'!U12","v":0}]
["12.","Šaldymas ir oro kondicionavimas",{"$f":"SUM(D101:OFFSET(D101,0,1000))","v":0},{"$f":"'12. Šaldymas ir oro kondiciona'!M12","v":0},{"$f":"'12. Šaldymas ir oro kondiciona'!N12","v":0},{"$f":"'12. Šaldymas ir oro kondiciona'!O12","v":0},{"$f":"'12. Šaldymas ir oro kondiciona'!P12","v":0},{"$f":"'12. Šaldymas ir oro kondiciona'!Q12","v":0},{"$f":"'12. Šaldymas ir oro kondiciona'!R12","v":0},{"$f":"'12. Šaldymas ir oro kondiciona'!S12","v":0},{"$f":"'12. Šaldymas ir oro kondiciona'!T12","v":0},{"$f":"'12. Šaldymas ir oro kondiciona'!U12","v":0}]
["13.","Ventiliacija (vėdinimas)",{"$f":"SUM(D102:OFFSET(D102,0,1000))","v":0},{"$f":"'13. Ventiliacija'!M12","v":0},{"$f":"'13. Ventiliacija'!N12","v":0},{"$f":"'13. Ventiliacija'!O12","v":0},{"$f":"'13. Ventiliacija'!P12","v":0},{"$f":"'13. Ventiliacija'!Q12","v":0},{"$f":"'13. Ventiliacija'!R12","v":0},{"$f":"'13. Ventiliacija'!S12","v":0},{"$f":"'13. Ventiliacija'!T12","v":0},{"$f":"'13. Ventiliacija'!U12","v":0}]
["14.","Vandentiekio sistema (vidaus)",{"$f":"SUM(D103:OFFSET(D103,0,1000))","v":0},{"$f":"'14. Vandentiekio sistema (vida'!M12","v":0},{"$f":"'14. Vandentiekio sistema (vida'!N12","v":0},{"$f":"'14. Vandentiekio sistema (vida'!O12","v":0},{"$f":"'14. Vandentiekio sistema (vida'!P12","v":0},{"$f":"'14. Vandentiekio sistema (vida'!Q12","v":0},{"$f":"'14. Vandentiekio sistema (vida'!R12","v":0},{"$f":"'14. Vandentiekio sistema (vida'!S12","v":0},{"$f":"'14. Vandentiekio sistema (vida'!T12","v":0},{"$f":"'14. Vandentiekio sistema (vida'!U12","v":0}]
["15.","Vandentiekio sistema (lauko)",{"$f":"SUM(D104:OFFSET(D104,0,1000))","v":0},{"$f":"'15. Vandentiekio sistema (lauk'!M12","v":0},{"$f":"'15. Vandentiekio sistema (lauk'!N12","v":0},{"$f":"'15. Vandentiekio sistema (lauk'!O12","v":0},{"$f":"'15. Vandentiekio sistema (lauk'!P12","v":0},{"$f":"'15. Vandentiekio sistema (lauk'!Q12","v":0},{"$f":"'15. Vandentiekio sistema (lauk'!R12","v":0},{"$f":"'15. Vandentiekio sistema (lauk'!S12","v":0},{"$f":"'15. Vandentiekio sistema (lauk'!T12","v":0},{"$f":"'15. Vandentiekio sistema (lauk'!U12","v":0}]
["16.","Nuotekų šalinimo sistema (vidaus)",{"$f":"SUM(D105:OFFSET(D105,0,1000))","v":0},{"$f":"'16. Nuotekų šalinimo sistema'!M12","v":0},{"$f":"'16. Nuotekų šalinimo sistema'!N12","v":0},{"$f":"'16. Nuotekų šalinimo sistema'!O12","v":0},{"$f":"'16. Nuotekų šalinimo sistema'!P12","v":0},{"$f":"'16. Nuotekų šalinimo sistema'!Q12","v":0},{"$f":"'16. Nuotekų šalinimo sistema'!R12","v":0},{"$f":"'16. Nuotekų šalinimo sistema'!S12","v":0},{"$f":"'16. Nuotekų šalinimo sistema'!T12","v":0},{"$f":"'16. Nuotekų šalinimo sistema'!U12","v":0}]
["17.","Nuotekų šalinimo sistema (lauko)",{"$f":"SUM(D106:OFFSET(D106,0,1000))","v":0},{"$f":"'17. Nuotekų šalinimo sistema'!M12","v":0},{"$f":"'17. Nuotekų šalinimo sistema'!N12","v":0},{"$f":"'17. Nuotekų šalinimo sistema'!O12","v":0},{"$f":"'17. Nuotekų šalinimo sistema'!P12","v":0},{"$f":"'17. Nuotekų šalinimo sistema'!Q12","v":0},{"$f":"'17. Nuotekų šalinimo sistema'!R12","v":0},{"$f":"'17. Nuotekų šalinimo sistema'!S12","v":0},{"$f":"'17. Nuotekų šalinimo sistema'!T12","v":0},{"$f":"'17. Nuotekų šalinimo sistema'!U12","v":0}]
["18.","Elektros instaliacija (vidaus)",{"$f":"SUM(D107:OFFSET(D107,0,1000))","v":0},{"$f":"'18. Elektros instaliacija (vid'!M12","v":0},{"$f":"'18. Elektros instaliacija (vid'!N12","v":0},{"$f":"'18. Elektros instaliacija (vid'!O12","v":0},{"$f":"'18. Elektros instaliacija (vid'!P12","v":0},{"$f":"'18. Elektros instaliacija (vid'!Q12","v":0},{"$f":"'18. Elektros instaliacija (vid'!R12","v":0},{"$f":"'18. Elektros instaliacija (vid'!S12","v":0},{"$f":"'18. Elektros instaliacija (vid'!T12","v":0},{"$f":"'18. Elektros instaliacija (vid'!U12","v":0}]
["19.","Elektros instaliacija (lauko)",{"$f":"SUM(D108:OFFSET(D108,0,1000))","v":0},{"$f":"'19. Elektros instaliacija (lau'!M12","v":0},{"$f":"'19. Elektros instaliacija (lau'!N12","v":0},{"$f":"'19. Elektros instaliacija (lau'!O12","v":0},{"$f":"'19. Elektros instaliacija (lau'!P12","v":0},{"$f":"'19. Elektros instaliacija (lau'!Q12","v":0},{"$f":"'19. Elektros instaliacija (lau'!R12","v":0},{"$f":"'19. Elektros instaliacija (lau'!S12","v":0},{"$f":"'19. Elektros instaliacija (lau'!T12","v":0},{"$f":"'19. Elektros instaliacija (lau'!U12","v":0}]
["20.","Dujos",{"$f":"SUM(D109:OFFSET(D109,0,1000))","v":0},{"$f":"'20. Dujos'!M12","v":0},{"$f":"'20. Dujos'!N12","v":0},{"$f":"'20. Dujos'!O12","v":0},{"$f":"'20. Dujos'!P12","v":0},{"$f":"'20. Dujos'!Q12","v":0},{"$f":"'20. Dujos'!R12","v":0},{"$f":"'20. Dujos'!S12","v":0},{"$f":"'20. Dujos'!T12","v":0},{"$f":"'20. Dujos'!U12","v":0}]
["21.","Apsaugos sistema",{"$f":"SUM(D110:OFFSET(D110,0,1000))","v":0},{"$f":"'21. Apsaugos sistema'!M12","v":0},{"$f":"'21. Apsaugos sistema'!N12","v":0},{"$f":"'21. Apsaugos sistema'!O12","v":0},{"$f":"'21. Apsaugos sistema'!P12","v":0},{"$f":"'21. Apsaugos sistema'!Q12","v":0},{"$f":"'21. Apsaugos sistema'!R12","v":0},{"$f":"'21. Apsaugos sistema'!S12","v":0},{"$f":"'21. Apsaugos sistema'!T12","v":0},{"$f":"'21. Apsaugos sistema'!U12","v":0}]
["22.","Telekomunikacijos",{"$f":"SUM(D111:OFFSET(D111,0,1000))","v":0},{"$f":"'22. Telekomunikacijos'!M12","v":0},{"$f":"'22. Telekomunikacijos'!N12","v":0},{"$f":"'22. Telekomunikacijos'!O12","v":0},{"$f":"'22. Telekomunikacijos'!P12","v":0},{"$f":"'22. Telekomunikacijos'!Q12","v":0},{"$f":"'22. Telekomunikacijos'!R12","v":0},{"$f":"'22. Telekomunikacijos'!S12","v":0},{"$f":"'22. Telekomunikacijos'!T12","v":0},{"$f":"'22. Telekomunikacijos'!U12","v":0}]
["23.","Gaisro gesinimo sistema",{"$f":"SUM(D112:OFFSET(D112,0,1000))","v":0},{"$f":"'23. Gaisro gesinimo sistema'!M12","v":0},{"$f":"'23. Gaisro gesinimo sistema'!N12","v":0},{"$f":"'23. Gaisro gesinimo sistema'!O12","v":0},{"$f":"'23. Gaisro gesinimo sistema'!P12","v":0},{"$f":"'23. Gaisro gesinimo sistema'!Q12","v":0},{"$f":"'23. Gaisro gesinimo sistema'!R12","v":0},{"$f":"'23. Gaisro gesinimo sistema'!S12","v":0},{"$f":"'23. Gaisro gesinimo sistema'!T12","v":0},{"$f":"'23. Gaisro gesinimo sistema'!U12","v":0}]
["24.","Transportavimo sistema",{"$f":"SUM(D113:OFFSET(D113,0,1000))","v":0},{"$f":"'24. Transportavimo sistema'!M12","v":0},{"$f":"'24. Transportavimo sistema'!N12","v":0},{"$f":"'24. Transportavimo sistema'!O12","v":0},{"$f":"'24. Transportavimo sistema'!P12","v":0},{"$f":"'24. Transportavimo sistema'!Q12","v":0},{"$f":"'24. Transportavimo sistema'!R12","v":0},{"$f":"'24. Transportavimo sistema'!S12","v":0},{"$f":"'24. Transportavimo sistema'!T12","v":0},{"$f":"'24. Transportavimo sistema'!U12","v":0}]
["25.","Lietaus bei gruntinių vandenų surinkimo / nuvedimo sistemos",{"$f":"SUM(D114:OFFSET(D114,0,1000))","v":0},{"$f":"'25. Lietaus surinkimo sistema'!M12","v":0},{"$f":"'25. Lietaus surinkimo sistema'!N12","v":0},{"$f":"'25. Lietaus surinkimo sistema'!O12","v":0},{"$f":"'25. Lietaus surinkimo sistema'!P12","v":0},{"$f":"'25. Lietaus surinkimo sistema'!Q12","v":0},{"$f":"'25. Lietaus surinkimo sistema'!R12","v":0},{"$f":"'25. Lietaus surinkimo sistema'!S12","v":0},{"$f":"'25. Lietaus surinkimo sistema'!T12","v":0},{"$f":"'25. Lietaus surinkimo sistema'!U12","v":0}]
[]
[null,"Eksploatavimo ir veiklos išlaidos","Iš viso, EUR",{"$f":"YEAR('Bendrieji įvesties duomenys'!$C$6)+COLUMN(C116)-3","v":2019},{"$f":"YEAR('Bendrieji įvesties duomenys'!$C$6)+COLUMN(D116)-3","v":2020},{"$f":"YEAR('Bendrieji įvesties duomenys'!$C$6)+COLUMN(E116)-3","v":2021},{"$f":"YEAR('Bendrieji įvesties duomenys'!$C$6)+COLUMN(F116)-3","v":2022},{"$f":"YEAR('Bendrieji įvesties duomenys'!$C$6)+COLUMN(G116)-3","v":2023},{"$f":"YEAR('Bendrieji įvesties duomenys'!$C$6)+COLUMN(H116)-3","v":2024},{"$f":"YEAR('Bendrieji įvesties duomenys'!$C$6)+COLUMN(I116)-3","v":2025},{"$f":"YEAR('Bendrieji įvesties duomenys'!$C$6)+COLUMN(J116)-3","v":2026},{"$f":"YEAR('Bendrieji įvesties duomenys'!$C$6)+COLUMN(K116)-3","v":2027}]
[]
[null,"D.  Veiklos išlaidos laikantis rinkoje taikomų eksploatavimo apimčių",{"$f":"SUM(D118:OFFSET(D118,0,1000))","v":0},{"$f":"SUM(D119:D144)","v":0},{"$f":"SUM(E119:E144)","v":0},{"$f":"SUM(F119:F144)","v":0},{"$f":"SUM(G119:G144)","v":0},{"$f":"SUM(H119:H144)","v":0},{"$f":"SUM(I119:I144)","v":0},0,0,0]
["1. ","Pamatai",{"$f":"SUM(D119:OFFSET(D119,0,1000))","v":0},{"$f":"'1. Pamatai'!M16","v":0},{"$f":"'1. Pamatai'!N16","v":0},{"$f":"'1. Pamatai'!O16","v":0},{"$f":"'1. Pamatai'!P16","v":0},{"$f":"'1. Pamatai'!Q16","v":0},{"$f":"'1. Pamatai'!R16","v":0},{"$f":"'1. Pamatai'!S16","v":0},{"$f":"'1. Pamatai'!T16","v":0},{"$f":"'1. Pamatai'!U16","v":0}]
["2.","Perdangos",{"$f":"SUM(D120:OFFSET(D120,0,1000))","v":0},{"$f":"'2. Perdangos'!M16","v":0},{"$f":"'2. Perdangos'!N16","v":0},{"$f":"'2. Perdangos'!O16","v":0},{"$f":"'2. Perdangos'!P16","v":0},{"$f":"'2. Perdangos'!Q16","v":0},{"$f":"'2. Perdangos'!R16","v":0},{"$f":"'2. Perdangos'!S16","v":0},{"$f":"'2. Perdangos'!T16","v":0},{"$f":"'2. Perdangos'!U16","v":0}]
["3. ","Sienos",{"$f":"SUM(D121:OFFSET(D121,0,1000))","v":0},{"$f":"'3. Sienos'!M16","v":0},{"$f":"'3. Sienos'!N16","v":0},{"$f":"'3. Sienos'!O16","v":0},{"$f":"'3. Sienos'!P16","v":0},{"$f":"'3. Sienos'!Q16","v":0},{"$f":"'3. Sienos'!R16","v":0},{"$f":"'3. Sienos'!S16","v":0},{"$f":"'3. Sienos'!T16","v":0},{"$f":"'3. Sienos'!U16","v":0}]
["4.","Durys",{"$f":"SUM(D122:OFFSET(D122,0,1000))","v":0},{"$f":"'4. Durys'!M16","v":0},{"$f":"'4. Durys'!N16","v":0},{"$f":"'4. Durys'!O16","v":0},{"$f":"'4. Durys'!P16","v":0},{"$f":"'4. Durys'!Q16","v":0},{"$f":"'4. Durys'!R16","v":0},{"$f":"'4. Durys'!S16","v":0},{"$f":"'4. Durys'!T16","v":0},{"$f":"'4. Durys'!U16","v":0}]
["5.","Langai",{"$f":"SUM(D123:OFFSET(D123,0,1000))","v":0},{"$f":"'5. Langai'!M16","v":0},{"$f":"'5. Langai'!N16","v":0},{"$f":"'5. Langai'!O16","v":0},{"$f":"'5. Langai'!P16","v":0},{"$f":"'5. Langai'!Q16","v":0},{"$f":"'5. Langai'!R16","v":0},{"$f":"'5. Langai'!S16","v":0},{"$f":"'5. Langai'!T16","v":0},{"$f":"'5. Langai'!U16","v":0}]
["6.","Laiptai",{"$f":"SUM(D124:OFFSET(D124,0,1000))","v":0},{"$f":"'6. Laiptai'!M16","v":0},{"$f":"'6. Laiptai'!N16","v":0},{"$f":"'6. Laiptai'!O16","v":0},{"$f":"'6. Laiptai'!P16","v":0},{"$f":"'6. Laiptai'!Q16","v":0},{"$f":"'6. Laiptai'!R16","v":0},{"$f":"'6. Laiptai'!S16","v":0},{"$f":"'6. Laiptai'!T16","v":0},{"$f":"'6. Laiptai'!U16","v":0}]
["7.","Stogas",{"$f":"SUM(D125:OFFSET(D125,0,1000))","v":0},{"$f":"'7. Stogas'!M16","v":0},{"$f":"'7. Stogas'!N16","v":0},{"$f":"'7. Stogas'!O16","v":0},{"$f":"'7. Stogas'!P16","v":0},{"$f":"'7. Stogas'!Q16","v":0},{"$f":"'7. Stogas'!R16","v":0},{"$f":"'7. Stogas'!S16","v":0},{"$f":"'7. Stogas'!T16","v":0},{"$f":"'7. Stogas'!U16","v":0}]
["8.","Vidaus apdaila",{"$f":"SUM(D126:OFFSET(D126,0,1000))","v":0},{"$f":"'8. Vidaus apdaila'!M16","v":0},{"$f":"'8. Vidaus apdaila'!N16","v":0},{"$f":"'8. Vidaus apdaila'!O16","v":0},{"$f":"'8. Vidaus apdaila'!P16","v":0},{"$f":"'8. Vidaus apdaila'!Q16","v":0},{"$f":"'8. Vidaus apdaila'!R16","v":0},{"$f":"'8. Vidaus apdaila'!S16","v":0},{"$f":"'8. Vidaus apdaila'!T16","v":0},{"$f":"'8. Vidaus apdaila'!U16","v":0}]
["9.","Išorės apdaila",{"$f":"SUM(D127:OFFSET(D127,0,1000))","v":0},{"$f":"'9. Išorės apdaila'!M16","v":0},{"$f":"'9. Išorės apdaila'!N16","v":0},{"$f":"'9. Išorės apdaila'!O16","v":0},{"$f":"'9. Išorės apdaila'!P16","v":0},{"$f":"'9. Išorės apdaila'!Q16","v":0},{"$f":"'9. Išorės apdaila'!R16","v":0},{"$f":"'9. Išorės apdaila'!S16","v":0},{"$f":"'9. Išorės apdaila'!T16","v":0},{"$f":"'9. Išorės apdaila'!U16","v":0}]
["10.","Šildymo sistema (vidaus)",{"$f":"SUM(D128:OFFSET(D128,0,1000))","v":0},{"$f":"'10. Šildymo sistema (vidaus)'!M16","v":0},{"$f":"'10. Šildymo sistema (vidaus)'!N16","v":0},{"$f":"'10. Šildymo sistema (vidaus)'!O16","v":0},{"$f":"'10. Šildymo sistema (vidaus)'!P16","v":0},{"$f":"'10. Šildymo sistema (vidaus)'!Q16","v":0},{"$f":"'10. Šildymo sistema (vidaus)'!R16","v":0},{"$f":"'10. Šildymo sistema (vidaus)'!S16","v":0},{"$f":"'10. Šildymo sistema (vidaus)'!T16","v":0},{"$f":"'10. Šildymo sistema (vidaus)'!U16","v":0}]
["11.","Šildymo sistema (lauko)",{"$f":"SUM(D129:OFFSET(D129,0,1000))","v":0},{"$f":"'11. Šildymo sistema (lauko)'!M16","v":0},{"$f":"'11. Šildymo sistema (lauko)'!N16","v":0},{"$f":"'11. Šildymo sistema (lauko)'!O16","v":0},{"$f":"'11. Šildymo sistema (lauko)'!P16","v":0},{"$f":"'11. Šildymo sistema (lauko)'!Q16","v":0},{"$f":"'11. Šildymo sistema (lauko)'!R16","v":0},{"$f":"'11. Šildymo sistema (lauko)'!S16","v":0},{"$f":"'11. Šildymo sistema (lauko)'!T16","v":0},{"$f":"'11. Šildymo sistema (lauko)'!U16","v":0}]
["12.","Šaldymas ir oro kondicionavimas",{"$f":"SUM(D130:OFFSET(D130,0,1000))","v":0},{"$f":"'12. Šaldymas ir oro kondiciona'!M16","v":0},{"$f":"'12. Šaldymas ir oro kondiciona'!N16","v":0},{"$f":"'12. Šaldymas ir oro kondiciona'!O16","v":0},{"$f":"'12. Šaldymas ir oro kondiciona'!P16","v":0},{"$f":"'12. Šaldymas ir oro kondiciona'!Q16","v":0},{"$f":"'12. Šaldymas ir oro kondiciona'!R16","v":0},{"$f":"'12. Šaldymas ir oro kondiciona'!S16","v":0},{"$f":"'12. Šaldymas ir oro kondiciona'!T16","v":0},{"$f":"'12. Šaldymas ir oro kondiciona'!U16","v":0}]
["13.","Ventiliacija (vėdinimas)",{"$f":"SUM(D131:OFFSET(D131,0,1000))","v":0},{"$f":"'13. Ventiliacija'!M16","v":0},{"$f":"'13. Ventiliacija'!N16","v":0},{"$f":"'13. Ventiliacija'!O16","v":0},{"$f":"'13. Ventiliacija'!P16","v":0},{"$f":"'13. Ventiliacija'!Q16","v":0},{"$f":"'13. Ventiliacija'!R16","v":0},{"$f":"'13. Ventiliacija'!S16","v":0},{"$f":"'13. Ventiliacija'!T16","v":0},{"$f":"'13. Ventiliacija'!U16","v":0}]
["14.","Vandentiekio sistema (vidaus)",{"$f":"SUM(D132:OFFSET(D132,0,1000))","v":0},{"$f":"'14. Vandentiekio sistema (vida'!M16","v":0},{"$f":"'14. Vandentiekio sistema (vida'!N16","v":0},{"$f":"'14. Vandentiekio sistema (vida'!O16","v":0},{"$f":"'14. Vandentiekio sistema (vida'!P16","v":0},{"$f":"'14. Vandentiekio sistema (vida'!Q16","v":0},{"$f":"'14. Vandentiekio sistema (vida'!R16","v":0},{"$f":"'14. Vandentiekio sistema (vida'!S16","v":0},{"$f":"'14. Vandentiekio sistema (vida'!T16","v":0},{"$f":"'14. Vandentiekio sistema (vida'!U16","v":0}]
["15.","Vandentiekio sistema (lauko)",{"$f":"SUM(D133:OFFSET(D133,0,1000))","v":0},{"$f":"'15. Vandentiekio sistema (lauk'!M16","v":0},{"$f":"'15. Vandentiekio sistema (lauk'!N16","v":0},{"$f":"'15. Vandentiekio sistema (lauk'!O16","v":0},{"$f":"'15. Vandentiekio sistema (lauk'!P16","v":0},{"$f":"'15. Vandentiekio sistema (lauk'!Q16","v":0},{"$f":"'15. Vandentiekio sistema (lauk'!R16","v":0},{"$f":"'15. Vandentiekio sistema (lauk'!S16","v":0},{"$f":"'15. Vandentiekio sistema (lauk'!T16","v":0},{"$f":"'15. Vandentiekio sistema (lauk'!U16","v":0}]
["16.","Nuotekų šalinimo sistema (vidaus)",{"$f":"SUM(D134:OFFSET(D134,0,1000))","v":0},{"$f":"'16. Nuotekų šalinimo sistema'!M16","v":0},{"$f":"'16. Nuotekų šalinimo sistema'!N16","v":0},{"$f":"'16. Nuotekų šalinimo sistema'!O16","v":0},{"$f":"'16. Nuotekų šalinimo sistema'!P16","v":0},{"$f":"'16. Nuotekų šalinimo sistema'!Q16","v":0},{"$f":"'16. Nuotekų šalinimo sistema'!R16","v":0},{"$f":"'16. Nuotekų šalinimo sistema'!S16","v":0},{"$f":"'16. Nuotekų šalinimo sistema'!T16","v":0},{"$f":"'16. Nuotekų šalinimo sistema'!U16","v":0}]
["17.","Nuotekų šalinimo sistema (lauko)",{"$f":"SUM(D135:OFFSET(D135,0,1000))","v":0},{"$f":"'17. Nuotekų šalinimo sistema'!M16","v":0},{"$f":"'17. Nuotekų šalinimo sistema'!N16","v":0},{"$f":"'17. Nuotekų šalinimo sistema'!O16","v":0},{"$f":"'17. Nuotekų šalinimo sistema'!P16","v":0},{"$f":"'17. Nuotekų šalinimo sistema'!Q16","v":0},{"$f":"'17. Nuotekų šalinimo sistema'!R16","v":0},{"$f":"'17. Nuotekų šalinimo sistema'!S16","v":0},{"$f":"'17. Nuotekų šalinimo sistema'!T16","v":0},{"$f":"'17. Nuotekų šalinimo sistema'!U16","v":0}]
["18.","Elektros instaliacija (vidaus)",{"$f":"SUM(D136:OFFSET(D136,0,1000))","v":0},{"$f":"'18. Elektros instaliacija (vid'!M16","v":0},{"$f":"'18. Elektros instaliacija (vid'!N16","v":0},{"$f":"'18. Elektros instaliacija (vid'!O16","v":0},{"$f":"'18. Elektros instaliacija (vid'!P16","v":0},{"$f":"'18. Elektros instaliacija (vid'!Q16","v":0},{"$f":"'18. Elektros instaliacija (vid'!R16","v":0},{"$f":"'18. Elektros instaliacija (vid'!S16","v":0},{"$f":"'18. Elektros instaliacija (vid'!T16","v":0},{"$f":"'18. Elektros instaliacija (vid'!U16","v":0}]
["19.","Elektros instaliacija (lauko)",{"$f":"SUM(D137:OFFSET(D137,0,1000))","v":0},{"$f":"'19. Elektros instaliacija (lau'!M16","v":0},{"$f":"'19. Elektros instaliacija (lau'!N16","v":0},{"$f":"'19. Elektros instaliacija (lau'!O16","v":0},{"$f":"'19. Elektros instaliacija (lau'!P16","v":0},{"$f":"'19. Elektros instaliacija (lau'!Q16","v":0},{"$f":"'19. Elektros instaliacija (lau'!R16","v":0},{"$f":"'19. Elektros instaliacija (lau'!S16","v":0},{"$f":"'19. Elektros instaliacija (lau'!T16","v":0},{"$f":"'19. Elektros instaliacija (lau'!U16","v":0}]
["20.","Dujos",{"$f":"SUM(D138:OFFSET(D138,0,1000))","v":0},{"$f":"'20. Dujos'!M16","v":0},{"$f":"'20. Dujos'!N16","v":0},{"$f":"'20. Dujos'!O16","v":0},{"$f":"'20. Dujos'!P16","v":0},{"$f":"'20. Dujos'!Q16","v":0},{"$f":"'20. Dujos'!R16","v":0},{"$f":"'20. Dujos'!S16","v":0},{"$f":"'20. Dujos'!T16","v":0},{"$f":"'20. Dujos'!U16","v":0}]
["21.","Apsaugos sistema",{"$f":"SUM(D139:OFFSET(D139,0,1000))","v":0},{"$f":"'21. Apsaugos sistema'!M16","v":0},{"$f":"'21. Apsaugos sistema'!N16","v":0},{"$f":"'21. Apsaugos sistema'!O16","v":0},{"$f":"'21. Apsaugos sistema'!P16","v":0},{"$f":"'21. Apsaugos sistema'!Q16","v":0},{"$f":"'21. Apsaugos sistema'!R16","v":0},{"$f":"'21. Apsaugos sistema'!S16","v":0},{"$f":"'21. Apsaugos sistema'!T16","v":0},{"$f":"'21. Apsaugos sistema'!U16","v":0}]
["22.","Telekomunikacijos",{"$f":"SUM(D140:OFFSET(D140,0,1000))","v":0},{"$f":"'22. Telekomunikacijos'!M16","v":0},{"$f":"'22. Telekomunikacijos'!N16","v":0},{"$f":"'22. Telekomunikacijos'!O16","v":0},{"$f":"'22. Telekomunikacijos'!P16","v":0},{"$f":"'22. Telekomunikacijos'!Q16","v":0},{"$f":"'22. Telekomunikacijos'!R16","v":0},{"$f":"'22. Telekomunikacijos'!S16","v":0},{"$f":"'22. Telekomunikacijos'!T16","v":0},{"$f":"'22. Telekomunikacijos'!U16","v":0}]
["23.","Gaisro gesinimo sistema",{"$f":"SUM(D141:OFFSET(D141,0,1000))","v":0},{"$f":"'23. Gaisro gesinimo sistema'!M16","v":0},{"$f":"'23. Gaisro gesinimo sistema'!N16","v":0},{"$f":"'23. Gaisro gesinimo sistema'!O16","v":0},{"$f":"'23. Gaisro gesinimo sistema'!P16","v":0},{"$f":"'23. Gaisro gesinimo sistema'!Q16","v":0},{"$f":"'23. Gaisro gesinimo sistema'!R16","v":0},{"$f":"'23. Gaisro gesinimo sistema'!S16","v":0},{"$f":"'23. Gaisro gesinimo sistema'!T16","v":0},{"$f":"'23. Gaisro gesinimo sistema'!U16","v":0}]
["24.","Transportavimo sistema",{"$f":"SUM(D142:OFFSET(D142,0,1000))","v":0},{"$f":"'24. Transportavimo sistema'!M16","v":0},{"$f":"'24. Transportavimo sistema'!N16","v":0},{"$f":"'24. Transportavimo sistema'!O16","v":0},{"$f":"'24. Transportavimo sistema'!P16","v":0},{"$f":"'24. Transportavimo sistema'!Q16","v":0},{"$f":"'24. Transportavimo sistema'!R16","v":0},{"$f":"'24. Transportavimo sistema'!S16","v":0},{"$f":"'24. Transportavimo sistema'!T16","v":0},{"$f":"'24. Transportavimo sistema'!U16","v":0}]
["25.","Lietaus bei gruntinių vandenų surinkimo / nuvedimo sistemos",{"$f":"SUM(D143:OFFSET(D143,0,1000))","v":0},{"$f":"'25. Lietaus surinkimo sistema'!M16","v":0},{"$f":"'25. Lietaus surinkimo sistema'!N16","v":0},{"$f":"'25. Lietaus surinkimo sistema'!O16","v":0},{"$f":"'25. Lietaus surinkimo sistema'!P16","v":0},{"$f":"'25. Lietaus surinkimo sistema'!Q16","v":0},{"$f":"'25. Lietaus surinkimo sistema'!R16","v":0},{"$f":"'25. Lietaus surinkimo sistema'!S16","v":0},{"$f":"'25. Lietaus surinkimo sistema'!T16","v":0},{"$f":"'25. Lietaus surinkimo sistema'!U16","v":0}]
["26.","Kitos veiklos išlaidos",{"$f":"SUM(D144:OFFSET(D144,0,1000))","v":0},{"$f":"'Bendrosios pastato išlaidos'!F23","v":0},{"$f":"'Bendrosios pastato išlaidos'!G23","v":0},{"$f":"'Bendrosios pastato išlaidos'!H23","v":0},{"$f":"'Bendrosios pastato išlaidos'!I23","v":0},{"$f":"'Bendrosios pastato išlaidos'!J23","v":0},{"$f":"'Bendrosios pastato išlaidos'!K23","v":0},{"$f":"'Bendrosios pastato išlaidos'!L23","v":0},{"$f":"'Bendrosios pastato išlaidos'!M23","v":0},{"$f":"'Bendrosios pastato išlaidos'!N23","v":0}]
[null,"D'. Veiklos išlaidos pagal pildančios institucijos numatytas palaikymo apimtis",{"$f":"SUM(D145:OFFSET(D145,0,1000))","v":0},{"$f":"SUM(D146:D171)","v":0},{"$f":"SUM(E146:E171)","v":0},{"$f":"SUM(F146:F171)","v":0},{"$f":"SUM(G146:G171)","v":0},{"$f":"SUM(H146:H171)","v":0},{"$f":"SUM(I146:I171)","v":0},0,0,0]
["1. ","Pamatai",{"$f":"SUM(D146:OFFSET(D146,0,1000))","v":0},{"$f":"'1. Pamatai'!M43","v":0},{"$f":"'1. Pamatai'!N43","v":0},{"$f":"'1. Pamatai'!O43","v":0},{"$f":"'1. Pamatai'!P43","v":0},{"$f":"'1. Pamatai'!Q43","v":0},{"$f":"'1. Pamatai'!R43","v":0},{"$f":"'1. Pamatai'!S43","v":0},{"$f":"'1. Pamatai'!T43","v":0},{"$f":"'1. Pamatai'!U43","v":0}]
["2.","Perdangos",{"$f":"SUM(D147:OFFSET(D147,0,1000))","v":0},{"$f":"'2. Perdangos'!M43","v":0},{"$f":"'2. Perdangos'!N43","v":0},{"$f":"'2. Perdangos'!O43","v":0},{"$f":"'2. Perdangos'!P43","v":0},{"$f":"'2. Perdangos'!Q43","v":0},{"$f":"'2. Perdangos'!R43","v":0},{"$f":"'2. Perdangos'!S43","v":0},{"$f":"'2. Perdangos'!T43","v":0},{"$f":"'2. Perdangos'!U43","v":0}]
["3. ","Sienos",{"$f":"SUM(D148:OFFSET(D148,0,1000))","v":0},{"$f":"'3. Sienos'!M43","v":0},{"$f":"'3. Sienos'!N43","v":0},{"$f":"'3. Sienos'!O43","v":0},{"$f":"'3. Sienos'!P43","v":0},{"$f":"'3. Sienos'!Q43","v":0},{"$f":"'3. Sienos'!R43","v":0},{"$f":"'3. Sienos'!S43","v":0},{"$f":"'3. Sienos'!T43","v":0},{"$f":"'3. Sienos'!U43","v":0}]
["4.","Durys",{"$f":"SUM(D149:OFFSET(D149,0,1000))","v":0},{"$f":"'4. Durys'!M43","v":0},{"$f":"'4. Durys'!N43","v":0},{"$f":"'4. Durys'!O43","v":0},{"$f":"'4. Durys'!P43","v":0},{"$f":"'4. Durys'!Q43","v":0},{"$f":"'4. Durys'!R43","v":0},{"$f":"'4. Durys'!S43","v":0},{"$f":"'4. Durys'!T43","v":0},{"$f":"'4. Durys'!U43","v":0}]
["5.","Langai",{"$f":"SUM(D150:OFFSET(D150,0,1000))","v":0},{"$f":"'5. Langai'!M43","v":0},{"$f":"'5. Langai'!N43","v":0},{"$f":"'5. Langai'!O43","v":0},{"$f":"'5. Langai'!P43","v":0},{"$f":"'5. Langai'!Q43","v":0},{"$f":"'5. Langai'!R43","v":0},{"$f":"'5. Langai'!S43","v":0},{"$f":"'5. Langai'!T43","v":0},{"$f":"'5. Langai'!U43","v":0}]
["6.","Laiptai",{"$f":"SUM(D151:OFFSET(D151,0,1000))","v":0},{"$f":"'6. Laiptai'!M43","v":0},{"$f":"'6. Laiptai'!N43","v":0},{"$f":"'6. Laiptai'!O43","v":0},{"$f":"'6. Laiptai'!P43","v":0},{"$f":"'6. Laiptai'!Q43","v":0},{"$f":"'6. Laiptai'!R43","v":0},{"$f":"'6. Laiptai'!S43","v":0},{"$f":"'6. Laiptai'!T43","v":0},{"$f":"'6. Laiptai'!U43","v":0}]
["7.","Stogas",{"$f":"SUM(D152:OFFSET(D152,0,1000))","v":0},{"$f":"'7. Stogas'!M43","v":0},{"$f":"'7. Stogas'!N43","v":0},{"$f":"'7. Stogas'!O43","v":0},{"$f":"'7. Stogas'!P43","v":0},{"$f":"'7. Stogas'!Q43","v":0},{"$f":"'7. Stogas'!R43","v":0},{"$f":"'7. Stogas'!S43","v":0},{"$f":"'7. Stogas'!T43","v":0},{"$f":"'7. Stogas'!U43","v":0}]
["8.","Vidaus apdaila",{"$f":"SUM(D153:OFFSET(D153,0,1000))","v":0},{"$f":"'8. Vidaus apdaila'!M43","v":0},{"$f":"'8. Vidaus apdaila'!N43","v":0},{"$f":"'8. Vidaus apdaila'!O43","v":0},{"$f":"'8. Vidaus apdaila'!P43","v":0},{"$f":"'8. Vidaus apdaila'!Q43","v":0},{"$f":"'8. Vidaus apdaila'!R43","v":0},{"$f":"'8. Vidaus apdaila'!S43","v":0},{"$f":"'8. Vidaus apdaila'!T43","v":0},{"$f":"'8. Vidaus apdaila'!U43","v":0}]
["9.","Išorės apdaila",{"$f":"SUM(D154:OFFSET(D154,0,1000))","v":0},{"$f":"'9. Išorės apdaila'!M43","v":0},{"$f":"'9. Išorės apdaila'!N43","v":0},{"$f":"'9. Išorės apdaila'!O43","v":0},{"$f":"'9. Išorės apdaila'!P43","v":0},{"$f":"'9. Išorės apdaila'!Q43","v":0},{"$f":"'9. Išorės apdaila'!R43","v":0},{"$f":"'9. Išorės apdaila'!S43","v":0},{"$f":"'9. Išorės apdaila'!T43","v":0},{"$f":"'9. Išorės apdaila'!U43","v":0}]
["10.","Šildymo sistema (vidaus)",{"$f":"SUM(D155:OFFSET(D155,0,1000))","v":0},{"$f":"'10. Šildymo sistema (vidaus)'!M43","v":0},{"$f":"'10. Šildymo sistema (vidaus)'!N43","v":0},{"$f":"'10. Šildymo sistema (vidaus)'!O43","v":0},{"$f":"'10. Šildymo sistema (vidaus)'!P43","v":0},{"$f":"'10. Šildymo sistema (vidaus)'!Q43","v":0},{"$f":"'10. Šildymo sistema (vidaus)'!R43","v":0},{"$f":"'10. Šildymo sistema (vidaus)'!S43","v":0},{"$f":"'10. Šildymo sistema (vidaus)'!T43","v":0},{"$f":"'10. Šildymo sistema (vidaus)'!U43","v":0}]
["11.","Šildymo sistema (lauko)",{"$f":"SUM(D156:OFFSET(D156,0,1000))","v":0},{"$f":"'11. Šildymo sistema (lauko)'!M43","v":0},{"$f":"'11. Šildymo sistema (lauko)'!N43","v":0},{"$f":"'11. Šildymo sistema (lauko)'!O43","v":0},{"$f":"'11. Šildymo sistema (lauko)'!P43","v":0},{"$f":"'11. Šildymo sistema (lauko)'!Q43","v":0},{"$f":"'11. Šildymo sistema (lauko)'!R43","v":0},{"$f":"'11. Šildymo sistema (lauko)'!S43","v":0},{"$f":"'11. Šildymo sistema (lauko)'!T43","v":0},{"$f":"'11. Šildymo sistema (lauko)'!U43","v":0}]
["12.","Šaldymas ir oro kondicionavimas",{"$f":"SUM(D157:OFFSET(D157,0,1000))","v":0},{"$f":"'12. Šaldymas ir oro kondiciona'!M43","v":0},{"$f":"'12. Šaldymas ir oro kondiciona'!N43","v":0},{"$f":"'12. Šaldymas ir oro kondiciona'!O43","v":0},{"$f":"'12. Šaldymas ir oro kondiciona'!P43","v":0},{"$f":"'12. Šaldymas ir oro kondiciona'!Q43","v":0},{"$f":"'12. Šaldymas ir oro kondiciona'!R43","v":0},{"$f":"'12. Šaldymas ir oro kondiciona'!S43","v":0},{"$f":"'12. Šaldymas ir oro kondiciona'!T43","v":0},{"$f":"'12. Šaldymas ir oro kondiciona'!U43","v":0}]
["13.","Ventiliacija (vėdinimas)",{"$f":"SUM(D158:OFFSET(D158,0,1000))","v":0},{"$f":"'13. Ventiliacija'!M43","v":0},{"$f":"'13. Ventiliacija'!N43","v":0},{"$f":"'13. Ventiliacija'!O43","v":0},{"$f":"'13. Ventiliacija'!P43","v":0},{"$f":"'13. Ventiliacija'!Q43","v":0},{"$f":"'13. Ventiliacija'!R43","v":0},{"$f":"'13. Ventiliacija'!S43","v":0},{"$f":"'13. Ventiliacija'!T43","v":0},{"$f":"'13. Ventiliacija'!U43","v":0}]
["14.","Vandentiekio sistema (vidaus)",{"$f":"SUM(D159:OFFSET(D159,0,1000))","v":0},{"$f":"'14. Vandentiekio sistema (vida'!M43","v":0},{"$f":"'14. Vandentiekio sistema (vida'!N43","v":0},{"$f":"'14. Vandentiekio sistema (vida'!O43","v":0},{"$f":"'14. Vandentiekio sistema (vida'!P43","v":0},{"$f":"'14. Vandentiekio sistema (vida'!Q43","v":0},{"$f":"'14. Vandentiekio sistema (vida'!R43","v":0},{"$f":"'14. Vandentiekio sistema (vida'!S43","v":0},{"$f":"'14. Vandentiekio sistema (vida'!T43","v":0},{"$f":"'14. Vandentiekio sistema (vida'!U43","v":0}]
["15.","Vandentiekio sistema (lauko)",{"$f":"SUM(D160:OFFSET(D160,0,1000))","v":0},{"$f":"'15. Vandentiekio sistema (lauk'!M43","v":0},{"$f":"'15. Vandentiekio sistema (lauk'!N43","v":0},{"$f":"'15. Vandentiekio sistema (lauk'!O43","v":0},{"$f":"'15. Vandentiekio sistema (lauk'!P43","v":0},{"$f":"'15. Vandentiekio sistema (lauk'!Q43","v":0},{"$f":"'15. Vandentiekio sistema (lauk'!R43","v":0},{"$f":"'15. Vandentiekio sistema (lauk'!S43","v":0},{"$f":"'15. Vandentiekio sistema (lauk'!T43","v":0},{"$f":"'15. Vandentiekio sistema (lauk'!U43","v":0}]
["16.","Nuotekų šalinimo sistema (vidaus)",{"$f":"SUM(D161:OFFSET(D161,0,1000))","v":0},{"$f":"'16. Nuotekų šalinimo sistema'!M43","v":0},{"$f":"'16. Nuotekų šalinimo sistema'!N43","v":0},{"$f":"'16. Nuotekų šalinimo sistema'!O43","v":0},{"$f":"'16. Nuotekų šalinimo sistema'!P43","v":0},{"$f":"'16. Nuotekų šalinimo sistema'!Q43","v":0},{"$f":"'16. Nuotekų šalinimo sistema'!R43","v":0},{"$f":"'16. Nuotekų šalinimo sistema'!S43","v":0},{"$f":"'16. Nuotekų šalinimo sistema'!T43","v":0},{"$f":"'16. Nuotekų šalinimo sistema'!U43","v":0}]
["17.","Nuotekų šalinimo sistema (lauko)",{"$f":"SUM(D162:OFFSET(D162,0,1000))","v":0},{"$f":"'17. Nuotekų šalinimo sistema'!M43","v":0},{"$f":"'17. Nuotekų šalinimo sistema'!N43","v":0},{"$f":"'17. Nuotekų šalinimo sistema'!O43","v":0},{"$f":"'17. Nuotekų šalinimo sistema'!P43","v":0},{"$f":"'17. Nuotekų šalinimo sistema'!Q43","v":0},{"$f":"'17. Nuotekų šalinimo sistema'!R43","v":0},{"$f":"'17. Nuotekų šalinimo sistema'!S43","v":0},{"$f":"'17. Nuotekų šalinimo sistema'!T43","v":0},{"$f":"'17. Nuotekų šalinimo sistema'!U43","v":0}]
["18.","Elektros instaliacija (vidaus)",{"$f":"SUM(D163:OFFSET(D163,0,1000))","v":0},{"$f":"'18. Elektros instaliacija (vid'!M43","v":0},{"$f":"'18. Elektros instaliacija (vid'!N43","v":0},{"$f":"'18. Elektros instaliacija (vid'!O43","v":0},{"$f":"'18. Elektros instaliacija (vid'!P43","v":0},{"$f":"'18. Elektros instaliacija (vid'!Q43","v":0},{"$f":"'18. Elektros instaliacija (vid'!R43","v":0},{"$f":"'18. Elektros instaliacija (vid'!S43","v":0},{"$f":"'18. Elektros instaliacija (vid'!T43","v":0},{"$f":"'18. Elektros instaliacija (vid'!U43","v":0}]
["19.","Elektros instaliacija (lauko)",{"$f":"SUM(D164:OFFSET(D164,0,1000))","v":0},{"$f":"'19. Elektros instaliacija (lau'!M43","v":0},{"$f":"'19. Elektros instaliacija (lau'!N43","v":0},{"$f":"'19. Elektros instaliacija (lau'!O43","v":0},{"$f":"'19. Elektros instaliacija (lau'!P43","v":0},{"$f":"'19. Elektros instaliacija (lau'!Q43","v":0},{"$f":"'19. Elektros instaliacija (lau'!R43","v":0},{"$f":"'19. Elektros instaliacija (lau'!S43","v":0},{"$f":"'19. Elektros instaliacija (lau'!T43","v":0},{"$f":"'19. Elektros instaliacija (lau'!U43","v":0}]
["20.","Dujos",{"$f":"SUM(D165:OFFSET(D165,0,1000))","v":0},{"$f":"'20. Dujos'!M43","v":0},{"$f":"'20. Dujos'!N43","v":0},{"$f":"'20. Dujos'!O43","v":0},{"$f":"'20. Dujos'!P43","v":0},{"$f":"'20. Dujos'!Q43","v":0},{"$f":"'20. Dujos'!R43","v":0},{"$f":"'20. Dujos'!S43","v":0},{"$f":"'20. Dujos'!T43","v":0},{"$f":"'20. Dujos'!U43","v":0}]
["21.","Apsaugos sistema",{"$f":"SUM(D166:OFFSET(D166,0,1000))","v":0},{"$f":"'21. Apsaugos sistema'!M43","v":0},{"$f":"'21. Apsaugos sistema'!N43","v":0},{"$f":"'21. Apsaugos sistema'!O43","v":0},{"$f":"'21. Apsaugos sistema'!P43","v":0},{"$f":"'21. Apsaugos sistema'!Q43","v":0},{"$f":"'21. Apsaugos sistema'!R43","v":0},{"$f":"'21. Apsaugos sistema'!S43","v":0},{"$f":"'21. Apsaugos sistema'!T43","v":0},{"$f":"'21. Apsaugos sistema'!U43","v":0}]
["22.","Telekomunikacijos",{"$f":"SUM(D167:OFFSET(D167,0,1000))","v":0},{"$f":"'22. Telekomunikacijos'!M43","v":0},{"$f":"'22. Telekomunikacijos'!N43","v":0},{"$f":"'22. Telekomunikacijos'!O43","v":0},{"$f":"'22. Telekomunikacijos'!P43","v":0},{"$f":"'22. Telekomunikacijos'!Q43","v":0},{"$f":"'22. Telekomunikacijos'!R43","v":0},{"$f":"'22. Telekomunikacijos'!S43","v":0},{"$f":"'22. Telekomunikacijos'!T43","v":0},{"$f":"'22. Telekomunikacijos'!U43","v":0}]
["23.","Gaisro gesinimo sistema",{"$f":"SUM(D168:OFFSET(D168,0,1000))","v":0},{"$f":"'23. Gaisro gesinimo sistema'!M43","v":0},{"$f":"'23. Gaisro gesinimo sistema'!N43","v":0},{"$f":"'23. Gaisro gesinimo sistema'!O43","v":0},{"$f":"'23. Gaisro gesinimo sistema'!P43","v":0},{"$f":"'23. Gaisro gesinimo sistema'!Q43","v":0},{"$f":"'23. Gaisro gesinimo sistema'!R43","v":0},{"$f":"'23. Gaisro gesinimo sistema'!S43","v":0},{"$f":"'23. Gaisro gesinimo sistema'!T43","v":0},{"$f":"'23. Gaisro gesinimo sistema'!U43","v":0}]
["24.","Transportavimo sistema",{"$f":"SUM(D169:OFFSET(D169,0,1000))","v":0},{"$f":"'24. Transportavimo sistema'!M43","v":0},{"$f":"'24. Transportavimo sistema'!N43","v":0},{"$f":"'24. Transportavimo sistema'!O43","v":0},{"$f":"'24. Transportavimo sistema'!P43","v":0},{"$f":"'24. Transportavimo sistema'!Q43","v":0},{"$f":"'24. Transportavimo sistema'!R43","v":0},{"$f":"'24. Transportavimo sistema'!S43","v":0},{"$f":"'24. Transportavimo sistema'!T43","v":0},{"$f":"'24. Transportavimo sistema'!U43","v":0}]
["25.","Lietaus bei gruntinių vandenų surinkimo / nuvedimo sistemos",{"$f":"SUM(D170:OFFSET(D170,0,1000))","v":0},{"$f":"'25. Lietaus surinkimo sistema'!M43","v":0},{"$f":"'25. Lietaus surinkimo sistema'!N43","v":0},{"$f":"'25. Lietaus surinkimo sistema'!O43","v":0},{"$f":"'25. Lietaus surinkimo sistema'!P43","v":0},{"$f":"'25. Lietaus surinkimo sistema'!Q43","v":0},{"$f":"'25. Lietaus surinkimo sistema'!R43","v":0},{"$f":"'25. Lietaus surinkimo sistema'!S43","v":0},{"$f":"'25. Lietaus surinkimo sistema'!T43","v":0},{"$f":"'25. Lietaus surinkimo sistema'!U43","v":0}]
["26.","Kitos veiklos išlaidos",{"$f":"SUM(D171:OFFSET(D171,0,1000))","v":0},{"$f":"'Bendrosios pastato išlaidos'!F37","v":0},{"$f":"'Bendrosios pastato išlaidos'!G37","v":0},{"$f":"'Bendrosios pastato išlaidos'!H37","v":0},{"$f":"'Bendrosios pastato išlaidos'!I37","v":0},{"$f":"'Bendrosios pastato išlaidos'!J37","v":0},{"$f":"'Bendrosios pastato išlaidos'!K37","v":0},{"$f":"'Bendrosios pastato išlaidos'!L37","v":0},{"$f":"'Bendrosios pastato išlaidos'!M37","v":0},{"$f":"'Bendrosios pastato išlaidos'!N37","v":0}]

{"sheet":"Pastato išlaidų apibendrinimas","index":4,"n_rows":83,"n_cols":12,"rows_kept":83,"cut":false,"hidden":false,"merged":[]}
[]
[null,"PASTATŲ GYVAVIMO CIKLO SĄNAUDŲ SKAIČIUOKLĖ"]
[]
[]
[]
[null,"Pastato investicijų bei eksploatavimo ir veiklos išlaidų apibendrinimas"]
[]
[null,"Investicijų išlaidos","Iš viso, EUR",{"$f":"YEAR('Bendrieji įvesties duomenys'!$C$6)+COLUMN(C8)-3","v":2019},{"$f":"YEAR('Bendrieji įvesties duomenys'!$C$6)+COLUMN(D22)-3","v":2020},{"$f":"YEAR('Bendrieji įvesties duomenys'!$C$6)+COLUMN(E22)-3","v":2021},{"$f":"YEAR('Bendrieji įvesties duomenys'!$C$6)+COLUMN(F22)-3","v":2022},{"$f":"YEAR('Bendrieji įvesties duomenys'!$C$6)+COLUMN(G22)-3","v":2023},{"$f":"YEAR('Bendrieji įvesties duomenys'!$C$6)+COLUMN(H22)-3","v":2024},{"$f":"YEAR('Bendrieji įvesties duomenys'!$C$6)+COLUMN(I22)-3","v":2025},{"$f":"YEAR('Bendrieji įvesties duomenys'!$C$6)+COLUMN(J22)-3","v":2026},{"$f":"YEAR('Bendrieji įvesties duomenys'!$C$6)+COLUMN(K22)-3","v":2027}]
[]
[null,"A. Turto įsigijimo ir kūrimo išlaidos",{"$f":"SUM(D10:OFFSET(D10,0,1000))","v":0},{"$f":"SUM('1. Pamatai'!M3+'2. Perdangos'!M3+'3. Sienos'!M3+'4. Durys'!M3+'5. Langai'!M3+'6. Laiptai'!M3+'7. Stogas'!M3+'8. Vidaus apdaila'!M3+'9. Išorės apdaila'!M3+'10. Šildymo sistema (vidaus)'!M3+'11. Šildymo sistema (lauko)'!M3+'12. Šaldymas ir oro kondiciona'!M3+'13. Ventiliacija'!M3+'14. Vandentiekio sistema (vida'!M3+'15. Vandentiekio sistema (lauk'!M3+'16. Nuotekų šalinimo sistema'!M3+'17. Nuotekų šalinimo sistema'!M3+'18. Elektros instaliacija (vid'!M3+'19. Elektros instaliacija (lau'!M3+'20. Dujos'!M3+'21. Apsaugos sistema'!M3+'22. Telekomunikacijos'!M3+'23. Gaisro gesinimo sistema'!M3+'24. Transportavimo sistema'!M3+'25. Lietaus surinkimo sistema'!M3)","v":0},{"$f":"SUM('1. Pamatai'!N3+'2. Perdangos'!N3+'3. Sienos'!N3+'4. Durys'!N3+'5. Langai'!N3+'6. Laiptai'!N3+'7. Stogas'!N3+'8. Vidaus apdaila'!N3+'9. Išorės apdaila'!N3+'10. Šildymo sistema (vidaus)'!N3+'11. Šildymo sistema (lauko)'!N3+'12. Šaldymas ir oro kondiciona'!N3+'13. Ventiliacija'!N3+'14. Vandentiekio sistema (vida'!N3+'15. Vandentiekio sistema (lauk'!N3+'16. Nuotekų šalinimo sistema'!N3+'17. Nuotekų šalinimo sistema'!N3+'18. Elektros instaliacija (vid'!N3+'19. Elektros instaliacija (lau'!N3+'20. Dujos'!N3+'21. Apsaugos sistema'!N3+'22. Telekomunikacijos'!N3+'23. Gaisro gesinimo sistema'!N3+'24. Transportavimo sistema'!N3+'25. Lietaus surinkimo sistema'!N3)","v":0},{"$f":"SUM('1. Pamatai'!O3+'2. Perdangos'!O3+'3. Sienos'!O3+'4. Durys'!O3+'5. Langai'!O3+'6. Laiptai'!O3+'7. Stogas'!O3+'8. Vidaus apdaila'!O3+'9. Išorės apdaila'!O3+'10. Šildymo sistema (vidaus)'!O3+'11. Šildymo sistema (lauko)'!O3+'12. Šaldymas ir oro kondiciona'!O3+'13. Ventiliacija'!O3+'14. Vandentiekio sistema (vida'!O3+'15. Vandentiekio sistema (lauk'!O3+'16. Nuotekų šalinimo sistema'!O3+'17. Nuotekų šalinimo sistema'!O3+'18. Elektros instaliacija (vid'!O3+'19. Elektros instaliacija (lau'!O3+'20. Dujos'!O3+'21. Apsaugos sistema'!O3+'22. Telekomunikacijos'!O3+'23. Gaisro gesinimo sistema'!O3+'24. Transportavimo sistema'!O3+'25. Lietaus surinkimo sistema'!O3)","v":0},{"$f":"SUM('1. Pamatai'!P3+'2. Perdangos'!P3+'3. Sienos'!P3+'4. Durys'!P3+'5. Langai'!P3+'6. Laiptai'!P3+'7. Stogas'!P3+'8. Vidaus apdaila'!P3+'9. Išorės apdaila'!P3+'10. Šildymo sistema (vidaus)'!P3+'11. Šildymo sistema (lauko)'!P3+'12. Šaldymas ir oro kondiciona'!P3+'13. Ventiliacija'!P3+'14. Vandentiekio sistema (vida'!P3+'15. Vandentiekio sistema (lauk'!P3+'16. Nuotekų šalinimo sistema'!P3+'17. Nuotekų šalinimo sistema'!P3+'18. Elektros instaliacija (vid'!P3+'19. Elektros instaliacija (lau'!P3+'20. Dujos'!P3+'21. Apsaugos sistema'!P3+'22. Telekomunikacijos'!P3+'23. Gaisro gesinimo sistema'!P3+'24. Transportavimo sistema'!P3+'25. Lietaus surinkimo sistema'!P3)","v":0},{"$f":"SUM('1. Pamatai'!Q3+'2. Perdangos'!Q3+'3. Sienos'!Q3+'4. Durys'!Q3+'5. Langai'!Q3+'6. Laiptai'!Q3+'7. Stogas'!Q3+'8. Vidaus apdaila'!Q3+'9. Išorės apdaila'!Q3+'10. Šildymo sistema (vidaus)'!Q3+'11. Šildymo sistema (lauko)'!Q3+'12. Šaldymas ir oro kondiciona'!Q3+'13. Ventiliacija'!Q3+'14. Vandentiekio sistema (vida'!Q3+'15. Vandentiekio sistema (lauk'!Q3+'16. Nuotekų šalinimo sistema'!Q3+'17. Nuotekų šalinimo sistema'!Q3+'18. Elektros instaliacija (vid'!Q3+'19. Elektros instaliacija (lau'!Q3+'20. Dujos'!Q3+'21. Apsaugos sistema'!Q3+'22. Telekomunikacijos'!Q3+'23. Gaisro gesinimo sistema'!Q3+'24. Transportavimo sistema'!Q3+'25. Lietaus surinkimo sistema'!Q3)","v":0},{"$f":"SUM('1. Pamatai'!R3+'2. Perdangos'!R3+'3. Sienos'!R3+'4. Durys'!R3+'5. Langai'!R3+'6. Laiptai'!R3+'7. Stogas'!R3+'8. Vidaus apdaila'!R3+'9. Išorės apdaila'!R3+'10. Šildymo sistema (vidaus)'!R3+'11. Šildymo sistema (lauko)'!R3+'12. Šaldymas ir oro kondiciona'!R3+'13. Ventiliacija'!R3+'14. Vandentiekio sistema (vida'!R3+'15. Vandentiekio sistema (lauk'!R3+'16. Nuotekų šalinimo sistema'!R3+'17. Nuotekų šalinimo sistema'!R3+'18. Elektros instaliacija (vid'!R3+'19. Elektros instaliacija (lau'!R3+'20. Dujos'!R3+'21. Apsaugos sistema'!R3+'22. Telekomunikacijos'!R3+'23. Gaisro gesinimo sistema'!R3+'24. Transportavimo sistema'!R3+'25. Lietaus surinkimo sistema'!R3)","v":0},{"$f":"SUM('1. Pamatai'!S3+'2. Perdangos'!S3+'3. Sienos'!S3+'4. Durys'!S3+'5. Langai'!S3+'6. Laiptai'!S3+'7. Stogas'!S3+'8. Vidaus apdaila'!S3+'9. Išorės apdaila'!S3+'10. Šildymo sistema (vidaus)'!S3+'11. Šildymo sistema (lauko)'!S3+'12. Šaldymas ir oro kondiciona'!S3+'13. Ventiliacija'!S3+'14. Vandentiekio sistema (vida'!S3+'15. Vandentiekio sistema (lauk'!S3+'16. Nuotekų šalinimo sistema'!S3+'17. Nuotekų šalinimo sistema'!S3+'18. Elektros instaliacija (vid'!S3+'19. Elektros instaliacija (lau'!S3+'20. Dujos'!S3+'21. Apsaugos sistema'!S3+'22. Telekomunikacijos'!S3+'23. Gaisro gesinimo sistema'!S3+'24. Transportavimo sistema'!S3+'25. Lietaus surinkimo sistema'!S3)","v":0},{"$f":"SUM('1. Pamatai'!T3+'2. Perdangos'!T3+'3. Sienos'!T3+'4. Durys'!T3+'5. Langai'!T3+'6. Laiptai'!T3+'7. Stogas'!T3+'8. Vidaus apdaila'!T3+'9. Išorės apdaila'!T3+'10. Šildymo sistema (vidaus)'!T3+'11. Šildymo sistema (lauko)'!T3+'12. Šaldymas ir oro kondiciona'!T3+'13. Ventiliacija'!T3+'14. Vandentiekio sistema (vida'!T3+'15. Vandentiekio sistema (lauk'!T3+'16. Nuotekų šalinimo sistema'!T3+'17. Nuotekų šalinimo sistema'!T3+'18. Elektros instaliacija (vid'!T3+'19. Elektros instaliacija (lau'!T3+'20. Dujos'!T3+'21. Apsaugos sistema'!T3+'22. Telekomunikacijos'!T3+'23. Gaisro gesinimo sistema'!T3+'24. Transportavimo sistema'!T3+'25. Lietaus surinkimo sistema'!T3)","v":0},{"$f":"SUM('1. Pamatai'!U3+'2. Perdangos'!U3+'3. Sienos'!U3+'4. Durys'!U3+'5. Langai'!U3+'6. Laiptai'!U3+'7. Stogas'!U3+'8. Vidaus apdaila'!U3+'9. Išorės apdaila'!U3+'10. Šildymo sistema (vidaus)'!U3+'11. Šildymo sistema (lauko)'!U3+'12. Šaldymas ir oro kondiciona'!U3+'13. Ventiliacija'!U3+'14. Vandentiekio sistema (vida'!U3+'15. Vandentiekio sistema (lauk'!U3+'16. Nuotekų šalinimo sistema'!U3+'17. Nuotekų šalinimo sistema'!U3+'18. Elektros instaliacija (vid'!U3+'19. Elektros instaliacija (lau'!U3+'20. Dujos'!U3+'21. Apsaugos sistema'!U3+'22. Telekomunikacijos'!U3+'23. Gaisro gesinimo sistema'!U3+'24. Transportavimo sistema'!U3+'25. Lietaus surinkimo sistema'!U3)","v":0}]
[null,"A.1. Žaliavų, medžiagų, sudedamųjų dalių ir detalių, sunaudotų kuriant ilgalaikį turtą, įsigijimo išlaidos",{"$f":"SUM(D11:OFFSET(D11,0,1000))","v":0},{"$f":"SUM(D12:D17)","v":0},0,0,0,0,0,0,0,0]
[null,"A.2. Statyba",{"$f":"SUM(D12:OFFSET(D12,0,1000))","v":0},{"$f":"SUM('1. Pamatai'!M5+'2. Perdangos'!M5+'3. Sienos'!M5+'4. Durys'!M5+'5. Langai'!M5+'6. Laiptai'!M5+'7. Stogas'!M5+'8. Vidaus apdaila'!M5+'9. Išorės apdaila'!M5+'10. Šildymo sistema (vidaus)'!M5+'11. Šildymo sistema (lauko)'!M5+'12. Šaldymas ir oro kondiciona'!M5+'13. Ventiliacija'!M5+'14. Vandentiekio sistema (vida'!M5+'15. Vandentiekio sistema (lauk'!M5+'16. Nuotekų šalinimo sistema'!M5+'17. Nuotekų šalinimo sistema'!M5+'18. Elektros instaliacija (vid'!M5+'19. Elektros instaliacija (lau'!M5+'20. Dujos'!M5+'21. Apsaugos sistema'!M5+'22. Telekomunikacijos'!M5+'23. Gaisro gesinimo sistema'!M5+'24. Transportavimo sistema'!M5+'25. Lietaus surinkimo sistema'!M5+'Bendrosios pastato išlaidos'!F12)","v":0},{"$f":"SUM('1. Pamatai'!N5+'2. Perdangos'!N5+'3. Sienos'!N5+'4. Durys'!N5+'5. Langai'!N5+'6. Laiptai'!N5+'7. Stogas'!N5+'8. Vidaus apdaila'!N5+'9. Išorės apdaila'!N5+'10. Šildymo sistema (vidaus)'!N5+'11. Šildymo sistema (lauko)'!N5+'12. Šaldymas ir oro kondiciona'!N5+'13. Ventiliacija'!N5+'14. Vandentiekio sistema (vida'!N5+'15. Vandentiekio sistema (lauk'!N5+'16. Nuotekų šalinimo sistema'!N5+'17. Nuotekų šalinimo sistema'!N5+'18. Elektros instaliacija (vid'!N5+'19. Elektros instaliacija (lau'!N5+'20. Dujos'!N5+'21. Apsaugos sistema'!N5+'22. Telekomunikacijos'!N5+'23. Gaisro gesinimo sistema'!N5+'24. Transportavimo sistema'!N5+'25. Lietaus surinkimo sistema'!N5+'Bendrosios pastato išlaidos'!G12)","v":0},{"$f":"SUM('1. Pamatai'!O5+'2. Perdangos'!O5+'3. Sienos'!O5+'4. Durys'!O5+'5. Langai'!O5+'6. Laiptai'!O5+'7. Stogas'!O5+'8. Vidaus apdaila'!O5+'9. Išorės apdaila'!O5+'10. Šildymo sistema (vidaus)'!O5+'11. Šildymo sistema (lauko)'!O5+'12. Šaldymas ir oro kondiciona'!O5+'13. Ventiliacija'!O5+'14. Vandentiekio sistema (vida'!O5+'15. Vandentiekio sistema (lauk'!O5+'16. Nuotekų šalinimo sistema'!O5+'17. Nuotekų šalinimo sistema'!O5+'18. Elektros instaliacija (vid'!O5+'19. Elektros instaliacija (lau'!O5+'20. Dujos'!O5+'21. Apsaugos sistema'!O5+'22. Telekomunikacijos'!O5+'23. Gaisro gesinimo sistema'!O5+'24. Transportavimo sistema'!O5+'25. Lietaus surinkimo sistema'!O5+'Bendrosios pastato išlaidos'!H12)","v":0},{"$f":"SUM('1. Pamatai'!P5+'2. Perdangos'!P5+'3. Sienos'!P5+'4. Durys'!P5+'5. Langai'!P5+'6. Laiptai'!P5+'7. Stogas'!P5+'8. Vidaus apdaila'!P5+'9. Išorės apdaila'!P5+'10. Šildymo sistema (vidaus)'!P5+'11. Šildymo sistema (lauko)'!P5+'12. Šaldymas ir oro kondiciona'!P5+'13. Ventiliacija'!P5+'14. Vandentiekio sistema (vida'!P5+'15. Vandentiekio sistema (lauk'!P5+'16. Nuotekų šalinimo sistema'!P5+'17. Nuotekų šalinimo sistema'!P5+'18. Elektros instaliacija (vid'!P5+'19. Elektros instaliacija (lau'!P5+'20. Dujos'!P5+'21. Apsaugos sistema'!P5+'22. Telekomunikacijos'!P5+'23. Gaisro gesinimo sistema'!P5+'24. Transportavimo sistema'!P5+'25. Lietaus surinkimo sistema'!P5+'Bendrosios pastato išlaidos'!I12)","v":0},{"$f":"SUM('1. Pamatai'!Q5+'2. Perdangos'!Q5+'3. Sienos'!Q5+'4. Durys'!Q5+'5. Langai'!Q5+'6. Laiptai'!Q5+'7. Stogas'!Q5+'8. Vidaus apdaila'!Q5+'9. Išorės apdaila'!Q5+'10. Šildymo sistema (vidaus)'!Q5+'11. Šildymo sistema (lauko)'!Q5+'12. Šaldymas ir oro kondiciona'!Q5+'13. Ventiliacija'!Q5+'14. Vandentiekio sistema (vida'!Q5+'15. Vandentiekio sistema (lauk'!Q5+'16. Nuotekų šalinimo sistema'!Q5+'17. Nuotekų šalinimo sistema'!Q5+'18. Elektros instaliacija (vid'!Q5+'19. Elektros instaliacija (lau'!Q5+'20. Dujos'!Q5+'21. Apsaugos sistema'!Q5+'22. Telekomunikacijos'!Q5+'23. Gaisro gesinimo sistema'!Q5+'24. Transportavimo sistema'!Q5+'25. Lietaus surinkimo sistema'!Q5+'Bendrosios pastato išlaidos'!J12)","v":0},{"$f":"SUM('1. Pamatai'!R5+'2. Perdangos'!R5+'3. Sienos'!R5+'4. Durys'!R5+'5. Langai'!R5+'6. Laiptai'!R5+'7. Stogas'!R5+'8. Vidaus apdaila'!R5+'9. Išorės apdaila'!R5+'10. Šildymo sistema (vidaus)'!R5+'11. Šildymo sistema (lauko)'!R5+'12. Šaldymas ir oro kondiciona'!R5+'13. Ventiliacija'!R5+'14. Vandentiekio sistema (vida'!R5+'15. Vandentiekio sistema (lauk'!R5+'16. Nuotekų šalinimo sistema'!R5+'17. Nuotekų šalinimo sistema'!R5+'18. Elektros instaliacija (vid'!R5+'19. Elektros instaliacija (lau'!R5+'20. Dujos'!R5+'21. Apsaugos sistema'!R5+'22. Telekomunikacijos'!R5+'23. Gaisro gesinimo sistema'!R5+'24. Transportavimo sistema'!R5+'25. Lietaus surinkimo sistema'!R5+'Bendrosios pastato išlaidos'!K12)","v":0},{"$f":"SUM('1. Pamatai'!S5+'2. Perdangos'!S5+'3. Sienos'!S5+'4. Durys'!S5+'5. Langai'!S5+'6. Laiptai'!S5+'7. Stogas'!S5+'8. Vidaus apdaila'!S5+'9. Išorės apdaila'!S5+'10. Šildymo sistema (vidaus)'!S5+'11. Šildymo sistema (lauko)'!S5+'12. Šaldymas ir oro kondiciona'!S5+'13. Ventiliacija'!S5+'14. Vandentiekio sistema (vida'!S5+'15. Vandentiekio sistema (lauk'!S5+'16. Nuotekų šalinimo sistema'!S5+'17. Nuotekų šalinimo sistema'!S5+'18. Elektros instaliacija (vid'!S5+'19. Elektros instaliacija (lau'!S5+'20. Dujos'!S5+'21. Apsaugos sistema'!S5+'22. Telekomunikacijos'!S5+'23. Gaisro gesinimo sistema'!S5+'24. Transportavimo sistema'!S5+'25. Lietaus surinkimo sistema'!S5+'Bendrosios pastato išlaidos'!L12)","v":0},{"$f":"SUM('1. Pamatai'!T5+'2. Perdangos'!T5+'3. Sienos'!T5+'4. Durys'!T5+'5. Langai'!T5+'6. Laiptai'!T5+'7. Stogas'!T5+'8. Vidaus apdaila'!T5+'9. Išorės apdaila'!T5+'10. Šildymo sistema (vidaus)'!T5+'11. Šildymo sistema (lauko)'!T5+'12. Šaldymas ir oro kondiciona'!T5+'13. Ventiliacija'!T5+'14. Vandentiekio sistema (vida'!T5+'15. Vandentiekio sistema (lauk'!T5+'16. Nuotekų šalinimo sistema'!T5+'17. Nuotekų šalinimo sistema'!T5+'18. Elektros instaliacija (vid'!T5+'19. Elektros instaliacija (lau'!T5+'20. Dujos'!T5+'21. Apsaugos sistema'!T5+'22. Telekomunikacijos'!T5+'23. Gaisro gesinimo sistema'!T5+'24. Transportavimo sistema'!T5+'25. Lietaus surinkimo sistema'!T5+'Bendrosios pastato išlaidos'!M12)","v":0},{"$f":"SUM('1. Pamatai'!U5+'2. Perdangos'!U5+'3. Sienos'!U5+'4. Durys'!U5+'5. Langai'!U5+'6. Laiptai'!U5+'7. Stogas'!U5+'8. Vidaus apdaila'!U5+'9. Išorės apdaila'!U5+'10. Šildymo sistema (vidaus)'!U5+'11. Šildymo sistema (lauko)'!U5+'12. Šaldymas ir oro kondiciona'!U5+'13. Ventiliacija'!U5+'14. Vandentiekio sistema (vida'!U5+'15. Vandentiekio sistema (lauk'!U5+'16. Nuotekų šalinimo sistema'!U5+'17. Nuotekų šalinimo sistema'!U5+'18. Elektros instaliacija (vid'!U5+'19. Elektros instaliacija (lau'!U5+'20. Dujos'!U5+'21. Apsaugos sistema'!U5+'22. Telekomunikacijos'!U5+'23. Gaisro gesinimo sistema'!U5+'24. Transportavimo sistema'!U5+'25. Lietaus surinkimo sistema'!U5+'Bendrosios pastato išlaidos'!N12)","v":0}]
[null,"A.3. Rekonstravimas",{"$f":"SUM(D13:OFFSET(D13,0,1000))","v":0},{"$f":"SUM('1. Pamatai'!M6+'2. Perdangos'!M6+'3. Sienos'!M6+'4. Durys'!M6+'5. Langai'!M6+'6. Laiptai'!M6+'7. Stogas'!M6+'8. Vidaus apdaila'!M6+'9. Išorės apdaila'!M6+'10. Šildymo sistema (vidaus)'!M6+'11. Šildymo sistema (lauko)'!M6+'12. Šaldymas ir oro kondiciona'!M6+'13. Ventiliacija'!M6+'14. Vandentiekio sistema (vida'!M6+'15. Vandentiekio sistema (lauk'!M6+'16. Nuotekų šalinimo sistema'!M6+'17. Nuotekų šalinimo sistema'!M6+'18. Elektros instaliacija (vid'!M6+'19. Elektros instaliacija (lau'!M6+'20. Dujos'!M6+'21. Apsaugos sistema'!M6+'22. Telekomunikacijos'!M6+'23. Gaisro gesinimo sistema'!M6+'24. Transportavimo sistema'!M6+'25. Lietaus surinkimo sistema'!M6+'Bendrosios pastato išlaidos'!F13)","v":0},{"$f":"SUM('1. Pamatai'!N6+'2. Perdangos'!N6+'3. Sienos'!N6+'4. Durys'!N6+'5. Langai'!N6+'6. Laiptai'!N6+'7. Stogas'!N6+'8. Vidaus apdaila'!N6+'9. Išorės apdaila'!N6+'10. Šildymo sistema (vidaus)'!N6+'11. Šildymo sistema (lauko)'!N6+'12. Šaldymas ir oro kondiciona'!N6+'13. Ventiliacija'!N6+'14. Vandentiekio sistema (vida'!N6+'15. Vandentiekio sistema (lauk'!N6+'16. Nuotekų šalinimo sistema'!N6+'17. Nuotekų šalinimo sistema'!N6+'18. Elektros instaliacija (vid'!N6+'19. Elektros instaliacija (lau'!N6+'20. Dujos'!N6+'21. Apsaugos sistema'!N6+'22. Telekomunikacijos'!N6+'23. Gaisro gesinimo sistema'!N6+'24. Transportavimo sistema'!N6+'25. Lietaus surinkimo sistema'!N6+'Bendrosios pastato išlaidos'!G13)","v":0},{"$f":"SUM('1. Pamatai'!O6+'2. Perdangos'!O6+'3. Sienos'!O6+'4. Durys'!O6+'5. Langai'!O6+'6. Laiptai'!O6+'7. Stogas'!O6+'8. Vidaus apdaila'!O6+'9. Išorės apdaila'!O6+'10. Šildymo sistema (vidaus)'!O6+'11. Šildymo sistema (lauko)'!O6+'12. Šaldymas ir oro kondiciona'!O6+'13. Ventiliacija'!O6+'14. Vandentiekio sistema (vida'!O6+'15. Vandentiekio sistema (lauk'!O6+'16. Nuotekų šalinimo sistema'!O6+'17. Nuotekų šalinimo sistema'!O6+'18. Elektros instaliacija (vid'!O6+'19. Elektros instaliacija (lau'!O6+'20. Dujos'!O6+'21. Apsaugos sistema'!O6+'22. Telekomunikacijos'!O6+'23. Gaisro gesinimo sistema'!O6+'24. Transportavimo sistema'!O6+'25. Lietaus surinkimo sistema'!O6+'Bendrosios pastato išlaidos'!H13)","v":0},{"$f":"SUM('1. Pamatai'!P6+'2. Perdangos'!P6+'3. Sienos'!P6+'4. Durys'!P6+'5. Langai'!P6+'6. Laiptai'!P6+'7. Stogas'!P6+'8. Vidaus apdaila'!P6+'9. Išorės apdaila'!P6+'10. Šildymo sistema (vidaus)'!P6+'11. Šildymo sistema (lauko)'!P6+'12. Šaldymas ir oro kondiciona'!P6+'13. Ventiliacija'!P6+'14. Vandentiekio sistema (vida'!P6+'15. Vandentiekio sistema (lauk'!P6+'16. Nuotekų šalinimo sistema'!P6+'17. Nuotekų šalinimo sistema'!P6+'18. Elektros instaliacija (vid'!P6+'19. Elektros instaliacija (lau'!P6+'20. Dujos'!P6+'21. Apsaugos sistema'!P6+'22. Telekomunikacijos'!P6+'23. Gaisro gesinimo sistema'!P6+'24. Transportavimo sistema'!P6+'25. Lietaus surinkimo sistema'!P6+'Bendrosios pastato išlaidos'!I13)","v":0},{"$f":"SUM('1. Pamatai'!Q6+'2. Perdangos'!Q6+'3. Sienos'!Q6+'4. Durys'!Q6+'5. Langai'!Q6+'6. Laiptai'!Q6+'7. Stogas'!Q6+'8. Vidaus apdaila'!Q6+'9. Išorės apdaila'!Q6+'10. Šildymo sistema (vidaus)'!Q6+'11. Šildymo sistema (lauko)'!Q6+'12. Šaldymas ir oro kondiciona'!Q6+'13. Ventiliacija'!Q6+'14. Vandentiekio sistema (vida'!Q6+'15. Vandentiekio sistema (lauk'!Q6+'16. Nuotekų šalinimo sistema'!Q6+'17. Nuotekų šalinimo sistema'!Q6+'18. Elektros instaliacija (vid'!Q6+'19. Elektros instaliacija (lau'!Q6+'20. Dujos'!Q6+'21. Apsaugos sistema'!Q6+'22. Telekomunikacijos'!Q6+'23. Gaisro gesinimo sistema'!Q6+'24. Transportavimo sistema'!Q6+'25. Lietaus surinkimo sistema'!Q6+'Bendrosios pastato išlaidos'!J13)","v":0},{"$f":"SUM('1. Pamatai'!R6+'2. Perdangos'!R6+'3. Sienos'!R6+'4. Durys'!R6+'5. Langai'!R6+'6. Laiptai'!R6+'7. Stogas'!R6+'8. Vidaus apdaila'!R6+'9. Išorės apdaila'!R6+'10. Šildymo sistema (vidaus)'!R6+'11. Šildymo sistema (lauko)'!R6+'12. Šaldymas ir oro kondiciona'!R6+'13. Ventiliacija'!R6+'14. Vandentiekio sistema (vida'!R6+'15. Vandentiekio sistema (lauk'!R6+'16. Nuotekų šalinimo sistema'!R6+'17. Nuotekų šalinimo sistema'!R6+'18. Elektros instaliacija (vid'!R6+'19. Elektros instaliacija (lau'!R6+'20. Dujos'!R6+'21. Apsaugos sistema'!R6+'22. Telekomunikacijos'!R6+'23. Gaisro gesinimo sistema'!R6+'24. Transportavimo sistema'!R6+'25. Lietaus surinkimo sistema'!R6+'Bendrosios pastato išlaidos'!K13)","v":0},{"$f":"SUM('1. Pamatai'!S6+'2. Perdangos'!S6+'3. Sienos'!S6+'4. Durys'!S6+'5. Langai'!S6+'6. Laiptai'!S6+'7. Stogas'!S6+'8. Vidaus apdaila'!S6+'9. Išorės apdaila'!S6+'10. Šildymo sistema (vidaus)'!S6+'11. Šildymo sistema (lauko)'!S6+'12. Šaldymas ir oro kondiciona'!S6+'13. Ventiliacija'!S6+'14. Vandentiekio sistema (vida'!S6+'15. Vandentiekio sistema (lauk'!S6+'16. Nuotekų šalinimo sistema'!S6+'17. Nuotekų šalinimo sistema'!S6+'18. Elektros instaliacija (vid'!S6+'19. Elektros instaliacija (lau'!S6+'20. Dujos'!S6+'21. Apsaugos sistema'!S6+'22. Telekomunikacijos'!S6+'23. Gaisro gesinimo sistema'!S6+'24. Transportavimo sistema'!S6+'25. Lietaus surinkimo sistema'!S6+'Bendrosios pastato išlaidos'!L13)","v":0},{"$f":"SUM('1. Pamatai'!T6+'2. Perdangos'!T6+'3. Sienos'!T6+'4. Durys'!T6+'5. Langai'!T6+'6. Laiptai'!T6+'7. Stogas'!T6+'8. Vidaus apdaila'!T6+'9. Išorės apdaila'!T6+'10. Šildymo sistema (vidaus)'!T6+'11. Šildymo sistema (lauko)'!T6+'12. Šaldymas ir oro kondiciona'!T6+'13. Ventiliacija'!T6+'14. Vandentiekio sistema (vida'!T6+'15. Vandentiekio sistema (lauk'!T6+'16. Nuotekų šalinimo sistema'!T6+'17. Nuotekų šalinimo sistema'!T6+'18. Elektros instaliacija (vid'!T6+'19. Elektros instaliacija (lau'!T6+'20. Dujos'!T6+'21. Apsaugos sistema'!T6+'22. Telekomunikacijos'!T6+'23. Gaisro gesinimo sistema'!T6+'24. Transportavimo sistema'!T6+'25. Lietaus surinkimo sistema'!T6+'Bendrosios pastato išlaidos'!M13)","v":0},{"$f":"SUM('1. Pamatai'!U6+'2. Perdangos'!U6+'3. Sienos'!U6+'4. Durys'!U6+'5. Langai'!U6+'6. Laiptai'!U6+'7. Stogas'!U6+'8. Vidaus apdaila'!U6+'9. Išorės apdaila'!U6+'10. Šildymo sistema (vidaus)'!U6+'11. Šildymo sistema (lauko)'!U6+'12. Šaldymas ir oro kondiciona'!U6+'13. Ventiliacija'!U6+'14. Vandentiekio sistema (vida'!U6+'15. Vandentiekio sistema (lauk'!U6+'16. Nuotekų šalinimo sistema'!U6+'17. Nuotekų šalinimo sistema'!U6+'18. Elektros instaliacija (vid'!U6+'19. Elektros instaliacija (lau'!U6+'20. Dujos'!U6+'21. Apsaugos sistema'!U6+'22. Telekomunikacijos'!U6+'23. Gaisro gesinimo sistema'!U6+'24. Transportavimo sistema'!U6+'25. Lietaus surinkimo sistema'!U6+'Bendrosios pastato išlaidos'!N13)","v":0}]
[null,"A.4. Kapitalinis remontas",{"$f":"SUM(D14:OFFSET(D14,0,1000))","v":0},{"$f":"SUM('1. Pamatai'!M7+'2. Perdangos'!M7+'3. Sienos'!M7+'4. Durys'!M7+'5. Langai'!M7+'6. Laiptai'!M7+'7. Stogas'!M7+'8. Vidaus apdaila'!M7+'9. Išorės apdaila'!M7+'10. Šildymo sistema (vidaus)'!M7+'11. Šildymo sistema (lauko)'!M7+'12. Šaldymas ir oro kondiciona'!M7+'13. Ventiliacija'!M7+'14. Vandentiekio sistema (vida'!M7+'15. Vandentiekio sistema (lauk'!M7+'16. Nuotekų šalinimo sistema'!M7+'17. Nuotekų šalinimo sistema'!M7+'18. Elektros instaliacija (vid'!M7+'19. Elektros instaliacija (lau'!M7+'20. Dujos'!M7+'21. Apsaugos sistema'!M7+'22. Telekomunikacijos'!M7+'23. Gaisro gesinimo sistema'!M7+'24. Transportavimo sistema'!M7+'25. Lietaus surinkimo sistema'!M7++'Bendrosios pastato išlaidos'!F14)","v":0},{"$f":"SUM('1. Pamatai'!N7+'2. Perdangos'!N7+'3. Sienos'!N7+'4. Durys'!N7+'5. Langai'!N7+'6. Laiptai'!N7+'7. Stogas'!N7+'8. Vidaus apdaila'!N7+'9. Išorės apdaila'!N7+'10. Šildymo sistema (vidaus)'!N7+'11. Šildymo sistema (lauko)'!N7+'12. Šaldymas ir oro kondiciona'!N7+'13. Ventiliacija'!N7+'14. Vandentiekio sistema (vida'!N7+'15. Vandentiekio sistema (lauk'!N7+'16. Nuotekų šalinimo sistema'!N7+'17. Nuotekų šalinimo sistema'!N7+'18. Elektros instaliacija (vid'!N7+'19. Elektros instaliacija (lau'!N7+'20. Dujos'!N7+'21. Apsaugos sistema'!N7+'22. Telekomunikacijos'!N7+'23. Gaisro gesinimo sistema'!N7+'24. Transportavimo sistema'!N7+'25. Lietaus surinkimo sistema'!N7++'Bendrosios pastato išlaidos'!G14)","v":0},{"$f":"SUM('1. Pamatai'!O7+'2. Perdangos'!O7+'3. Sienos'!O7+'4. Durys'!O7+'5. Langai'!O7+'6. Laiptai'!O7+'7. Stogas'!O7+'8. Vidaus apdaila'!O7+'9. Išorės apdaila'!O7+'10. Šildymo sistema (vidaus)'!O7+'11. Šildymo sistema (lauko)'!O7+'12. Šaldymas ir oro kondiciona'!O7+'13. Ventiliacija'!O7+'14. Vandentiekio sistema (vida'!O7+'15. Vandentiekio sistema (lauk'!O7+'16. Nuotekų šalinimo sistema'!O7+'17. Nuotekų šalinimo sistema'!O7+'18. Elektros instaliacija (vid'!O7+'19. Elektros instaliacija (lau'!O7+'20. Dujos'!O7+'21. Apsaugos sistema'!O7+'22. Telekomunikacijos'!O7+'23. Gaisro gesinimo sistema'!O7+'24. Transportavimo sistema'!O7+'25. Lietaus surinkimo sistema'!O7++'Bendrosios pastato išlaidos'!H14)","v":0},{"$f":"SUM('1. Pamatai'!P7+'2. Perdangos'!P7+'3. Sienos'!P7+'4. Durys'!P7+'5. Langai'!P7+'6. Laiptai'!P7+'7. Stogas'!P7+'8. Vidaus apdaila'!P7+'9. Išorės apdaila'!P7+'10. Šildymo sistema (vidaus)'!P7+'11. Šildymo sistema (lauko)'!P7+'12. Šaldymas ir oro kondiciona'!P7+'13. Ventiliacija'!P7+'14. Vandentiekio sistema (vida'!P7+'15. Vandentiekio sistema (lauk'!P7+'16. Nuotekų šalinimo sistema'!P7+'17. Nuotekų šalinimo sistema'!P7+'18. Elektros instaliacija (vid'!P7+'19. Elektros instaliacija (lau'!P7+'20. Dujos'!P7+'21. Apsaugos sistema'!P7+'22. Telekomunikacijos'!P7+'23. Gaisro gesinimo sistema'!P7+'24. Transportavimo sistema'!P7+'25. Lietaus surinkimo sistema'!P7++'Bendrosios pastato išlaidos'!I14)","v":0},{"$f":"SUM('1. Pamatai'!Q7+'2. Perdangos'!Q7+'3. Sienos'!Q7+'4. Durys'!Q7+'5. Langai'!Q7+'6. Laiptai'!Q7+'7. Stogas'!Q7+'8. Vidaus apdaila'!Q7+'9. Išorės apdaila'!Q7+'10. Šildymo sistema (vidaus)'!Q7+'11. Šildymo sistema (lauko)'!Q7+'12. Šaldymas ir oro kondiciona'!Q7+'13. Ventiliacija'!Q7+'14. Vandentiekio sistema (vida'!Q7+'15. Vandentiekio sistema (lauk'!Q7+'16. Nuotekų šalinimo sistema'!Q7+'17. Nuotekų šalinimo sistema'!Q7+'18. Elektros instaliacija (vid'!Q7+'19. Elektros instaliacija (lau'!Q7+'20. Dujos'!Q7+'21. Apsaugos sistema'!Q7+'22. Telekomunikacijos'!Q7+'23. Gaisro gesinimo sistema'!Q7+'24. Transportavimo sistema'!Q7+'25. Lietaus surinkimo sistema'!Q7++'Bendrosios pastato išlaidos'!J14)","v":0},{"$f":"SUM('1. Pamatai'!R7+'2. Perdangos'!R7+'3. Sienos'!R7+'4. Durys'!R7+'5. Langai'!R7+'6. Laiptai'!R7+'7. Stogas'!R7+'8. Vidaus apdaila'!R7+'9. Išorės apdaila'!R7+'10. Šildymo sistema (vidaus)'!R7+'11. Šildymo sistema (lauko)'!R7+'12. Šaldymas ir oro kondiciona'!R7+'13. Ventiliacija'!R7+'14. Vandentiekio sistema (vida'!R7+'15. Vandentiekio sistema (lauk'!R7+'16. Nuotekų šalinimo sistema'!R7+'17. Nuotekų šalinimo sistema'!R7+'18. Elektros instaliacija (vid'!R7+'19. Elektros instaliacija (lau'!R7+'20. Dujos'!R7+'21. Apsaugos sistema'!R7+'22. Telekomunikacijos'!R7+'23. Gaisro gesinimo sistema'!R7+'24. Transportavimo sistema'!R7+'25. Lietaus surinkimo sistema'!R7++'Bendrosios pastato išlaidos'!K14)","v":0},{"$f":"SUM('1. Pamatai'!S7+'2. Perdangos'!S7+'3. Sienos'!S7+'4. Durys'!S7+'5. Langai'!S7+'6. Laiptai'!S7+'7. Stogas'!S7+'8. Vidaus apdaila'!S7+'9. Išorės apdaila'!S7+'10. Šildymo sistema (vidaus)'!S7+'11. Šildymo sistema (lauko)'!S7+'12. Šaldymas ir oro kondiciona'!S7+'13. Ventiliacija'!S7+'14. Vandentiekio sistema (vida'!S7+'15. Vandentiekio sistema (lauk'!S7+'16. Nuotekų šalinimo sistema'!S7+'17. Nuotekų šalinimo sistema'!S7+'18. Elektros instaliacija (vid'!S7+'19. Elektros instaliacija (lau'!S7+'20. Dujos'!S7+'21. Apsaugos sistema'!S7+'22. Telekomunikacijos'!S7+'23. Gaisro gesinimo sistema'!S7+'24. Transportavimo sistema'!S7+'25. Lietaus surinkimo sistema'!S7++'Bendrosios pastato išlaidos'!L14)","v":0},{"$f":"SUM('1. Pamatai'!T7+'2. Perdangos'!T7+'3. Sienos'!T7+'4. Durys'!T7+'5. Langai'!T7+'6. Laiptai'!T7+'7. Stogas'!T7+'8. Vidaus apdaila'!T7+'9. Išorės apdaila'!T7+'10. Šildymo sistema (vidaus)'!T7+'11. Šildymo sistema (lauko)'!T7+'12. Šaldymas ir oro kondiciona'!T7+'13. Ventiliacija'!T7+'14. Vandentiekio sistema (vida'!T7+'15. Vandentiekio sistema (lauk'!T7+'16. Nuotekų šalinimo sistema'!T7+'17. Nuotekų šalinimo sistema'!T7+'18. Elektros instaliacija (vid'!T7+'19. Elektros instaliacija (lau'!T7+'20. Dujos'!T7+'21. Apsaugos sistema'!T7+'22. Telekomunikacijos'!T7+'23. Gaisro gesinimo sistema'!T7+'24. Transportavimo sistema'!T7+'25. Lietaus surinkimo sistema'!T7++'Bendrosios pastato išlaidos'!M14)","v":0},{"$f":"SUM('1. Pamatai'!U7+'2. Perdangos'!U7+'3. Sienos'!U7+'4. Durys'!U7+'5. Langai'!U7+'6. Laiptai'!U7+'7. Stogas'!U7+'8. Vidaus apdaila'!U7+'9. Išorės apdaila'!U7+'10. Šildymo sistema (vidaus)'!U7+'11. Šildymo sistema (lauko)'!U7+'12. Šaldymas ir oro kondiciona'!U7+'13. Ventiliacija'!U7+'14. Vandentiekio sistema (vida'!U7+'15. Vandentiekio sistema (lauk'!U7+'16. Nuotekų šalinimo sistema'!U7+'17. Nuotekų šalinimo sistema'!U7+'18. Elektros instaliacija (vid'!U7+'19. Elektros instaliacija (lau'!U7+'20. Dujos'!U7+'21. Apsaugos sistema'!U7+'22. Telekomunikacijos'!U7+'23. Gaisro gesinimo sistema'!U7+'24. Transportavimo sistema'!U7+'25. Lietaus surinkimo sistema'!U7++'Bendrosios pastato išlaidos'!N14)","v":0}]
[null,"A.5. Projektavimo paslaugos",{"$f":"SUM(D15:OFFSET(D15,0,1000))","v":0},{"$f":"SUM('1. Pamatai'!M8+'2. Perdangos'!M8+'3. Sienos'!M8+'4. Durys'!M8+'5. Langai'!M8+'6. Laiptai'!M8+'7. Stogas'!M8+'8. Vidaus apdaila'!M8+'9. Išorės apdaila'!M8+'10. Šildymo sistema (vidaus)'!M8+'11. Šildymo sistema (lauko)'!M8+'12. Šaldymas ir oro kondiciona'!M8+'13. Ventiliacija'!M8+'14. Vandentiekio sistema (vida'!M8+'15. Vandentiekio sistema (lauk'!M8+'16. Nuotekų šalinimo sistema'!M8+'17. Nuotekų šalinimo sistema'!M8+'18. Elektros instaliacija (vid'!M8+'19. Elektros instaliacija (lau'!M8+'20. Dujos'!M8+'21. Apsaugos sistema'!M8+'22. Telekomunikacijos'!M8+'23. Gaisro gesinimo sistema'!M8+'24. Transportavimo sistema'!M8+'25. Lietaus surinkimo sistema'!M8++'Bendrosios pastato išlaidos'!F15)","v":0},{"$f":"SUM('1. Pamatai'!N8+'2. Perdangos'!N8+'3. Sienos'!N8+'4. Durys'!N8+'5. Langai'!N8+'6. Laiptai'!N8+'7. Stogas'!N8+'8. Vidaus apdaila'!N8+'9. Išorės apdaila'!N8+'10. Šildymo sistema (vidaus)'!N8+'11. Šildymo sistema (lauko)'!N8+'12. Šaldymas ir oro kondiciona'!N8+'13. Ventiliacija'!N8+'14. Vandentiekio sistema (vida'!N8+'15. Vandentiekio sistema (lauk'!N8+'16. Nuotekų šalinimo sistema'!N8+'17. Nuotekų šalinimo sistema'!N8+'18. Elektros instaliacija (vid'!N8+'19. Elektros instaliacija (lau'!N8+'20. Dujos'!N8+'21. Apsaugos sistema'!N8+'22. Telekomunikacijos'!N8+'23. Gaisro gesinimo sistema'!N8+'24. Transportavimo sistema'!N8+'25. Lietaus surinkimo sistema'!N8++'Bendrosios pastato išlaidos'!G15)","v":0},{"$f":"SUM('1. Pamatai'!O8+'2. Perdangos'!O8+'3. Sienos'!O8+'4. Durys'!O8+'5. Langai'!O8+'6. Laiptai'!O8+'7. Stogas'!O8+'8. Vidaus apdaila'!O8+'9. Išorės apdaila'!O8+'10. Šildymo sistema (vidaus)'!O8+'11. Šildymo sistema (lauko)'!O8+'12. Šaldymas ir oro kondiciona'!O8+'13. Ventiliacija'!O8+'14. Vandentiekio sistema (vida'!O8+'15. Vandentiekio sistema (lauk'!O8+'16. Nuotekų šalinimo sistema'!O8+'17. Nuotekų šalinimo sistema'!O8+'18. Elektros instaliacija (vid'!O8+'19. Elektros instaliacija (lau'!O8+'20. Dujos'!O8+'21. Apsaugos sistema'!O8+'22. Telekomunikacijos'!O8+'23. Gaisro gesinimo sistema'!O8+'24. Transportavimo sistema'!O8+'25. Lietaus surinkimo sistema'!O8++'Bendrosios pastato išlaidos'!H15)","v":0},{"$f":"SUM('1. Pamatai'!P8+'2. Perdangos'!P8+'3. Sienos'!P8+'4. Durys'!P8+'5. Langai'!P8+'6. Laiptai'!P8+'7. Stogas'!P8+'8. Vidaus apdaila'!P8+'9. Išorės apdaila'!P8+'10. Šildymo sistema (vidaus)'!P8+'11. Šildymo sistema (lauko)'!P8+'12. Šaldymas ir oro kondiciona'!P8+'13. Ventiliacija'!P8+'14. Vandentiekio sistema (vida'!P8+'15. Vandentiekio sistema (lauk'!P8+'16. Nuotekų šalinimo sistema'!P8+'17. Nuotekų šalinimo sistema'!P8+'18. Elektros instaliacija (vid'!P8+'19. Elektros instaliacija (lau'!P8+'20. Dujos'!P8+'21. Apsaugos sistema'!P8+'22. Telekomunikacijos'!P8+'23. Gaisro gesinimo sistema'!P8+'24. Transportavimo sistema'!P8+'25. Lietaus surinkimo sistema'!P8++'Bendrosios pastato išlaidos'!I15)","v":0},{"$f":"SUM('1. Pamatai'!Q8+'2. Perdangos'!Q8+'3. Sienos'!Q8+'4. Durys'!Q8+'5. Langai'!Q8+'6. Laiptai'!Q8+'7. Stogas'!Q8+'8. Vidaus apdaila'!Q8+'9. Išorės apdaila'!Q8+'10. Šildymo sistema (vidaus)'!Q8+'11. Šildymo sistema (lauko)'!Q8+'12. Šaldymas ir oro kondiciona'!Q8+'13. Ventiliacija'!Q8+'14. Vandentiekio sistema (vida'!Q8+'15. Vandentiekio sistema (lauk'!Q8+'16. Nuotekų šalinimo sistema'!Q8+'17. Nuotekų šalinimo sistema'!Q8+'18. Elektros instaliacija (vid'!Q8+'19. Elektros instaliacija (lau'!Q8+'20. Dujos'!Q8+'21. Apsaugos sistema'!Q8+'22. Telekomunikacijos'!Q8+'23. Gaisro gesinimo sistema'!Q8+'24. Transportavimo sistema'!Q8+'25. Lietaus surinkimo sistema'!Q8++'Bendrosios pastato išlaidos'!J15)","v":0},{"$f":"SUM('1. Pamatai'!R8+'2. Perdangos'!R8+'3. Sienos'!R8+'4. Durys'!R8+'5. Langai'!R8+'6. Laiptai'!R8+'7. Stogas'!R8+'8. Vidaus apdaila'!R8+'9. Išorės apdaila'!R8+'10. Šildymo sistema (vidaus)'!R8+'11. Šildymo sistema (lauko)'!R8+'12. Šaldymas ir oro kondiciona'!R8+'13. Ventiliacija'!R8+'14. Vandentiekio sistema (vida'!R8+'15. Vandentiekio sistema (lauk'!R8+'16. Nuotekų šalinimo sistema'!R8+'17. Nuotekų šalinimo sistema'!R8+'18. Elektros instaliacija (vid'!R8+'19. Elektros instaliacija (lau'!R8+'20. Dujos'!R8+'21. Apsaugos sistema'!R8+'22. Telekomunikacijos'!R8+'23. Gaisro gesinimo sistema'!R8+'24. Transportavimo sistema'!R8+'25. Lietaus surinkimo sistema'!R8++'Bendrosios pastato išlaidos'!K15)","v":0},{"$f":"SUM('1. Pamatai'!S8+'2. Perdangos'!S8+'3. Sienos'!S8+'4. Durys'!S8+'5. Langai'!S8+'6. Laiptai'!S8+'7. Stogas'!S8+'8. Vidaus apdaila'!S8+'9. Išorės apdaila'!S8+'10. Šildymo sistema (vidaus)'!S8+'11. Šildymo sistema (lauko)'!S8+'12. Šaldymas ir oro kondiciona'!S8+'13. Ventiliacija'!S8+'14. Vandentiekio sistema (vida'!S8+'15. Vandentiekio sistema (lauk'!S8+'16. Nuotekų šalinimo sistema'!S8+'17. Nuotekų šalinimo sistema'!S8+'18. Elektros instaliacija (vid'!S8+'19. Elektros instaliacija (lau'!S8+'20. Dujos'!S8+'21. Apsaugos sistema'!S8+'22. Telekomunikacijos'!S8+'23. Gaisro gesinimo sistema'!S8+'24. Transportavimo sistema'!S8+'25. Lietaus surinkimo sistema'!S8++'Bendrosios pastato išlaidos'!L15)","v":0},{"$f":"SUM('1. Pamatai'!T8+'2. Perdangos'!T8+'3. Sienos'!T8+'4. Durys'!T8+'5. Langai'!T8+'6. Laiptai'!T8+'7. Stogas'!T8+'8. Vidaus apdaila'!T8+'9. Išorės apdaila'!T8+'10. Šildymo sistema (vidaus)'!T8+'11. Šildymo sistema (lauko)'!T8+'12. Šaldymas ir oro kondiciona'!T8+'13. Ventiliacija'!T8+'14. Vandentiekio sistema (vida'!T8+'15. Vandentiekio sistema (lauk'!T8+'16. Nuotekų šalinimo sistema'!T8+'17. Nuotekų šalinimo sistema'!T8+'18. Elektros instaliacija (vid'!T8+'19. Elektros instaliacija (lau'!T8+'20. Dujos'!T8+'21. Apsaugos sistema'!T8+'22. Telekomunikacijos'!T8+'23. Gaisro gesinimo sistema'!T8+'24. Transportavimo sistema'!T8+'25. Lietaus surinkimo sistema'!T8++'Bendrosios pastato išlaidos'!M15)","v":0},{"$f":"SUM('1. Pamatai'!U8+'2. Perdangos'!U8+'3. Sienos'!U8+'4. Durys'!U8+'5. Langai'!U8+'6. Laiptai'!U8+'7. Stogas'!U8+'8. Vidaus apdaila'!U8+'9. Išorės apdaila'!U8+'10. Šildymo sistema (vidaus)'!U8+'11. Šildymo sistema (lauko)'!U8+'12. Šaldymas ir oro kondiciona'!U8+'13. Ventiliacija'!U8+'14. Vandentiekio sistema (vida'!U8+'15. Vandentiekio sistema (lauk'!U8+'16. Nuotekų šalinimo sistema'!U8+'17. Nuotekų šalinimo sistema'!U8+'18. Elektros instaliacija (vid'!U8+'19. Elektros instaliacija (lau'!U8+'20. Dujos'!U8+'21. Apsaugos sistema'!U8+'22. Telekomunikacijos'!U8+'23. Gaisro gesinimo sistema'!U8+'24. Transportavimo sistema'!U8+'25. Lietaus surinkimo sistema'!U8++'Bendrosios pastato išlaidos'!N15)","v":0}]
[null,"A.6. Techninės priežiūros paslaugos",{"$f":"SUM(D16:OFFSET(D16,0,1000))","v":0},{"$f":"SUM('1. Pamatai'!M9+'2. Perdangos'!M9+'3. Sienos'!M9+'4. Durys'!M9+'5. Langai'!M9+'6. Laiptai'!M9+'7. Stogas'!M9+'8. Vidaus apdaila'!M9+'9. Išorės apdaila'!M9+'10. Šildymo sistema (vidaus)'!M9+'11. Šildymo sistema (lauko)'!M9+'12. Šaldymas ir oro kondiciona'!M9+'13. Ventiliacija'!M9+'14. Vandentiekio sistema (vida'!M9+'15. Vandentiekio sistema (lauk'!M9+'16. Nuotekų šalinimo sistema'!M9+'17. Nuotekų šalinimo sistema'!M9+'18. Elektros instaliacija (vid'!M9+'19. Elektros instaliacija (lau'!M9+'20. Dujos'!M9+'21. Apsaugos sistema'!M9+'22. Telekomunikacijos'!M9+'23. Gaisro gesinimo sistema'!M9+'24. Transportavimo sistema'!M9+'25. Lietaus surinkimo sistema'!M9++'Bendrosios pastato išlaidos'!F16)","v":0},{"$f":"SUM('1. Pamatai'!N9+'2. Perdangos'!N9+'3. Sienos'!N9+'4. Durys'!N9+'5. Langai'!N9+'6. Laiptai'!N9+'7. Stogas'!N9+'8. Vidaus apdaila'!N9+'9. Išorės apdaila'!N9+'10. Šildymo sistema (vidaus)'!N9+'11. Šildymo sistema (lauko)'!N9+'12. Šaldymas ir oro kondiciona'!N9+'13. Ventiliacija'!N9+'14. Vandentiekio sistema (vida'!N9+'15. Vandentiekio sistema (lauk'!N9+'16. Nuotekų šalinimo sistema'!N9+'17. Nuotekų šalinimo sistema'!N9+'18. Elektros instaliacija (vid'!N9+'19. Elektros instaliacija (lau'!N9+'20. Dujos'!N9+'21. Apsaugos sistema'!N9+'22. Telekomunikacijos'!N9+'23. Gaisro gesinimo sistema'!N9+'24. Transportavimo sistema'!N9+'25. Lietaus surinkimo sistema'!N9++'Bendrosios pastato išlaidos'!G16)","v":0},{"$f":"SUM('1. Pamatai'!O9+'2. Perdangos'!O9+'3. Sienos'!O9+'4. Durys'!O9+'5. Langai'!O9+'6. Laiptai'!O9+'7. Stogas'!O9+'8. Vidaus apdaila'!O9+'9. Išorės apdaila'!O9+'10. Šildymo sistema (vidaus)'!O9+'11. Šildymo sistema (lauko)'!O9+'12. Šaldymas ir oro kondiciona'!O9+'13. Ventiliacija'!O9+'14. Vandentiekio sistema (vida'!O9+'15. Vandentiekio sistema (lauk'!O9+'16. Nuotekų šalinimo sistema'!O9+'17. Nuotekų šalinimo sistema'!O9+'18. Elektros instaliacija (vid'!O9+'19. Elektros instaliacija (lau'!O9+'20. Dujos'!O9+'21. Apsaugos sistema'!O9+'22. Telekomunikacijos'!O9+'23. Gaisro gesinimo sistema'!O9+'24. Transportavimo sistema'!O9+'25. Lietaus surinkimo sistema'!O9++'Bendrosios pastato išlaidos'!H16)","v":0},{"$f":"SUM('1. Pamatai'!P9+'2. Perdangos'!P9+'3. Sienos'!P9+'4. Durys'!P9+'5. Langai'!P9+'6. Laiptai'!P9+'7. Stogas'!P9+'8. Vidaus apdaila'!P9+'9. Išorės apdaila'!P9+'10. Šildymo sistema (vidaus)'!P9+'11. Šildymo sistema (lauko)'!P9+'12. Šaldymas ir oro kondiciona'!P9+'13. Ventiliacija'!P9+'14. Vandentiekio sistema (vida'!P9+'15. Vandentiekio sistema (lauk'!P9+'16. Nuotekų šalinimo sistema'!P9+'17. Nuotekų šalinimo sistema'!P9+'18. Elektros instaliacija (vid'!P9+'19. Elektros instaliacija (lau'!P9+'20. Dujos'!P9+'21. Apsaugos sistema'!P9+'22. Telekomunikacijos'!P9+'23. Gaisro gesinimo sistema'!P9+'24. Transportavimo sistema'!P9+'25. Lietaus surinkimo sistema'!P9++'Bendrosios pastato išlaidos'!I16)","v":0},{"$f":"SUM('1. Pamatai'!Q9+'2. Perdangos'!Q9+'3. Sienos'!Q9+'4. Durys'!Q9+'5. Langai'!Q9+'6. Laiptai'!Q9+'7. Stogas'!Q9+'8. Vidaus apdaila'!Q9+'9. Išorės apdaila'!Q9+'10. Šildymo sistema (vidaus)'!Q9+'11. Šildymo sistema (lauko)'!Q9+'12. Šaldymas ir oro kondiciona'!Q9+'13. Ventiliacija'!Q9+'14. Vandentiekio sistema (vida'!Q9+'15. Vandentiekio sistema (lauk'!Q9+'16. Nuotekų šalinimo sistema'!Q9+'17. Nuotekų šalinimo sistema'!Q9+'18. Elektros instaliacija (vid'!Q9+'19. Elektros instaliacija (lau'!Q9+'20. Dujos'!Q9+'21. Apsaugos sistema'!Q9+'22. Telekomunikacijos'!Q9+'23. Gaisro gesinimo sistema'!Q9+'24. Transportavimo sistema'!Q9+'25. Lietaus surinkimo sistema'!Q9++'Bendrosios pastato išlaidos'!J16)","v":0},{"$f":"SUM('1. Pamatai'!R9+'2. Perdangos'!R9+'3. Sienos'!R9+'4. Durys'!R9+'5. Langai'!R9+'6. Laiptai'!R9+'7. Stogas'!R9+'8. Vidaus apdaila'!R9+'9. Išorės apdaila'!R9+'10. Šildymo sistema (vidaus)'!R9+'11. Šildymo sistema (lauko)'!R9+'12. Šaldymas ir oro kondiciona'!R9+'13. Ventiliacija'!R9+'14. Vandentiekio sistema (vida'!R9+'15. Vandentiekio sistema (lauk'!R9+'16. Nuotekų šalinimo sistema'!R9+'17. Nuotekų šalinimo sistema'!R9+'18. Elektros instaliacija (vid'!R9+'19. Elektros instaliacija (lau'!R9+'20. Dujos'!R9+'21. Apsaugos sistema'!R9+'22. Telekomunikacijos'!R9+'23. Gaisro gesinimo sistema'!R9+'24. Transportavimo sistema'!R9+'25. Lietaus surinkimo sistema'!R9++'Bendrosios pastato išlaidos'!K16)","v":0},{"$f":"SUM('1. Pamatai'!S9+'2. Perdangos'!S9+'3. Sienos'!S9+'4. Durys'!S9+'5. Langai'!S9+'6. Laiptai'!S9+'7. Stogas'!S9+'8. Vidaus apdaila'!S9+'9. Išorės apdaila'!S9+'10. Šildymo sistema (vidaus)'!S9+'11. Šildymo sistema (lauko)'!S9+'12. Šaldymas ir oro kondiciona'!S9+'13. Ventiliacija'!S9+'14. Vandentiekio sistema (vida'!S9+'15. Vandentiekio sistema (lauk'!S9+'16. Nuotekų šalinimo sistema'!S9+'17. Nuotekų šalinimo sistema'!S9+'18. Elektros instaliacija (vid'!S9+'19. Elektros instaliacija (lau'!S9+'20. Dujos'!S9+'21. Apsaugos sistema'!S9+'22. Telekomunikacijos'!S9+'23. Gaisro gesinimo sistema'!S9+'24. Transportavimo sistema'!S9+'25. Lietaus surinkimo sistema'!S9++'Bendrosios pastato išlaidos'!L16)","v":0},{"$f":"SUM('1. Pamatai'!T9+'2. Perdangos'!T9+'3. Sienos'!T9+'4. Durys'!T9+'5. Langai'!T9+'6. Laiptai'!T9+'7. Stogas'!T9+'8. Vidaus apdaila'!T9+'9. Išorės apdaila'!T9+'10. Šildymo sistema (vidaus)'!T9+'11. Šildymo sistema (lauko)'!T9+'12. Šaldymas ir oro kondiciona'!T9+'13. Ventiliacija'!T9+'14. Vandentiekio sistema (vida'!T9+'15. Vandentiekio sistema (lauk'!T9+'16. Nuotekų šalinimo sistema'!T9+'17. Nuotekų šalinimo sistema'!T9+'18. Elektros instaliacija (vid'!T9+'19. Elektros instaliacija (lau'!T9+'20. Dujos'!T9+'21. Apsaugos sistema'!T9+'22. Telekomunikacijos'!T9+'23. Gaisro gesinimo sistema'!T9+'24. Transportavimo sistema'!T9+'25. Lietaus surinkimo sistema'!T9++'Bendrosios pastato išlaidos'!M16)","v":0},{"$f":"SUM('1. Pamatai'!U9+'2. Perdangos'!U9+'3. Sienos'!U9+'4. Durys'!U9+'5. Langai'!U9+'6. Laiptai'!U9+'7. Stogas'!U9+'8. Vidaus apdaila'!U9+'9. Išorės apdaila'!U9+'10. Šildymo sistema (vidaus)'!U9+'11. Šildymo sistema (lauko)'!U9+'12. Šaldymas ir oro kondiciona'!U9+'13. Ventiliacija'!U9+'14. Vandentiekio sistema (vida'!U9+'15. Vandentiekio sistema (lauk'!U9+'16. Nuotekų šalinimo sistema'!U9+'17. Nuotekų šalinimo sistema'!U9+'18. Elektros instaliacija (vid'!U9+'19. Elektros instaliacija (lau'!U9+'20. Dujos'!U9+'21. Apsaugos sistema'!U9+'22. Telekomunikacijos'!U9+'23. Gaisro gesinimo sistema'!U9+'24. Transportavimo sistema'!U9+'25. Lietaus surinkimo sistema'!U9++'Bendrosios pastato išlaidos'!N16)","v":0}]
[null,"A.7. Kitos su investicijomis į ilgalaikį turtą susijusios paslaugos ir išlaidos",{"$f":"SUM(D17:OFFSET(D17,0,1000))","v":0},{"$f":"SUM('1. Pamatai'!M10+'2. Perdangos'!M10+'3. Sienos'!M10+'4. Durys'!M10+'5. Langai'!M10+'6. Laiptai'!M10+'7. Stogas'!M10+'8. Vidaus apdaila'!M10+'9. Išorės apdaila'!M10+'10. Šildymo sistema (vidaus)'!M10+'11. Šildymo sistema (lauko)'!M10+'12. Šaldymas ir oro kondiciona'!M10+'13. Ventiliacija'!M10+'14. Vandentiekio sistema (vida'!M10+'15. Vandentiekio sistema (lauk'!M10+'16. Nuotekų šalinimo sistema'!M10+'17. Nuotekų šalinimo sistema'!M10+'18. Elektros instaliacija (vid'!M10+'19. Elektros instaliacija (lau'!M10+'20. Dujos'!M10+'21. Apsaugos sistema'!M10+'22. Telekomunikacijos'!M10+'23. Gaisro gesinimo sistema'!M10+'24. Transportavimo sistema'!M10+'25. Lietaus surinkimo sistema'!M10++'Bendrosios pastato išlaidos'!F17)","v":0},{"$f":"SUM('1. Pamatai'!N10+'2. Perdangos'!N10+'3. Sienos'!N10+'4. Durys'!N10+'5. Langai'!N10+'6. Laiptai'!N10+'7. Stogas'!N10+'8. Vidaus apdaila'!N10+'9. Išorės apdaila'!N10+'10. Šildymo sistema (vidaus)'!N10+'11. Šildymo sistema (lauko)'!N10+'12. Šaldymas ir oro kondiciona'!N10+'13. Ventiliacija'!N10+'14. Vandentiekio sistema (vida'!N10+'15. Vandentiekio sistema (lauk'!N10+'16. Nuotekų šalinimo sistema'!N10+'17. Nuotekų šalinimo sistema'!N10+'18. Elektros instaliacija (vid'!N10+'19. Elektros instaliacija (lau'!N10+'20. Dujos'!N10+'21. Apsaugos sistema'!N10+'22. Telekomunikacijos'!N10+'23. Gaisro gesinimo sistema'!N10+'24. Transportavimo sistema'!N10+'25. Lietaus surinkimo sistema'!N10++'Bendrosios pastato išlaidos'!G17)","v":0},{"$f":"SUM('1. Pamatai'!O10+'2. Perdangos'!O10+'3. Sienos'!O10+'4. Durys'!O10+'5. Langai'!O10+'6. Laiptai'!O10+'7. Stogas'!O10+'8. Vidaus apdaila'!O10+'9. Išorės apdaila'!O10+'10. Šildymo sistema (vidaus)'!O10+'11. Šildymo sistema (lauko)'!O10+'12. Šaldymas ir oro kondiciona'!O10+'13. Ventiliacija'!O10+'14. Vandentiekio sistema (vida'!O10+'15. Vandentiekio sistema (lauk'!O10+'16. Nuotekų šalinimo sistema'!O10+'17. Nuotekų šalinimo sistema'!O10+'18. Elektros instaliacija (vid'!O10+'19. Elektros instaliacija (lau'!O10+'20. Dujos'!O10+'21. Apsaugos sistema'!O10+'22. Telekomunikacijos'!O10+'23. Gaisro gesinimo sistema'!O10+'24. Transportavimo sistema'!O10+'25. Lietaus surinkimo sistema'!O10++'Bendrosios pastato išlaidos'!H17)","v":0},{"$f":"SUM('1. Pamatai'!P10+'2. Perdangos'!P10+'3. Sienos'!P10+'4. Durys'!P10+'5. Langai'!P10+'6. Laiptai'!P10+'7. Stogas'!P10+'8. Vidaus apdaila'!P10+'9. Išorės apdaila'!P10+'10. Šildymo sistema (vidaus)'!P10+'11. Šildymo sistema (lauko)'!P10+'12. Šaldymas ir oro kondiciona'!P10+'13. Ventiliacija'!P10+'14. Vandentiekio sistema (vida'!P10+'15. Vandentiekio sistema (lauk'!P10+'16. Nuotekų šalinimo sistema'!P10+'17. Nuotekų šalinimo sistema'!P10+'18. Elektros instaliacija (vid'!P10+'19. Elektros instaliacija (lau'!P10+'20. Dujos'!P10+'21. Apsaugos sistema'!P10+'22. Telekomunikacijos'!P10+'23. Gaisro gesinimo sistema'!P10+'24. Transportavimo sistema'!P10+'25. Lietaus surinkimo sistema'!P10++'Bendrosios pastato išlaidos'!I17)","v":0},{"$f":"SUM('1. Pamatai'!Q10+'2. Perdangos'!Q10+'3. Sienos'!Q10+'4. Durys'!Q10+'5. Langai'!Q10+'6. Laiptai'!Q10+'7. Stogas'!Q10+'8. Vidaus apdaila'!Q10+'9. Išorės apdaila'!Q10+'10. Šildymo sistema (vidaus)'!Q10+'11. Šildymo sistema (lauko)'!Q10+'12. Šaldymas ir oro kondiciona'!Q10+'13. Ventiliacija'!Q10+'14. Vandentiekio sistema (vida'!Q10+'15. Vandentiekio sistema (lauk'!Q10+'16. Nuotekų šalinimo sistema'!Q10+'17. Nuotekų šalinimo sistema'!Q10+'18. Elektros instaliacija (vid'!Q10+'19. Elektros instaliacija (lau'!Q10+'20. Dujos'!Q10+'21. Apsaugos sistema'!Q10+'22. Telekomunikacijos'!Q10+'23. Gaisro gesinimo sistema'!Q10+'24. Transportavimo sistema'!Q10+'25. Lietaus surinkimo sistema'!Q10++'Bendrosios pastato išlaidos'!J17)","v":0},{"$f":"SUM('1. Pamatai'!R10+'2. Perdangos'!R10+'3. Sienos'!R10+'4. Durys'!R10+'5. Langai'!R10+'6. Laiptai'!R10+'7. Stogas'!R10+'8. Vidaus apdaila'!R10+'9. Išorės apdaila'!R10+'10. Šildymo sistema (vidaus)'!R10+'11. Šildymo sistema (lauko)'!R10+'12. Šaldymas ir oro kondiciona'!R10+'13. Ventiliacija'!R10+'14. Vandentiekio sistema (vida'!R10+'15. Vandentiekio sistema (lauk'!R10+'16. Nuotekų šalinimo sistema'!R10+'17. Nuotekų šalinimo sistema'!R10+'18. Elektros instaliacija (vid'!R10+'19. Elektros instaliacija (lau'!R10+'20. Dujos'!R10+'21. Apsaugos sistema'!R10+'22. Telekomunikacijos'!R10+'23. Gaisro gesinimo sistema'!R10+'24. Transportavimo sistema'!R10+'25. Lietaus surinkimo sistema'!R10++'Bendrosios pastato išlaidos'!K17)","v":0},{"$f":"SUM('1. Pamatai'!S10+'2. Perdangos'!S10+'3. Sienos'!S10+'4. Durys'!S10+'5. Langai'!S10+'6. Laiptai'!S10+'7. Stogas'!S10+'8. Vidaus apdaila'!S10+'9. Išorės apdaila'!S10+'10. Šildymo sistema (vidaus)'!S10+'11. Šildymo sistema (lauko)'!S10+'12. Šaldymas ir oro kondiciona'!S10+'13. Ventiliacija'!S10+'14. Vandentiekio sistema (vida'!S10+'15. Vandentiekio sistema (lauk'!S10+'16. Nuotekų šalinimo sistema'!S10+'17. Nuotekų šalinimo sistema'!S10+'18. Elektros instaliacija (vid'!S10+'19. Elektros instaliacija (lau'!S10+'20. Dujos'!S10+'21. Apsaugos sistema'!S10+'22. Telekomunikacijos'!S10+'23. Gaisro gesinimo sistema'!S10+'24. Transportavimo sistema'!S10+'25. Lietaus surinkimo sistema'!S10++'Bendrosios pastato išlaidos'!L17)","v":0},{"$f":"SUM('1. Pamatai'!T10+'2. Perdangos'!T10+'3. Sienos'!T10+'4. Durys'!T10+'5. Langai'!T10+'6. Laiptai'!T10+'7. Stogas'!T10+'8. Vidaus apdaila'!T10+'9. Išorės apdaila'!T10+'10. Šildymo sistema (vidaus)'!T10+'11. Šildymo sistema (lauko)'!T10+'12. Šaldymas ir oro kondiciona'!T10+'13. Ventiliacija'!T10+'14. Vandentiekio sistema (vida'!T10+'15. Vandentiekio sistema (lauk'!T10+'16. Nuotekų šalinimo sistema'!T10+'17. Nuotekų šalinimo sistema'!T10+'18. Elektros instaliacija (vid'!T10+'19. Elektros instaliacija (lau'!T10+'20. Dujos'!T10+'21. Apsaugos sistema'!T10+'22. Telekomunikacijos'!T10+'23. Gaisro gesinimo sistema'!T10+'24. Transportavimo sistema'!T10+'25. Lietaus surinkimo sistema'!T10++'Bendrosios pastato išlaidos'!M17)","v":0},{"$f":"SUM('1. Pamatai'!U10+'2. Perdangos'!U10+'3. Sienos'!U10+'4. Durys'!U10+'5. Langai'!U10+'6. Laiptai'!U10+'7. Stogas'!U10+'8. Vidaus apdaila'!U10+'9. Išorės apdaila'!U10+'10. Šildymo sistema (vidaus)'!U10+'11. Šildymo sistema (lauko)'!U10+'12. Šaldymas ir oro kondiciona'!U10+'13. Ventiliacija'!U10+'14. Vandentiekio sistema (vida'!U10+'15. Vandentiekio sistema (lauk'!U10+'16. Nuotekų šalinimo sistema'!U10+'17. Nuotekų šalinimo sistema'!U10+'18. Elektros instaliacija (vid'!U10+'19. Elektros instaliacija (lau'!U10+'20. Dujos'!U10+'21. Apsaugos sistema'!U10+'22. Telekomunikacijos'!U10+'23. Gaisro gesinimo sistema'!U10+'24. Transportavimo sistema'!U10+'25. Lietaus surinkimo sistema'!U10++'Bendrosios pastato išlaidos'!N17)","v":0}]
[null,"B. Kitos paslaugos ir išlaidos",{"$f":"SUM(D18:OFFSET(D18,0,1000))","v":0},{"$f":"SUM('1. Pamatai'!M11+'2. Perdangos'!M11+'3. Sienos'!M11+'4. Durys'!M11+'5. Langai'!M11+'6. Laiptai'!M11+'7. Stogas'!M11+'8. Vidaus apdaila'!M11+'9. Išorės apdaila'!M11+'10. Šildymo sistema (vidaus)'!M11+'11. Šildymo sistema (lauko)'!M11+'12. Šaldymas ir oro kondiciona'!M11+'13. Ventiliacija'!M11+'14. Vandentiekio sistema (vida'!M11+'15. Vandentiekio sistema (lauk'!M11+'16. Nuotekų šalinimo sistema'!M11+'17. Nuotekų šalinimo sistema'!M11+'18. Elektros instaliacija (vid'!M11+'19. Elektros instaliacija (lau'!M11+'20. Dujos'!M11+'21. Apsaugos sistema'!M11+'22. Telekomunikacijos'!M11+'23. Gaisro gesinimo sistema'!M11+'24. Transportavimo sistema'!M11+'25. Lietaus surinkimo sistema'!M11++'Bendrosios pastato išlaidos'!F18)","v":0},{"$f":"SUM('1. Pamatai'!N11+'2. Perdangos'!N11+'3. Sienos'!N11+'4. Durys'!N11+'5. Langai'!N11+'6. Laiptai'!N11+'7. Stogas'!N11+'8. Vidaus apdaila'!N11+'9. Išorės apdaila'!N11+'10. Šildymo sistema (vidaus)'!N11+'11. Šildymo sistema (lauko)'!N11+'12. Šaldymas ir oro kondiciona'!N11+'13. Ventiliacija'!N11+'14. Vandentiekio sistema (vida'!N11+'15. Vandentiekio sistema (lauk'!N11+'16. Nuotekų šalinimo sistema'!N11+'17. Nuotekų šalinimo sistema'!N11+'18. Elektros instaliacija (vid'!N11+'19. Elektros instaliacija (lau'!N11+'20. Dujos'!N11+'21. Apsaugos sistema'!N11+'22. Telekomunikacijos'!N11+'23. Gaisro gesinimo sistema'!N11+'24. Transportavimo sistema'!N11+'25. Lietaus surinkimo sistema'!N11++'Bendrosios pastato išlaidos'!G18)","v":0},{"$f":"SUM('1. Pamatai'!O11+'2. Perdangos'!O11+'3. Sienos'!O11+'4. Durys'!O11+'5. Langai'!O11+'6. Laiptai'!O11+'7. Stogas'!O11+'8. Vidaus apdaila'!O11+'9. Išorės apdaila'!O11+'10. Šildymo sistema (vidaus)'!O11+'11. Šildymo sistema (lauko)'!O11+'12. Šaldymas ir oro kondiciona'!O11+'13. Ventiliacija'!O11+'14. Vandentiekio sistema (vida'!O11+'15. Vandentiekio sistema (lauk'!O11+'16. Nuotekų šalinimo sistema'!O11+'17. Nuotekų šalinimo sistema'!O11+'18. Elektros instaliacija (vid'!O11+'19. Elektros instaliacija (lau'!O11+'20. Dujos'!O11+'21. Apsaugos sistema'!O11+'22. Telekomunikacijos'!O11+'23. Gaisro gesinimo sistema'!O11+'24. Transportavimo sistema'!O11+'25. Lietaus surinkimo sistema'!O11++'Bendrosios pastato išlaidos'!H18)","v":0},{"$f":"SUM('1. Pamatai'!P11+'2. Perdangos'!P11+'3. Sienos'!P11+'4. Durys'!P11+'5. Langai'!P11+'6. Laiptai'!P11+'7. Stogas'!P11+'8. Vidaus apdaila'!P11+'9. Išorės apdaila'!P11+'10. Šildymo sistema (vidaus)'!P11+'11. Šildymo sistema (lauko)'!P11+'12. Šaldymas ir oro kondiciona'!P11+'13. Ventiliacija'!P11+'14. Vandentiekio sistema (vida'!P11+'15. Vandentiekio sistema (lauk'!P11+'16. Nuotekų šalinimo sistema'!P11+'17. Nuotekų šalinimo sistema'!P11+'18. Elektros instaliacija (vid'!P11+'19. Elektros instaliacija (lau'!P11+'20. Dujos'!P11+'21. Apsaugos sistema'!P11+'22. Telekomunikacijos'!P11+'23. Gaisro gesinimo sistema'!P11+'24. Transportavimo sistema'!P11+'25. Lietaus surinkimo sistema'!P11++'Bendrosios pastato išlaidos'!I18)","v":0},{"$f":"SUM('1. Pamatai'!Q11+'2. Perdangos'!Q11+'3. Sienos'!Q11+'4. Durys'!Q11+'5. Langai'!Q11+'6. Laiptai'!Q11+'7. Stogas'!Q11+'8. Vidaus apdaila'!Q11+'9. Išorės apdaila'!Q11+'10. Šildymo sistema (vidaus)'!Q11+'11. Šildymo sistema (lauko)'!Q11+'12. Šaldymas ir oro kondiciona'!Q11+'13. Ventiliacija'!Q11+'14. Vandentiekio sistema (vida'!Q11+'15. Vandentiekio sistema (lauk'!Q11+'16. Nuotekų šalinimo sistema'!Q11+'17. Nuotekų šalinimo sistema'!Q11+'18. Elektros instaliacija (vid'!Q11+'19. Elektros instaliacija (lau'!Q11+'20. Dujos'!Q11+'21. Apsaugos sistema'!Q11+'22. Telekomunikacijos'!Q11+'23. Gaisro gesinimo sistema'!Q11+'24. Transportavimo sistema'!Q11+'25. Lietaus surinkimo sistema'!Q11++'Bendrosios pastato išlaidos'!J18)","v":0},{"$f":"SUM('1. Pamatai'!R11+'2. Perdangos'!R11+'3. Sienos'!R11+'4. Durys'!R11+'5. Langai'!R11+'6. Laiptai'!R11+'7. Stogas'!R11+'8. Vidaus apdaila'!R11+'9. Išorės apdaila'!R11+'10. Šildymo sistema (vidaus)'!R11+'11. Šildymo sistema (lauko)'!R11+'12. Šaldymas ir oro kondiciona'!R11+'13. Ventiliacija'!R11+'14. Vandentiekio sistema (vida'!R11+'15. Vandentiekio sistema (lauk'!R11+'16. Nuotekų šalinimo sistema'!R11+'17. Nuotekų šalinimo sistema'!R11+'18. Elektros instaliacija (vid'!R11+'19. Elektros instaliacija (lau'!R11+'20. Dujos'!R11+'21. Apsaugos sistema'!R11+'22. Telekomunikacijos'!R11+'23. Gaisro gesinimo sistema'!R11+'24. Transportavimo sistema'!R11+'25. Lietaus surinkimo sistema'!R11++'Bendrosios pastato išlaidos'!K18)","v":0},{"$f":"SUM('1. Pamatai'!S11+'2. Perdangos'!S11+'3. Sienos'!S11+'4. Durys'!S11+'5. Langai'!S11+'6. Laiptai'!S11+'7. Stogas'!S11+'8. Vidaus apdaila'!S11+'9. Išorės apdaila'!S11+'10. Šildymo sistema (vidaus)'!S11+'11. Šildymo sistema (lauko)'!S11+'12. Šaldymas ir oro kondiciona'!S11+'13. Ventiliacija'!S11+'14. Vandentiekio sistema (vida'!S11+'15. Vandentiekio sistema (lauk'!S11+'16. Nuotekų šalinimo sistema'!S11+'17. Nuotekų šalinimo sistema'!S11+'18. Elektros instaliacija (vid'!S11+'19. Elektros instaliacija (lau'!S11+'20. Dujos'!S11+'21. Apsaugos sistema'!S11+'22. Telekomunikacijos'!S11+'23. Gaisro gesinimo sistema'!S11+'24. Transportavimo sistema'!S11+'25. Lietaus surinkimo sistema'!S11++'Bendrosios pastato išlaidos'!L18)","v":0},{"$f":"SUM('1. Pamatai'!T11+'2. Perdangos'!T11+'3. Sienos'!T11+'4. Durys'!T11+'5. Langai'!T11+'6. Laiptai'!T11+'7. Stogas'!T11+'8. Vidaus apdaila'!T11+'9. Išorės apdaila'!T11+'10. Šildymo sistema (vidaus)'!T11+'11. Šildymo sistema (lauko)'!T11+'12. Šaldymas ir oro kondiciona'!T11+'13. Ventiliacija'!T11+'14. Vandentiekio sistema (vida'!T11+'15. Vandentiekio sistema (lauk'!T11+'16. Nuotekų šalinimo sistema'!T11+'17. Nuotekų šalinimo sistema'!T11+'18. Elektros instaliacija (vid'!T11+'19. Elektros instaliacija (lau'!T11+'20. Dujos'!T11+'21. Apsaugos sistema'!T11+'22. Telekomunikacijos'!T11+'23. Gaisro gesinimo sistema'!T11+'24. Transportavimo sistema'!T11+'25. Lietaus surinkimo sistema'!T11++'Bendrosios pastato išlaidos'!M18)","v":0},{"$f":"SUM('1. Pamatai'!U11+'2. Perdangos'!U11+'3. Sienos'!U11+'4. Durys'!U11+'5. Langai'!U11+'6. Laiptai'!U11+'7. Stogas'!U11+'8. Vidaus apdaila'!U11+'9. Išorės apdaila'!U11+'10. Šildymo sistema (vidaus)'!U11+'11. Šildymo sistema (lauko)'!U11+'12. Šaldymas ir oro kondiciona'!U11+'13. Ventiliacija'!U11+'14. Vandentiekio sistema (vida'!U11+'15. Vandentiekio sistema (lauk'!U11+'16. Nuotekų šalinimo sistema'!U11+'17. Nuotekų šalinimo sistema'!U11+'18. Elektros instaliacija (vid'!U11+'19. Elektros instaliacija (lau'!U11+'20. Dujos'!U11+'21. Apsaugos sistema'!U11+'22. Telekomunikacijos'!U11+'23. Gaisro gesinimo sistema'!U11+'24. Transportavimo sistema'!U11+'25. Lietaus surinkimo sistema'!U11++'Bendrosios pastato išlaidos'!N18)","v":0}]
[null,"C. Likutinės vertės pinigų srautas",{"$f":"SUM(D19:OFFSET(D19,0,1000))","v":0},{"$f":"SUM('1. Pamatai'!M12+'2. Perdangos'!M12+'3. Sienos'!M12+'4. Durys'!M12+'5. Langai'!M12+'6. Laiptai'!M12+'7. Stogas'!M12+'8. Vidaus apdaila'!M12+'9. Išorės apdaila'!M12+'10. Šildymo sistema (vidaus)'!M12+'11. Šildymo sistema (lauko)'!M12+'12. Šaldymas ir oro kondiciona'!M12+'13. Ventiliacija'!M12+'14. Vandentiekio sistema (vida'!M12+'15. Vandentiekio sistema (lauk'!M12+'16. Nuotekų šalinimo sistema'!M12+'17. Nuotekų šalinimo sistema'!M12+'18. Elektros instaliacija (vid'!M12+'19. Elektros instaliacija (lau'!M12+'20. Dujos'!M12+'21. Apsaugos sistema'!M12+'22. Telekomunikacijos'!M12+'23. Gaisro gesinimo sistema'!M12+'24. Transportavimo sistema'!M12+'25. Lietaus surinkimo sistema'!M12)","v":0},{"$f":"SUM('1. Pamatai'!N12+'2. Perdangos'!N12+'3. Sienos'!N12+'4. Durys'!N12+'5. Langai'!N12+'6. Laiptai'!N12+'7. Stogas'!N12+'8. Vidaus apdaila'!N12+'9. Išorės apdaila'!N12+'10. Šildymo sistema (vidaus)'!N12+'11. Šildymo sistema (lauko)'!N12+'12. Šaldymas ir oro kondiciona'!N12+'13. Ventiliacija'!N12+'14. Vandentiekio sistema (vida'!N12+'15. Vandentiekio sistema (lauk'!N12+'16. Nuotekų šalinimo sistema'!N12+'17. Nuotekų šalinimo sistema'!N12+'18. Elektros instaliacija (vid'!N12+'19. Elektros instaliacija (lau'!N12+'20. Dujos'!N12+'21. Apsaugos sistema'!N12+'22. Telekomunikacijos'!N12+'23. Gaisro gesinimo sistema'!N12+'24. Transportavimo sistema'!N12+'25. Lietaus surinkimo sistema'!N12)","v":0},{"$f":"SUM('1. Pamatai'!O12+'2. Perdangos'!O12+'3. Sienos'!O12+'4. Durys'!O12+'5. Langai'!O12+'6. Laiptai'!O12+'7. Stogas'!O12+'8. Vidaus apdaila'!O12+'9. Išorės apdaila'!O12+'10. Šildymo sistema (vidaus)'!O12+'11. Šildymo sistema (lauko)'!O12+'12. Šaldymas ir oro kondiciona'!O12+'13. Ventiliacija'!O12+'14. Vandentiekio sistema (vida'!O12+'15. Vandentiekio sistema (lauk'!O12+'16. Nuotekų šalinimo sistema'!O12+'17. Nuotekų šalinimo sistema'!O12+'18. Elektros instaliacija (vid'!O12+'19. Elektros instaliacija (lau'!O12+'20. Dujos'!O12+'21. Apsaugos sistema'!O12+'22. Telekomunikacijos'!O12+'23. Gaisro gesinimo sistema'!O12+'24. Transportavimo sistema'!O12+'25. Lietaus surinkimo sistema'!O12)","v":0},{"$f":"SUM('1. Pamatai'!P12+'2. Perdangos'!P12+'3. Sienos'!P12+'4. Durys'!P12+'5. Langai'!P12+'6. Laiptai'!P12+'7. Stogas'!P12+'8. Vidaus apdaila'!P12+'9. Išorės apdaila'!P12+'10. Šildymo sistema (vidaus)'!P12+'11. Šildymo sistema (lauko)'!P12+'12. Šaldymas ir oro kondiciona'!P12+'13. Ventiliacija'!P12+'14. Vandentiekio sistema (vida'!P12+'15. Vandentiekio sistema (lauk'!P12+'16. Nuotekų šalinimo sistema'!P12+'17. Nuotekų šalinimo sistema'!P12+'18. Elektros instaliacija (vid'!P12+'19. Elektros instaliacija (lau'!P12+'20. Dujos'!P12+'21. Apsaugos sistema'!P12+'22. Telekomunikacijos'!P12+'23. Gaisro gesinimo sistema'!P12+'24. Transportavimo sistema'!P12+'25. Lietaus surinkimo sistema'!P12)","v":0},{"$f":"SUM('1. Pamatai'!Q12+'2. Perdangos'!Q12+'3. Sienos'!Q12+'4. Durys'!Q12+'5. Langai'!Q12+'6. Laiptai'!Q12+'7. Stogas'!Q12+'8. Vidaus apdaila'!Q12+'9. Išorės apdaila'!Q12+'10. Šildymo sistema (vidaus)'!Q12+'11. Šildymo sistema (lauko)'!Q12+'12. Šaldymas ir oro kondiciona'!Q12+'13. Ventiliacija'!Q12+'14. Vandentiekio sistema (vida'!Q12+'15. Vandentiekio sistema (lauk'!Q12+'16. Nuotekų šalinimo sistema'!Q12+'17. Nuotekų šalinimo sistema'!Q12+'18. Elektros instaliacija (vid'!Q12+'19. Elektros instaliacija (lau'!Q12+'20. Dujos'!Q12+'21. Apsaugos sistema'!Q12+'22. Telekomunikacijos'!Q12+'23. Gaisro gesinimo sistema'!Q12+'24. Transportavimo sistema'!Q12+'25. Lietaus surinkimo sistema'!Q12)","v":0},{"$f":"SUM('1. Pamatai'!R12+'2. Perdangos'!R12+'3. Sienos'!R12+'4. Durys'!R12+'5. Langai'!R12+'6. Laiptai'!R12+'7. Stogas'!R12+'8. Vidaus apdaila'!R12+'9. Išorės apdaila'!R12+'10. Šildymo sistema (vidaus)'!R12+'11. Šildymo sistema (lauko)'!R12+'12. Šaldymas ir oro kondiciona'!R12+'13. Ventiliacija'!R12+'14. Vandentiekio sistema (vida'!R12+'15. Vandentiekio sistema (lauk'!R12+'16. Nuotekų šalinimo sistema'!R12+'17. Nuotekų šalinimo sistema'!R12+'18. Elektros instaliacija (vid'!R12+'19. Elektros instaliacija (lau'!R12+'20. Dujos'!R12+'21. Apsaugos sistema'!R12+'22. Telekomunikacijos'!R12+'23. Gaisro gesinimo sistema'!R12+'24. Transportavimo sistema'!R12+'25. Lietaus surinkimo sistema'!R12)","v":0},{"$f":"SUM('1. Pamatai'!S12+'2. Perdangos'!S12+'3. Sienos'!S12+'4. Durys'!S12+'5. Langai'!S12+'6. Laiptai'!S12+'7. Stogas'!S12+'8. Vidaus apdaila'!S12+'9. Išorės apdaila'!S12+'10. Šildymo sistema (vidaus)'!S12+'11. Šildymo sistema (lauko)'!S12+'12. Šaldymas ir oro kondiciona'!S12+'13. Ventiliacija'!S12+'14. Vandentiekio sistema (vida'!S12+'15. Vandentiekio sistema (lauk'!S12+'16. Nuotekų šalinimo sistema'!S12+'17. Nuotekų šalinimo sistema'!S12+'18. Elektros instaliacija (vid'!S12+'19. Elektros instaliacija (lau'!S12+'20. Dujos'!S12+'21. Apsaugos sistema'!S12+'22. Telekomunikacijos'!S12+'23. Gaisro gesinimo sistema'!S12+'24. Transportavimo sistema'!S12+'25. Lietaus surinkimo sistema'!S12)","v":0},{"$f":"SUM('1. Pamatai'!T12+'2. Perdangos'!T12+'3. Sienos'!T12+'4. Durys'!T12+'5. Langai'!T12+'6. Laiptai'!T12+'7. Stogas'!T12+'8. Vidaus apdaila'!T12+'9. Išorės apdaila'!T12+'10. Šildymo sistema (vidaus)'!T12+'11. Šildymo sistema (lauko)'!T12+'12. Šaldymas ir oro kondiciona'!T12+'13. Ventiliacija'!T12+'14. Vandentiekio sistema (vida'!T12+'15. Vandentiekio sistema (lauk'!T12+'16. Nuotekų šalinimo sistema'!T12+'17. Nuotekų šalinimo sistema'!T12+'18. Elektros instaliacija (vid'!T12+'19. Elektros instaliacija (lau'!T12+'20. Dujos'!T12+'21. Apsaugos sistema'!T12+'22. Telekomunikacijos'!T12+'23. Gaisro gesinimo sistema'!T12+'24. Transportavimo sistema'!T12+'25. Lietaus surinkimo sistema'!T12)","v":0},{"$f":"SUM('1. Pamatai'!U12+'2. Perdangos'!U12+'3. Sienos'!U12+'4. Durys'!U12+'5. Langai'!U12+'6. Laiptai'!U12+'7. Stogas'!U12+'8. Vidaus apdaila'!U12+'9. Išorės apdaila'!U12+'10. Šildymo sistema (vidaus)'!U12+'11. Šildymo sistema (lauko)'!U12+'12. Šaldymas ir oro kondiciona'!U12+'13. Ventiliacija'!U12+'14. Vandentiekio sistema (vida'!U12+'15. Vandentiekio sistema (lauk'!U12+'16. Nuotekų šalinimo sistema'!U12+'17. Nuotekų šalinimo sistema'!U12+'18. Elektros instaliacija (vid'!U12+'19. Elektros instaliacija (lau'!U12+'20. Dujos'!U12+'21. Apsaugos sistema'!U12+'22. Telekomunikacijos'!U12+'23. Gaisro gesinimo sistema'!U12+'24. Transportavimo sistema'!U12+'25. Lietaus surinkimo sistema'!U12)","v":0}]
[null,"Iš viso (A + B)",{"$f":"C10+C18","v":0},{"$f":"D10+D18","v":0},0,0,0,0,0,0,0,0]
[]
[null,"Eksploatavimo ir veiklos išlaidos","Iš viso, EUR",{"$f":"YEAR('Bendrieji įvesties duomenys'!$C$6)+COLUMN(C22)-3","v":2019},{"$f":"YEAR('Bendrieji įvesties duomenys'!$C$6)+COLUMN(D22)-3","v":2020},{"$f":"YEAR('Bendrieji įvesties duomenys'!$C$6)+COLUMN(E22)-3","v":2021},{"$f":"YEAR('Bendrieji įvesties duomenys'!$C$6)+COLUMN(F22)-3","v":2022},{"$f":"YEAR('Bendrieji įvesties duomenys'!$C$6)+COLUMN(G22)-3","v":2023},{"$f":"YEAR('Bendrieji įvesties duomenys'!$C$6)+COLUMN(H22)-3","v":2024},{"$f":"YEAR('Bendrieji įvesties duomenys'!$C$6)+COLUMN(I22)-3","v":2025},{"$f":"YEAR('Bendrieji įvesties duomenys'!$C$6)+COLUMN(J22)-3","v":2026},{"$f":"YEAR('Bendrieji įvesties duomenys'!$C$6)+COLUMN(K22)-3","v":2027}]
[]
[null,"D. Veiklos išlaidos laikantis rinkoje taikomų eksploatavimo apimčių",{"$f":"SUM(D24:OFFSET(D24,0,1000))","v":0},{"$f":"SUM('1. Pamatai'!M16+'2. Perdangos'!M16+'3. Sienos'!M16+'4. Durys'!M16+'5. Langai'!M16+'6. Laiptai'!M16+'7. Stogas'!M16+'8. Vidaus apdaila'!M16+'9. Išorės apdaila'!M16+'10. Šildymo sistema (vidaus)'!M16+'11. Šildymo sistema (lauko)'!M16+'12. Šaldymas ir oro kondiciona'!M16+'13. Ventiliacija'!M16+'14. Vandentiekio sistema (vida'!M16+'15. Vandentiekio sistema (lauk'!M16+'16. Nuotekų šalinimo sistema'!M16+'17. Nuotekų šalinimo sistema'!M16+'18. Elektros instaliacija (vid'!M16+'19. Elektros instaliacija (lau'!M16+'20. Dujos'!M16+'21. Apsaugos sistema'!M16+'22. Telekomunikacijos'!M16+'23. Gaisro gesinimo sistema'!M16+'24. Transportavimo sistema'!M16+'25. Lietaus surinkimo sistema'!M16)","v":0},{"$f":"SUM('1. Pamatai'!N16+'2. Perdangos'!N16+'3. Sienos'!N16+'4. Durys'!N16+'5. Langai'!N16+'6. Laiptai'!N16+'7. Stogas'!N16+'8. Vidaus apdaila'!N16+'9. Išorės apdaila'!N16+'10. Šildymo sistema (vidaus)'!N16+'11. Šildymo sistema (lauko)'!N16+'12. Šaldymas ir oro kondiciona'!N16+'13. Ventiliacija'!N16+'14. Vandentiekio sistema (vida'!N16+'15. Vandentiekio sistema (lauk'!N16+'16. Nuotekų šalinimo sistema'!N16+'17. Nuotekų šalinimo sistema'!N16+'18. Elektros instaliacija (vid'!N16+'19. Elektros instaliacija (lau'!N16+'20. Dujos'!N16+'21. Apsaugos sistema'!N16+'22. Telekomunikacijos'!N16+'23. Gaisro gesinimo sistema'!N16+'24. Transportavimo sistema'!N16+'25. Lietaus surinkimo sistema'!N16)","v":0},{"$f":"SUM('1. Pamatai'!O16+'2. Perdangos'!O16+'3. Sienos'!O16+'4. Durys'!O16+'5. Langai'!O16+'6. Laiptai'!O16+'7. Stogas'!O16+'8. Vidaus apdaila'!O16+'9. Išorės apdaila'!O16+'10. Šildymo sistema (vidaus)'!O16+'11. Šildymo sistema (lauko)'!O16+'12. Šaldymas ir oro kondiciona'!O16+'13. Ventiliacija'!O16+'14. Vandentiekio sistema (vida'!O16+'15. Vandentiekio sistema (lauk'!O16+'16. Nuotekų šalinimo sistema'!O16+'17. Nuotekų šalinimo sistema'!O16+'18. Elektros instaliacija (vid'!O16+'19. Elektros instaliacija (lau'!O16+'20. Dujos'!O16+'21. Apsaugos sistema'!O16+'22. Telekomunikacijos'!O16+'23. Gaisro gesinimo sistema'!O16+'24. Transportavimo sistema'!O16+'25. Lietaus surinkimo sistema'!O16)","v":0},{"$f":"SUM('1. Pamatai'!P16+'2. Perdangos'!P16+'3. Sienos'!P16+'4. Durys'!P16+'5. Langai'!P16+'6. Laiptai'!P16+'7. Stogas'!P16+'8. Vidaus apdaila'!P16+'9. Išorės apdaila'!P16+'10. Šildymo sistema (vidaus)'!P16+'11. Šildymo sistema (lauko)'!P16+'12. Šaldymas ir oro kondiciona'!P16+'13. Ventiliacija'!P16+'14. Vandentiekio sistema (vida'!P16+'15. Vandentiekio sistema (lauk'!P16+'16. Nuotekų šalinimo sistema'!P16+'17. Nuotekų šalinimo sistema'!P16+'18. Elektros instaliacija (vid'!P16+'19. Elektros instaliacija (lau'!P16+'20. Dujos'!P16+'21. Apsaugos sistema'!P16+'22. Telekomunikacijos'!P16+'23. Gaisro gesinimo sistema'!P16+'24. Transportavimo sistema'!P16+'25. Lietaus surinkimo sistema'!P16)","v":0},{"$f":"SUM('1. Pamatai'!Q16+'2. Perdangos'!Q16+'3. Sienos'!Q16+'4. Durys'!Q16+'5. Langai'!Q16+'6. Laiptai'!Q16+'7. Stogas'!Q16+'8. Vidaus apdaila'!Q16+'9. Išorės apdaila'!Q16+'10. Šildymo sistema (vidaus)'!Q16+'11. Šildymo sistema (lauko)'!Q16+'12. Šaldymas ir oro kondiciona'!Q16+'13. Ventiliacija'!Q16+'14. Vandentiekio sistema (vida'!Q16+'15. Vandentiekio sistema (lauk'!Q16+'16. Nuotekų šalinimo sistema'!Q16+'17. Nuotekų šalinimo sistema'!Q16+'18. Elektros instaliacija (vid'!Q16+'19. Elektros instaliacija (lau'!Q16+'20. Dujos'!Q16+'21. Apsaugos sistema'!Q16+'22. Telekomunikacijos'!Q16+'23. Gaisro gesinimo sistema'!Q16+'24. Transportavimo sistema'!Q16+'25. Lietaus surinkimo sistema'!Q16)","v":0},{"$f":"SUM('1. Pamatai'!R16+'2. Perdangos'!R16+'3. Sienos'!R16+'4. Durys'!R16+'5. Langai'!R16+'6. Laiptai'!R16+'7. Stogas'!R16+'8. Vidaus apdaila'!R16+'9. Išorės apdaila'!R16+'10. Šildymo sistema (vidaus)'!R16+'11. Šildymo sistema (lauko)'!R16+'12. Šaldymas ir oro kondiciona'!R16+'13. Ventiliacija'!R16+'14. Vandentiekio sistema (vida'!R16+'15. Vandentiekio sistema (lauk'!R16+'16. Nuotekų šalinimo sistema'!R16+'17. Nuotekų šalinimo sistema'!R16+'18. Elektros instaliacija (vid'!R16+'19. Elektros instaliacija (lau'!R16+'20. Dujos'!R16+'21. Apsaugos sistema'!R16+'22. Telekomunikacijos'!R16+'23. Gaisro gesinimo sistema'!R16+'24. Transportavimo sistema'!R16+'25. Lietaus surinkimo sistema'!R16)","v":0},{"$f":"SUM('1. Pamatai'!S16+'2. Perdangos'!S16+'3. Sienos'!S16+'4. Durys'!S16+'5. Langai'!S16+'6. Laiptai'!S16+'7. Stogas'!S16+'8. Vidaus apdaila'!S16+'9. Išorės apdaila'!S16+'10. Šildymo sistema (vidaus)'!S16+'11. Šildymo sistema (lauko)'!S16+'12. Šaldymas ir oro kondiciona'!S16+'13. Ventiliacija'!S16+'14. Vandentiekio sistema (vida'!S16+'15. Vandentiekio sistema (lauk'!S16+'16. Nuotekų šalinimo sistema'!S16+'17. Nuotekų šalinimo sistema'!S16+'18. Elektros instaliacija (vid'!S16+'19. Elektros instaliacija (lau'!S16+'20. Dujos'!S16+'21. Apsaugos sistema'!S16+'22. Telekomunikacijos'!S16+'23. Gaisro gesinimo sistema'!S16+'24. Transportavimo sistema'!S16+'25. Lietaus surinkimo sistema'!S16)","v":0},{"$f":"SUM('1. Pamatai'!T16+'2. Perdangos'!T16+'3. Sienos'!T16+'4. Durys'!T16+'5. Langai'!T16+'6. Laiptai'!T16+'7. Stogas'!T16+'8. Vidaus apdaila'!T16+'9. Išorės apdaila'!T16+'10. Šildymo sistema (vidaus)'!T16+'11. Šildymo sistema (lauko)'!T16+'12. Šaldymas ir oro kondiciona'!T16+'13. Ventiliacija'!T16+'14. Vandentiekio sistema (vida'!T16+'15. Vandentiekio sistema (lauk'!T16+'16. Nuotekų šalinimo sistema'!T16+'17. Nuotekų šalinimo sistema'!T16+'18. Elektros instaliacija (vid'!T16+'19. Elektros instaliacija (lau'!T16+'20. Dujos'!T16+'21. Apsaugos sistema'!T16+'22. Telekomunikacijos'!T16+'23. Gaisro gesinimo sistema'!T16+'24. Transportavimo sistema'!T16+'25. Lietaus surinkimo sistema'!T16)","v":0},{"$f":"SUM('1. Pamatai'!U16+'2. Perdangos'!U16+'3. Sienos'!U16+'4. Durys'!U16+'5. Langai'!U16+'6. Laiptai'!U16+'7. Stogas'!U16+'8. Vidaus apdaila'!U16+'9. Išorės apdaila'!U16+'10. Šildymo sistema (vidaus)'!U16+'11. Šildymo sistema (lauko)'!U16+'12. Šaldymas ir oro kondiciona'!U16+'13. Ventiliacija'!U16+'14. Vandentiekio sistema (vida'!U16+'15. Vandentiekio sistema (lauk'!U16+'16. Nuotekų šalinimo sistema'!U16+'17. Nuotekų šalinimo sistema'!U16+'18. Elektros instaliacija (vid'!U16+'19. Elektros instaliacija (lau'!U16+'20. Dujos'!U16+'21. Apsaugos sistema'!U16+'22. Telekomunikacijos'!U16+'23. Gaisro gesinimo sistema'!U16+'24. Transportavimo sistema'!U16+'25. Lietaus surinkimo sistema'!U16)","v":0}]
[null,"D. Veiklos išlaidos laikantis pildančios institucijos taikomų eksploatavimo apimčių",{"$f":"SUM(D25:OFFSET(D25,0,1000))","v":0},{"$f":"SUM('1. Pamatai'!M17+'2. Perdangos'!M17+'3. Sienos'!M17+'4. Durys'!M17+'5. Langai'!M17+'6. Laiptai'!M17+'7. Stogas'!M17+'8. Vidaus apdaila'!M17+'9. Išorės apdaila'!M17+'10. Šildymo sistema (vidaus)'!M17+'11. Šildymo sistema (lauko)'!M17+'12. Šaldymas ir oro kondiciona'!M17+'13. Ventiliacija'!M17+'14. Vandentiekio sistema (vida'!M17+'15. Vandentiekio sistema (lauk'!M17+'16. Nuotekų šalinimo sistema'!M17+'17. Nuotekų šalinimo sistema'!M17+'18. Elektros instaliacija (vid'!M17+'19. Elektros instaliacija (lau'!M17+'20. Dujos'!M17+'21. Apsaugos sistema'!M17+'22. Telekomunikacijos'!M17+'23. Gaisro gesinimo sistema'!M17+'24. Transportavimo sistema'!M17+'25. Lietaus surinkimo sistema'!M17)","v":0},{"$f":"SUM('1. Pamatai'!N17+'2. Perdangos'!N17+'3. Sienos'!N17+'4. Durys'!N17+'5. Langai'!N17+'6. Laiptai'!N17+'7. Stogas'!N17+'8. Vidaus apdaila'!N17+'9. Išorės apdaila'!N17+'10. Šildymo sistema (vidaus)'!N17+'11. Šildymo sistema (lauko)'!N17+'12. Šaldymas ir oro kondiciona'!N17+'13. Ventiliacija'!N17+'14. Vandentiekio sistema (vida'!N17+'15. Vandentiekio sistema (lauk'!N17+'16. Nuotekų šalinimo sistema'!N17+'17. Nuotekų šalinimo sistema'!N17+'18. Elektros instaliacija (vid'!N17+'19. Elektros instaliacija (lau'!N17+'20. Dujos'!N17+'21. Apsaugos sistema'!N17+'22. Telekomunikacijos'!N17+'23. Gaisro gesinimo sistema'!N17+'24. Transportavimo sistema'!N17+'25. Lietaus surinkimo sistema'!N17)","v":0},{"$f":"SUM('1. Pamatai'!O17+'2. Perdangos'!O17+'3. Sienos'!O17+'4. Durys'!O17+'5. Langai'!O17+'6. Laiptai'!O17+'7. Stogas'!O17+'8. Vidaus apdaila'!O17+'9. Išorės apdaila'!O17+'10. Šildymo sistema (vidaus)'!O17+'11. Šildymo sistema (lauko)'!O17+'12. Šaldymas ir oro kondiciona'!O17+'13. Ventiliacija'!O17+'14. Vandentiekio sistema (vida'!O17+'15. Vandentiekio sistema (lauk'!O17+'16. Nuotekų šalinimo sistema'!O17+'17. Nuotekų šalinimo sistema'!O17+'18. Elektros instaliacija (vid'!O17+'19. Elektros instaliacija (lau'!O17+'20. Dujos'!O17+'21. Apsaugos sistema'!O17+'22. Telekomunikacijos'!O17+'23. Gaisro gesinimo sistema'!O17+'24. Transportavimo sistema'!O17+'25. Lietaus surinkimo sistema'!O17)","v":0},{"$f":"SUM('1. Pamatai'!P17+'2. Perdangos'!P17+'3. Sienos'!P17+'4. Durys'!P17+'5. Langai'!P17+'6. Laiptai'!P17+'7. Stogas'!P17+'8. Vidaus apdaila'!P17+'9. Išorės apdaila'!P17+'10. Šildymo sistema (vidaus)'!P17+'11. Šildymo sistema (lauko)'!P17+'12. Šaldymas ir oro kondiciona'!P17+'13. Ventiliacija'!P17+'14. Vandentiekio sistema (vida'!P17+'15. Vandentiekio sistema (lauk'!P17+'16. Nuotekų šalinimo sistema'!P17+'17. Nuotekų šalinimo sistema'!P17+'18. Elektros instaliacija (vid'!P17+'19. Elektros instaliacija (lau'!P17+'20. Dujos'!P17+'21. Apsaugos sistema'!P17+'22. Telekomunikacijos'!P17+'23. Gaisro gesinimo sistema'!P17+'24. Transportavimo sistema'!P17+'25. Lietaus surinkimo sistema'!P17)","v":0},{"$f":"SUM('1. Pamatai'!Q17+'2. Perdangos'!Q17+'3. Sienos'!Q17+'4. Durys'!Q17+'5. Langai'!Q17+'6. Laiptai'!Q17+'7. Stogas'!Q17+'8. Vidaus apdaila'!Q17+'9. Išorės apdaila'!Q17+'10. Šildymo sistema (vidaus)'!Q17+'11. Šildymo sistema (lauko)'!Q17+'12. Šaldymas ir oro kondiciona'!Q17+'13. Ventiliacija'!Q17+'14. Vandentiekio sistema (vida'!Q17+'15. Vandentiekio sistema (lauk'!Q17+'16. Nuotekų šalinimo sistema'!Q17+'17. Nuotekų šalinimo sistema'!Q17+'18. Elektros instaliacija (vid'!Q17+'19. Elektros instaliacija (lau'!Q17+'20. Dujos'!Q17+'21. Apsaugos sistema'!Q17+'22. Telekomunikacijos'!Q17+'23. Gaisro gesinimo sistema'!Q17+'24. Transportavimo sistema'!Q17+'25. Lietaus surinkimo sistema'!Q17)","v":0},{"$f":"SUM('1. Pamatai'!R17+'2. Perdangos'!R17+'3. Sienos'!R17+'4. Durys'!R17+'5. Langai'!R17+'6. Laiptai'!R17+'7. Stogas'!R17+'8. Vidaus apdaila'!R17+'9. Išorės apdaila'!R17+'10. Šildymo sistema (vidaus)'!R17+'11. Šildymo sistema (lauko)'!R17+'12. Šaldymas ir oro kondiciona'!R17+'13. Ventiliacija'!R17+'14. Vandentiekio sistema (vida'!R17+'15. Vandentiekio sistema (lauk'!R17+'16. Nuotekų šalinimo sistema'!R17+'17. Nuotekų šalinimo sistema'!R17+'18. Elektros instaliacija (vid'!R17+'19. Elektros instaliacija (lau'!R17+'20. Dujos'!R17+'21. Apsaugos sistema'!R17+'22. Telekomunikacijos'!R17+'23. Gaisro gesinimo sistema'!R17+'24. Transportavimo sistema'!R17+'25. Lietaus surinkimo sistema'!R17)","v":0},{"$f":"SUM('1. Pamatai'!S17+'2. Perdangos'!S17+'3. Sienos'!S17+'4. Durys'!S17+'5. Langai'!S17+'6. Laiptai'!S17+'7. Stogas'!S17+'8. Vidaus apdaila'!S17+'9. Išorės apdaila'!S17+'10. Šildymo sistema (vidaus)'!S17+'11. Šildymo sistema (lauko)'!S17+'12. Šaldymas ir oro kondiciona'!S17+'13. Ventiliacija'!S17+'14. Vandentiekio sistema (vida'!S17+'15. Vandentiekio sistema (lauk'!S17+'16. Nuotekų šalinimo sistema'!S17+'17. Nuotekų šalinimo sistema'!S17+'18. Elektros instaliacija (vid'!S17+'19. Elektros instaliacija (lau'!S17+'20. Dujos'!S17+'21. Apsaugos sistema'!S17+'22. Telekomunikacijos'!S17+'23. Gaisro gesinimo sistema'!S17+'24. Transportavimo sistema'!S17+'25. Lietaus surinkimo sistema'!S17)","v":0},{"$f":"SUM('1. Pamatai'!T17+'2. Perdangos'!T17+'3. Sienos'!T17+'4. Durys'!T17+'5. Langai'!T17+'6. Laiptai'!T17+'7. Stogas'!T17+'8. Vidaus apdaila'!T17+'9. Išorės apdaila'!T17+'10. Šildymo sistema (vidaus)'!T17+'11. Šildymo sistema (lauko)'!T17+'12. Šaldymas ir oro kondiciona'!T17+'13. Ventiliacija'!T17+'14. Vandentiekio sistema (vida'!T17+'15. Vandentiekio sistema (lauk'!T17+'16. Nuotekų šalinimo sistema'!T17+'17. Nuotekų šalinimo sistema'!T17+'18. Elektros instaliacija (vid'!T17+'19. Elektros instaliacija (lau'!T17+'20. Dujos'!T17+'21. Apsaugos sistema'!T17+'22. Telekomunikacijos'!T17+'23. Gaisro gesinimo sistema'!T17+'24. Transportavimo sistema'!T17+'25. Lietaus surinkimo sistema'!T17)","v":0},{"$f":"SUM('1. Pamatai'!U17+'2. Perdangos'!U17+'3. Sienos'!U17+'4. Durys'!U17+'5. Langai'!U17+'6. Laiptai'!U17+'7. Stogas'!U17+'8. Vidaus apdaila'!U17+'9. Išorės apdaila'!U17+'10. Šildymo sistema (vidaus)'!U17+'11. Šildymo sistema (lauko)'!U17+'12. Šaldymas ir oro kondiciona'!U17+'13. Ventiliacija'!U17+'14. Vandentiekio sistema (vida'!U17+'15. Vandentiekio sistema (lauk'!U17+'16. Nuotekų šalinimo sistema'!U17+'17. Nuotekų šalinimo sistema'!U17+'18. Elektros instaliacija (vid'!U17+'19. Elektros instaliacija (lau'!U17+'20. Dujos'!U17+'21. Apsaugos sistema'!U17+'22. Telekomunikacijos'!U17+'23. Gaisro gesinimo sistema'!U17+'24. Transportavimo sistema'!U17+'25. Lietaus surinkimo sistema'!U17)","v":0}]
[null,"D.1.Žaliavos",{"$f":"SUM(D26:OFFSET(D26,0,1000))","v":0},{"$f":"SUM('1. Pamatai'!M18+'2. Perdangos'!M18+'3. Sienos'!M18+'4. Durys'!M18+'5. Langai'!M18+'6. Laiptai'!M18+'7. Stogas'!M18+'8. Vidaus apdaila'!M18+'9. Išorės apdaila'!M18+'10. Šildymo sistema (vidaus)'!M18+'11. Šildymo sistema (lauko)'!M18+'12. Šaldymas ir oro kondiciona'!M18+'13. Ventiliacija'!M18+'14. Vandentiekio sistema (vida'!M18+'15. Vandentiekio sistema (lauk'!M18+'16. Nuotekų šalinimo sistema'!M18+'17. Nuotekų šalinimo sistema'!M18+'18. Elektros instaliacija (vid'!M18+'19. Elektros instaliacija (lau'!M18+'20. Dujos'!M18+'21. Apsaugos sistema'!M18+'22. Telekomunikacijos'!M18+'23. Gaisro gesinimo sistema'!M18+'24. Transportavimo sistema'!M18+'25. Lietaus surinkimo sistema'!M18++'Bendrosios pastato išlaidos'!F24)","v":0},{"$f":"SUM('1. Pamatai'!N18+'2. Perdangos'!N18+'3. Sienos'!N18+'4. Durys'!N18+'5. Langai'!N18+'6. Laiptai'!N18+'7. Stogas'!N18+'8. Vidaus apdaila'!N18+'9. Išorės apdaila'!N18+'10. Šildymo sistema (vidaus)'!N18+'11. Šildymo sistema (lauko)'!N18+'12. Šaldymas ir oro kondiciona'!N18+'13. Ventiliacija'!N18+'14. Vandentiekio sistema (vida'!N18+'15. Vandentiekio sistema (lauk'!N18+'16. Nuotekų šalinimo sistema'!N18+'17. Nuotekų šalinimo sistema'!N18+'18. Elektros instaliacija (vid'!N18+'19. Elektros instaliacija (lau'!N18+'20. Dujos'!N18+'21. Apsaugos sistema'!N18+'22. Telekomunikacijos'!N18+'23. Gaisro gesinimo sistema'!N18+'24. Transportavimo sistema'!N18+'25. Lietaus surinkimo sistema'!N18++'Bendrosios pastato išlaidos'!G24)","v":0},{"$f":"SUM('1. Pamatai'!O18+'2. Perdangos'!O18+'3. Sienos'!O18+'4. Durys'!O18+'5. Langai'!O18+'6. Laiptai'!O18+'7. Stogas'!O18+'8. Vidaus apdaila'!O18+'9. Išorės apdaila'!O18+'10. Šildymo sistema (vidaus)'!O18+'11. Šildymo sistema (lauko)'!O18+'12. Šaldymas ir oro kondiciona'!O18+'13. Ventiliacija'!O18+'14. Vandentiekio sistema (vida'!O18+'15. Vandentiekio sistema (lauk'!O18+'16. Nuotekų šalinimo sistema'!O18+'17. Nuotekų šalinimo sistema'!O18+'18. Elektros instaliacija (vid'!O18+'19. Elektros instaliacija (lau'!O18+'20. Dujos'!O18+'21. Apsaugos sistema'!O18+'22. Telekomunikacijos'!O18+'23. Gaisro gesinimo sistema'!O18+'24. Transportavimo sistema'!O18+'25. Lietaus surinkimo sistema'!O18++'Bendrosios pastato išlaidos'!H24)","v":0},{"$f":"SUM('1. Pamatai'!P18+'2. Perdangos'!P18+'3. Sienos'!P18+'4. Durys'!P18+'5. Langai'!P18+'6. Laiptai'!P18+'7. Stogas'!P18+'8. Vidaus apdaila'!P18+'9. Išorės apdaila'!P18+'10. Šildymo sistema (vidaus)'!P18+'11. Šildymo sistema (lauko)'!P18+'12. Šaldymas ir oro kondiciona'!P18+'13. Ventiliacija'!P18+'14. Vandentiekio sistema (vida'!P18+'15. Vandentiekio sistema (lauk'!P18+'16. Nuotekų šalinimo sistema'!P18+'17. Nuotekų šalinimo sistema'!P18+'18. Elektros instaliacija (vid'!P18+'19. Elektros instaliacija (lau'!P18+'20. Dujos'!P18+'21. Apsaugos sistema'!P18+'22. Telekomunikacijos'!P18+'23. Gaisro gesinimo sistema'!P18+'24. Transportavimo sistema'!P18+'25. Lietaus surinkimo sistema'!P18++'Bendrosios pastato išlaidos'!I24)","v":0},{"$f":"SUM('1. Pamatai'!Q18+'2. Perdangos'!Q18+'3. Sienos'!Q18+'4. Durys'!Q18+'5. Langai'!Q18+'6. Laiptai'!Q18+'7. Stogas'!Q18+'8. Vidaus apdaila'!Q18+'9. Išorės apdaila'!Q18+'10. Šildymo sistema (vidaus)'!Q18+'11. Šildymo sistema (lauko)'!Q18+'12. Šaldymas ir oro kondiciona'!Q18+'13. Ventiliacija'!Q18+'14. Vandentiekio sistema (vida'!Q18+'15. Vandentiekio sistema (lauk'!Q18+'16. Nuotekų šalinimo sistema'!Q18+'17. Nuotekų šalinimo sistema'!Q18+'18. Elektros instaliacija (vid'!Q18+'19. Elektros instaliacija (lau'!Q18+'20. Dujos'!Q18+'21. Apsaugos sistema'!Q18+'22. Telekomunikacijos'!Q18+'23. Gaisro gesinimo sistema'!Q18+'24. Transportavimo sistema'!Q18+'25. Lietaus surinkimo sistema'!Q18++'Bendrosios pastato išlaidos'!J24)","v":0},{"$f":"SUM('1. Pamatai'!R18+'2. Perdangos'!R18+'3. Sienos'!R18+'4. Durys'!R18+'5. Langai'!R18+'6. Laiptai'!R18+'7. Stogas'!R18+'8. Vidaus apdaila'!R18+'9. Išorės apdaila'!R18+'10. Šildymo sistema (vidaus)'!R18+'11. Šildymo sistema (lauko)'!R18+'12. Šaldymas ir oro kondiciona'!R18+'13. Ventiliacija'!R18+'14. Vandentiekio sistema (vida'!R18+'15. Vandentiekio sistema (lauk'!R18+'16. Nuotekų šalinimo sistema'!R18+'17. Nuotekų šalinimo sistema'!R18+'18. Elektros instaliacija (vid'!R18+'19. Elektros instaliacija (lau'!R18+'20. Dujos'!R18+'21. Apsaugos sistema'!R18+'22. Telekomunikacijos'!R18+'23. Gaisro gesinimo sistema'!R18+'24. Transportavimo sistema'!R18+'25. Lietaus surinkimo sistema'!R18++'Bendrosios pastato išlaidos'!K24)","v":0},{"$f":"SUM('1. Pamatai'!S18+'2. Perdangos'!S18+'3. Sienos'!S18+'4. Durys'!S18+'5. Langai'!S18+'6. Laiptai'!S18+'7. Stogas'!S18+'8. Vidaus apdaila'!S18+'9. Išorės apdaila'!S18+'10. Šildymo sistema (vidaus)'!S18+'11. Šildymo sistema (lauko)'!S18+'12. Šaldymas ir oro kondiciona'!S18+'13. Ventiliacija'!S18+'14. Vandentiekio sistema (vida'!S18+'15. Vandentiekio sistema (lauk'!S18+'16. Nuotekų šalinimo sistema'!S18+'17. Nuotekų šalinimo sistema'!S18+'18. Elektros instaliacija (vid'!S18+'19. Elektros instaliacija (lau'!S18+'20. Dujos'!S18+'21. Apsaugos sistema'!S18+'22. Telekomunikacijos'!S18+'23. Gaisro gesinimo sistema'!S18+'24. Transportavimo sistema'!S18+'25. Lietaus surinkimo sistema'!S18++'Bendrosios pastato išlaidos'!L24)","v":0},{"$f":"SUM('1. Pamatai'!T18+'2. Perdangos'!T18+'3. Sienos'!T18+'4. Durys'!T18+'5. Langai'!T18+'6. Laiptai'!T18+'7. Stogas'!T18+'8. Vidaus apdaila'!T18+'9. Išorės apdaila'!T18+'10. Šildymo sistema (vidaus)'!T18+'11. Šildymo sistema (lauko)'!T18+'12. Šaldymas ir oro kondiciona'!T18+'13. Ventiliacija'!T18+'14. Vandentiekio sistema (vida'!T18+'15. Vandentiekio sistema (lauk'!T18+'16. Nuotekų šalinimo sistema'!T18+'17. Nuotekų šalinimo sistema'!T18+'18. Elektros instaliacija (vid'!T18+'19. Elektros instaliacija (lau'!T18+'20. Dujos'!T18+'21. Apsaugos sistema'!T18+'22. Telekomunikacijos'!T18+'23. Gaisro gesinimo sistema'!T18+'24. Transportavimo sistema'!T18+'25. Lietaus surinkimo sistema'!T18++'Bendrosios pastato išlaidos'!M24)","v":0},{"$f":"SUM('1. Pamatai'!U18+'2. Perdangos'!U18+'3. Sienos'!U18+'4. Durys'!U18+'5. Langai'!U18+'6. Laiptai'!U18+'7. Stogas'!U18+'8. Vidaus apdaila'!U18+'9. Išorės apdaila'!U18+'10. Šildymo sistema (vidaus)'!U18+'11. Šildymo sistema (lauko)'!U18+'12. Šaldymas ir oro kondiciona'!U18+'13. Ventiliacija'!U18+'14. Vandentiekio sistema (vida'!U18+'15. Vandentiekio sistema (lauk'!U18+'16. Nuotekų šalinimo sistema'!U18+'17. Nuotekų šalinimo sistema'!U18+'18. Elektros instaliacija (vid'!U18+'19. Elektros instaliacija (lau'!U18+'20. Dujos'!U18+'21. Apsaugos sistema'!U18+'22. Telekomunikacijos'!U18+'23. Gaisro gesinimo sistema'!U18+'24. Transportavimo sistema'!U18+'25. Lietaus surinkimo sistema'!U18++'Bendrosios pastato išlaidos'!N24)","v":0}]
[null,"D.2. Darbo užmokesčio išlaidos",{"$f":"SUM(D27:OFFSET(D27,0,1000))","v":0},{"$f":"SUM('1. Pamatai'!M19+'2. Perdangos'!M19+'3. Sienos'!M19+'4. Durys'!M19+'5. Langai'!M19+'6. Laiptai'!M19+'7. Stogas'!M19+'8. Vidaus apdaila'!M19+'9. Išorės apdaila'!M19+'10. Šildymo sistema (vidaus)'!M19+'11. Šildymo sistema (lauko)'!M19+'12. Šaldymas ir oro kondiciona'!M19+'13. Ventiliacija'!M19+'14. Vandentiekio sistema (vida'!M19+'15. Vandentiekio sistema (lauk'!M19+'16. Nuotekų šalinimo sistema'!M19+'17. Nuotekų šalinimo sistema'!M19+'18. Elektros instaliacija (vid'!M19+'19. Elektros instaliacija (lau'!M19+'20. Dujos'!M19+'21. Apsaugos sistema'!M19+'22. Telekomunikacijos'!M19+'23. Gaisro gesinimo sistema'!M19+'24. Transportavimo sistema'!M19+'25. Lietaus surinkimo sistema'!M19++'Bendrosios pastato išlaidos'!F25)","v":0},{"$f":"SUM('1. Pamatai'!N19+'2. Perdangos'!N19+'3. Sienos'!N19+'4. Durys'!N19+'5. Langai'!N19+'6. Laiptai'!N19+'7. Stogas'!N19+'8. Vidaus apdaila'!N19+'9. Išorės apdaila'!N19+'10. Šildymo sistema (vidaus)'!N19+'11. Šildymo sistema (lauko)'!N19+'12. Šaldymas ir oro kondiciona'!N19+'13. Ventiliacija'!N19+'14. Vandentiekio sistema (vida'!N19+'15. Vandentiekio sistema (lauk'!N19+'16. Nuotekų šalinimo sistema'!N19+'17. Nuotekų šalinimo sistema'!N19+'18. Elektros instaliacija (vid'!N19+'19. Elektros instaliacija (lau'!N19+'20. Dujos'!N19+'21. Apsaugos sistema'!N19+'22. Telekomunikacijos'!N19+'23. Gaisro gesinimo sistema'!N19+'24. Transportavimo sistema'!N19+'25. Lietaus surinkimo sistema'!N19++'Bendrosios pastato išlaidos'!G25)","v":0},{"$f":"SUM('1. Pamatai'!O19+'2. Perdangos'!O19+'3. Sienos'!O19+'4. Durys'!O19+'5. Langai'!O19+'6. Laiptai'!O19+'7. Stogas'!O19+'8. Vidaus apdaila'!O19+'9. Išorės apdaila'!O19+'10. Šildymo sistema (vidaus)'!O19+'11. Šildymo sistema (lauko)'!O19+'12. Šaldymas ir oro kondiciona'!O19+'13. Ventiliacija'!O19+'14. Vandentiekio sistema (vida'!O19+'15. Vandentiekio sistema (lauk'!O19+'16. Nuotekų šalinimo sistema'!O19+'17. Nuotekų šalinimo sistema'!O19+'18. Elektros instaliacija (vid'!O19+'19. Elektros instaliacija (lau'!O19+'20. Dujos'!O19+'21. Apsaugos sistema'!O19+'22. Telekomunikacijos'!O19+'23. Gaisro gesinimo sistema'!O19+'24. Transportavimo sistema'!O19+'25. Lietaus surinkimo sistema'!O19++'Bendrosios pastato išlaidos'!H25)","v":0},{"$f":"SUM('1. Pamatai'!P19+'2. Perdangos'!P19+'3. Sienos'!P19+'4. Durys'!P19+'5. Langai'!P19+'6. Laiptai'!P19+'7. Stogas'!P19+'8. Vidaus apdaila'!P19+'9. Išorės apdaila'!P19+'10. Šildymo sistema (vidaus)'!P19+'11. Šildymo sistema (lauko)'!P19+'12. Šaldymas ir oro kondiciona'!P19+'13. Ventiliacija'!P19+'14. Vandentiekio sistema (vida'!P19+'15. Vandentiekio sistema (lauk'!P19+'16. Nuotekų šalinimo sistema'!P19+'17. Nuotekų šalinimo sistema'!P19+'18. Elektros instaliacija (vid'!P19+'19. Elektros instaliacija (lau'!P19+'20. Dujos'!P19+'21. Apsaugos sistema'!P19+'22. Telekomunikacijos'!P19+'23. Gaisro gesinimo sistema'!P19+'24. Transportavimo sistema'!P19+'25. Lietaus surinkimo sistema'!P19++'Bendrosios pastato išlaidos'!I25)","v":0},{"$f":"SUM('1. Pamatai'!Q19+'2. Perdangos'!Q19+'3. Sienos'!Q19+'4. Durys'!Q19+'5. Langai'!Q19+'6. Laiptai'!Q19+'7. Stogas'!Q19+'8. Vidaus apdaila'!Q19+'9. Išorės apdaila'!Q19+'10. Šildymo sistema (vidaus)'!Q19+'11. Šildymo sistema (lauko)'!Q19+'12. Šaldymas ir oro kondiciona'!Q19+'13. Ventiliacija'!Q19+'14. Vandentiekio sistema (vida'!Q19+'15. Vandentiekio sistema (lauk'!Q19+'16. Nuotekų šalinimo sistema'!Q19+'17. Nuotekų šalinimo sistema'!Q19+'18. Elektros instaliacija (vid'!Q19+'19. Elektros instaliacija (lau'!Q19+'20. Dujos'!Q19+'21. Apsaugos sistema'!Q19+'22. Telekomunikacijos'!Q19+'23. Gaisro gesinimo sistema'!Q19+'24. Transportavimo sistema'!Q19+'25. Lietaus surinkimo sistema'!Q19++'Bendrosios pastato išlaidos'!J25)","v":0},{"$f":"SUM('1. Pamatai'!R19+'2. Perdangos'!R19+'3. Sienos'!R19+'4. Durys'!R19+'5. Langai'!R19+'6. Laiptai'!R19+'7. Stogas'!R19+'8. Vidaus apdaila'!R19+'9. Išorės apdaila'!R19+'10. Šildymo sistema (vidaus)'!R19+'11. Šildymo sistema (lauko)'!R19+'12. Šaldymas ir oro kondiciona'!R19+'13. Ventiliacija'!R19+'14. Vandentiekio sistema (vida'!R19+'15. Vandentiekio sistema (lauk'!R19+'16. Nuotekų šalinimo sistema'!R19+'17. Nuotekų šalinimo sistema'!R19+'18. Elektros instaliacija (vid'!R19+'19. Elektros instaliacija (lau'!R19+'20. Dujos'!R19+'21. Apsaugos sistema'!R19+'22. Telekomunikacijos'!R19+'23. Gaisro gesinimo sistema'!R19+'24. Transportavimo sistema'!R19+'25. Lietaus surinkimo sistema'!R19++'Bendrosios pastato išlaidos'!K25)","v":0},{"$f":"SUM('1. Pamatai'!S19+'2. Perdangos'!S19+'3. Sienos'!S19+'4. Durys'!S19+'5. Langai'!S19+'6. Laiptai'!S19+'7. Stogas'!S19+'8. Vidaus apdaila'!S19+'9. Išorės apdaila'!S19+'10. Šildymo sistema (vidaus)'!S19+'11. Šildymo sistema (lauko)'!S19+'12. Šaldymas ir oro kondiciona'!S19+'13. Ventiliacija'!S19+'14. Vandentiekio sistema (vida'!S19+'15. Vandentiekio sistema (lauk'!S19+'16. Nuotekų šalinimo sistema'!S19+'17. Nuotekų šalinimo sistema'!S19+'18. Elektros instaliacija (vid'!S19+'19. Elektros instaliacija (lau'!S19+'20. Dujos'!S19+'21. Apsaugos sistema'!S19+'22. Telekomunikacijos'!S19+'23. Gaisro gesinimo sistema'!S19+'24. Transportavimo sistema'!S19+'25. Lietaus surinkimo sistema'!S19++'Bendrosios pastato išlaidos'!L25)","v":0},{"$f":"SUM('1. Pamatai'!T19+'2. Perdangos'!T19+'3. Sienos'!T19+'4. Durys'!T19+'5. Langai'!T19+'6. Laiptai'!T19+'7. Stogas'!T19+'8. Vidaus apdaila'!T19+'9. Išorės apdaila'!T19+'10. Šildymo sistema (vidaus)'!T19+'11. Šildymo sistema (lauko)'!T19+'12. Šaldymas ir oro kondiciona'!T19+'13. Ventiliacija'!T19+'14. Vandentiekio sistema (vida'!T19+'15. Vandentiekio sistema (lauk'!T19+'16. Nuotekų šalinimo sistema'!T19+'17. Nuotekų šalinimo sistema'!T19+'18. Elektros instaliacija (vid'!T19+'19. Elektros instaliacija (lau'!T19+'20. Dujos'!T19+'21. Apsaugos sistema'!T19+'22. Telekomunikacijos'!T19+'23. Gaisro gesinimo sistema'!T19+'24. Transportavimo sistema'!T19+'25. Lietaus surinkimo sistema'!T19++'Bendrosios pastato išlaidos'!M25)","v":0},{"$f":"SUM('1. Pamatai'!U19+'2. Perdangos'!U19+'3. Sienos'!U19+'4. Durys'!U19+'5. Langai'!U19+'6. Laiptai'!U19+'7. Stogas'!U19+'8. Vidaus apdaila'!U19+'9. Išorės apdaila'!U19+'10. Šildymo sistema (vidaus)'!U19+'11. Šildymo sistema (lauko)'!U19+'12. Šaldymas ir oro kondiciona'!U19+'13. Ventiliacija'!U19+'14. Vandentiekio sistema (vida'!U19+'15. Vandentiekio sistema (lauk'!U19+'16. Nuotekų šalinimo sistema'!U19+'17. Nuotekų šalinimo sistema'!U19+'18. Elektros instaliacija (vid'!U19+'19. Elektros instaliacija (lau'!U19+'20. Dujos'!U19+'21. Apsaugos sistema'!U19+'22. Telekomunikacijos'!U19+'23. Gaisro gesinimo sistema'!U19+'24. Transportavimo sistema'!U19+'25. Lietaus surinkimo sistema'!U19++'Bendrosios pastato išlaidos'!N25)","v":0}]
[null,"D.3. Komunalinių paslaugų išlaidos",{"$f":"SUM(C29:C32)","v":0},0,0,0,0,0,0,0,0,0]
[null,"D.3.1. Vandens išlaidos",{"$f":"SUM(D29:OFFSET(D29,0,1000))","v":0},{"$f":"'Bendrosios pastato išlaidos'!F27","v":0},{"$f":"'Bendrosios pastato išlaidos'!G27","v":0},{"$f":"'Bendrosios pastato išlaidos'!H27","v":0},{"$f":"'Bendrosios pastato išlaidos'!I27","v":0},{"$f":"'Bendrosios pastato išlaidos'!J27","v":0},{"$f":"'Bendrosios pastato išlaidos'!K27","v":0},{"$f":"'Bendrosios pastato išlaidos'!L27","v":0},{"$f":"'Bendrosios pastato išlaidos'!M27","v":0},{"$f":"'Bendrosios pastato išlaidos'!N27","v":0}]
[null,"D.3.2. Elektros energijos išlaidos",{"$f":"SUM(D30:OFFSET(D30,0,1000))","v":0},{"$f":"'Bendrosios pastato išlaidos'!F28","v":0},{"$f":"'Bendrosios pastato išlaidos'!G28","v":0},{"$f":"'Bendrosios pastato išlaidos'!H28","v":0},{"$f":"'Bendrosios pastato išlaidos'!I28","v":0},{"$f":"'Bendrosios pastato išlaidos'!J28","v":0},{"$f":"'Bendrosios pastato išlaidos'!K28","v":0},{"$f":"'Bendrosios pastato išlaidos'!L28","v":0},{"$f":"'Bendrosios pastato išlaidos'!M28","v":0},{"$f":"'Bendrosios pastato išlaidos'!N28","v":0}]
[null,"D.3.3. Šildymo (išskyrus elektrą) išlaidos",{"$f":"SUM(D31:OFFSET(D31,0,1000))","v":0},{"$f":"'Bendrosios pastato išlaidos'!F29","v":0},{"$f":"'Bendrosios pastato išlaidos'!G29","v":0},{"$f":"'Bendrosios pastato išlaidos'!H29","v":0},{"$f":"'Bendrosios pastato išlaidos'!I29","v":0},{"$f":"'Bendrosios pastato išlaidos'!J29","v":0},{"$f":"'Bendrosios pastato išlaidos'!K29","v":0},{"$f":"'Bendrosios pastato išlaidos'!L29","v":0},{"$f":"'Bendrosios pastato išlaidos'!M29","v":0},{"$f":"'Bendrosios pastato išlaidos'!N29","v":0}]
[null,"D.3.4. Kitos komunalinės išlaidos",{"$f":"SUM(D32:OFFSET(D32,0,1000))","v":0},{"$f":"'Bendrosios pastato išlaidos'!F30","v":0},{"$f":"'Bendrosios pastato išlaidos'!G30","v":0},{"$f":"'Bendrosios pastato išlaidos'!H30","v":0},{"$f":"'Bendrosios pastato išlaidos'!I30","v":0},{"$f":"'Bendrosios pastato išlaidos'!J30","v":0},{"$f":"'Bendrosios pastato išlaidos'!K30","v":0},{"$f":"'Bendrosios pastato išlaidos'!L30","v":0},{"$f":"'Bendrosios pastato išlaidos'!M30","v":0},{"$f":"'Bendrosios pastato išlaidos'!N30","v":0}]
[null,"D.4. Infrastruktūros būklės palaikymo (eksploatavimo) išlaidos",{"$f":"SUM(C34:C48)","v":0},{"$f":"SUM('1. Pamatai'!M20+'2. Perdangos'!M20+'3. Sienos'!M20+'4. Durys'!M20+'5. Langai'!M20+'6. Laiptai'!M20+'7. Stogas'!M20+'8. Vidaus apdaila'!M20+'9. Išorės apdaila'!M20+'10. Šildymo sistema (vidaus)'!M20+'11. Šildymo sistema (lauko)'!M20+'12. Šaldymas ir oro kondiciona'!M20+'13. Ventiliacija'!M20+'14. Vandentiekio sistema (vida'!M20+'15. Vandentiekio sistema (lauk'!M20+'16. Nuotekų šalinimo sistema'!M20+'17. Nuotekų šalinimo sistema'!M20+'18. Elektros instaliacija (vid'!M20+'19. Elektros instaliacija (lau'!M20+'20. Dujos'!M20+'21. Apsaugos sistema'!M20+'22. Telekomunikacijos'!M20+'23. Gaisro gesinimo sistema'!M20+'24. Transportavimo sistema'!M20+'25. Lietaus surinkimo sistema'!M20)","v":0},{"$f":"SUM('1. Pamatai'!N20+'2. Perdangos'!N20+'3. Sienos'!N20+'4. Durys'!N20+'5. Langai'!N20+'6. Laiptai'!N20+'7. Stogas'!N20+'8. Vidaus apdaila'!N20+'9. Išorės apdaila'!N20+'10. Šildymo sistema (vidaus)'!N20+'11. Šildymo sistema (lauko)'!N20+'12. Šaldymas ir oro kondiciona'!N20+'13. Ventiliacija'!N20+'14. Vandentiekio sistema (vida'!N20+'15. Vandentiekio sistema (lauk'!N20+'16. Nuotekų šalinimo sistema'!N20+'17. Nuotekų šalinimo sistema'!N20+'18. Elektros instaliacija (vid'!N20+'19. Elektros instaliacija (lau'!N20+'20. Dujos'!N20+'21. Apsaugos sistema'!N20+'22. Telekomunikacijos'!N20+'23. Gaisro gesinimo sistema'!N20+'24. Transportavimo sistema'!N20+'25. Lietaus surinkimo sistema'!N20)","v":0},{"$f":"SUM('1. Pamatai'!O20+'2. Perdangos'!O20+'3. Sienos'!O20+'4. Durys'!O20+'5. Langai'!O20+'6. Laiptai'!O20+'7. Stogas'!O20+'8. Vidaus apdaila'!O20+'9. Išorės apdaila'!O20+'10. Šildymo sistema (vidaus)'!O20+'11. Šildymo sistema (lauko)'!O20+'12. Šaldymas ir oro kondiciona'!O20+'13. Ventiliacija'!O20+'14. Vandentiekio sistema (vida'!O20+'15. Vandentiekio sistema (lauk'!O20+'16. Nuotekų šalinimo sistema'!O20+'17. Nuotekų šalinimo sistema'!O20+'18. Elektros instaliacija (vid'!O20+'19. Elektros instaliacija (lau'!O20+'20. Dujos'!O20+'21. Apsaugos sistema'!O20+'22. Telekomunikacijos'!O20+'23. Gaisro gesinimo sistema'!O20+'24. Transportavimo sistema'!O20+'25. Lietaus surinkimo sistema'!O20)","v":0},{"$f":"SUM('1. Pamatai'!P20+'2. Perdangos'!P20+'3. Sienos'!P20+'4. Durys'!P20+'5. Langai'!P20+'6. Laiptai'!P20+'7. Stogas'!P20+'8. Vidaus apdaila'!P20+'9. Išorės apdaila'!P20+'10. Šildymo sistema (vidaus)'!P20+'11. Šildymo sistema (lauko)'!P20+'12. Šaldymas ir oro kondiciona'!P20+'13. Ventiliacija'!P20+'14. Vandentiekio sistema (vida'!P20+'15. Vandentiekio sistema (lauk'!P20+'16. Nuotekų šalinimo sistema'!P20+'17. Nuotekų šalinimo sistema'!P20+'18. Elektros instaliacija (vid'!P20+'19. Elektros instaliacija (lau'!P20+'20. Dujos'!P20+'21. Apsaugos sistema'!P20+'22. Telekomunikacijos'!P20+'23. Gaisro gesinimo sistema'!P20+'24. Transportavimo sistema'!P20+'25. Lietaus surinkimo sistema'!P20)","v":0},{"$f":"SUM('1. Pamatai'!Q20+'2. Perdangos'!Q20+'3. Sienos'!Q20+'4. Durys'!Q20+'5. Langai'!Q20+'6. Laiptai'!Q20+'7. Stogas'!Q20+'8. Vidaus apdaila'!Q20+'9. Išorės apdaila'!Q20+'10. Šildymo sistema (vidaus)'!Q20+'11. Šildymo sistema (lauko)'!Q20+'12. Šaldymas ir oro kondiciona'!Q20+'13. Ventiliacija'!Q20+'14. Vandentiekio sistema (vida'!Q20+'15. Vandentiekio sistema (lauk'!Q20+'16. Nuotekų šalinimo sistema'!Q20+'17. Nuotekų šalinimo sistema'!Q20+'18. Elektros instaliacija (vid'!Q20+'19. Elektros instaliacija (lau'!Q20+'20. Dujos'!Q20+'21. Apsaugos sistema'!Q20+'22. Telekomunikacijos'!Q20+'23. Gaisro gesinimo sistema'!Q20+'24. Transportavimo sistema'!Q20+'25. Lietaus surinkimo sistema'!Q20)","v":0},{"$f":"SUM('1. Pamatai'!R20+'2. Perdangos'!R20+'3. Sienos'!R20+'4. Durys'!R20+'5. Langai'!R20+'6. Laiptai'!R20+'7. Stogas'!R20+'8. Vidaus apdaila'!R20+'9. Išorės apdaila'!R20+'10. Šildymo sistema (vidaus)'!R20+'11. Šildymo sistema (lauko)'!R20+'12. Šaldymas ir oro kondiciona'!R20+'13. Ventiliacija'!R20+'14. Vandentiekio sistema (vida'!R20+'15. Vandentiekio sistema (lauk'!R20+'16. Nuotekų šalinimo sistema'!R20+'17. Nuotekų šalinimo sistema'!R20+'18. Elektros instaliacija (vid'!R20+'19. Elektros instaliacija (lau'!R20+'20. Dujos'!R20+'21. Apsaugos sistema'!R20+'22. Telekomunikacijos'!R20+'23. Gaisro gesinimo sistema'!R20+'24. Transportavimo sistema'!R20+'25. Lietaus surinkimo sistema'!R20)","v":0},{"$f":"SUM('1. Pamatai'!S20+'2. Perdangos'!S20+'3. Sienos'!S20+'4. Durys'!S20+'5. Langai'!S20+'6. Laiptai'!S20+'7. Stogas'!S20+'8. Vidaus apdaila'!S20+'9. Išorės apdaila'!S20+'10. Šildymo sistema (vidaus)'!S20+'11. Šildymo sistema (lauko)'!S20+'12. Šaldymas ir oro kondiciona'!S20+'13. Ventiliacija'!S20+'14. Vandentiekio sistema (vida'!S20+'15. Vandentiekio sistema (lauk'!S20+'16. Nuotekų šalinimo sistema'!S20+'17. Nuotekų šalinimo sistema'!S20+'18. Elektros instaliacija (vid'!S20+'19. Elektros instaliacija (lau'!S20+'20. Dujos'!S20+'21. Apsaugos sistema'!S20+'22. Telekomunikacijos'!S20+'23. Gaisro gesinimo sistema'!S20+'24. Transportavimo sistema'!S20+'25. Lietaus surinkimo sistema'!S20)","v":0},{"$f":"SUM('1. Pamatai'!T20+'2. Perdangos'!T20+'3. Sienos'!T20+'4. Durys'!T20+'5. Langai'!T20+'6. Laiptai'!T20+'7. Stogas'!T20+'8. Vidaus apdaila'!T20+'9. Išorės apdaila'!T20+'10. Šildymo sistema (vidaus)'!T20+'11. Šildymo sistema (lauko)'!T20+'12. Šaldymas ir oro kondiciona'!T20+'13. Ventiliacija'!T20+'14. Vandentiekio sistema (vida'!T20+'15. Vandentiekio sistema (lauk'!T20+'16. Nuotekų šalinimo sistema'!T20+'17. Nuotekų šalinimo sistema'!T20+'18. Elektros instaliacija (vid'!T20+'19. Elektros instaliacija (lau'!T20+'20. Dujos'!T20+'21. Apsaugos sistema'!T20+'22. Telekomunikacijos'!T20+'23. Gaisro gesinimo sistema'!T20+'24. Transportavimo sistema'!T20+'25. Lietaus surinkimo sistema'!T20)","v":0},{"$f":"SUM('1. Pamatai'!U20+'2. Perdangos'!U20+'3. Sienos'!U20+'4. Durys'!U20+'5. Langai'!U20+'6. Laiptai'!U20+'7. Stogas'!U20+'8. Vidaus apdaila'!U20+'9. Išorės apdaila'!U20+'10. Šildymo sistema (vidaus)'!U20+'11. Šildymo sistema (lauko)'!U20+'12. Šaldymas ir oro kondiciona'!U20+'13. Ventiliacija'!U20+'14. Vandentiekio sistema (vida'!U20+'15. Vandentiekio sistema (lauk'!U20+'16. Nuotekų šalinimo sistema'!U20+'17. Nuotekų šalinimo sistema'!U20+'18. Elektros instaliacija (vid'!U20+'19. Elektros instaliacija (lau'!U20+'20. Dujos'!U20+'21. Apsaugos sistema'!U20+'22. Telekomunikacijos'!U20+'23. Gaisro gesinimo sistema'!U20+'24. Transportavimo sistema'!U20+'25. Lietaus surinkimo sistema'!U20)","v":0}]
[null,"D.4.1. Vėdinimo sistemų įrenginių eksploatacijos išlaidos",{"$f":"SUM(D34:OFFSET(D34,0,1000))","v":0},{"$f":"SUM('1. Pamatai'!M21+'2. Perdangos'!M21+'3. Sienos'!M21+'4. Durys'!M21+'5. Langai'!M21+'6. Laiptai'!M21+'7. Stogas'!M21+'8. Vidaus apdaila'!M21+'9. Išorės apdaila'!M21+'10. Šildymo sistema (vidaus)'!M21+'11. Šildymo sistema (lauko)'!M21+'12. Šaldymas ir oro kondiciona'!M21+'13. Ventiliacija'!M21+'14. Vandentiekio sistema (vida'!M21+'15. Vandentiekio sistema (lauk'!M21+'16. Nuotekų šalinimo sistema'!M21+'17. Nuotekų šalinimo sistema'!M21+'18. Elektros instaliacija (vid'!M21+'19. Elektros instaliacija (lau'!M21+'20. Dujos'!M21+'21. Apsaugos sistema'!M21+'22. Telekomunikacijos'!M21+'23. Gaisro gesinimo sistema'!M21+'24. Transportavimo sistema'!M21+'25. Lietaus surinkimo sistema'!M21++'Bendrosios pastato išlaidos'!F32)","v":0},{"$f":"SUM('1. Pamatai'!N21+'2. Perdangos'!N21+'3. Sienos'!N21+'4. Durys'!N21+'5. Langai'!N21+'6. Laiptai'!N21+'7. Stogas'!N21+'8. Vidaus apdaila'!N21+'9. Išorės apdaila'!N21+'10. Šildymo sistema (vidaus)'!N21+'11. Šildymo sistema (lauko)'!N21+'12. Šaldymas ir oro kondiciona'!N21+'13. Ventiliacija'!N21+'14. Vandentiekio sistema (vida'!N21+'15. Vandentiekio sistema (lauk'!N21+'16. Nuotekų šalinimo sistema'!N21+'17. Nuotekų šalinimo sistema'!N21+'18. Elektros instaliacija (vid'!N21+'19. Elektros instaliacija (lau'!N21+'20. Dujos'!N21+'21. Apsaugos sistema'!N21+'22. Telekomunikacijos'!N21+'23. Gaisro gesinimo sistema'!N21+'24. Transportavimo sistema'!N21+'25. Lietaus surinkimo sistema'!N21++'Bendrosios pastato išlaidos'!G32)","v":0},{"$f":"SUM('1. Pamatai'!O21+'2. Perdangos'!O21+'3. Sienos'!O21+'4. Durys'!O21+'5. Langai'!O21+'6. Laiptai'!O21+'7. Stogas'!O21+'8. Vidaus apdaila'!O21+'9. Išorės apdaila'!O21+'10. Šildymo sistema (vidaus)'!O21+'11. Šildymo sistema (lauko)'!O21+'12. Šaldymas ir oro kondiciona'!O21+'13. Ventiliacija'!O21+'14. Vandentiekio sistema (vida'!O21+'15. Vandentiekio sistema (lauk'!O21+'16. Nuotekų šalinimo sistema'!O21+'17. Nuotekų šalinimo sistema'!O21+'18. Elektros instaliacija (vid'!O21+'19. Elektros instaliacija (lau'!O21+'20. Dujos'!O21+'21. Apsaugos sistema'!O21+'22. Telekomunikacijos'!O21+'23. Gaisro gesinimo sistema'!O21+'24. Transportavimo sistema'!O21+'25. Lietaus surinkimo sistema'!O21++'Bendrosios pastato išlaidos'!H32)","v":0},{"$f":"SUM('1. Pamatai'!P21+'2. Perdangos'!P21+'3. Sienos'!P21+'4. Durys'!P21+'5. Langai'!P21+'6. Laiptai'!P21+'7. Stogas'!P21+'8. Vidaus apdaila'!P21+'9. Išorės apdaila'!P21+'10. Šildymo sistema (vidaus)'!P21+'11. Šildymo sistema (lauko)'!P21+'12. Šaldymas ir oro kondiciona'!P21+'13. Ventiliacija'!P21+'14. Vandentiekio sistema (vida'!P21+'15. Vandentiekio sistema (lauk'!P21+'16. Nuotekų šalinimo sistema'!P21+'17. Nuotekų šalinimo sistema'!P21+'18. Elektros instaliacija (vid'!P21+'19. Elektros instaliacija (lau'!P21+'20. Dujos'!P21+'21. Apsaugos sistema'!P21+'22. Telekomunikacijos'!P21+'23. Gaisro gesinimo sistema'!P21+'24. Transportavimo sistema'!P21+'25. Lietaus surinkimo sistema'!P21++'Bendrosios pastato išlaidos'!I32)","v":0},{"$f":"SUM('1. Pamatai'!Q21+'2. Perdangos'!Q21+'3. Sienos'!Q21+'4. Durys'!Q21+'5. Langai'!Q21+'6. Laiptai'!Q21+'7. Stogas'!Q21+'8. Vidaus apdaila'!Q21+'9. Išorės apdaila'!Q21+'10. Šildymo sistema (vidaus)'!Q21+'11. Šildymo sistema (lauko)'!Q21+'12. Šaldymas ir oro kondiciona'!Q21+'13. Ventiliacija'!Q21+'14. Vandentiekio sistema (vida'!Q21+'15. Vandentiekio sistema (lauk'!Q21+'16. Nuotekų šalinimo sistema'!Q21+'17. Nuotekų šalinimo sistema'!Q21+'18. Elektros instaliacija (vid'!Q21+'19. Elektros instaliacija (lau'!Q21+'20. Dujos'!Q21+'21. Apsaugos sistema'!Q21+'22. Telekomunikacijos'!Q21+'23. Gaisro gesinimo sistema'!Q21+'24. Transportavimo sistema'!Q21+'25. Lietaus surinkimo sistema'!Q21++'Bendrosios pastato išlaidos'!J32)","v":0},{"$f":"SUM('1. Pamatai'!R21+'2. Perdangos'!R21+'3. Sienos'!R21+'4. Durys'!R21+'5. Langai'!R21+'6. Laiptai'!R21+'7. Stogas'!R21+'8. Vidaus apdaila'!R21+'9. Išorės apdaila'!R21+'10. Šildymo sistema (vidaus)'!R21+'11. Šildymo sistema (lauko)'!R21+'12. Šaldymas ir oro kondiciona'!R21+'13. Ventiliacija'!R21+'14. Vandentiekio sistema (vida'!R21+'15. Vandentiekio sistema (lauk'!R21+'16. Nuotekų šalinimo sistema'!R21+'17. Nuotekų šalinimo sistema'!R21+'18. Elektros instaliacija (vid'!R21+'19. Elektros instaliacija (lau'!R21+'20. Dujos'!R21+'21. Apsaugos sistema'!R21+'22. Telekomunikacijos'!R21+'23. Gaisro gesinimo sistema'!R21+'24. Transportavimo sistema'!R21+'25. Lietaus surinkimo sistema'!R21++'Bendrosios pastato išlaidos'!K32)","v":0},{"$f":"SUM('1. Pamatai'!S21+'2. Perdangos'!S21+'3. Sienos'!S21+'4. Durys'!S21+'5. Langai'!S21+'6. Laiptai'!S21+'7. Stogas'!S21+'8. Vidaus apdaila'!S21+'9. Išorės apdaila'!S21+'10. Šildymo sistema (vidaus)'!S21+'11. Šildymo sistema (lauko)'!S21+'12. Šaldymas ir oro kondiciona'!S21+'13. Ventiliacija'!S21+'14. Vandentiekio sistema (vida'!S21+'15. Vandentiekio sistema (lauk'!S21+'16. Nuotekų šalinimo sistema'!S21+'17. Nuotekų šalinimo sistema'!S21+'18. Elektros instaliacija (vid'!S21+'19. Elektros instaliacija (lau'!S21+'20. Dujos'!S21+'21. Apsaugos sistema'!S21+'22. Telekomunikacijos'!S21+'23. Gaisro gesinimo sistema'!S21+'24. Transportavimo sistema'!S21+'25. Lietaus surinkimo sistema'!S21++'Bendrosios pastato išlaidos'!L32)","v":0},{"$f":"SUM('1. Pamatai'!T21+'2. Perdangos'!T21+'3. Sienos'!T21+'4. Durys'!T21+'5. Langai'!T21+'6. Laiptai'!T21+'7. Stogas'!T21+'8. Vidaus apdaila'!T21+'9. Išorės apdaila'!T21+'10. Šildymo sistema (vidaus)'!T21+'11. Šildymo sistema (lauko)'!T21+'12. Šaldymas ir oro kondiciona'!T21+'13. Ventiliacija'!T21+'14. Vandentiekio sistema (vida'!T21+'15. Vandentiekio sistema (lauk'!T21+'16. Nuotekų šalinimo sistema'!T21+'17. Nuotekų šalinimo sistema'!T21+'18. Elektros instaliacija (vid'!T21+'19. Elektros instaliacija (lau'!T21+'20. Dujos'!T21+'21. Apsaugos sistema'!T21+'22. Telekomunikacijos'!T21+'23. Gaisro gesinimo sistema'!T21+'24. Transportavimo sistema'!T21+'25. Lietaus surinkimo sistema'!T21++'Bendrosios pastato išlaidos'!M32)","v":0},{"$f":"SUM('1. Pamatai'!U21+'2. Perdangos'!U21+'3. Sienos'!U21+'4. Durys'!U21+'5. Langai'!U21+'6. Laiptai'!U21+'7. Stogas'!U21+'8. Vidaus apdaila'!U21+'9. Išorės apdaila'!U21+'10. Šildymo sistema (vidaus)'!U21+'11. Šildymo sistema (lauko)'!U21+'12. Šaldymas ir oro kondiciona'!U21+'13. Ventiliacija'!U21+'14. Vandentiekio sistema (vida'!U21+'15. Vandentiekio sistema (lauk'!U21+'16. Nuotekų šalinimo sistema'!U21+'17. Nuotekų šalinimo sistema'!U21+'18. Elektros instaliacija (vid'!U21+'19. Elektros instaliacija (lau'!U21+'20. Dujos'!U21+'21. Apsaugos sistema'!U21+'22. Telekomunikacijos'!U21+'23. Gaisro gesinimo sistema'!U21+'24. Transportavimo sistema'!U21+'25. Lietaus surinkimo sistema'!U21++'Bendrosios pastato išlaidos'!N32)","v":0}]
[null,"D.4.2. Šilumos sistemų tinklų palaikymo (eksploatavimo) išlaidos",{"$f":"SUM(D35:OFFSET(D35,0,1000))","v":0},{"$f":"SUM('1. Pamatai'!M22+'2. Perdangos'!M22+'3. Sienos'!M22+'4. Durys'!M22+'5. Langai'!M22+'6. Laiptai'!M22+'7. Stogas'!M22+'8. Vidaus apdaila'!M22+'9. Išorės apdaila'!M22+'10. Šildymo sistema (vidaus)'!M22+'11. Šildymo sistema (lauko)'!M22+'12. Šaldymas ir oro kondiciona'!M22+'13. Ventiliacija'!M22+'14. Vandentiekio sistema (vida'!M22+'15. Vandentiekio sistema (lauk'!M22+'16. Nuotekų šalinimo sistema'!M22+'17. Nuotekų šalinimo sistema'!M22+'18. Elektros instaliacija (vid'!M22+'19. Elektros instaliacija (lau'!M22+'20. Dujos'!M22+'21. Apsaugos sistema'!M22+'22. Telekomunikacijos'!M22+'23. Gaisro gesinimo sistema'!M22+'24. Transportavimo sistema'!M22+'25. Lietaus surinkimo sistema'!M22++'Bendrosios pastato išlaidos'!F33)","v":0},{"$f":"SUM('1. Pamatai'!N22+'2. Perdangos'!N22+'3. Sienos'!N22+'4. Durys'!N22+'5. Langai'!N22+'6. Laiptai'!N22+'7. Stogas'!N22+'8. Vidaus apdaila'!N22+'9. Išorės apdaila'!N22+'10. Šildymo sistema (vidaus)'!N22+'11. Šildymo sistema (lauko)'!N22+'12. Šaldymas ir oro kondiciona'!N22+'13. Ventiliacija'!N22+'14. Vandentiekio sistema (vida'!N22+'15. Vandentiekio sistema (lauk'!N22+'16. Nuotekų šalinimo sistema'!N22+'17. Nuotekų šalinimo sistema'!N22+'18. Elektros instaliacija (vid'!N22+'19. Elektros instaliacija (lau'!N22+'20. Dujos'!N22+'21. Apsaugos sistema'!N22+'22. Telekomunikacijos'!N22+'23. Gaisro gesinimo sistema'!N22+'24. Transportavimo sistema'!N22+'25. Lietaus surinkimo sistema'!N22++'Bendrosios pastato išlaidos'!G33)","v":0},{"$f":"SUM('1. Pamatai'!O22+'2. Perdangos'!O22+'3. Sienos'!O22+'4. Durys'!O22+'5. Langai'!O22+'6. Laiptai'!O22+'7. Stogas'!O22+'8. Vidaus apdaila'!O22+'9. Išorės apdaila'!O22+'10. Šildymo sistema (vidaus)'!O22+'11. Šildymo sistema (lauko)'!O22+'12. Šaldymas ir oro kondiciona'!O22+'13. Ventiliacija'!O22+'14. Vandentiekio sistema (vida'!O22+'15. Vandentiekio sistema (lauk'!O22+'16. Nuotekų šalinimo sistema'!O22+'17. Nuotekų šalinimo sistema'!O22+'18. Elektros instaliacija (vid'!O22+'19. Elektros instaliacija (lau'!O22+'20. Dujos'!O22+'21. Apsaugos sistema'!O22+'22. Telekomunikacijos'!O22+'23. Gaisro gesinimo sistema'!O22+'24. Transportavimo sistema'!O22+'25. Lietaus surinkimo sistema'!O22++'Bendrosios pastato išlaidos'!H33)","v":0},{"$f":"SUM('1. Pamatai'!P22+'2. Perdangos'!P22+'3. Sienos'!P22+'4. Durys'!P22+'5. Langai'!P22+'6. Laiptai'!P22+'7. Stogas'!P22+'8. Vidaus apdaila'!P22+'9. Išorės apdaila'!P22+'10. Šildymo sistema (vidaus)'!P22+'11. Šildymo sistema (lauko)'!P22+'12. Šaldymas ir oro kondiciona'!P22+'13. Ventiliacija'!P22+'14. Vandentiekio sistema (vida'!P22+'15. Vandentiekio sistema (lauk'!P22+'16. Nuotekų šalinimo sistema'!P22+'17. Nuotekų šalinimo sistema'!P22+'18. Elektros instaliacija (vid'!P22+'19. Elektros instaliacija (lau'!P22+'20. Dujos'!P22+'21. Apsaugos sistema'!P22+'22. Telekomunikacijos'!P22+'23. Gaisro gesinimo sistema'!P22+'24. Transportavimo sistema'!P22+'25. Lietaus surinkimo sistema'!P22++'Bendrosios pastato išlaidos'!I33)","v":0},{"$f":"SUM('1. Pamatai'!Q22+'2. Perdangos'!Q22+'3. Sienos'!Q22+'4. Durys'!Q22+'5. Langai'!Q22+'6. Laiptai'!Q22+'7. Stogas'!Q22+'8. Vidaus apdaila'!Q22+'9. Išorės apdaila'!Q22+'10. Šildymo sistema (vidaus)'!Q22+'11. Šildymo sistema (lauko)'!Q22+'12. Šaldymas ir oro kondiciona'!Q22+'13. Ventiliacija'!Q22+'14. Vandentiekio sistema (vida'!Q22+'15. Vandentiekio sistema (lauk'!Q22+'16. Nuotekų šalinimo sistema'!Q22+'17. Nuotekų šalinimo sistema'!Q22+'18. Elektros instaliacija (vid'!Q22+'19. Elektros instaliacija (lau'!Q22+'20. Dujos'!Q22+'21. Apsaugos sistema'!Q22+'22. Telekomunikacijos'!Q22+'23. Gaisro gesinimo sistema'!Q22+'24. Transportavimo sistema'!Q22+'25. Lietaus surinkimo sistema'!Q22++'Bendrosios pastato išlaidos'!J33)","v":0},{"$f":"SUM('1. Pamatai'!R22+'2. Perdangos'!R22+'3. Sienos'!R22+'4. Durys'!R22+'5. Langai'!R22+'6. Laiptai'!R22+'7. Stogas'!R22+'8. Vidaus apdaila'!R22+'9. Išorės apdaila'!R22+'10. Šildymo sistema (vidaus)'!R22+'11. Šildymo sistema (lauko)'!R22+'12. Šaldymas ir oro kondiciona'!R22+'13. Ventiliacija'!R22+'14. Vandentiekio sistema (vida'!R22+'15. Vandentiekio sistema (lauk'!R22+'16. Nuotekų šalinimo sistema'!R22+'17. Nuotekų šalinimo sistema'!R22+'18. Elektros instaliacija (vid'!R22+'19. Elektros instaliacija (lau'!R22+'20. Dujos'!R22+'21. Apsaugos sistema'!R22+'22. Telekomunikacijos'!R22+'23. Gaisro gesinimo sistema'!R22+'24. Transportavimo sistema'!R22+'25. Lietaus surinkimo sistema'!R22++'Bendrosios pastato išlaidos'!K33)","v":0},{"$f":"SUM('1. Pamatai'!S22+'2. Perdangos'!S22+'3. Sienos'!S22+'4. Durys'!S22+'5. Langai'!S22+'6. Laiptai'!S22+'7. Stogas'!S22+'8. Vidaus apdaila'!S22+'9. Išorės apdaila'!S22+'10. Šildymo sistema (vidaus)'!S22+'11. Šildymo sistema (lauko)'!S22+'12. Šaldymas ir oro kondiciona'!S22+'13. Ventiliacija'!S22+'14. Vandentiekio sistema (vida'!S22+'15. Vandentiekio sistema (lauk'!S22+'16. Nuotekų šalinimo sistema'!S22+'17. Nuotekų šalinimo sistema'!S22+'18. Elektros instaliacija (vid'!S22+'19. Elektros instaliacija (lau'!S22+'20. Dujos'!S22+'21. Apsaugos sistema'!S22+'22. Telekomunikacijos'!S22+'23. Gaisro gesinimo sistema'!S22+'24. Transportavimo sistema'!S22+'25. Lietaus surinkimo sistema'!S22++'Bendrosios pastato išlaidos'!L33)","v":0},{"$f":"SUM('1. Pamatai'!T22+'2. Perdangos'!T22+'3. Sienos'!T22+'4. Durys'!T22+'5. Langai'!T22+'6. Laiptai'!T22+'7. Stogas'!T22+'8. Vidaus apdaila'!T22+'9. Išorės apdaila'!T22+'10. Šildymo sistema (vidaus)'!T22+'11. Šildymo sistema (lauko)'!T22+'12. Šaldymas ir oro kondiciona'!T22+'13. Ventiliacija'!T22+'14. Vandentiekio sistema (vida'!T22+'15. Vandentiekio sistema (lauk'!T22+'16. Nuotekų šalinimo sistema'!T22+'17. Nuotekų šalinimo sistema'!T22+'18. Elektros instaliacija (vid'!T22+'19. Elektros instaliacija (lau'!T22+'20. Dujos'!T22+'21. Apsaugos sistema'!T22+'22. Telekomunikacijos'!T22+'23. Gaisro gesinimo sistema'!T22+'24. Transportavimo sistema'!T22+'25. Lietaus surinkimo sistema'!T22++'Bendrosios pastato išlaidos'!M33)","v":0},{"$f":"SUM('1. Pamatai'!U22+'2. Perdangos'!U22+'3. Sienos'!U22+'4. Durys'!U22+'5. Langai'!U22+'6. Laiptai'!U22+'7. Stogas'!U22+'8. Vidaus apdaila'!U22+'9. Išorės apdaila'!U22+'10. Šildymo sistema (vidaus)'!U22+'11. Šildymo sistema (lauko)'!U22+'12. Šaldymas ir oro kondiciona'!U22+'13. Ventiliacija'!U22+'14. Vandentiekio sistema (vida'!U22+'15. Vandentiekio sistema (lauk'!U22+'16. Nuotekų šalinimo sistema'!U22+'17. Nuotekų šalinimo sistema'!U22+'18. Elektros instaliacija (vid'!U22+'19. Elektros instaliacija (lau'!U22+'20. Dujos'!U22+'21. Apsaugos sistema'!U22+'22. Telekomunikacijos'!U22+'23. Gaisro gesinimo sistema'!U22+'24. Transportavimo sistema'!U22+'25. Lietaus surinkimo sistema'!U22++'Bendrosios pastato išlaidos'!N33)","v":0}]
[null,"D.4.3. Oro kondicionavimo ir šaldymo įrenginių eksploatacijos išlaidos",{"$f":"SUM(D36:OFFSET(D36,0,1000))","v":0},{"$f":"SUM('1. Pamatai'!M23+'2. Perdangos'!M23+'3. Sienos'!M23+'4. Durys'!M23+'5. Langai'!M23+'6. Laiptai'!M23+'7. Stogas'!M23+'8. Vidaus apdaila'!M23+'9. Išorės apdaila'!M23+'10. Šildymo sistema (vidaus)'!M23+'11. Šildymo sistema (lauko)'!M23+'12. Šaldymas ir oro kondiciona'!M23+'13. Ventiliacija'!M23+'14. Vandentiekio sistema (vida'!M23+'15. Vandentiekio sistema (lauk'!M23+'16. Nuotekų šalinimo sistema'!M23+'17. Nuotekų šalinimo sistema'!M23+'18. Elektros instaliacija (vid'!M23+'19. Elektros instaliacija (lau'!M23+'20. Dujos'!M23+'21. Apsaugos sistema'!M23+'22. Telekomunikacijos'!M23+'23. Gaisro gesinimo sistema'!M23+'24. Transportavimo sistema'!M23+'25. Lietaus surinkimo sistema'!M23++'Bendrosios pastato išlaidos'!F34)","v":0},{"$f":"SUM('1. Pamatai'!N23+'2. Perdangos'!N23+'3. Sienos'!N23+'4. Durys'!N23+'5. Langai'!N23+'6. Laiptai'!N23+'7. Stogas'!N23+'8. Vidaus apdaila'!N23+'9. Išorės apdaila'!N23+'10. Šildymo sistema (vidaus)'!N23+'11. Šildymo sistema (lauko)'!N23+'12. Šaldymas ir oro kondiciona'!N23+'13. Ventiliacija'!N23+'14. Vandentiekio sistema (vida'!N23+'15. Vandentiekio sistema (lauk'!N23+'16. Nuotekų šalinimo sistema'!N23+'17. Nuotekų šalinimo sistema'!N23+'18. Elektros instaliacija (vid'!N23+'19. Elektros instaliacija (lau'!N23+'20. Dujos'!N23+'21. Apsaugos sistema'!N23+'22. Telekomunikacijos'!N23+'23. Gaisro gesinimo sistema'!N23+'24. Transportavimo sistema'!N23+'25. Lietaus surinkimo sistema'!N23++'Bendrosios pastato išlaidos'!G34)","v":0},{"$f":"SUM('1. Pamatai'!O23+'2. Perdangos'!O23+'3. Sienos'!O23+'4. Durys'!O23+'5. Langai'!O23+'6. Laiptai'!O23+'7. Stogas'!O23+'8. Vidaus apdaila'!O23+'9. Išorės apdaila'!O23+'10. Šildymo sistema (vidaus)'!O23+'11. Šildymo sistema (lauko)'!O23+'12. Šaldymas ir oro kondiciona'!O23+'13. Ventiliacija'!O23+'14. Vandentiekio sistema (vida'!O23+'15. Vandentiekio sistema (lauk'!O23+'16. Nuotekų šalinimo sistema'!O23+'17. Nuotekų šalinimo sistema'!O23+'18. Elektros instaliacija (vid'!O23+'19. Elektros instaliacija (lau'!O23+'20. Dujos'!O23+'21. Apsaugos sistema'!O23+'22. Telekomunikacijos'!O23+'23. Gaisro gesinimo sistema'!O23+'24. Transportavimo sistema'!O23+'25. Lietaus surinkimo sistema'!O23++'Bendrosios pastato išlaidos'!H34)","v":0},{"$f":"SUM('1. Pamatai'!P23+'2. Perdangos'!P23+'3. Sienos'!P23+'4. Durys'!P23+'5. Langai'!P23+'6. Laiptai'!P23+'7. Stogas'!P23+'8. Vidaus apdaila'!P23+'9. Išorės apdaila'!P23+'10. Šildymo sistema (vidaus)'!P23+'11. Šildymo sistema (lauko)'!P23+'12. Šaldymas ir oro kondiciona'!P23+'13. Ventiliacija'!P23+'14. Vandentiekio sistema (vida'!P23+'15. Vandentiekio sistema (lauk'!P23+'16. Nuotekų šalinimo sistema'!P23+'17. Nuotekų šalinimo sistema'!P23+'18. Elektros instaliacija (vid'!P23+'19. Elektros instaliacija (lau'!P23+'20. Dujos'!P23+'21. Apsaugos sistema'!P23+'22. Telekomunikacijos'!P23+'23. Gaisro gesinimo sistema'!P23+'24. Transportavimo sistema'!P23+'25. Lietaus surinkimo sistema'!P23++'Bendrosios pastato išlaidos'!I34)","v":0},{"$f":"SUM('1. Pamatai'!Q23+'2. Perdangos'!Q23+'3. Sienos'!Q23+'4. Durys'!Q23+'5. Langai'!Q23+'6. Laiptai'!Q23+'7. Stogas'!Q23+'8. Vidaus apdaila'!Q23+'9. Išorės apdaila'!Q23+'10. Šildymo sistema (vidaus)'!Q23+'11. Šildymo sistema (lauko)'!Q23+'12. Šaldymas ir oro kondiciona'!Q23+'13. Ventiliacija'!Q23+'14. Vandentiekio sistema (vida'!Q23+'15. Vandentiekio sistema (lauk'!Q23+'16. Nuotekų šalinimo sistema'!Q23+'17. Nuotekų šalinimo sistema'!Q23+'18. Elektros instaliacija (vid'!Q23+'19. Elektros instaliacija (lau'!Q23+'20. Dujos'!Q23+'21. Apsaugos sistema'!Q23+'22. Telekomunikacijos'!Q23+'23. Gaisro gesinimo sistema'!Q23+'24. Transportavimo sistema'!Q23+'25. Lietaus surinkimo sistema'!Q23++'Bendrosios pastato išlaidos'!J34)","v":0},{"$f":"SUM('1. Pamatai'!R23+'2. Perdangos'!R23+'3. Sienos'!R23+'4. Durys'!R23+'5. Langai'!R23+'6. Laiptai'!R23+'7. Stogas'!R23+'8. Vidaus apdaila'!R23+'9. Išorės apdaila'!R23+'10. Šildymo sistema (vidaus)'!R23+'11. Šildymo sistema (lauko)'!R23+'12. Šaldymas ir oro kondiciona'!R23+'13. Ventiliacija'!R23+'14. Vandentiekio sistema (vida'!R23+'15. Vandentiekio sistema (lauk'!R23+'16. Nuotekų šalinimo sistema'!R23+'17. Nuotekų šalinimo sistema'!R23+'18. Elektros instaliacija (vid'!R23+'19. Elektros instaliacija (lau'!R23+'20. Dujos'!R23+'21. Apsaugos sistema'!R23+'22. Telekomunikacijos'!R23+'23. Gaisro gesinimo sistema'!R23+'24. Transportavimo sistema'!R23+'25. Lietaus surinkimo sistema'!R23++'Bendrosios pastato išlaidos'!K34)","v":0},{"$f":"SUM('1. Pamatai'!S23+'2. Perdangos'!S23+'3. Sienos'!S23+'4. Durys'!S23+'5. Langai'!S23+'6. Laiptai'!S23+'7. Stogas'!S23+'8. Vidaus apdaila'!S23+'9. Išorės apdaila'!S23+'10. Šildymo sistema (vidaus)'!S23+'11. Šildymo sistema (lauko)'!S23+'12. Šaldymas ir oro kondiciona'!S23+'13. Ventiliacija'!S23+'14. Vandentiekio sistema (vida'!S23+'15. Vandentiekio sistema (lauk'!S23+'16. Nuotekų šalinimo sistema'!S23+'17. Nuotekų šalinimo sistema'!S23+'18. Elektros instaliacija (vid'!S23+'19. Elektros instaliacija (lau'!S23+'20. Dujos'!S23+'21. Apsaugos sistema'!S23+'22. Telekomunikacijos'!S23+'23. Gaisro gesinimo sistema'!S23+'24. Transportavimo sistema'!S23+'25. Lietaus surinkimo sistema'!S23++'Bendrosios pastato išlaidos'!L34)","v":0},{"$f":"SUM('1. Pamatai'!T23+'2. Perdangos'!T23+'3. Sienos'!T23+'4. Durys'!T23+'5. Langai'!T23+'6. Laiptai'!T23+'7. Stogas'!T23+'8. Vidaus apdaila'!T23+'9. Išorės apdaila'!T23+'10. Šildymo sistema (vidaus)'!T23+'11. Šildymo sistema (lauko)'!T23+'12. Šaldymas ir oro kondiciona'!T23+'13. Ventiliacija'!T23+'14. Vandentiekio sistema (vida'!T23+'15. Vandentiekio sistema (lauk'!T23+'16. Nuotekų šalinimo sistema'!T23+'17. Nuotekų šalinimo sistema'!T23+'18. Elektros instaliacija (vid'!T23+'19. Elektros instaliacija (lau'!T23+'20. Dujos'!T23+'21. Apsaugos sistema'!T23+'22. Telekomunikacijos'!T23+'23. Gaisro gesinimo sistema'!T23+'24. Transportavimo sistema'!T23+'25. Lietaus surinkimo sistema'!T23++'Bendrosios pastato išlaidos'!M34)","v":0},{"$f":"SUM('1. Pamatai'!U23+'2. Perdangos'!U23+'3. Sienos'!U23+'4. Durys'!U23+'5. Langai'!U23+'6. Laiptai'!U23+'7. Stogas'!U23+'8. Vidaus apdaila'!U23+'9. Išorės apdaila'!U23+'10. Šildymo sistema (vidaus)'!U23+'11. Šildymo sistema (lauko)'!U23+'12. Šaldymas ir oro kondiciona'!U23+'13. Ventiliacija'!U23+'14. Vandentiekio sistema (vida'!U23+'15. Vandentiekio sistema (lauk'!U23+'16. Nuotekų šalinimo sistema'!U23+'17. Nuotekų šalinimo sistema'!U23+'18. Elektros instaliacija (vid'!U23+'19. Elektros instaliacija (lau'!U23+'20. Dujos'!U23+'21. Apsaugos sistema'!U23+'22. Telekomunikacijos'!U23+'23. Gaisro gesinimo sistema'!U23+'24. Transportavimo sistema'!U23+'25. Lietaus surinkimo sistema'!U23++'Bendrosios pastato išlaidos'!N34)","v":0}]
[null,"D.4.4. Vandentiekio ir nuotekų tinklų įrenginių eksploatacijos išlaidos",{"$f":"SUM(D37:OFFSET(D37,0,1000))","v":0},{"$f":"SUM('1. Pamatai'!M24+'2. Perdangos'!M24+'3. Sienos'!M24+'4. Durys'!M24+'5. Langai'!M24+'6. Laiptai'!M24+'7. Stogas'!M24+'8. Vidaus apdaila'!M24+'9. Išorės apdaila'!M24+'10. Šildymo sistema (vidaus)'!M24+'11. Šildymo sistema (lauko)'!M24+'12. Šaldymas ir oro kondiciona'!M24+'13. Ventiliacija'!M24+'14. Vandentiekio sistema (vida'!M24+'15. Vandentiekio sistema (lauk'!M24+'16. Nuotekų šalinimo sistema'!M24+'17. Nuotekų šalinimo sistema'!M24+'18. Elektros instaliacija (vid'!M24+'19. Elektros instaliacija (lau'!M24+'20. Dujos'!M24+'21. Apsaugos sistema'!M24+'22. Telekomunikacijos'!M24+'23. Gaisro gesinimo sistema'!M24+'24. Transportavimo sistema'!M24+'25. Lietaus surinkimo sistema'!M24++'Bendrosios pastato išlaidos'!F35)","v":0},{"$f":"SUM('1. Pamatai'!N24+'2. Perdangos'!N24+'3. Sienos'!N24+'4. Durys'!N24+'5. Langai'!N24+'6. Laiptai'!N24+'7. Stogas'!N24+'8. Vidaus apdaila'!N24+'9. Išorės apdaila'!N24+'10. Šildymo sistema (vidaus)'!N24+'11. Šildymo sistema (lauko)'!N24+'12. Šaldymas ir oro kondiciona'!N24+'13. Ventiliacija'!N24+'14. Vandentiekio sistema (vida'!N24+'15. Vandentiekio sistema (lauk'!N24+'16. Nuotekų šalinimo sistema'!N24+'17. Nuotekų šalinimo sistema'!N24+'18. Elektros instaliacija (vid'!N24+'19. Elektros instaliacija (lau'!N24+'20. Dujos'!N24+'21. Apsaugos sistema'!N24+'22. Telekomunikacijos'!N24+'23. Gaisro gesinimo sistema'!N24+'24. Transportavimo sistema'!N24+'25. Lietaus surinkimo sistema'!N24++'Bendrosios pastato išlaidos'!G35)","v":0},{"$f":"SUM('1. Pamatai'!O24+'2. Perdangos'!O24+'3. Sienos'!O24+'4. Durys'!O24+'5. Langai'!O24+'6. Laiptai'!O24+'7. Stogas'!O24+'8. Vidaus apdaila'!O24+'9. Išorės apdaila'!O24+'10. Šildymo sistema (vidaus)'!O24+'11. Šildymo sistema (lauko)'!O24+'12. Šaldymas ir oro kondiciona'!O24+'13. Ventiliacija'!O24+'14. Vandentiekio sistema (vida'!O24+'15. Vandentiekio sistema (lauk'!O24+'16. Nuotekų šalinimo sistema'!O24+'17. Nuotekų šalinimo sistema'!O24+'18. Elektros instaliacija (vid'!O24+'19. Elektros instaliacija (lau'!O24+'20. Dujos'!O24+'21. Apsaugos sistema'!O24+'22. Telekomunikacijos'!O24+'23. Gaisro gesinimo sistema'!O24+'24. Transportavimo sistema'!O24+'25. Lietaus surinkimo sistema'!O24++'Bendrosios pastato išlaidos'!H35)","v":0},{"$f":"SUM('1. Pamatai'!P24+'2. Perdangos'!P24+'3. Sienos'!P24+'4. Durys'!P24+'5. Langai'!P24+'6. Laiptai'!P24+'7. Stogas'!P24+'8. Vidaus apdaila'!P24+'9. Išorės apdaila'!P24+'10. Šildymo sistema (vidaus)'!P24+'11. Šildymo sistema (lauko)'!P24+'12. Šaldymas ir oro kondiciona'!P24+'13. Ventiliacija'!P24+'14. Vandentiekio sistema (vida'!P24+'15. Vandentiekio sistema (lauk'!P24+'16. Nuotekų šalinimo sistema'!P24+'17. Nuotekų šalinimo sistema'!P24+'18. Elektros instaliacija (vid'!P24+'19. Elektros instaliacija (lau'!P24+'20. Dujos'!P24+'21. Apsaugos sistema'!P24+'22. Telekomunikacijos'!P24+'23. Gaisro gesinimo sistema'!P24+'24. Transportavimo sistema'!P24+'25. Lietaus surinkimo sistema'!P24++'Bendrosios pastato išlaidos'!I35)","v":0},{"$f":"SUM('1. Pamatai'!Q24+'2. Perdangos'!Q24+'3. Sienos'!Q24+'4. Durys'!Q24+'5. Langai'!Q24+'6. Laiptai'!Q24+'7. Stogas'!Q24+'8. Vidaus apdaila'!Q24+'9. Išorės apdaila'!Q24+'10. Šildymo sistema (vidaus)'!Q24+'11. Šildymo sistema (lauko)'!Q24+'12. Šaldymas ir oro kondiciona'!Q24+'13. Ventiliacija'!Q24+'14. Vandentiekio sistema (vida'!Q24+'15. Vandentiekio sistema (lauk'!Q24+'16. Nuotekų šalinimo sistema'!Q24+'17. Nuotekų šalinimo sistema'!Q24+'18. Elektros instaliacija (vid'!Q24+'19. Elektros instaliacija (lau'!Q24+'20. Dujos'!Q24+'21. Apsaugos sistema'!Q24+'22. Telekomunikacijos'!Q24+'23. Gaisro gesinimo sistema'!Q24+'24. Transportavimo sistema'!Q24+'25. Lietaus surinkimo sistema'!Q24++'Bendrosios pastato išlaidos'!J35)","v":0},{"$f":"SUM('1. Pamatai'!R24+'2. Perdangos'!R24+'3. Sienos'!R24+'4. Durys'!R24+'5. Langai'!R24+'6. Laiptai'!R24+'7. Stogas'!R24+'8. Vidaus apdaila'!R24+'9. Išorės apdaila'!R24+'10. Šildymo sistema (vidaus)'!R24+'11. Šildymo sistema (lauko)'!R24+'12. Šaldymas ir oro kondiciona'!R24+'13. Ventiliacija'!R24+'14. Vandentiekio sistema (vida'!R24+'15. Vandentiekio sistema (lauk'!R24+'16. Nuotekų šalinimo sistema'!R24+'17. Nuotekų šalinimo sistema'!R24+'18. Elektros instaliacija (vid'!R24+'19. Elektros instaliacija (lau'!R24+'20. Dujos'!R24+'21. Apsaugos sistema'!R24+'22. Telekomunikacijos'!R24+'23. Gaisro gesinimo sistema'!R24+'24. Transportavimo sistema'!R24+'25. Lietaus surinkimo sistema'!R24++'Bendrosios pastato išlaidos'!K35)","v":0},{"$f":"SUM('1. Pamatai'!S24+'2. Perdangos'!S24+'3. Sienos'!S24+'4. Durys'!S24+'5. Langai'!S24+'6. Laiptai'!S24+'7. Stogas'!S24+'8. Vidaus apdaila'!S24+'9. Išorės apdaila'!S24+'10. Šildymo sistema (vidaus)'!S24+'11. Šildymo sistema (lauko)'!S24+'12. Šaldymas ir oro kondiciona'!S24+'13. Ventiliacija'!S24+'14. Vandentiekio sistema (vida'!S24+'15. Vandentiekio sistema (lauk'!S24+'16. Nuotekų šalinimo sistema'!S24+'17. Nuotekų šalinimo sistema'!S24+'18. Elektros instaliacija (vid'!S24+'19. Elektros instaliacija (lau'!S24+'20. Dujos'!S24+'21. Apsaugos sistema'!S24+'22. Telekomunikacijos'!S24+'23. Gaisro gesinimo sistema'!S24+'24. Transportavimo sistema'!S24+'25. Lietaus surinkimo sistema'!S24++'Bendrosios pastato išlaidos'!L35)","v":0},{"$f":"SUM('1. Pamatai'!T24+'2. Perdangos'!T24+'3. Sienos'!T24+'4. Durys'!T24+'5. Langai'!T24+'6. Laiptai'!T24+'7. Stogas'!T24+'8. Vidaus apdaila'!T24+'9. Išorės apdaila'!T24+'10. Šildymo sistema (vidaus)'!T24+'11. Šildymo sistema (lauko)'!T24+'12. Šaldymas ir oro kondiciona'!T24+'13. Ventiliacija'!T24+'14. Vandentiekio sistema (vida'!T24+'15. Vandentiekio sistema (lauk'!T24+'16. Nuotekų šalinimo sistema'!T24+'17. Nuotekų šalinimo sistema'!T24+'18. Elektros instaliacija (vid'!T24+'19. Elektros instaliacija (lau'!T24+'20. Dujos'!T24+'21. Apsaugos sistema'!T24+'22. Telekomunikacijos'!T24+'23. Gaisro gesinimo sistema'!T24+'24. Transportavimo sistema'!T24+'25. Lietaus surinkimo sistema'!T24++'Bendrosios pastato išlaidos'!M35)","v":0},{"$f":"SUM('1. Pamatai'!U24+'2. Perdangos'!U24+'3. Sienos'!U24+'4. Durys'!U24+'5. Langai'!U24+'6. Laiptai'!U24+'7. Stogas'!U24+'8. Vidaus apdaila'!U24+'9. Išorės apdaila'!U24+'10. Šildymo sistema (vidaus)'!U24+'11. Šildymo sistema (lauko)'!U24+'12. Šaldymas ir oro kondiciona'!U24+'13. Ventiliacija'!U24+'14. Vandentiekio sistema (vida'!U24+'15. Vandentiekio sistema (lauk'!U24+'16. Nuotekų šalinimo sistema'!U24+'17. Nuotekų šalinimo sistema'!U24+'18. Elektros instaliacija (vid'!U24+'19. Elektros instaliacija (lau'!U24+'20. Dujos'!U24+'21. Apsaugos sistema'!U24+'22. Telekomunikacijos'!U24+'23. Gaisro gesinimo sistema'!U24+'24. Transportavimo sistema'!U24+'25. Lietaus surinkimo sistema'!U24++'Bendrosios pastato išlaidos'!N35)","v":0}]
[null,"D.4.5 Lietaus surinkimo ir drenažo eksploatacijos išlaidos ",{"$f":"SUM(D38:OFFSET(D38,0,1000))","v":0},{"$f":"SUM('1. Pamatai'!M25+'2. Perdangos'!M25+'3. Sienos'!M25+'4. Durys'!M25+'5. Langai'!M25+'6. Laiptai'!M25+'7. Stogas'!M25+'8. Vidaus apdaila'!M25+'9. Išorės apdaila'!M25+'10. Šildymo sistema (vidaus)'!M25+'11. Šildymo sistema (lauko)'!M25+'12. Šaldymas ir oro kondiciona'!M25+'13. Ventiliacija'!M25+'14. Vandentiekio sistema (vida'!M25+'15. Vandentiekio sistema (lauk'!M25+'16. Nuotekų šalinimo sistema'!M25+'17. Nuotekų šalinimo sistema'!M25+'18. Elektros instaliacija (vid'!M25+'19. Elektros instaliacija (lau'!M25+'20. Dujos'!M25+'21. Apsaugos sistema'!M25+'22. Telekomunikacijos'!M25+'23. Gaisro gesinimo sistema'!M25+'24. Transportavimo sistema'!M25+'25. Lietaus surinkimo sistema'!M25++'Bendrosios pastato išlaidos'!F36)","v":0},{"$f":"SUM('1. Pamatai'!N25+'2. Perdangos'!N25+'3. Sienos'!N25+'4. Durys'!N25+'5. Langai'!N25+'6. Laiptai'!N25+'7. Stogas'!N25+'8. Vidaus apdaila'!N25+'9. Išorės apdaila'!N25+'10. Šildymo sistema (vidaus)'!N25+'11. Šildymo sistema (lauko)'!N25+'12. Šaldymas ir oro kondiciona'!N25+'13. Ventiliacija'!N25+'14. Vandentiekio sistema (vida'!N25+'15. Vandentiekio sistema (lauk'!N25+'16. Nuotekų šalinimo sistema'!N25+'17. Nuotekų šalinimo sistema'!N25+'18. Elektros instaliacija (vid'!N25+'19. Elektros instaliacija (lau'!N25+'20. Dujos'!N25+'21. Apsaugos sistema'!N25+'22. Telekomunikacijos'!N25+'23. Gaisro gesinimo sistema'!N25+'24. Transportavimo sistema'!N25+'25. Lietaus surinkimo sistema'!N25++'Bendrosios pastato išlaidos'!G36)","v":0},{"$f":"SUM('1. Pamatai'!O25+'2. Perdangos'!O25+'3. Sienos'!O25+'4. Durys'!O25+'5. Langai'!O25+'6. Laiptai'!O25+'7. Stogas'!O25+'8. Vidaus apdaila'!O25+'9. Išorės apdaila'!O25+'10. Šildymo sistema (vidaus)'!O25+'11. Šildymo sistema (lauko)'!O25+'12. Šaldymas ir oro kondiciona'!O25+'13. Ventiliacija'!O25+'14. Vandentiekio sistema (vida'!O25+'15. Vandentiekio sistema (lauk'!O25+'16. Nuotekų šalinimo sistema'!O25+'17. Nuotekų šalinimo sistema'!O25+'18. Elektros instaliacija (vid'!O25+'19. Elektros instaliacija (lau'!O25+'20. Dujos'!O25+'21. Apsaugos sistema'!O25+'22. Telekomunikacijos'!O25+'23. Gaisro gesinimo sistema'!O25+'24. Transportavimo sistema'!O25+'25. Lietaus surinkimo sistema'!O25++'Bendrosios pastato išlaidos'!H36)","v":0},{"$f":"SUM('1. Pamatai'!P25+'2. Perdangos'!P25+'3. Sienos'!P25+'4. Durys'!P25+'5. Langai'!P25+'6. Laiptai'!P25+'7. Stogas'!P25+'8. Vidaus apdaila'!P25+'9. Išorės apdaila'!P25+'10. Šildymo sistema (vidaus)'!P25+'11. Šildymo sistema (lauko)'!P25+'12. Šaldymas ir oro kondiciona'!P25+'13. Ventiliacija'!P25+'14. Vandentiekio sistema (vida'!P25+'15. Vandentiekio sistema (lauk'!P25+'16. Nuotekų šalinimo sistema'!P25+'17. Nuotekų šalinimo sistema'!P25+'18. Elektros instaliacija (vid'!P25+'19. Elektros instaliacija (lau'!P25+'20. Dujos'!P25+'21. Apsaugos sistema'!P25+'22. Telekomunikacijos'!P25+'23. Gaisro gesinimo sistema'!P25+'24. Transportavimo sistema'!P25+'25. Lietaus surinkimo sistema'!P25++'Bendrosios pastato išlaidos'!I36)","v":0},{"$f":"SUM('1. Pamatai'!Q25+'2. Perdangos'!Q25+'3. Sienos'!Q25+'4. Durys'!Q25+'5. Langai'!Q25+'6. Laiptai'!Q25+'7. Stogas'!Q25+'8. Vidaus apdaila'!Q25+'9. Išorės apdaila'!Q25+'10. Šildymo sistema (vidaus)'!Q25+'11. Šildymo sistema (lauko)'!Q25+'12. Šaldymas ir oro kondiciona'!Q25+'13. Ventiliacija'!Q25+'14. Vandentiekio sistema (vida'!Q25+'15. Vandentiekio sistema (lauk'!Q25+'16. Nuotekų šalinimo sistema'!Q25+'17. Nuotekų šalinimo sistema'!Q25+'18. Elektros instaliacija (vid'!Q25+'19. Elektros instaliacija (lau'!Q25+'20. Dujos'!Q25+'21. Apsaugos sistema'!Q25+'22. Telekomunikacijos'!Q25+'23. Gaisro gesinimo sistema'!Q25+'24. Transportavimo sistema'!Q25+'25. Lietaus surinkimo sistema'!Q25++'Bendrosios pastato išlaidos'!J36)","v":0},{"$f":"SUM('1. Pamatai'!R25+'2. Perdangos'!R25+'3. Sienos'!R25+'4. Durys'!R25+'5. Langai'!R25+'6. Laiptai'!R25+'7. Stogas'!R25+'8. Vidaus apdaila'!R25+'9. Išorės apdaila'!R25+'10. Šildymo sistema (vidaus)'!R25+'11. Šildymo sistema (lauko)'!R25+'12. Šaldymas ir oro kondiciona'!R25+'13. Ventiliacija'!R25+'14. Vandentiekio sistema (vida'!R25+'15. Vandentiekio sistema (lauk'!R25+'16. Nuotekų šalinimo sistema'!R25+'17. Nuotekų šalinimo sistema'!R25+'18. Elektros instaliacija (vid'!R25+'19. Elektros instaliacija (lau'!R25+'20. Dujos'!R25+'21. Apsaugos sistema'!R25+'22. Telekomunikacijos'!R25+'23. Gaisro gesinimo sistema'!R25+'24. Transportavimo sistema'!R25+'25. Lietaus surinkimo sistema'!R25++'Bendrosios pastato išlaidos'!K36)","v":0},{"$f":"SUM('1. Pamatai'!S25+'2. Perdangos'!S25+'3. Sienos'!S25+'4. Durys'!S25+'5. Langai'!S25+'6. Laiptai'!S25+'7. Stogas'!S25+'8. Vidaus apdaila'!S25+'9. Išorės apdaila'!S25+'10. Šildymo sistema (vidaus)'!S25+'11. Šildymo sistema (lauko)'!S25+'12. Šaldymas ir oro kondiciona'!S25+'13. Ventiliacija'!S25+'14. Vandentiekio sistema (vida'!S25+'15. Vandentiekio sistema (lauk'!S25+'16. Nuotekų šalinimo sistema'!S25+'17. Nuotekų šalinimo sistema'!S25+'18. Elektros instaliacija (vid'!S25+'19. Elektros instaliacija (lau'!S25+'20. Dujos'!S25+'21. Apsaugos sistema'!S25+'22. Telekomunikacijos'!S25+'23. Gaisro gesinimo sistema'!S25+'24. Transportavimo sistema'!S25+'25. Lietaus surinkimo sistema'!S25++'Bendrosios pastato išlaidos'!L36)","v":0},{"$f":"SUM('1. Pamatai'!T25+'2. Perdangos'!T25+'3. Sienos'!T25+'4. Durys'!T25+'5. Langai'!T25+'6. Laiptai'!T25+'7. Stogas'!T25+'8. Vidaus apdaila'!T25+'9. Išorės apdaila'!T25+'10. Šildymo sistema (vidaus)'!T25+'11. Šildymo sistema (lauko)'!T25+'12. Šaldymas ir oro kondiciona'!T25+'13. Ventiliacija'!T25+'14. Vandentiekio sistema (vida'!T25+'15. Vandentiekio sistema (lauk'!T25+'16. Nuotekų šalinimo sistema'!T25+'17. Nuotekų šalinimo sistema'!T25+'18. Elektros instaliacija (vid'!T25+'19. Elektros instaliacija (lau'!T25+'20. Dujos'!T25+'21. Apsaugos sistema'!T25+'22. Telekomunikacijos'!T25+'23. Gaisro gesinimo sistema'!T25+'24. Transportavimo sistema'!T25+'25. Lietaus surinkimo sistema'!T25++'Bendrosios pastato išlaidos'!M36)","v":0},{"$f":"SUM('1. Pamatai'!U25+'2. Perdangos'!U25+'3. Sienos'!U25+'4. Durys'!U25+'5. Langai'!U25+'6. Laiptai'!U25+'7. Stogas'!U25+'8. Vidaus apdaila'!U25+'9. Išorės apdaila'!U25+'10. Šildymo sistema (vidaus)'!U25+'11. Šildymo sistema (lauko)'!U25+'12. Šaldymas ir oro kondiciona'!U25+'13. Ventiliacija'!U25+'14. Vandentiekio sistema (vida'!U25+'15. Vandentiekio sistema (lauk'!U25+'16. Nuotekų šalinimo sistema'!U25+'17. Nuotekų šalinimo sistema'!U25+'18. Elektros instaliacija (vid'!U25+'19. Elektros instaliacija (lau'!U25+'20. Dujos'!U25+'21. Apsaugos sistema'!U25+'22. Telekomunikacijos'!U25+'23. Gaisro gesinimo sistema'!U25+'24. Transportavimo sistema'!U25+'25. Lietaus surinkimo sistema'!U25++'Bendrosios pastato išlaidos'!N36)","v":0}]
[null,"D.4.6. Elektros tinklų įrenginių ekploatacijos išlaidos",{"$f":"SUM(D39:OFFSET(D39,0,1000))","v":0},{"$f":"SUM('1. Pamatai'!M26+'2. Perdangos'!M26+'3. Sienos'!M26+'4. Durys'!M26+'5. Langai'!M26+'6. Laiptai'!M26+'7. Stogas'!M26+'8. Vidaus apdaila'!M26+'9. Išorės apdaila'!M26+'10. Šildymo sistema (vidaus)'!M26+'11. Šildymo sistema (lauko)'!M26+'12. Šaldymas ir oro kondiciona'!M26+'13. Ventiliacija'!M26+'14. Vandentiekio sistema (vida'!M26+'15. Vandentiekio sistema (lauk'!M26+'16. Nuotekų šalinimo sistema'!M26+'17. Nuotekų šalinimo sistema'!M26+'18. Elektros instaliacija (vid'!M26+'19. Elektros instaliacija (lau'!M26+'20. Dujos'!M26+'21. Apsaugos sistema'!M26+'22. Telekomunikacijos'!M26+'23. Gaisro gesinimo sistema'!M26+'24. Transportavimo sistema'!M26+'25. Lietaus surinkimo sistema'!M26++'Bendrosios pastato išlaidos'!F37)","v":0},{"$f":"SUM('1. Pamatai'!N26+'2. Perdangos'!N26+'3. Sienos'!N26+'4. Durys'!N26+'5. Langai'!N26+'6. Laiptai'!N26+'7. Stogas'!N26+'8. Vidaus apdaila'!N26+'9. Išorės apdaila'!N26+'10. Šildymo sistema (vidaus)'!N26+'11. Šildymo sistema (lauko)'!N26+'12. Šaldymas ir oro kondiciona'!N26+'13. Ventiliacija'!N26+'14. Vandentiekio sistema (vida'!N26+'15. Vandentiekio sistema (lauk'!N26+'16. Nuotekų šalinimo sistema'!N26+'17. Nuotekų šalinimo sistema'!N26+'18. Elektros instaliacija (vid'!N26+'19. Elektros instaliacija (lau'!N26+'20. Dujos'!N26+'21. Apsaugos sistema'!N26+'22. Telekomunikacijos'!N26+'23. Gaisro gesinimo sistema'!N26+'24. Transportavimo sistema'!N26+'25. Lietaus surinkimo sistema'!N26++'Bendrosios pastato išlaidos'!G37)","v":0},{"$f":"SUM('1. Pamatai'!O26+'2. Perdangos'!O26+'3. Sienos'!O26+'4. Durys'!O26+'5. Langai'!O26+'6. Laiptai'!O26+'7. Stogas'!O26+'8. Vidaus apdaila'!O26+'9. Išorės apdaila'!O26+'10. Šildymo sistema (vidaus)'!O26+'11. Šildymo sistema (lauko)'!O26+'12. Šaldymas ir oro kondiciona'!O26+'13. Ventiliacija'!O26+'14. Vandentiekio sistema (vida'!O26+'15. Vandentiekio sistema (lauk'!O26+'16. Nuotekų šalinimo sistema'!O26+'17. Nuotekų šalinimo sistema'!O26+'18. Elektros instaliacija (vid'!O26+'19. Elektros instaliacija (lau'!O26+'20. Dujos'!O26+'21. Apsaugos sistema'!O26+'22. Telekomunikacijos'!O26+'23. Gaisro gesinimo sistema'!O26+'24. Transportavimo sistema'!O26+'25. Lietaus surinkimo sistema'!O26++'Bendrosios pastato išlaidos'!H37)","v":0},{"$f":"SUM('1. Pamatai'!P26+'2. Perdangos'!P26+'3. Sienos'!P26+'4. Durys'!P26+'5. Langai'!P26+'6. Laiptai'!P26+'7. Stogas'!P26+'8. Vidaus apdaila'!P26+'9. Išorės apdaila'!P26+'10. Šildymo sistema (vidaus)'!P26+'11. Šildymo sistema (lauko)'!P26+'12. Šaldymas ir oro kondiciona'!P26+'13. Ventiliacija'!P26+'14. Vandentiekio sistema (vida'!P26+'15. Vandentiekio sistema (lauk'!P26+'16. Nuotekų šalinimo sistema'!P26+'17. Nuotekų šalinimo sistema'!P26+'18. Elektros instaliacija (vid'!P26+'19. Elektros instaliacija (lau'!P26+'20. Dujos'!P26+'21. Apsaugos sistema'!P26+'22. Telekomunikacijos'!P26+'23. Gaisro gesinimo sistema'!P26+'24. Transportavimo sistema'!P26+'25. Lietaus surinkimo sistema'!P26++'Bendrosios pastato išlaidos'!I37)","v":0},{"$f":"SUM('1. Pamatai'!Q26+'2. Perdangos'!Q26+'3. Sienos'!Q26+'4. Durys'!Q26+'5. Langai'!Q26+'6. Laiptai'!Q26+'7. Stogas'!Q26+'8. Vidaus apdaila'!Q26+'9. Išorės apdaila'!Q26+'10. Šildymo sistema (vidaus)'!Q26+'11. Šildymo sistema (lauko)'!Q26+'12. Šaldymas ir oro kondiciona'!Q26+'13. Ventiliacija'!Q26+'14. Vandentiekio sistema (vida'!Q26+'15. Vandentiekio sistema (lauk'!Q26+'16. Nuotekų šalinimo sistema'!Q26+'17. Nuotekų šalinimo sistema'!Q26+'18. Elektros instaliacija (vid'!Q26+'19. Elektros instaliacija (lau'!Q26+'20. Dujos'!Q26+'21. Apsaugos sistema'!Q26+'22. Telekomunikacijos'!Q26+'23. Gaisro gesinimo sistema'!Q26+'24. Transportavimo sistema'!Q26+'25. Lietaus surinkimo sistema'!Q26++'Bendrosios pastato išlaidos'!J37)","v":0},{"$f":"SUM('1. Pamatai'!R26+'2. Perdangos'!R26+'3. Sienos'!R26+'4. Durys'!R26+'5. Langai'!R26+'6. Laiptai'!R26+'7. Stogas'!R26+'8. Vidaus apdaila'!R26+'9. Išorės apdaila'!R26+'10. Šildymo sistema (vidaus)'!R26+'11. Šildymo sistema (lauko)'!R26+'12. Šaldymas ir oro kondiciona'!R26+'13. Ventiliacija'!R26+'14. Vandentiekio sistema (vida'!R26+'15. Vandentiekio sistema (lauk'!R26+'16. Nuotekų šalinimo sistema'!R26+'17. Nuotekų šalinimo sistema'!R26+'18. Elektros instaliacija (vid'!R26+'19. Elektros instaliacija (lau'!R26+'20. Dujos'!R26+'21. Apsaugos sistema'!R26+'22. Telekomunikacijos'!R26+'23. Gaisro gesinimo sistema'!R26+'24. Transportavimo sistema'!R26+'25. Lietaus surinkimo sistema'!R26++'Bendrosios pastato išlaidos'!K37)","v":0},{"$f":"SUM('1. Pamatai'!S26+'2. Perdangos'!S26+'3. Sienos'!S26+'4. Durys'!S26+'5. Langai'!S26+'6. Laiptai'!S26+'7. Stogas'!S26+'8. Vidaus apdaila'!S26+'9. Išorės apdaila'!S26+'10. Šildymo sistema (vidaus)'!S26+'11. Šildymo sistema (lauko)'!S26+'12. Šaldymas ir oro kondiciona'!S26+'13. Ventiliacija'!S26+'14. Vandentiekio sistema (vida'!S26+'15. Vandentiekio sistema (lauk'!S26+'16. Nuotekų šalinimo sistema'!S26+'17. Nuotekų šalinimo sistema'!S26+'18. Elektros instaliacija (vid'!S26+'19. Elektros instaliacija (lau'!S26+'20. Dujos'!S26+'21. Apsaugos sistema'!S26+'22. Telekomunikacijos'!S26+'23. Gaisro gesinimo sistema'!S26+'24. Transportavimo sistema'!S26+'25. Lietaus surinkimo sistema'!S26++'Bendrosios pastato išlaidos'!L37)","v":0},{"$f":"SUM('1. Pamatai'!T26+'2. Perdangos'!T26+'3. Sienos'!T26+'4. Durys'!T26+'5. Langai'!T26+'6. Laiptai'!T26+'7. Stogas'!T26+'8. Vidaus apdaila'!T26+'9. Išorės apdaila'!T26+'10. Šildymo sistema (vidaus)'!T26+'11. Šildymo sistema (lauko)'!T26+'12. Šaldymas ir oro kondiciona'!T26+'13. Ventiliacija'!T26+'14. Vandentiekio sistema (vida'!T26+'15. Vandentiekio sistema (lauk'!T26+'16. Nuotekų šalinimo sistema'!T26+'17. Nuotekų šalinimo sistema'!T26+'18. Elektros instaliacija (vid'!T26+'19. Elektros instaliacija (lau'!T26+'20. Dujos'!T26+'21. Apsaugos sistema'!T26+'22. Telekomunikacijos'!T26+'23. Gaisro gesinimo sistema'!T26+'24. Transportavimo sistema'!T26+'25. Lietaus surinkimo sistema'!T26++'Bendrosios pastato išlaidos'!M37)","v":0},{"$f":"SUM('1. Pamatai'!U26+'2. Perdangos'!U26+'3. Sienos'!U26+'4. Durys'!U26+'5. Langai'!U26+'6. Laiptai'!U26+'7. Stogas'!U26+'8. Vidaus apdaila'!U26+'9. Išorės apdaila'!U26+'10. Šildymo sistema (vidaus)'!U26+'11. Šildymo sistema (lauko)'!U26+'12. Šaldymas ir oro kondiciona'!U26+'13. Ventiliacija'!U26+'14. Vandentiekio sistema (vida'!U26+'15. Vandentiekio sistema (lauk'!U26+'16. Nuotekų šalinimo sistema'!U26+'17. Nuotekų šalinimo sistema'!U26+'18. Elektros instaliacija (vid'!U26+'19. Elektros instaliacija (lau'!U26+'20. Dujos'!U26+'21. Apsaugos sistema'!U26+'22. Telekomunikacijos'!U26+'23. Gaisro gesinimo sistema'!U26+'24. Transportavimo sistema'!U26+'25. Lietaus surinkimo sistema'!U26++'Bendrosios pastato išlaidos'!N37)","v":0}]
[null,"D.4.7. Dujotekio sistemos įrenginių eksploatacijos išlaidos",{"$f":"SUM(D40:OFFSET(D40,0,1000))","v":0},{"$f":"SUM('1. Pamatai'!M27+'2. Perdangos'!M27+'3. Sienos'!M27+'4. Durys'!M27+'5. Langai'!M27+'6. Laiptai'!M27+'7. Stogas'!M27+'8. Vidaus apdaila'!M27+'9. Išorės apdaila'!M27+'10. Šildymo sistema (vidaus)'!M27+'11. Šildymo sistema (lauko)'!M27+'12. Šaldymas ir oro kondiciona'!M27+'13. Ventiliacija'!M27+'14. Vandentiekio sistema (vida'!M27+'15. Vandentiekio sistema (lauk'!M27+'16. Nuotekų šalinimo sistema'!M27+'17. Nuotekų šalinimo sistema'!M27+'18. Elektros instaliacija (vid'!M27+'19. Elektros instaliacija (lau'!M27+'20. Dujos'!M27+'21. Apsaugos sistema'!M27+'22. Telekomunikacijos'!M27+'23. Gaisro gesinimo sistema'!M27+'24. Transportavimo sistema'!M27+'25. Lietaus surinkimo sistema'!M27++'Bendrosios pastato išlaidos'!F38)","v":0},{"$f":"SUM('1. Pamatai'!N27+'2. Perdangos'!N27+'3. Sienos'!N27+'4. Durys'!N27+'5. Langai'!N27+'6. Laiptai'!N27+'7. Stogas'!N27+'8. Vidaus apdaila'!N27+'9. Išorės apdaila'!N27+'10. Šildymo sistema (vidaus)'!N27+'11. Šildymo sistema (lauko)'!N27+'12. Šaldymas ir oro kondiciona'!N27+'13. Ventiliacija'!N27+'14. Vandentiekio sistema (vida'!N27+'15. Vandentiekio sistema (lauk'!N27+'16. Nuotekų šalinimo sistema'!N27+'17. Nuotekų šalinimo sistema'!N27+'18. Elektros instaliacija (vid'!N27+'19. Elektros instaliacija (lau'!N27+'20. Dujos'!N27+'21. Apsaugos sistema'!N27+'22. Telekomunikacijos'!N27+'23. Gaisro gesinimo sistema'!N27+'24. Transportavimo sistema'!N27+'25. Lietaus surinkimo sistema'!N27++'Bendrosios pastato išlaidos'!G38)","v":0},{"$f":"SUM('1. Pamatai'!O27+'2. Perdangos'!O27+'3. Sienos'!O27+'4. Durys'!O27+'5. Langai'!O27+'6. Laiptai'!O27+'7. Stogas'!O27+'8. Vidaus apdaila'!O27+'9. Išorės apdaila'!O27+'10. Šildymo sistema (vidaus)'!O27+'11. Šildymo sistema (lauko)'!O27+'12. Šaldymas ir oro kondiciona'!O27+'13. Ventiliacija'!O27+'14. Vandentiekio sistema (vida'!O27+'15. Vandentiekio sistema (lauk'!O27+'16. Nuotekų šalinimo sistema'!O27+'17. Nuotekų šalinimo sistema'!O27+'18. Elektros instaliacija (vid'!O27+'19. Elektros instaliacija (lau'!O27+'20. Dujos'!O27+'21. Apsaugos sistema'!O27+'22. Telekomunikacijos'!O27+'23. Gaisro gesinimo sistema'!O27+'24. Transportavimo sistema'!O27+'25. Lietaus surinkimo sistema'!O27++'Bendrosios pastato išlaidos'!H38)","v":0},{"$f":"SUM('1. Pamatai'!P27+'2. Perdangos'!P27+'3. Sienos'!P27+'4. Durys'!P27+'5. Langai'!P27+'6. Laiptai'!P27+'7. Stogas'!P27+'8. Vidaus apdaila'!P27+'9. Išorės apdaila'!P27+'10. Šildymo sistema (vidaus)'!P27+'11. Šildymo sistema (lauko)'!P27+'12. Šaldymas ir oro kondiciona'!P27+'13. Ventiliacija'!P27+'14. Vandentiekio sistema (vida'!P27+'15. Vandentiekio sistema (lauk'!P27+'16. Nuotekų šalinimo sistema'!P27+'17. Nuotekų šalinimo sistema'!P27+'18. Elektros instaliacija (vid'!P27+'19. Elektros instaliacija (lau'!P27+'20. Dujos'!P27+'21. Apsaugos sistema'!P27+'22. Telekomunikacijos'!P27+'23. Gaisro gesinimo sistema'!P27+'24. Transportavimo sistema'!P27+'25. Lietaus surinkimo sistema'!P27++'Bendrosios pastato išlaidos'!I38)","v":0},{"$f":"SUM('1. Pamatai'!Q27+'2. Perdangos'!Q27+'3. Sienos'!Q27+'4. Durys'!Q27+'5. Langai'!Q27+'6. Laiptai'!Q27+'7. Stogas'!Q27+'8. Vidaus apdaila'!Q27+'9. Išorės apdaila'!Q27+'10. Šildymo sistema (vidaus)'!Q27+'11. Šildymo sistema (lauko)'!Q27+'12. Šaldymas ir oro kondiciona'!Q27+'13. Ventiliacija'!Q27+'14. Vandentiekio sistema (vida'!Q27+'15. Vandentiekio sistema (lauk'!Q27+'16. Nuotekų šalinimo sistema'!Q27+'17. Nuotekų šalinimo sistema'!Q27+'18. Elektros instaliacija (vid'!Q27+'19. Elektros instaliacija (lau'!Q27+'20. Dujos'!Q27+'21. Apsaugos sistema'!Q27+'22. Telekomunikacijos'!Q27+'23. Gaisro gesinimo sistema'!Q27+'24. Transportavimo sistema'!Q27+'25. Lietaus surinkimo sistema'!Q27++'Bendrosios pastato išlaidos'!J38)","v":0},{"$f":"SUM('1. Pamatai'!R27+'2. Perdangos'!R27+'3. Sienos'!R27+'4. Durys'!R27+'5. Langai'!R27+'6. Laiptai'!R27+'7. Stogas'!R27+'8. Vidaus apdaila'!R27+'9. Išorės apdaila'!R27+'10. Šildymo sistema (vidaus)'!R27+'11. Šildymo sistema (lauko)'!R27+'12. Šaldymas ir oro kondiciona'!R27+'13. Ventiliacija'!R27+'14. Vandentiekio sistema (vida'!R27+'15. Vandentiekio sistema (lauk'!R27+'16. Nuotekų šalinimo sistema'!R27+'17. Nuotekų šalinimo sistema'!R27+'18. Elektros instaliacija (vid'!R27+'19. Elektros instaliacija (lau'!R27+'20. Dujos'!R27+'21. Apsaugos sistema'!R27+'22. Telekomunikacijos'!R27+'23. Gaisro gesinimo sistema'!R27+'24. Transportavimo sistema'!R27+'25. Lietaus surinkimo sistema'!R27++'Bendrosios pastato išlaidos'!K38)","v":0},{"$f":"SUM('1. Pamatai'!S27+'2. Perdangos'!S27+'3. Sienos'!S27+'4. Durys'!S27+'5. Langai'!S27+'6. Laiptai'!S27+'7. Stogas'!S27+'8. Vidaus apdaila'!S27+'9. Išorės apdaila'!S27+'10. Šildymo sistema (vidaus)'!S27+'11. Šildymo sistema (lauko)'!S27+'12. Šaldymas ir oro kondiciona'!S27+'13. Ventiliacija'!S27+'14. Vandentiekio sistema (vida'!S27+'15. Vandentiekio sistema (lauk'!S27+'16. Nuotekų šalinimo sistema'!S27+'17. Nuotekų šalinimo sistema'!S27+'18. Elektros instaliacija (vid'!S27+'19. Elektros instaliacija (lau'!S27+'20. Dujos'!S27+'21. Apsaugos sistema'!S27+'22. Telekomunikacijos'!S27+'23. Gaisro gesinimo sistema'!S27+'24. Transportavimo sistema'!S27+'25. Lietaus surinkimo sistema'!S27++'Bendrosios pastato išlaidos'!L38)","v":0},{"$f":"SUM('1. Pamatai'!T27+'2. Perdangos'!T27+'3. Sienos'!T27+'4. Durys'!T27+'5. Langai'!T27+'6. Laiptai'!T27+'7. Stogas'!T27+'8. Vidaus apdaila'!T27+'9. Išorės apdaila'!T27+'10. Šildymo sistema (vidaus)'!T27+'11. Šildymo sistema (lauko)'!T27+'12. Šaldymas ir oro kondiciona'!T27+'13. Ventiliacija'!T27+'14. Vandentiekio sistema (vida'!T27+'15. Vandentiekio sistema (lauk'!T27+'16. Nuotekų šalinimo sistema'!T27+'17. Nuotekų šalinimo sistema'!T27+'18. Elektros instaliacija (vid'!T27+'19. Elektros instaliacija (lau'!T27+'20. Dujos'!T27+'21. Apsaugos sistema'!T27+'22. Telekomunikacijos'!T27+'23. Gaisro gesinimo sistema'!T27+'24. Transportavimo sistema'!T27+'25. Lietaus surinkimo sistema'!T27++'Bendrosios pastato išlaidos'!M38)","v":0},{"$f":"SUM('1. Pamatai'!U27+'2. Perdangos'!U27+'3. Sienos'!U27+'4. Durys'!U27+'5. Langai'!U27+'6. Laiptai'!U27+'7. Stogas'!U27+'8. Vidaus apdaila'!U27+'9. Išorės apdaila'!U27+'10. Šildymo sistema (vidaus)'!U27+'11. Šildymo sistema (lauko)'!U27+'12. Šaldymas ir oro kondiciona'!U27+'13. Ventiliacija'!U27+'14. Vandentiekio sistema (vida'!U27+'15. Vandentiekio sistema (lauk'!U27+'16. Nuotekų šalinimo sistema'!U27+'17. Nuotekų šalinimo sistema'!U27+'18. Elektros instaliacija (vid'!U27+'19. Elektros instaliacija (lau'!U27+'20. Dujos'!U27+'21. Apsaugos sistema'!U27+'22. Telekomunikacijos'!U27+'23. Gaisro gesinimo sistema'!U27+'24. Transportavimo sistema'!U27+'25. Lietaus surinkimo sistema'!U27++'Bendrosios pastato išlaidos'!N38)","v":0}]
[null,"D.4.8. Gaisro gesinimo ir perspėjimo sistemų įrenginių eksploatacijos išlaidos",{"$f":"SUM(D41:OFFSET(D41,0,1000))","v":0},{"$f":"SUM('1. Pamatai'!M28+'2. Perdangos'!M28+'3. Sienos'!M28+'4. Durys'!M28+'5. Langai'!M28+'6. Laiptai'!M28+'7. Stogas'!M28+'8. Vidaus apdaila'!M28+'9. Išorės apdaila'!M28+'10. Šildymo sistema (vidaus)'!M28+'11. Šildymo sistema (lauko)'!M28+'12. Šaldymas ir oro kondiciona'!M28+'13. Ventiliacija'!M28+'14. Vandentiekio sistema (vida'!M28+'15. Vandentiekio sistema (lauk'!M28+'16. Nuotekų šalinimo sistema'!M28+'17. Nuotekų šalinimo sistema'!M28+'18. Elektros instaliacija (vid'!M28+'19. Elektros instaliacija (lau'!M28+'20. Dujos'!M28+'21. Apsaugos sistema'!M28+'22. Telekomunikacijos'!M28+'23. Gaisro gesinimo sistema'!M28+'24. Transportavimo sistema'!M28+'25. Lietaus surinkimo sistema'!M28++'Bendrosios pastato išlaidos'!F39)","v":0},{"$f":"SUM('1. Pamatai'!N28+'2. Perdangos'!N28+'3. Sienos'!N28+'4. Durys'!N28+'5. Langai'!N28+'6. Laiptai'!N28+'7. Stogas'!N28+'8. Vidaus apdaila'!N28+'9. Išorės apdaila'!N28+'10. Šildymo sistema (vidaus)'!N28+'11. Šildymo sistema (lauko)'!N28+'12. Šaldymas ir oro kondiciona'!N28+'13. Ventiliacija'!N28+'14. Vandentiekio sistema (vida'!N28+'15. Vandentiekio sistema (lauk'!N28+'16. Nuotekų šalinimo sistema'!N28+'17. Nuotekų šalinimo sistema'!N28+'18. Elektros instaliacija (vid'!N28+'19. Elektros instaliacija (lau'!N28+'20. Dujos'!N28+'21. Apsaugos sistema'!N28+'22. Telekomunikacijos'!N28+'23. Gaisro gesinimo sistema'!N28+'24. Transportavimo sistema'!N28+'25. Lietaus surinkimo sistema'!N28++'Bendrosios pastato išlaidos'!G39)","v":0},{"$f":"SUM('1. Pamatai'!O28+'2. Perdangos'!O28+'3. Sienos'!O28+'4. Durys'!O28+'5. Langai'!O28+'6. Laiptai'!O28+'7. Stogas'!O28+'8. Vidaus apdaila'!O28+'9. Išorės apdaila'!O28+'10. Šildymo sistema (vidaus)'!O28+'11. Šildymo sistema (lauko)'!O28+'12. Šaldymas ir oro kondiciona'!O28+'13. Ventiliacija'!O28+'14. Vandentiekio sistema (vida'!O28+'15. Vandentiekio sistema (lauk'!O28+'16. Nuotekų šalinimo sistema'!O28+'17. Nuotekų šalinimo sistema'!O28+'18. Elektros instaliacija (vid'!O28+'19. Elektros instaliacija (lau'!O28+'20. Dujos'!O28+'21. Apsaugos sistema'!O28+'22. Telekomunikacijos'!O28+'23. Gaisro gesinimo sistema'!O28+'24. Transportavimo sistema'!O28+'25. Lietaus surinkimo sistema'!O28++'Bendrosios pastato išlaidos'!H39)","v":0},{"$f":"SUM('1. Pamatai'!P28+'2. Perdangos'!P28+'3. Sienos'!P28+'4. Durys'!P28+'5. Langai'!P28+'6. Laiptai'!P28+'7. Stogas'!P28+'8. Vidaus apdaila'!P28+'9. Išorės apdaila'!P28+'10. Šildymo sistema (vidaus)'!P28+'11. Šildymo sistema (lauko)'!P28+'12. Šaldymas ir oro kondiciona'!P28+'13. Ventiliacija'!P28+'14. Vandentiekio sistema (vida'!P28+'15. Vandentiekio sistema (lauk'!P28+'16. Nuotekų šalinimo sistema'!P28+'17. Nuotekų šalinimo sistema'!P28+'18. Elektros instaliacija (vid'!P28+'19. Elektros instaliacija (lau'!P28+'20. Dujos'!P28+'21. Apsaugos sistema'!P28+'22. Telekomunikacijos'!P28+'23. Gaisro gesinimo sistema'!P28+'24. Transportavimo sistema'!P28+'25. Lietaus surinkimo sistema'!P28++'Bendrosios pastato išlaidos'!I39)","v":0},{"$f":"SUM('1. Pamatai'!Q28+'2. Perdangos'!Q28+'3. Sienos'!Q28+'4. Durys'!Q28+'5. Langai'!Q28+'6. Laiptai'!Q28+'7. Stogas'!Q28+'8. Vidaus apdaila'!Q28+'9. Išorės apdaila'!Q28+'10. Šildymo sistema (vidaus)'!Q28+'11. Šildymo sistema (lauko)'!Q28+'12. Šaldymas ir oro kondiciona'!Q28+'13. Ventiliacija'!Q28+'14. Vandentiekio sistema (vida'!Q28+'15. Vandentiekio sistema (lauk'!Q28+'16. Nuotekų šalinimo sistema'!Q28+'17. Nuotekų šalinimo sistema'!Q28+'18. Elektros instaliacija (vid'!Q28+'19. Elektros instaliacija (lau'!Q28+'20. Dujos'!Q28+'21. Apsaugos sistema'!Q28+'22. Telekomunikacijos'!Q28+'23. Gaisro gesinimo sistema'!Q28+'24. Transportavimo sistema'!Q28+'25. Lietaus surinkimo sistema'!Q28++'Bendrosios pastato išlaidos'!J39)","v":0},{"$f":"SUM('1. Pamatai'!R28+'2. Perdangos'!R28+'3. Sienos'!R28+'4. Durys'!R28+'5. Langai'!R28+'6. Laiptai'!R28+'7. Stogas'!R28+'8. Vidaus apdaila'!R28+'9. Išorės apdaila'!R28+'10. Šildymo sistema (vidaus)'!R28+'11. Šildymo sistema (lauko)'!R28+'12. Šaldymas ir oro kondiciona'!R28+'13. Ventiliacija'!R28+'14. Vandentiekio sistema (vida'!R28+'15. Vandentiekio sistema (lauk'!R28+'16. Nuotekų šalinimo sistema'!R28+'17. Nuotekų šalinimo sistema'!R28+'18. Elektros instaliacija (vid'!R28+'19. Elektros instaliacija (lau'!R28+'20. Dujos'!R28+'21. Apsaugos sistema'!R28+'22. Telekomunikacijos'!R28+'23. Gaisro gesinimo sistema'!R28+'24. Transportavimo sistema'!R28+'25. Lietaus surinkimo sistema'!R28++'Bendrosios pastato išlaidos'!K39)","v":0},{"$f":"SUM('1. Pamatai'!S28+'2. Perdangos'!S28+'3. Sienos'!S28+'4. Durys'!S28+'5. Langai'!S28+'6. Laiptai'!S28+'7. Stogas'!S28+'8. Vidaus apdaila'!S28+'9. Išorės apdaila'!S28+'10. Šildymo sistema (vidaus)'!S28+'11. Šildymo sistema (lauko)'!S28+'12. Šaldymas ir oro kondiciona'!S28+'13. Ventiliacija'!S28+'14. Vandentiekio sistema (vida'!S28+'15. Vandentiekio sistema (lauk'!S28+'16. Nuotekų šalinimo sistema'!S28+'17. Nuotekų šalinimo sistema'!S28+'18. Elektros instaliacija (vid'!S28+'19. Elektros instaliacija (lau'!S28+'20. Dujos'!S28+'21. Apsaugos sistema'!S28+'22. Telekomunikacijos'!S28+'23. Gaisro gesinimo sistema'!S28+'24. Transportavimo sistema'!S28+'25. Lietaus surinkimo sistema'!S28++'Bendrosios pastato išlaidos'!L39)","v":0},{"$f":"SUM('1. Pamatai'!T28+'2. Perdangos'!T28+'3. Sienos'!T28+'4. Durys'!T28+'5. Langai'!T28+'6. Laiptai'!T28+'7. Stogas'!T28+'8. Vidaus apdaila'!T28+'9. Išorės apdaila'!T28+'10. Šildymo sistema (vidaus)'!T28+'11. Šildymo sistema (lauko)'!T28+'12. Šaldymas ir oro kondiciona'!T28+'13. Ventiliacija'!T28+'14. Vandentiekio sistema (vida'!T28+'15. Vandentiekio sistema (lauk'!T28+'16. Nuotekų šalinimo sistema'!T28+'17. Nuotekų šalinimo sistema'!T28+'18. Elektros instaliacija (vid'!T28+'19. Elektros instaliacija (lau'!T28+'20. Dujos'!T28+'21. Apsaugos sistema'!T28+'22. Telekomunikacijos'!T28+'23. Gaisro gesinimo sistema'!T28+'24. Transportavimo sistema'!T28+'25. Lietaus surinkimo sistema'!T28++'Bendrosios pastato išlaidos'!M39)","v":0},{"$f":"SUM('1. Pamatai'!U28+'2. Perdangos'!U28+'3. Sienos'!U28+'4. Durys'!U28+'5. Langai'!U28+'6. Laiptai'!U28+'7. Stogas'!U28+'8. Vidaus apdaila'!U28+'9. Išorės apdaila'!U28+'10. Šildymo sistema (vidaus)'!U28+'11. Šildymo sistema (lauko)'!U28+'12. Šaldymas ir oro kondiciona'!U28+'13. Ventiliacija'!U28+'14. Vandentiekio sistema (vida'!U28+'15. Vandentiekio sistema (lauk'!U28+'16. Nuotekų šalinimo sistema'!U28+'17. Nuotekų šalinimo sistema'!U28+'18. Elektros instaliacija (vid'!U28+'19. Elektros instaliacija (lau'!U28+'20. Dujos'!U28+'21. Apsaugos sistema'!U28+'22. Telekomunikacijos'!U28+'23. Gaisro gesinimo sistema'!U28+'24. Transportavimo sistema'!U28+'25. Lietaus surinkimo sistema'!U28++'Bendrosios pastato išlaidos'!N39)","v":0}]
[null,"D.4.9. Apsaugos sistemos įrenginių ekploatacijos išlaidos",{"$f":"SUM(D42:OFFSET(D42,0,1000))","v":0},{"$f":"SUM('1. Pamatai'!M29+'2. Perdangos'!M29+'3. Sienos'!M29+'4. Durys'!M29+'5. Langai'!M29+'6. Laiptai'!M29+'7. Stogas'!M29+'8. Vidaus apdaila'!M29+'9. Išorės apdaila'!M29+'10. Šildymo sistema (vidaus)'!M29+'11. Šildymo sistema (lauko)'!M29+'12. Šaldymas ir oro kondiciona'!M29+'13. Ventiliacija'!M29+'14. Vandentiekio sistema (vida'!M29+'15. Vandentiekio sistema (lauk'!M29+'16. Nuotekų šalinimo sistema'!M29+'17. Nuotekų šalinimo sistema'!M29+'18. Elektros instaliacija (vid'!M29+'19. Elektros instaliacija (lau'!M29+'20. Dujos'!M29+'21. Apsaugos sistema'!M29+'22. Telekomunikacijos'!M29+'23. Gaisro gesinimo sistema'!M29+'24. Transportavimo sistema'!M29+'25. Lietaus surinkimo sistema'!M29++'Bendrosios pastato išlaidos'!F40)","v":0},{"$f":"SUM('1. Pamatai'!N29+'2. Perdangos'!N29+'3. Sienos'!N29+'4. Durys'!N29+'5. Langai'!N29+'6. Laiptai'!N29+'7. Stogas'!N29+'8. Vidaus apdaila'!N29+'9. Išorės apdaila'!N29+'10. Šildymo sistema (vidaus)'!N29+'11. Šildymo sistema (lauko)'!N29+'12. Šaldymas ir oro kondiciona'!N29+'13. Ventiliacija'!N29+'14. Vandentiekio sistema (vida'!N29+'15. Vandentiekio sistema (lauk'!N29+'16. Nuotekų šalinimo sistema'!N29+'17. Nuotekų šalinimo sistema'!N29+'18. Elektros instaliacija (vid'!N29+'19. Elektros instaliacija (lau'!N29+'20. Dujos'!N29+'21. Apsaugos sistema'!N29+'22. Telekomunikacijos'!N29+'23. Gaisro gesinimo sistema'!N29+'24. Transportavimo sistema'!N29+'25. Lietaus surinkimo sistema'!N29++'Bendrosios pastato išlaidos'!G40)","v":0},{"$f":"SUM('1. Pamatai'!O29+'2. Perdangos'!O29+'3. Sienos'!O29+'4. Durys'!O29+'5. Langai'!O29+'6. Laiptai'!O29+'7. Stogas'!O29+'8. Vidaus apdaila'!O29+'9. Išorės apdaila'!O29+'10. Šildymo sistema (vidaus)'!O29+'11. Šildymo sistema (lauko)'!O29+'12. Šaldymas ir oro kondiciona'!O29+'13. Ventiliacija'!O29+'14. Vandentiekio sistema (vida'!O29+'15. Vandentiekio sistema (lauk'!O29+'16. Nuotekų šalinimo sistema'!O29+'17. Nuotekų šalinimo sistema'!O29+'18. Elektros instaliacija (vid'!O29+'19. Elektros instaliacija (lau'!O29+'20. Dujos'!O29+'21. Apsaugos sistema'!O29+'22. Telekomunikacijos'!O29+'23. Gaisro gesinimo sistema'!O29+'24. Transportavimo sistema'!O29+'25. Lietaus surinkimo sistema'!O29++'Bendrosios pastato išlaidos'!H40)","v":0},{"$f":"SUM('1. Pamatai'!P29+'2. Perdangos'!P29+'3. Sienos'!P29+'4. Durys'!P29+'5. Langai'!P29+'6. Laiptai'!P29+'7. Stogas'!P29+'8. Vidaus apdaila'!P29+'9. Išorės apdaila'!P29+'10. Šildymo sistema (vidaus)'!P29+'11. Šildymo sistema (lauko)'!P29+'12. Šaldymas ir oro kondiciona'!P29+'13. Ventiliacija'!P29+'14. Vandentiekio sistema (vida'!P29+'15. Vandentiekio sistema (lauk'!P29+'16. Nuotekų šalinimo sistema'!P29+'17. Nuotekų šalinimo sistema'!P29+'18. Elektros instaliacija (vid'!P29+'19. Elektros instaliacija (lau'!P29+'20. Dujos'!P29+'21. Apsaugos sistema'!P29+'22. Telekomunikacijos'!P29+'23. Gaisro gesinimo sistema'!P29+'24. Transportavimo sistema'!P29+'25. Lietaus surinkimo sistema'!P29++'Bendrosios pastato išlaidos'!I40)","v":0},{"$f":"SUM('1. Pamatai'!Q29+'2. Perdangos'!Q29+'3. Sienos'!Q29+'4. Durys'!Q29+'5. Langai'!Q29+'6. Laiptai'!Q29+'7. Stogas'!Q29+'8. Vidaus apdaila'!Q29+'9. Išorės apdaila'!Q29+'10. Šildymo sistema (vidaus)'!Q29+'11. Šildymo sistema (lauko)'!Q29+'12. Šaldymas ir oro kondiciona'!Q29+'13. Ventiliacija'!Q29+'14. Vandentiekio sistema (vida'!Q29+'15. Vandentiekio sistema (lauk'!Q29+'16. Nuotekų šalinimo sistema'!Q29+'17. Nuotekų šalinimo sistema'!Q29+'18. Elektros instaliacija (vid'!Q29+'19. Elektros instaliacija (lau'!Q29+'20. Dujos'!Q29+'21. Apsaugos sistema'!Q29+'22. Telekomunikacijos'!Q29+'23. Gaisro gesinimo sistema'!Q29+'24. Transportavimo sistema'!Q29+'25. Lietaus surinkimo sistema'!Q29++'Bendrosios pastato išlaidos'!J40)","v":0},{"$f":"SUM('1. Pamatai'!R29+'2. Perdangos'!R29+'3. Sienos'!R29+'4. Durys'!R29+'5. Langai'!R29+'6. Laiptai'!R29+'7. Stogas'!R29+'8. Vidaus apdaila'!R29+'9. Išorės apdaila'!R29+'10. Šildymo sistema (vidaus)'!R29+'11. Šildymo sistema (lauko)'!R29+'12. Šaldymas ir oro kondiciona'!R29+'13. Ventiliacija'!R29+'14. Vandentiekio sistema (vida'!R29+'15. Vandentiekio sistema (lauk'!R29+'16. Nuotekų šalinimo sistema'!R29+'17. Nuotekų šalinimo sistema'!R29+'18. Elektros instaliacija (vid'!R29+'19. Elektros instaliacija (lau'!R29+'20. Dujos'!R29+'21. Apsaugos sistema'!R29+'22. Telekomunikacijos'!R29+'23. Gaisro gesinimo sistema'!R29+'24. Transportavimo sistema'!R29+'25. Lietaus surinkimo sistema'!R29++'Bendrosios pastato išlaidos'!K40)","v":0},{"$f":"SUM('1. Pamatai'!S29+'2. Perdangos'!S29+'3. Sienos'!S29+'4. Durys'!S29+'5. Langai'!S29+'6. Laiptai'!S29+'7. Stogas'!S29+'8. Vidaus apdaila'!S29+'9. Išorės apdaila'!S29+'10. Šildymo sistema (vidaus)'!S29+'11. Šildymo sistema (lauko)'!S29+'12. Šaldymas ir oro kondiciona'!S29+'13. Ventiliacija'!S29+'14. Vandentiekio sistema (vida'!S29+'15. Vandentiekio sistema (lauk'!S29+'16. Nuotekų šalinimo sistema'!S29+'17. Nuotekų šalinimo sistema'!S29+'18. Elektros instaliacija (vid'!S29+'19. Elektros instaliacija (lau'!S29+'20. Dujos'!S29+'21. Apsaugos sistema'!S29+'22. Telekomunikacijos'!S29+'23. Gaisro gesinimo sistema'!S29+'24. Transportavimo sistema'!S29+'25. Lietaus surinkimo sistema'!S29++'Bendrosios pastato išlaidos'!L40)","v":0},{"$f":"SUM('1. Pamatai'!T29+'2. Perdangos'!T29+'3. Sienos'!T29+'4. Durys'!T29+'5. Langai'!T29+'6. Laiptai'!T29+'7. Stogas'!T29+'8. Vidaus apdaila'!T29+'9. Išorės apdaila'!T29+'10. Šildymo sistema (vidaus)'!T29+'11. Šildymo sistema (lauko)'!T29+'12. Šaldymas ir oro kondiciona'!T29+'13. Ventiliacija'!T29+'14. Vandentiekio sistema (vida'!T29+'15. Vandentiekio sistema (lauk'!T29+'16. Nuotekų šalinimo sistema'!T29+'17. Nuotekų šalinimo sistema'!T29+'18. Elektros instaliacija (vid'!T29+'19. Elektros instaliacija (lau'!T29+'20. Dujos'!T29+'21. Apsaugos sistema'!T29+'22. Telekomunikacijos'!T29+'23. Gaisro gesinimo sistema'!T29+'24. Transportavimo sistema'!T29+'25. Lietaus surinkimo sistema'!T29++'Bendrosios pastato išlaidos'!M40)","v":0},{"$f":"SUM('1. Pamatai'!U29+'2. Perdangos'!U29+'3. Sienos'!U29+'4. Durys'!U29+'5. Langai'!U29+'6. Laiptai'!U29+'7. Stogas'!U29+'8. Vidaus apdaila'!U29+'9. Išorės apdaila'!U29+'10. Šildymo sistema (vidaus)'!U29+'11. Šildymo sistema (lauko)'!U29+'12. Šaldymas ir oro kondiciona'!U29+'13. Ventiliacija'!U29+'14. Vandentiekio sistema (vida'!U29+'15. Vandentiekio sistema (lauk'!U29+'16. Nuotekų šalinimo sistema'!U29+'17. Nuotekų šalinimo sistema'!U29+'18. Elektros instaliacija (vid'!U29+'19. Elektros instaliacija (lau'!U29+'20. Dujos'!U29+'21. Apsaugos sistema'!U29+'22. Telekomunikacijos'!U29+'23. Gaisro gesinimo sistema'!U29+'24. Transportavimo sistema'!U29+'25. Lietaus surinkimo sistema'!U29++'Bendrosios pastato išlaidos'!N40)","v":0}]
[null,"D.4.10. Telekomunikacijos sistemos įrenginių eksploatacijos išlaidos",{"$f":"SUM(D43:OFFSET(D43,0,1000))","v":0},{"$f":"SUM('1. Pamatai'!M30+'2. Perdangos'!M30+'3. Sienos'!M30+'4. Durys'!M30+'5. Langai'!M30+'6. Laiptai'!M30+'7. Stogas'!M30+'8. Vidaus apdaila'!M30+'9. Išorės apdaila'!M30+'10. Šildymo sistema (vidaus)'!M30+'11. Šildymo sistema (lauko)'!M30+'12. Šaldymas ir oro kondiciona'!M30+'13. Ventiliacija'!M30+'14. Vandentiekio sistema (vida'!M30+'15. Vandentiekio sistema (lauk'!M30+'16. Nuotekų šalinimo sistema'!M30+'17. Nuotekų šalinimo sistema'!M30+'18. Elektros instaliacija (vid'!M30+'19. Elektros instaliacija (lau'!M30+'20. Dujos'!M30+'21. Apsaugos sistema'!M30+'22. Telekomunikacijos'!M30+'23. Gaisro gesinimo sistema'!M30+'24. Transportavimo sistema'!M30+'25. Lietaus surinkimo sistema'!M30++'Bendrosios pastato išlaidos'!F41)","v":0},{"$f":"SUM('1. Pamatai'!N30+'2. Perdangos'!N30+'3. Sienos'!N30+'4. Durys'!N30+'5. Langai'!N30+'6. Laiptai'!N30+'7. Stogas'!N30+'8. Vidaus apdaila'!N30+'9. Išorės apdaila'!N30+'10. Šildymo sistema (vidaus)'!N30+'11. Šildymo sistema (lauko)'!N30+'12. Šaldymas ir oro kondiciona'!N30+'13. Ventiliacija'!N30+'14. Vandentiekio sistema (vida'!N30+'15. Vandentiekio sistema (lauk'!N30+'16. Nuotekų šalinimo sistema'!N30+'17. Nuotekų šalinimo sistema'!N30+'18. Elektros instaliacija (vid'!N30+'19. Elektros instaliacija (lau'!N30+'20. Dujos'!N30+'21. Apsaugos sistema'!N30+'22. Telekomunikacijos'!N30+'23. Gaisro gesinimo sistema'!N30+'24. Transportavimo sistema'!N30+'25. Lietaus surinkimo sistema'!N30++'Bendrosios pastato išlaidos'!G41)","v":0},{"$f":"SUM('1. Pamatai'!O30+'2. Perdangos'!O30+'3. Sienos'!O30+'4. Durys'!O30+'5. Langai'!O30+'6. Laiptai'!O30+'7. Stogas'!O30+'8. Vidaus apdaila'!O30+'9. Išorės apdaila'!O30+'10. Šildymo sistema (vidaus)'!O30+'11. Šildymo sistema (lauko)'!O30+'12. Šaldymas ir oro kondiciona'!O30+'13. Ventiliacija'!O30+'14. Vandentiekio sistema (vida'!O30+'15. Vandentiekio sistema (lauk'!O30+'16. Nuotekų šalinimo sistema'!O30+'17. Nuotekų šalinimo sistema'!O30+'18. Elektros instaliacija (vid'!O30+'19. Elektros instaliacija (lau'!O30+'20. Dujos'!O30+'21. Apsaugos sistema'!O30+'22. Telekomunikacijos'!O30+'23. Gaisro gesinimo sistema'!O30+'24. Transportavimo sistema'!O30+'25. Lietaus surinkimo sistema'!O30++'Bendrosios pastato išlaidos'!H41)","v":0},{"$f":"SUM('1. Pamatai'!P30+'2. Perdangos'!P30+'3. Sienos'!P30+'4. Durys'!P30+'5. Langai'!P30+'6. Laiptai'!P30+'7. Stogas'!P30+'8. Vidaus apdaila'!P30+'9. Išorės apdaila'!P30+'10. Šildymo sistema (vidaus)'!P30+'11. Šildymo sistema (lauko)'!P30+'12. Šaldymas ir oro kondiciona'!P30+'13. Ventiliacija'!P30+'14. Vandentiekio sistema (vida'!P30+'15. Vandentiekio sistema (lauk'!P30+'16. Nuotekų šalinimo sistema'!P30+'17. Nuotekų šalinimo sistema'!P30+'18. Elektros instaliacija (vid'!P30+'19. Elektros instaliacija (lau'!P30+'20. Dujos'!P30+'21. Apsaugos sistema'!P30+'22. Telekomunikacijos'!P30+'23. Gaisro gesinimo sistema'!P30+'24. Transportavimo sistema'!P30+'25. Lietaus surinkimo sistema'!P30++'Bendrosios pastato išlaidos'!I41)","v":0},{"$f":"SUM('1. Pamatai'!Q30+'2. Perdangos'!Q30+'3. Sienos'!Q30+'4. Durys'!Q30+'5. Langai'!Q30+'6. Laiptai'!Q30+'7. Stogas'!Q30+'8. Vidaus apdaila'!Q30+'9. Išorės apdaila'!Q30+'10. Šildymo sistema (vidaus)'!Q30+'11. Šildymo sistema (lauko)'!Q30+'12. Šaldymas ir oro kondiciona'!Q30+'13. Ventiliacija'!Q30+'14. Vandentiekio sistema (vida'!Q30+'15. Vandentiekio sistema (lauk'!Q30+'16. Nuotekų šalinimo sistema'!Q30+'17. Nuotekų šalinimo sistema'!Q30+'18. Elektros instaliacija (vid'!Q30+'19. Elektros instaliacija (lau'!Q30+'20. Dujos'!Q30+'21. Apsaugos sistema'!Q30+'22. Telekomunikacijos'!Q30+'23. Gaisro gesinimo sistema'!Q30+'24. Transportavimo sistema'!Q30+'25. Lietaus surinkimo sistema'!Q30++'Bendrosios pastato išlaidos'!J41)","v":0},{"$f":"SUM('1. Pamatai'!R30+'2. Perdangos'!R30+'3. Sienos'!R30+'4. Durys'!R30+'5. Langai'!R30+'6. Laiptai'!R30+'7. Stogas'!R30+'8. Vidaus apdaila'!R30+'9. Išorės apdaila'!R30+'10. Šildymo sistema (vidaus)'!R30+'11. Šildymo sistema (lauko)'!R30+'12. Šaldymas ir oro kondiciona'!R30+'13. Ventiliacija'!R30+'14. Vandentiekio sistema (vida'!R30+'15. Vandentiekio sistema (lauk'!R30+'16. Nuotekų šalinimo sistema'!R30+'17. Nuotekų šalinimo sistema'!R30+'18. Elektros instaliacija (vid'!R30+'19. Elektros instaliacija (lau'!R30+'20. Dujos'!R30+'21. Apsaugos sistema'!R30+'22. Telekomunikacijos'!R30+'23. Gaisro gesinimo sistema'!R30+'24. Transportavimo sistema'!R30+'25. Lietaus surinkimo sistema'!R30++'Bendrosios pastato išlaidos'!K41)","v":0},{"$f":"SUM('1. Pamatai'!S30+'2. Perdangos'!S30+'3. Sienos'!S30+'4. Durys'!S30+'5. Langai'!S30+'6. Laiptai'!S30+'7. Stogas'!S30+'8. Vidaus apdaila'!S30+'9. Išorės apdaila'!S30+'10. Šildymo sistema (vidaus)'!S30+'11. Šildymo sistema (lauko)'!S30+'12. Šaldymas ir oro kondiciona'!S30+'13. Ventiliacija'!S30+'14. Vandentiekio sistema (vida'!S30+'15. Vandentiekio sistema (lauk'!S30+'16. Nuotekų šalinimo sistema'!S30+'17. Nuotekų šalinimo sistema'!S30+'18. Elektros instaliacija (vid'!S30+'19. Elektros instaliacija (lau'!S30+'20. Dujos'!S30+'21. Apsaugos sistema'!S30+'22. Telekomunikacijos'!S30+'23. Gaisro gesinimo sistema'!S30+'24. Transportavimo sistema'!S30+'25. Lietaus surinkimo sistema'!S30++'Bendrosios pastato išlaidos'!L41)","v":0},{"$f":"SUM('1. Pamatai'!T30+'2. Perdangos'!T30+'3. Sienos'!T30+'4. Durys'!T30+'5. Langai'!T30+'6. Laiptai'!T30+'7. Stogas'!T30+'8. Vidaus apdaila'!T30+'9. Išorės apdaila'!T30+'10. Šildymo sistema (vidaus)'!T30+'11. Šildymo sistema (lauko)'!T30+'12. Šaldymas ir oro kondiciona'!T30+'13. Ventiliacija'!T30+'14. Vandentiekio sistema (vida'!T30+'15. Vandentiekio sistema (lauk'!T30+'16. Nuotekų šalinimo sistema'!T30+'17. Nuotekų šalinimo sistema'!T30+'18. Elektros instaliacija (vid'!T30+'19. Elektros instaliacija (lau'!T30+'20. Dujos'!T30+'21. Apsaugos sistema'!T30+'22. Telekomunikacijos'!T30+'23. Gaisro gesinimo sistema'!T30+'24. Transportavimo sistema'!T30+'25. Lietaus surinkimo sistema'!T30++'Bendrosios pastato išlaidos'!M41)","v":0},{"$f":"SUM('1. Pamatai'!U30+'2. Perdangos'!U30+'3. Sienos'!U30+'4. Durys'!U30+'5. Langai'!U30+'6. Laiptai'!U30+'7. Stogas'!U30+'8. Vidaus apdaila'!U30+'9. Išorės apdaila'!U30+'10. Šildymo sistema (vidaus)'!U30+'11. Šildymo sistema (lauko)'!U30+'12. Šaldymas ir oro kondiciona'!U30+'13. Ventiliacija'!U30+'14. Vandentiekio sistema (vida'!U30+'15. Vandentiekio sistema (lauk'!U30+'16. Nuotekų šalinimo sistema'!U30+'17. Nuotekų šalinimo sistema'!U30+'18. Elektros instaliacija (vid'!U30+'19. Elektros instaliacija (lau'!U30+'20. Dujos'!U30+'21. Apsaugos sistema'!U30+'22. Telekomunikacijos'!U30+'23. Gaisro gesinimo sistema'!U30+'24. Transportavimo sistema'!U30+'25. Lietaus surinkimo sistema'!U30++'Bendrosios pastato išlaidos'!N41)","v":0}]
[null,"D.4.11. Transportavimo sistemos įrenginių ekploatacijos išlaidos",{"$f":"SUM(D44:OFFSET(D44,0,1000))","v":0},{"$f":"SUM('1. Pamatai'!M31+'2. Perdangos'!M31+'3. Sienos'!M31+'4. Durys'!M31+'5. Langai'!M31+'6. Laiptai'!M31+'7. Stogas'!M31+'8. Vidaus apdaila'!M31+'9. Išorės apdaila'!M31+'10. Šildymo sistema (vidaus)'!M31+'11. Šildymo sistema (lauko)'!M31+'12. Šaldymas ir oro kondiciona'!M31+'13. Ventiliacija'!M31+'14. Vandentiekio sistema (vida'!M31+'15. Vandentiekio sistema (lauk'!M31+'16. Nuotekų šalinimo sistema'!M31+'17. Nuotekų šalinimo sistema'!M31+'18. Elektros instaliacija (vid'!M31+'19. Elektros instaliacija (lau'!M31+'20. Dujos'!M31+'21. Apsaugos sistema'!M31+'22. Telekomunikacijos'!M31+'23. Gaisro gesinimo sistema'!M31+'24. Transportavimo sistema'!M31+'25. Lietaus surinkimo sistema'!M31++'Bendrosios pastato išlaidos'!F42)","v":0},{"$f":"SUM('1. Pamatai'!N31+'2. Perdangos'!N31+'3. Sienos'!N31+'4. Durys'!N31+'5. Langai'!N31+'6. Laiptai'!N31+'7. Stogas'!N31+'8. Vidaus apdaila'!N31+'9. Išorės apdaila'!N31+'10. Šildymo sistema (vidaus)'!N31+'11. Šildymo sistema (lauko)'!N31+'12. Šaldymas ir oro kondiciona'!N31+'13. Ventiliacija'!N31+'14. Vandentiekio sistema (vida'!N31+'15. Vandentiekio sistema (lauk'!N31+'16. Nuotekų šalinimo sistema'!N31+'17. Nuotekų šalinimo sistema'!N31+'18. Elektros instaliacija (vid'!N31+'19. Elektros instaliacija (lau'!N31+'20. Dujos'!N31+'21. Apsaugos sistema'!N31+'22. Telekomunikacijos'!N31+'23. Gaisro gesinimo sistema'!N31+'24. Transportavimo sistema'!N31+'25. Lietaus surinkimo sistema'!N31++'Bendrosios pastato išlaidos'!G42)","v":0},{"$f":"SUM('1. Pamatai'!O31+'2. Perdangos'!O31+'3. Sienos'!O31+'4. Durys'!O31+'5. Langai'!O31+'6. Laiptai'!O31+'7. Stogas'!O31+'8. Vidaus apdaila'!O31+'9. Išorės apdaila'!O31+'10. Šildymo sistema (vidaus)'!O31+'11. Šildymo sistema (lauko)'!O31+'12. Šaldymas ir oro kondiciona'!O31+'13. Ventiliacija'!O31+'14. Vandentiekio sistema (vida'!O31+'15. Vandentiekio sistema (lauk'!O31+'16. Nuotekų šalinimo sistema'!O31+'17. Nuotekų šalinimo sistema'!O31+'18. Elektros instaliacija (vid'!O31+'19. Elektros instaliacija (lau'!O31+'20. Dujos'!O31+'21. Apsaugos sistema'!O31+'22. Telekomunikacijos'!O31+'23. Gaisro gesinimo sistema'!O31+'24. Transportavimo sistema'!O31+'25. Lietaus surinkimo sistema'!O31++'Bendrosios pastato išlaidos'!H42)","v":0},{"$f":"SUM('1. Pamatai'!P31+'2. Perdangos'!P31+'3. Sienos'!P31+'4. Durys'!P31+'5. Langai'!P31+'6. Laiptai'!P31+'7. Stogas'!P31+'8. Vidaus apdaila'!P31+'9. Išorės apdaila'!P31+'10. Šildymo sistema (vidaus)'!P31+'11. Šildymo sistema (lauko)'!P31+'12. Šaldymas ir oro kondiciona'!P31+'13. Ventiliacija'!P31+'14. Vandentiekio sistema (vida'!P31+'15. Vandentiekio sistema (lauk'!P31+'16. Nuotekų šalinimo sistema'!P31+'17. Nuotekų šalinimo sistema'!P31+'18. Elektros instaliacija (vid'!P31+'19. Elektros instaliacija (lau'!P31+'20. Dujos'!P31+'21. Apsaugos sistema'!P31+'22. Telekomunikacijos'!P31+'23. Gaisro gesinimo sistema'!P31+'24. Transportavimo sistema'!P31+'25. Lietaus surinkimo sistema'!P31++'Bendrosios pastato išlaidos'!I42)","v":0},{"$f":"SUM('1. Pamatai'!Q31+'2. Perdangos'!Q31+'3. Sienos'!Q31+'4. Durys'!Q31+'5. Langai'!Q31+'6. Laiptai'!Q31+'7. Stogas'!Q31+'8. Vidaus apdaila'!Q31+'9. Išorės apdaila'!Q31+'10. Šildymo sistema (vidaus)'!Q31+'11. Šildymo sistema (lauko)'!Q31+'12. Šaldymas ir oro kondiciona'!Q31+'13. Ventiliacija'!Q31+'14. Vandentiekio sistema (vida'!Q31+'15. Vandentiekio sistema (lauk'!Q31+'16. Nuotekų šalinimo sistema'!Q31+'17. Nuotekų šalinimo sistema'!Q31+'18. Elektros instaliacija (vid'!Q31+'19. Elektros instaliacija (lau'!Q31+'20. Dujos'!Q31+'21. Apsaugos sistema'!Q31+'22. Telekomunikacijos'!Q31+'23. Gaisro gesinimo sistema'!Q31+'24. Transportavimo sistema'!Q31+'25. Lietaus surinkimo sistema'!Q31++'Bendrosios pastato išlaidos'!J42)","v":0},{"$f":"SUM('1. Pamatai'!R31+'2. Perdangos'!R31+'3. Sienos'!R31+'4. Durys'!R31+'5. Langai'!R31+'6. Laiptai'!R31+'7. Stogas'!R31+'8. Vidaus apdaila'!R31+'9. Išorės apdaila'!R31+'10. Šildymo sistema (vidaus)'!R31+'11. Šildymo sistema (lauko)'!R31+'12. Šaldymas ir oro kondiciona'!R31+'13. Ventiliacija'!R31+'14. Vandentiekio sistema (vida'!R31+'15. Vandentiekio sistema (lauk'!R31+'16. Nuotekų šalinimo sistema'!R31+'17. Nuotekų šalinimo sistema'!R31+'18. Elektros instaliacija (vid'!R31+'19. Elektros instaliacija (lau'!R31+'20. Dujos'!R31+'21. Apsaugos sistema'!R31+'22. Telekomunikacijos'!R31+'23. Gaisro gesinimo sistema'!R31+'24. Transportavimo sistema'!R31+'25. Lietaus surinkimo sistema'!R31++'Bendrosios pastato išlaidos'!K42)","v":0},{"$f":"SUM('1. Pamatai'!S31+'2. Perdangos'!S31+'3. Sienos'!S31+'4. Durys'!S31+'5. Langai'!S31+'6. Laiptai'!S31+'7. Stogas'!S31+'8. Vidaus apdaila'!S31+'9. Išorės apdaila'!S31+'10. Šildymo sistema (vidaus)'!S31+'11. Šildymo sistema (lauko)'!S31+'12. Šaldymas ir oro kondiciona'!S31+'13. Ventiliacija'!S31+'14. Vandentiekio sistema (vida'!S31+'15. Vandentiekio sistema (lauk'!S31+'16. Nuotekų šalinimo sistema'!S31+'17. Nuotekų šalinimo sistema'!S31+'18. Elektros instaliacija (vid'!S31+'19. Elektros instaliacija (lau'!S31+'20. Dujos'!S31+'21. Apsaugos sistema'!S31+'22. Telekomunikacijos'!S31+'23. Gaisro gesinimo sistema'!S31+'24. Transportavimo sistema'!S31+'25. Lietaus surinkimo sistema'!S31++'Bendrosios pastato išlaidos'!L42)","v":0},{"$f":"SUM('1. Pamatai'!T31+'2. Perdangos'!T31+'3. Sienos'!T31+'4. Durys'!T31+'5. Langai'!T31+'6. Laiptai'!T31+'7. Stogas'!T31+'8. Vidaus apdaila'!T31+'9. Išorės apdaila'!T31+'10. Šildymo sistema (vidaus)'!T31+'11. Šildymo sistema (lauko)'!T31+'12. Šaldymas ir oro kondiciona'!T31+'13. Ventiliacija'!T31+'14. Vandentiekio sistema (vida'!T31+'15. Vandentiekio sistema (lauk'!T31+'16. Nuotekų šalinimo sistema'!T31+'17. Nuotekų šalinimo sistema'!T31+'18. Elektros instaliacija (vid'!T31+'19. Elektros instaliacija (lau'!T31+'20. Dujos'!T31+'21. Apsaugos sistema'!T31+'22. Telekomunikacijos'!T31+'23. Gaisro gesinimo sistema'!T31+'24. Transportavimo sistema'!T31+'25. Lietaus surinkimo sistema'!T31++'Bendrosios pastato išlaidos'!M42)","v":0},{"$f":"SUM('1. Pamatai'!U31+'2. Perdangos'!U31+'3. Sienos'!U31+'4. Durys'!U31+'5. Langai'!U31+'6. Laiptai'!U31+'7. Stogas'!U31+'8. Vidaus apdaila'!U31+'9. Išorės apdaila'!U31+'10. Šildymo sistema (vidaus)'!U31+'11. Šildymo sistema (lauko)'!U31+'12. Šaldymas ir oro kondiciona'!U31+'13. Ventiliacija'!U31+'14. Vandentiekio sistema (vida'!U31+'15. Vandentiekio sistema (lauk'!U31+'16. Nuotekų šalinimo sistema'!U31+'17. Nuotekų šalinimo sistema'!U31+'18. Elektros instaliacija (vid'!U31+'19. Elektros instaliacija (lau'!U31+'20. Dujos'!U31+'21. Apsaugos sistema'!U31+'22. Telekomunikacijos'!U31+'23. Gaisro gesinimo sistema'!U31+'24. Transportavimo sistema'!U31+'25. Lietaus surinkimo sistema'!U31++'Bendrosios pastato išlaidos'!N42)","v":0}]
[null,"D.4.12. Apsaugos išlaidos",{"$f":"SUM(D45:OFFSET(D45,0,1000))","v":0},{"$f":"SUM('1. Pamatai'!M32+'2. Perdangos'!M32+'3. Sienos'!M32+'4. Durys'!M32+'5. Langai'!M32+'6. Laiptai'!M32+'7. Stogas'!M32+'8. Vidaus apdaila'!M32+'9. Išorės apdaila'!M32+'10. Šildymo sistema (vidaus)'!M32+'11. Šildymo sistema (lauko)'!M32+'12. Šaldymas ir oro kondiciona'!M32+'13. Ventiliacija'!M32+'14. Vandentiekio sistema (vida'!M32+'15. Vandentiekio sistema (lauk'!M32+'16. Nuotekų šalinimo sistema'!M32+'17. Nuotekų šalinimo sistema'!M32+'18. Elektros instaliacija (vid'!M32+'19. Elektros instaliacija (lau'!M32+'20. Dujos'!M32+'21. Apsaugos sistema'!M32+'22. Telekomunikacijos'!M32+'23. Gaisro gesinimo sistema'!M32+'24. Transportavimo sistema'!M32+'25. Lietaus surinkimo sistema'!M32++'Bendrosios pastato išlaidos'!F43)","v":0},{"$f":"SUM('1. Pamatai'!N32+'2. Perdangos'!N32+'3. Sienos'!N32+'4. Durys'!N32+'5. Langai'!N32+'6. Laiptai'!N32+'7. Stogas'!N32+'8. Vidaus apdaila'!N32+'9. Išorės apdaila'!N32+'10. Šildymo sistema (vidaus)'!N32+'11. Šildymo sistema (lauko)'!N32+'12. Šaldymas ir oro kondiciona'!N32+'13. Ventiliacija'!N32+'14. Vandentiekio sistema (vida'!N32+'15. Vandentiekio sistema (lauk'!N32+'16. Nuotekų šalinimo sistema'!N32+'17. Nuotekų šalinimo sistema'!N32+'18. Elektros instaliacija (vid'!N32+'19. Elektros instaliacija (lau'!N32+'20. Dujos'!N32+'21. Apsaugos sistema'!N32+'22. Telekomunikacijos'!N32+'23. Gaisro gesinimo sistema'!N32+'24. Transportavimo sistema'!N32+'25. Lietaus surinkimo sistema'!N32++'Bendrosios pastato išlaidos'!G43)","v":0},{"$f":"SUM('1. Pamatai'!O32+'2. Perdangos'!O32+'3. Sienos'!O32+'4. Durys'!O32+'5. Langai'!O32+'6. Laiptai'!O32+'7. Stogas'!O32+'8. Vidaus apdaila'!O32+'9. Išorės apdaila'!O32+'10. Šildymo sistema (vidaus)'!O32+'11. Šildymo sistema (lauko)'!O32+'12. Šaldymas ir oro kondiciona'!O32+'13. Ventiliacija'!O32+'14. Vandentiekio sistema (vida'!O32+'15. Vandentiekio sistema (lauk'!O32+'16. Nuotekų šalinimo sistema'!O32+'17. Nuotekų šalinimo sistema'!O32+'18. Elektros instaliacija (vid'!O32+'19. Elektros instaliacija (lau'!O32+'20. Dujos'!O32+'21. Apsaugos sistema'!O32+'22. Telekomunikacijos'!O32+'23. Gaisro gesinimo sistema'!O32+'24. Transportavimo sistema'!O32+'25. Lietaus surinkimo sistema'!O32++'Bendrosios pastato išlaidos'!H43)","v":0},{"$f":"SUM('1. Pamatai'!P32+'2. Perdangos'!P32+'3. Sienos'!P32+'4. Durys'!P32+'5. Langai'!P32+'6. Laiptai'!P32+'7. Stogas'!P32+'8. Vidaus apdaila'!P32+'9. Išorės apdaila'!P32+'10. Šildymo sistema (vidaus)'!P32+'11. Šildymo sistema (lauko)'!P32+'12. Šaldymas ir oro kondiciona'!P32+'13. Ventiliacija'!P32+'14. Vandentiekio sistema (vida'!P32+'15. Vandentiekio sistema (lauk'!P32+'16. Nuotekų šalinimo sistema'!P32+'17. Nuotekų šalinimo sistema'!P32+'18. Elektros instaliacija (vid'!P32+'19. Elektros instaliacija (lau'!P32+'20. Dujos'!P32+'21. Apsaugos sistema'!P32+'22. Telekomunikacijos'!P32+'23. Gaisro gesinimo sistema'!P32+'24. Transportavimo sistema'!P32+'25. Lietaus surinkimo sistema'!P32++'Bendrosios pastato išlaidos'!I43)","v":0},{"$f":"SUM('1. Pamatai'!Q32+'2. Perdangos'!Q32+'3. Sienos'!Q32+'4. Durys'!Q32+'5. Langai'!Q32+'6. Laiptai'!Q32+'7. Stogas'!Q32+'8. Vidaus apdaila'!Q32+'9. Išorės apdaila'!Q32+'10. Šildymo sistema (vidaus)'!Q32+'11. Šildymo sistema (lauko)'!Q32+'12. Šaldymas ir oro kondiciona'!Q32+'13. Ventiliacija'!Q32+'14. Vandentiekio sistema (vida'!Q32+'15. Vandentiekio sistema (lauk'!Q32+'16. Nuotekų šalinimo sistema'!Q32+'17. Nuotekų šalinimo sistema'!Q32+'18. Elektros instaliacija (vid'!Q32+'19. Elektros instaliacija (lau'!Q32+'20. Dujos'!Q32+'21. Apsaugos sistema'!Q32+'22. Telekomunikacijos'!Q32+'23. Gaisro gesinimo sistema'!Q32+'24. Transportavimo sistema'!Q32+'25. Lietaus surinkimo sistema'!Q32++'Bendrosios pastato išlaidos'!J43)","v":0},{"$f":"SUM('1. Pamatai'!R32+'2. Perdangos'!R32+'3. Sienos'!R32+'4. Durys'!R32+'5. Langai'!R32+'6. Laiptai'!R32+'7. Stogas'!R32+'8. Vidaus apdaila'!R32+'9. Išorės apdaila'!R32+'10. Šildymo sistema (vidaus)'!R32+'11. Šildymo sistema (lauko)'!R32+'12. Šaldymas ir oro kondiciona'!R32+'13. Ventiliacija'!R32+'14. Vandentiekio sistema (vida'!R32+'15. Vandentiekio sistema (lauk'!R32+'16. Nuotekų šalinimo sistema'!R32+'17. Nuotekų šalinimo sistema'!R32+'18. Elektros instaliacija (vid'!R32+'19. Elektros instaliacija (lau'!R32+'20. Dujos'!R32+'21. Apsaugos sistema'!R32+'22. Telekomunikacijos'!R32+'23. Gaisro gesinimo sistema'!R32+'24. Transportavimo sistema'!R32+'25. Lietaus surinkimo sistema'!R32++'Bendrosios pastato išlaidos'!K43)","v":0},{"$f":"SUM('1. Pamatai'!S32+'2. Perdangos'!S32+'3. Sienos'!S32+'4. Durys'!S32+'5. Langai'!S32+'6. Laiptai'!S32+'7. Stogas'!S32+'8. Vidaus apdaila'!S32+'9. Išorės apdaila'!S32+'10. Šildymo sistema (vidaus)'!S32+'11. Šildymo sistema (lauko)'!S32+'12. Šaldymas ir oro kondiciona'!S32+'13. Ventiliacija'!S32+'14. Vandentiekio sistema (vida'!S32+'15. Vandentiekio sistema (lauk'!S32+'16. Nuotekų šalinimo sistema'!S32+'17. Nuotekų šalinimo sistema'!S32+'18. Elektros instaliacija (vid'!S32+'19. Elektros instaliacija (lau'!S32+'20. Dujos'!S32+'21. Apsaugos sistema'!S32+'22. Telekomunikacijos'!S32+'23. Gaisro gesinimo sistema'!S32+'24. Transportavimo sistema'!S32+'25. Lietaus surinkimo sistema'!S32++'Bendrosios pastato išlaidos'!L43)","v":0},{"$f":"SUM('1. Pamatai'!T32+'2. Perdangos'!T32+'3. Sienos'!T32+'4. Durys'!T32+'5. Langai'!T32+'6. Laiptai'!T32+'7. Stogas'!T32+'8. Vidaus apdaila'!T32+'9. Išorės apdaila'!T32+'10. Šildymo sistema (vidaus)'!T32+'11. Šildymo sistema (lauko)'!T32+'12. Šaldymas ir oro kondiciona'!T32+'13. Ventiliacija'!T32+'14. Vandentiekio sistema (vida'!T32+'15. Vandentiekio sistema (lauk'!T32+'16. Nuotekų šalinimo sistema'!T32+'17. Nuotekų šalinimo sistema'!T32+'18. Elektros instaliacija (vid'!T32+'19. Elektros instaliacija (lau'!T32+'20. Dujos'!T32+'21. Apsaugos sistema'!T32+'22. Telekomunikacijos'!T32+'23. Gaisro gesinimo sistema'!T32+'24. Transportavimo sistema'!T32+'25. Lietaus surinkimo sistema'!T32++'Bendrosios pastato išlaidos'!M43)","v":0},{"$f":"SUM('1. Pamatai'!U32+'2. Perdangos'!U32+'3. Sienos'!U32+'4. Durys'!U32+'5. Langai'!U32+'6. Laiptai'!U32+'7. Stogas'!U32+'8. Vidaus apdaila'!U32+'9. Išorės apdaila'!U32+'10. Šildymo sistema (vidaus)'!U32+'11. Šildymo sistema (lauko)'!U32+'12. Šaldymas ir oro kondiciona'!U32+'13. Ventiliacija'!U32+'14. Vandentiekio sistema (vida'!U32+'15. Vandentiekio sistema (lauk'!U32+'16. Nuotekų šalinimo sistema'!U32+'17. Nuotekų šalinimo sistema'!U32+'18. Elektros instaliacija (vid'!U32+'19. Elektros instaliacija (lau'!U32+'20. Dujos'!U32+'21. Apsaugos sistema'!U32+'22. Telekomunikacijos'!U32+'23. Gaisro gesinimo sistema'!U32+'24. Transportavimo sistema'!U32+'25. Lietaus surinkimo sistema'!U32++'Bendrosios pastato išlaidos'!N43)","v":0}]
[null,"D.4.13. Valymo išlaidos",{"$f":"SUM(D46:OFFSET(D46,0,1000))","v":0},{"$f":"SUM('1. Pamatai'!M33+'2. Perdangos'!M33+'3. Sienos'!M33+'4. Durys'!M33+'5. Langai'!M33+'6. Laiptai'!M33+'7. Stogas'!M33+'8. Vidaus apdaila'!M33+'9. Išorės apdaila'!M33+'10. Šildymo sistema (vidaus)'!M33+'11. Šildymo sistema (lauko)'!M33+'12. Šaldymas ir oro kondiciona'!M33+'13. Ventiliacija'!M33+'14. Vandentiekio sistema (vida'!M33+'15. Vandentiekio sistema (lauk'!M33+'16. Nuotekų šalinimo sistema'!M33+'17. Nuotekų šalinimo sistema'!M33+'18. Elektros instaliacija (vid'!M33+'19. Elektros instaliacija (lau'!M33+'20. Dujos'!M33+'21. Apsaugos sistema'!M33+'22. Telekomunikacijos'!M33+'23. Gaisro gesinimo sistema'!M33+'24. Transportavimo sistema'!M33+'25. Lietaus surinkimo sistema'!M33++'Bendrosios pastato išlaidos'!F44)","v":0},{"$f":"SUM('1. Pamatai'!N33+'2. Perdangos'!N33+'3. Sienos'!N33+'4. Durys'!N33+'5. Langai'!N33+'6. Laiptai'!N33+'7. Stogas'!N33+'8. Vidaus apdaila'!N33+'9. Išorės apdaila'!N33+'10. Šildymo sistema (vidaus)'!N33+'11. Šildymo sistema (lauko)'!N33+'12. Šaldymas ir oro kondiciona'!N33+'13. Ventiliacija'!N33+'14. Vandentiekio sistema (vida'!N33+'15. Vandentiekio sistema (lauk'!N33+'16. Nuotekų šalinimo sistema'!N33+'17. Nuotekų šalinimo sistema'!N33+'18. Elektros instaliacija (vid'!N33+'19. Elektros instaliacija (lau'!N33+'20. Dujos'!N33+'21. Apsaugos sistema'!N33+'22. Telekomunikacijos'!N33+'23. Gaisro gesinimo sistema'!N33+'24. Transportavimo sistema'!N33+'25. Lietaus surinkimo sistema'!N33++'Bendrosios pastato išlaidos'!G44)","v":0},{"$f":"SUM('1. Pamatai'!O33+'2. Perdangos'!O33+'3. Sienos'!O33+'4. Durys'!O33+'5. Langai'!O33+'6. Laiptai'!O33+'7. Stogas'!O33+'8. Vidaus apdaila'!O33+'9. Išorės apdaila'!O33+'10. Šildymo sistema (vidaus)'!O33+'11. Šildymo sistema (lauko)'!O33+'12. Šaldymas ir oro kondiciona'!O33+'13. Ventiliacija'!O33+'14. Vandentiekio sistema (vida'!O33+'15. Vandentiekio sistema (lauk'!O33+'16. Nuotekų šalinimo sistema'!O33+'17. Nuotekų šalinimo sistema'!O33+'18. Elektros instaliacija (vid'!O33+'19. Elektros instaliacija (lau'!O33+'20. Dujos'!O33+'21. Apsaugos sistema'!O33+'22. Telekomunikacijos'!O33+'23. Gaisro gesinimo sistema'!O33+'24. Transportavimo sistema'!O33+'25. Lietaus surinkimo sistema'!O33++'Bendrosios pastato išlaidos'!H44)","v":0},{"$f":"SUM('1. Pamatai'!P33+'2. Perdangos'!P33+'3. Sienos'!P33+'4. Durys'!P33+'5. Langai'!P33+'6. Laiptai'!P33+'7. Stogas'!P33+'8. Vidaus apdaila'!P33+'9. Išorės apdaila'!P33+'10. Šildymo sistema (vidaus)'!P33+'11. Šildymo sistema (lauko)'!P33+'12. Šaldymas ir oro kondiciona'!P33+'13. Ventiliacija'!P33+'14. Vandentiekio sistema (vida'!P33+'15. Vandentiekio sistema (lauk'!P33+'16. Nuotekų šalinimo sistema'!P33+'17. Nuotekų šalinimo sistema'!P33+'18. Elektros instaliacija (vid'!P33+'19. Elektros instaliacija (lau'!P33+'20. Dujos'!P33+'21. Apsaugos sistema'!P33+'22. Telekomunikacijos'!P33+'23. Gaisro gesinimo sistema'!P33+'24. Transportavimo sistema'!P33+'25. Lietaus surinkimo sistema'!P33++'Bendrosios pastato išlaidos'!I44)","v":0},{"$f":"SUM('1. Pamatai'!Q33+'2. Perdangos'!Q33+'3. Sienos'!Q33+'4. Durys'!Q33+'5. Langai'!Q33+'6. Laiptai'!Q33+'7. Stogas'!Q33+'8. Vidaus apdaila'!Q33+'9. Išorės apdaila'!Q33+'10. Šildymo sistema (vidaus)'!Q33+'11. Šildymo sistema (lauko)'!Q33+'12. Šaldymas ir oro kondiciona'!Q33+'13. Ventiliacija'!Q33+'14. Vandentiekio sistema (vida'!Q33+'15. Vandentiekio sistema (lauk'!Q33+'16. Nuotekų šalinimo sistema'!Q33+'17. Nuotekų šalinimo sistema'!Q33+'18. Elektros instaliacija (vid'!Q33+'19. Elektros instaliacija (lau'!Q33+'20. Dujos'!Q33+'21. Apsaugos sistema'!Q33+'22. Telekomunikacijos'!Q33+'23. Gaisro gesinimo sistema'!Q33+'24. Transportavimo sistema'!Q33+'25. Lietaus surinkimo sistema'!Q33++'Bendrosios pastato išlaidos'!J44)","v":0},{"$f":"SUM('1. Pamatai'!R33+'2. Perdangos'!R33+'3. Sienos'!R33+'4. Durys'!R33+'5. Langai'!R33+'6. Laiptai'!R33+'7. Stogas'!R33+'8. Vidaus apdaila'!R33+'9. Išorės apdaila'!R33+'10. Šildymo sistema (vidaus)'!R33+'11. Šildymo sistema (lauko)'!R33+'12. Šaldymas ir oro kondiciona'!R33+'13. Ventiliacija'!R33+'14. Vandentiekio sistema (vida'!R33+'15. Vandentiekio sistema (lauk'!R33+'16. Nuotekų šalinimo sistema'!R33+'17. Nuotekų šalinimo sistema'!R33+'18. Elektros instaliacija (vid'!R33+'19. Elektros instaliacija (lau'!R33+'20. Dujos'!R33+'21. Apsaugos sistema'!R33+'22. Telekomunikacijos'!R33+'23. Gaisro gesinimo sistema'!R33+'24. Transportavimo sistema'!R33+'25. Lietaus surinkimo sistema'!R33++'Bendrosios pastato išlaidos'!K44)","v":0},{"$f":"SUM('1. Pamatai'!S33+'2. Perdangos'!S33+'3. Sienos'!S33+'4. Durys'!S33+'5. Langai'!S33+'6. Laiptai'!S33+'7. Stogas'!S33+'8. Vidaus apdaila'!S33+'9. Išorės apdaila'!S33+'10. Šildymo sistema (vidaus)'!S33+'11. Šildymo sistema (lauko)'!S33+'12. Šaldymas ir oro kondiciona'!S33+'13. Ventiliacija'!S33+'14. Vandentiekio sistema (vida'!S33+'15. Vandentiekio sistema (lauk'!S33+'16. Nuotekų šalinimo sistema'!S33+'17. Nuotekų šalinimo sistema'!S33+'18. Elektros instaliacija (vid'!S33+'19. Elektros instaliacija (lau'!S33+'20. Dujos'!S33+'21. Apsaugos sistema'!S33+'22. Telekomunikacijos'!S33+'23. Gaisro gesinimo sistema'!S33+'24. Transportavimo sistema'!S33+'25. Lietaus surinkimo sistema'!S33++'Bendrosios pastato išlaidos'!L44)","v":0},{"$f":"SUM('1. Pamatai'!T33+'2. Perdangos'!T33+'3. Sienos'!T33+'4. Durys'!T33+'5. Langai'!T33+'6. Laiptai'!T33+'7. Stogas'!T33+'8. Vidaus apdaila'!T33+'9. Išorės apdaila'!T33+'10. Šildymo sistema (vidaus)'!T33+'11. Šildymo sistema (lauko)'!T33+'12. Šaldymas ir oro kondiciona'!T33+'13. Ventiliacija'!T33+'14. Vandentiekio sistema (vida'!T33+'15. Vandentiekio sistema (lauk'!T33+'16. Nuotekų šalinimo sistema'!T33+'17. Nuotekų šalinimo sistema'!T33+'18. Elektros instaliacija (vid'!T33+'19. Elektros instaliacija (lau'!T33+'20. Dujos'!T33+'21. Apsaugos sistema'!T33+'22. Telekomunikacijos'!T33+'23. Gaisro gesinimo sistema'!T33+'24. Transportavimo sistema'!T33+'25. Lietaus surinkimo sistema'!T33++'Bendrosios pastato išlaidos'!M44)","v":0},{"$f":"SUM('1. Pamatai'!U33+'2. Perdangos'!U33+'3. Sienos'!U33+'4. Durys'!U33+'5. Langai'!U33+'6. Laiptai'!U33+'7. Stogas'!U33+'8. Vidaus apdaila'!U33+'9. Išorės apdaila'!U33+'10. Šildymo sistema (vidaus)'!U33+'11. Šildymo sistema (lauko)'!U33+'12. Šaldymas ir oro kondiciona'!U33+'13. Ventiliacija'!U33+'14. Vandentiekio sistema (vida'!U33+'15. Vandentiekio sistema (lauk'!U33+'16. Nuotekų šalinimo sistema'!U33+'17. Nuotekų šalinimo sistema'!U33+'18. Elektros instaliacija (vid'!U33+'19. Elektros instaliacija (lau'!U33+'20. Dujos'!U33+'21. Apsaugos sistema'!U33+'22. Telekomunikacijos'!U33+'23. Gaisro gesinimo sistema'!U33+'24. Transportavimo sistema'!U33+'25. Lietaus surinkimo sistema'!U33++'Bendrosios pastato išlaidos'!N44)","v":0}]
[null,"D.4.14. Draudimo išlaidos",{"$f":"SUM(D47:OFFSET(D47,0,1000))","v":0},{"$f":"SUM('1. Pamatai'!M34+'2. Perdangos'!M34+'3. Sienos'!M34+'4. Durys'!M34+'5. Langai'!M34+'6. Laiptai'!M34+'7. Stogas'!M34+'8. Vidaus apdaila'!M34+'9. Išorės apdaila'!M34+'10. Šildymo sistema (vidaus)'!M34+'11. Šildymo sistema (lauko)'!M34+'12. Šaldymas ir oro kondiciona'!M34+'13. Ventiliacija'!M34+'14. Vandentiekio sistema (vida'!M34+'15. Vandentiekio sistema (lauk'!M34+'16. Nuotekų šalinimo sistema'!M34+'17. Nuotekų šalinimo sistema'!M34+'18. Elektros instaliacija (vid'!M34+'19. Elektros instaliacija (lau'!M34+'20. Dujos'!M34+'21. Apsaugos sistema'!M34+'22. Telekomunikacijos'!M34+'23. Gaisro gesinimo sistema'!M34+'24. Transportavimo sistema'!M34+'25. Lietaus surinkimo sistema'!M34++'Bendrosios pastato išlaidos'!F45)","v":0},{"$f":"SUM('1. Pamatai'!N34+'2. Perdangos'!N34+'3. Sienos'!N34+'4. Durys'!N34+'5. Langai'!N34+'6. Laiptai'!N34+'7. Stogas'!N34+'8. Vidaus apdaila'!N34+'9. Išorės apdaila'!N34+'10. Šildymo sistema (vidaus)'!N34+'11. Šildymo sistema (lauko)'!N34+'12. Šaldymas ir oro kondiciona'!N34+'13. Ventiliacija'!N34+'14. Vandentiekio sistema (vida'!N34+'15. Vandentiekio sistema (lauk'!N34+'16. Nuotekų šalinimo sistema'!N34+'17. Nuotekų šalinimo sistema'!N34+'18. Elektros instaliacija (vid'!N34+'19. Elektros instaliacija (lau'!N34+'20. Dujos'!N34+'21. Apsaugos sistema'!N34+'22. Telekomunikacijos'!N34+'23. Gaisro gesinimo sistema'!N34+'24. Transportavimo sistema'!N34+'25. Lietaus surinkimo sistema'!N34++'Bendrosios pastato išlaidos'!G45)","v":0},{"$f":"SUM('1. Pamatai'!O34+'2. Perdangos'!O34+'3. Sienos'!O34+'4. Durys'!O34+'5. Langai'!O34+'6. Laiptai'!O34+'7. Stogas'!O34+'8. Vidaus apdaila'!O34+'9. Išorės apdaila'!O34+'10. Šildymo sistema (vidaus)'!O34+'11. Šildymo sistema (lauko)'!O34+'12. Šaldymas ir oro kondiciona'!O34+'13. Ventiliacija'!O34+'14. Vandentiekio sistema (vida'!O34+'15. Vandentiekio sistema (lauk'!O34+'16. Nuotekų šalinimo sistema'!O34+'17. Nuotekų šalinimo sistema'!O34+'18. Elektros instaliacija (vid'!O34+'19. Elektros instaliacija (lau'!O34+'20. Dujos'!O34+'21. Apsaugos sistema'!O34+'22. Telekomunikacijos'!O34+'23. Gaisro gesinimo sistema'!O34+'24. Transportavimo sistema'!O34+'25. Lietaus surinkimo sistema'!O34++'Bendrosios pastato išlaidos'!H45)","v":0},{"$f":"SUM('1. Pamatai'!P34+'2. Perdangos'!P34+'3. Sienos'!P34+'4. Durys'!P34+'5. Langai'!P34+'6. Laiptai'!P34+'7. Stogas'!P34+'8. Vidaus apdaila'!P34+'9. Išorės apdaila'!P34+'10. Šildymo sistema (vidaus)'!P34+'11. Šildymo sistema (lauko)'!P34+'12. Šaldymas ir oro kondiciona'!P34+'13. Ventiliacija'!P34+'14. Vandentiekio sistema (vida'!P34+'15. Vandentiekio sistema (lauk'!P34+'16. Nuotekų šalinimo sistema'!P34+'17. Nuotekų šalinimo sistema'!P34+'18. Elektros instaliacija (vid'!P34+'19. Elektros instaliacija (lau'!P34+'20. Dujos'!P34+'21. Apsaugos sistema'!P34+'22. Telekomunikacijos'!P34+'23. Gaisro gesinimo sistema'!P34+'24. Transportavimo sistema'!P34+'25. Lietaus surinkimo sistema'!P34++'Bendrosios pastato išlaidos'!I45)","v":0},{"$f":"SUM('1. Pamatai'!Q34+'2. Perdangos'!Q34+'3. Sienos'!Q34+'4. Durys'!Q34+'5. Langai'!Q34+'6. Laiptai'!Q34+'7. Stogas'!Q34+'8. Vidaus apdaila'!Q34+'9. Išorės apdaila'!Q34+'10. Šildymo sistema (vidaus)'!Q34+'11. Šildymo sistema (lauko)'!Q34+'12. Šaldymas ir oro kondiciona'!Q34+'13. Ventiliacija'!Q34+'14. Vandentiekio sistema (vida'!Q34+'15. Vandentiekio sistema (lauk'!Q34+'16. Nuotekų šalinimo sistema'!Q34+'17. Nuotekų šalinimo sistema'!Q34+'18. Elektros instaliacija (vid'!Q34+'19. Elektros instaliacija (lau'!Q34+'20. Dujos'!Q34+'21. Apsaugos sistema'!Q34+'22. Telekomunikacijos'!Q34+'23. Gaisro gesinimo sistema'!Q34+'24. Transportavimo sistema'!Q34+'25. Lietaus surinkimo sistema'!Q34++'Bendrosios pastato išlaidos'!J45)","v":0},{"$f":"SUM('1. Pamatai'!R34+'2. Perdangos'!R34+'3. Sienos'!R34+'4. Durys'!R34+'5. Langai'!R34+'6. Laiptai'!R34+'7. Stogas'!R34+'8. Vidaus apdaila'!R34+'9. Išorės apdaila'!R34+'10. Šildymo sistema (vidaus)'!R34+'11. Šildymo sistema (lauko)'!R34+'12. Šaldymas ir oro kondiciona'!R34+'13. Ventiliacija'!R34+'14. Vandentiekio sistema (vida'!R34+'15. Vandentiekio sistema (lauk'!R34+'16. Nuotekų šalinimo sistema'!R34+'17. Nuotekų šalinimo sistema'!R34+'18. Elektros instaliacija (vid'!R34+'19. Elektros instaliacija (lau'!R34+'20. Dujos'!R34+'21. Apsaugos sistema'!R34+'22. Telekomunikacijos'!R34+'23. Gaisro gesinimo sistema'!R34+'24. Transportavimo sistema'!R34+'25. Lietaus surinkimo sistema'!R34++'Bendrosios pastato išlaidos'!K45)","v":0},{"$f":"SUM('1. Pamatai'!S34+'2. Perdangos'!S34+'3. Sienos'!S34+'4. Durys'!S34+'5. Langai'!S34+'6. Laiptai'!S34+'7. Stogas'!S34+'8. Vidaus apdaila'!S34+'9. Išorės apdaila'!S34+'10. Šildymo sistema (vidaus)'!S34+'11. Šildymo sistema (lauko)'!S34+'12. Šaldymas ir oro kondiciona'!S34+'13. Ventiliacija'!S34+'14. Vandentiekio sistema (vida'!S34+'15. Vandentiekio sistema (lauk'!S34+'16. Nuotekų šalinimo sistema'!S34+'17. Nuotekų šalinimo sistema'!S34+'18. Elektros instaliacija (vid'!S34+'19. Elektros instaliacija (lau'!S34+'20. Dujos'!S34+'21. Apsaugos sistema'!S34+'22. Telekomunikacijos'!S34+'23. Gaisro gesinimo sistema'!S34+'24. Transportavimo sistema'!S34+'25. Lietaus surinkimo sistema'!S34++'Bendrosios pastato išlaidos'!L45)","v":0},{"$f":"SUM('1. Pamatai'!T34+'2. Perdangos'!T34+'3. Sienos'!T34+'4. Durys'!T34+'5. Langai'!T34+'6. Laiptai'!T34+'7. Stogas'!T34+'8. Vidaus apdaila'!T34+'9. Išorės apdaila'!T34+'10. Šildymo sistema (vidaus)'!T34+'11. Šildymo sistema (lauko)'!T34+'12. Šaldymas ir oro kondiciona'!T34+'13. Ventiliacija'!T34+'14. Vandentiekio sistema (vida'!T34+'15. Vandentiekio sistema (lauk'!T34+'16. Nuotekų šalinimo sistema'!T34+'17. Nuotekų šalinimo sistema'!T34+'18. Elektros instaliacija (vid'!T34+'19. Elektros instaliacija (lau'!T34+'20. Dujos'!T34+'21. Apsaugos sistema'!T34+'22. Telekomunikacijos'!T34+'23. Gaisro gesinimo sistema'!T34+'24. Transportavimo sistema'!T34+'25. Lietaus surinkimo sistema'!T34++'Bendrosios pastato išlaidos'!M45)","v":0},{"$f":"SUM('1. Pamatai'!U34+'2. Perdangos'!U34+'3. Sienos'!U34+'4. Durys'!U34+'5. Langai'!U34+'6. Laiptai'!U34+'7. Stogas'!U34+'8. Vidaus apdaila'!U34+'9. Išorės apdaila'!U34+'10. Šildymo sistema (vidaus)'!U34+'11. Šildymo sistema (lauko)'!U34+'12. Šaldymas ir oro kondiciona'!U34+'13. Ventiliacija'!U34+'14. Vandentiekio sistema (vida'!U34+'15. Vandentiekio sistema (lauk'!U34+'16. Nuotekų šalinimo sistema'!U34+'17. Nuotekų šalinimo sistema'!U34+'18. Elektros instaliacija (vid'!U34+'19. Elektros instaliacija (lau'!U34+'20. Dujos'!U34+'21. Apsaugos sistema'!U34+'22. Telekomunikacijos'!U34+'23. Gaisro gesinimo sistema'!U34+'24. Transportavimo sistema'!U34+'25. Lietaus surinkimo sistema'!U34++'Bendrosios pastato išlaidos'!N45)","v":0}]
[null,"D.4.15. Kitos išlaidos",{"$f":"SUM(D48:OFFSET(D48,0,1000))","v":0},{"$f":"SUM('1. Pamatai'!M35+'2. Perdangos'!M35+'3. Sienos'!M35+'4. Durys'!M35+'5. Langai'!M35+'6. Laiptai'!M35+'7. Stogas'!M35+'8. Vidaus apdaila'!M35+'9. Išorės apdaila'!M35+'10. Šildymo sistema (vidaus)'!M35+'11. Šildymo sistema (lauko)'!M35+'12. Šaldymas ir oro kondiciona'!M35+'13. Ventiliacija'!M35+'14. Vandentiekio sistema (vida'!M35+'15. Vandentiekio sistema (lauk'!M35+'16. Nuotekų šalinimo sistema'!M35+'17. Nuotekų šalinimo sistema'!M35+'18. Elektros instaliacija (vid'!M35+'19. Elektros instaliacija (lau'!M35+'20. Dujos'!M35+'21. Apsaugos sistema'!M35+'22. Telekomunikacijos'!M35+'23. Gaisro gesinimo sistema'!M35+'24. Transportavimo sistema'!M35+'25. Lietaus surinkimo sistema'!M35++'Bendrosios pastato išlaidos'!F46)","v":0},{"$f":"SUM('1. Pamatai'!N35+'2. Perdangos'!N35+'3. Sienos'!N35+'4. Durys'!N35+'5. Langai'!N35+'6. Laiptai'!N35+'7. Stogas'!N35+'8. Vidaus apdaila'!N35+'9. Išorės apdaila'!N35+'10. Šildymo sistema (vidaus)'!N35+'11. Šildymo sistema (lauko)'!N35+'12. Šaldymas ir oro kondiciona'!N35+'13. Ventiliacija'!N35+'14. Vandentiekio sistema (vida'!N35+'15. Vandentiekio sistema (lauk'!N35+'16. Nuotekų šalinimo sistema'!N35+'17. Nuotekų šalinimo sistema'!N35+'18. Elektros instaliacija (vid'!N35+'19. Elektros instaliacija (lau'!N35+'20. Dujos'!N35+'21. Apsaugos sistema'!N35+'22. Telekomunikacijos'!N35+'23. Gaisro gesinimo sistema'!N35+'24. Transportavimo sistema'!N35+'25. Lietaus surinkimo sistema'!N35++'Bendrosios pastato išlaidos'!G46)","v":0},{"$f":"SUM('1. Pamatai'!O35+'2. Perdangos'!O35+'3. Sienos'!O35+'4. Durys'!O35+'5. Langai'!O35+'6. Laiptai'!O35+'7. Stogas'!O35+'8. Vidaus apdaila'!O35+'9. Išorės apdaila'!O35+'10. Šildymo sistema (vidaus)'!O35+'11. Šildymo sistema (lauko)'!O35+'12. Šaldymas ir oro kondiciona'!O35+'13. Ventiliacija'!O35+'14. Vandentiekio sistema (vida'!O35+'15. Vandentiekio sistema (lauk'!O35+'16. Nuotekų šalinimo sistema'!O35+'17. Nuotekų šalinimo sistema'!O35+'18. Elektros instaliacija (vid'!O35+'19. Elektros instaliacija (lau'!O35+'20. Dujos'!O35+'21. Apsaugos sistema'!O35+'22. Telekomunikacijos'!O35+'23. Gaisro gesinimo sistema'!O35+'24. Transportavimo sistema'!O35+'25. Lietaus surinkimo sistema'!O35++'Bendrosios pastato išlaidos'!H46)","v":0},{"$f":"SUM('1. Pamatai'!P35+'2. Perdangos'!P35+'3. Sienos'!P35+'4. Durys'!P35+'5. Langai'!P35+'6. Laiptai'!P35+'7. Stogas'!P35+'8. Vidaus apdaila'!P35+'9. Išorės apdaila'!P35+'10. Šildymo sistema (vidaus)'!P35+'11. Šildymo sistema (lauko)'!P35+'12. Šaldymas ir oro kondiciona'!P35+'13. Ventiliacija'!P35+'14. Vandentiekio sistema (vida'!P35+'15. Vandentiekio sistema (lauk'!P35+'16. Nuotekų šalinimo sistema'!P35+'17. Nuotekų šalinimo sistema'!P35+'18. Elektros instaliacija (vid'!P35+'19. Elektros instaliacija (lau'!P35+'20. Dujos'!P35+'21. Apsaugos sistema'!P35+'22. Telekomunikacijos'!P35+'23. Gaisro gesinimo sistema'!P35+'24. Transportavimo sistema'!P35+'25. Lietaus surinkimo sistema'!P35++'Bendrosios pastato išlaidos'!I46)","v":0},{"$f":"SUM('1. Pamatai'!Q35+'2. Perdangos'!Q35+'3. Sienos'!Q35+'4. Durys'!Q35+'5. Langai'!Q35+'6. Laiptai'!Q35+'7. Stogas'!Q35+'8. Vidaus apdaila'!Q35+'9. Išorės apdaila'!Q35+'10. Šildymo sistema (vidaus)'!Q35+'11. Šildymo sistema (lauko)'!Q35+'12. Šaldymas ir oro kondiciona'!Q35+'13. Ventiliacija'!Q35+'14. Vandentiekio sistema (vida'!Q35+'15. Vandentiekio sistema (lauk'!Q35+'16. Nuotekų šalinimo sistema'!Q35+'17. Nuotekų šalinimo sistema'!Q35+'18. Elektros instaliacija (vid'!Q35+'19. Elektros instaliacija (lau'!Q35+'20. Dujos'!Q35+'21. Apsaugos sistema'!Q35+'22. Telekomunikacijos'!Q35+'23. Gaisro gesinimo sistema'!Q35+'24. Transportavimo sistema'!Q35+'25. Lietaus surinkimo sistema'!Q35++'Bendrosios pastato išlaidos'!J46)","v":0},{"$f":"SUM('1. Pamatai'!R35+'2. Perdangos'!R35+'3. Sienos'!R35+'4. Durys'!R35+'5. Langai'!R35+'6. Laiptai'!R35+'7. Stogas'!R35+'8. Vidaus apdaila'!R35+'9. Išorės apdaila'!R35+'10. Šildymo sistema (vidaus)'!R35+'11. Šildymo sistema (lauko)'!R35+'12. Šaldymas ir oro kondiciona'!R35+'13. Ventiliacija'!R35+'14. Vandentiekio sistema (vida'!R35+'15. Vandentiekio sistema (lauk'!R35+'16. Nuotekų šalinimo sistema'!R35+'17. Nuotekų šalinimo sistema'!R35+'18. Elektros instaliacija (vid'!R35+'19. Elektros instaliacija (lau'!R35+'20. Dujos'!R35+'21. Apsaugos sistema'!R35+'22. Telekomunikacijos'!R35+'23. Gaisro gesinimo sistema'!R35+'24. Transportavimo sistema'!R35+'25. Lietaus surinkimo sistema'!R35++'Bendrosios pastato išlaidos'!K46)","v":0},{"$f":"SUM('1. Pamatai'!S35+'2. Perdangos'!S35+'3. Sienos'!S35+'4. Durys'!S35+'5. Langai'!S35+'6. Laiptai'!S35+'7. Stogas'!S35+'8. Vidaus apdaila'!S35+'9. Išorės apdaila'!S35+'10. Šildymo sistema (vidaus)'!S35+'11. Šildymo sistema (lauko)'!S35+'12. Šaldymas ir oro kondiciona'!S35+'13. Ventiliacija'!S35+'14. Vandentiekio sistema (vida'!S35+'15. Vandentiekio sistema (lauk'!S35+'16. Nuotekų šalinimo sistema'!S35+'17. Nuotekų šalinimo sistema'!S35+'18. Elektros instaliacija (vid'!S35+'19. Elektros instaliacija (lau'!S35+'20. Dujos'!S35+'21. Apsaugos sistema'!S35+'22. Telekomunikacijos'!S35+'23. Gaisro gesinimo sistema'!S35+'24. Transportavimo sistema'!S35+'25. Lietaus surinkimo sistema'!S35++'Bendrosios pastato išlaidos'!L46)","v":0},{"$f":"SUM('1. Pamatai'!T35+'2. Perdangos'!T35+'3. Sienos'!T35+'4. Durys'!T35+'5. Langai'!T35+'6. Laiptai'!T35+'7. Stogas'!T35+'8. Vidaus apdaila'!T35+'9. Išorės apdaila'!T35+'10. Šildymo sistema (vidaus)'!T35+'11. Šildymo sistema (lauko)'!T35+'12. Šaldymas ir oro kondiciona'!T35+'13. Ventiliacija'!T35+'14. Vandentiekio sistema (vida'!T35+'15. Vandentiekio sistema (lauk'!T35+'16. Nuotekų šalinimo sistema'!T35+'17. Nuotekų šalinimo sistema'!T35+'18. Elektros instaliacija (vid'!T35+'19. Elektros instaliacija (lau'!T35+'20. Dujos'!T35+'21. Apsaugos sistema'!T35+'22. Telekomunikacijos'!T35+'23. Gaisro gesinimo sistema'!T35+'24. Transportavimo sistema'!T35+'25. Lietaus surinkimo sistema'!T35++'Bendrosios pastato išlaidos'!M46)","v":0},{"$f":"SUM('1. Pamatai'!U35+'2. Perdangos'!U35+'3. Sienos'!U35+'4. Durys'!U35+'5. Langai'!U35+'6. Laiptai'!U35+'7. Stogas'!U35+'8. Vidaus apdaila'!U35+'9. Išorės apdaila'!U35+'10. Šildymo sistema (vidaus)'!U35+'11. Šildymo sistema (lauko)'!U35+'12. Šaldymas ir oro kondiciona'!U35+'13. Ventiliacija'!U35+'14. Vandentiekio sistema (vida'!U35+'15. Vandentiekio sistema (lauk'!U35+'16. Nuotekų šalinimo sistema'!U35+'17. Nuotekų šalinimo sistema'!U35+'18. Elektros instaliacija (vid'!U35+'19. Elektros instaliacija (lau'!U35+'20. Dujos'!U35+'21. Apsaugos sistema'!U35+'22. Telekomunikacijos'!U35+'23. Gaisro gesinimo sistema'!U35+'24. Transportavimo sistema'!U35+'25. Lietaus surinkimo sistema'!U35++'Bendrosios pastato išlaidos'!N46)","v":0}]
[null,"D.5. Remonto išlaidos",{"$f":"SUM(C50)","v":0},{"$f":"SUM('1. Pamatai'!M36+'2. Perdangos'!M36+'3. Sienos'!M36+'4. Durys'!M36+'5. Langai'!M36+'6. Laiptai'!M36+'7. Stogas'!M36+'8. Vidaus apdaila'!M36+'9. Išorės apdaila'!M36+'10. Šildymo sistema (vidaus)'!M36+'11. Šildymo sistema (lauko)'!M36+'12. Šaldymas ir oro kondiciona'!M36+'13. Ventiliacija'!M36+'14. Vandentiekio sistema (vida'!M36+'15. Vandentiekio sistema (lauk'!M36+'16. Nuotekų šalinimo sistema'!M36+'17. Nuotekų šalinimo sistema'!M36+'18. Elektros instaliacija (vid'!M36+'19. Elektros instaliacija (lau'!M36+'20. Dujos'!M36+'21. Apsaugos sistema'!M36+'22. Telekomunikacijos'!M36+'23. Gaisro gesinimo sistema'!M36+'24. Transportavimo sistema'!M36+'25. Lietaus surinkimo sistema'!M36+'Bendrosios pastato išlaidos'!F47)","v":0},{"$f":"SUM('1. Pamatai'!N36+'2. Perdangos'!N36+'3. Sienos'!N36+'4. Durys'!N36+'5. Langai'!N36+'6. Laiptai'!N36+'7. Stogas'!N36+'8. Vidaus apdaila'!N36+'9. Išorės apdaila'!N36+'10. Šildymo sistema (vidaus)'!N36+'11. Šildymo sistema (lauko)'!N36+'12. Šaldymas ir oro kondiciona'!N36+'13. Ventiliacija'!N36+'14. Vandentiekio sistema (vida'!N36+'15. Vandentiekio sistema (lauk'!N36+'16. Nuotekų šalinimo sistema'!N36+'17. Nuotekų šalinimo sistema'!N36+'18. Elektros instaliacija (vid'!N36+'19. Elektros instaliacija (lau'!N36+'20. Dujos'!N36+'21. Apsaugos sistema'!N36+'22. Telekomunikacijos'!N36+'23. Gaisro gesinimo sistema'!N36+'24. Transportavimo sistema'!N36+'25. Lietaus surinkimo sistema'!N36+'Bendrosios pastato išlaidos'!G47)","v":0},{"$f":"SUM('1. Pamatai'!O36+'2. Perdangos'!O36+'3. Sienos'!O36+'4. Durys'!O36+'5. Langai'!O36+'6. Laiptai'!O36+'7. Stogas'!O36+'8. Vidaus apdaila'!O36+'9. Išorės apdaila'!O36+'10. Šildymo sistema (vidaus)'!O36+'11. Šildymo sistema (lauko)'!O36+'12. Šaldymas ir oro kondiciona'!O36+'13. Ventiliacija'!O36+'14. Vandentiekio sistema (vida'!O36+'15. Vandentiekio sistema (lauk'!O36+'16. Nuotekų šalinimo sistema'!O36+'17. Nuotekų šalinimo sistema'!O36+'18. Elektros instaliacija (vid'!O36+'19. Elektros instaliacija (lau'!O36+'20. Dujos'!O36+'21. Apsaugos sistema'!O36+'22. Telekomunikacijos'!O36+'23. Gaisro gesinimo sistema'!O36+'24. Transportavimo sistema'!O36+'25. Lietaus surinkimo sistema'!O36+'Bendrosios pastato išlaidos'!H47)","v":0},{"$f":"SUM('1. Pamatai'!P36+'2. Perdangos'!P36+'3. Sienos'!P36+'4. Durys'!P36+'5. Langai'!P36+'6. Laiptai'!P36+'7. Stogas'!P36+'8. Vidaus apdaila'!P36+'9. Išorės apdaila'!P36+'10. Šildymo sistema (vidaus)'!P36+'11. Šildymo sistema (lauko)'!P36+'12. Šaldymas ir oro kondiciona'!P36+'13. Ventiliacija'!P36+'14. Vandentiekio sistema (vida'!P36+'15. Vandentiekio sistema (lauk'!P36+'16. Nuotekų šalinimo sistema'!P36+'17. Nuotekų šalinimo sistema'!P36+'18. Elektros instaliacija (vid'!P36+'19. Elektros instaliacija (lau'!P36+'20. Dujos'!P36+'21. Apsaugos sistema'!P36+'22. Telekomunikacijos'!P36+'23. Gaisro gesinimo sistema'!P36+'24. Transportavimo sistema'!P36+'25. Lietaus surinkimo sistema'!P36+'Bendrosios pastato išlaidos'!I47)","v":0},{"$f":"SUM('1. Pamatai'!Q36+'2. Perdangos'!Q36+'3. Sienos'!Q36+'4. Durys'!Q36+'5. Langai'!Q36+'6. Laiptai'!Q36+'7. Stogas'!Q36+'8. Vidaus apdaila'!Q36+'9. Išorės apdaila'!Q36+'10. Šildymo sistema (vidaus)'!Q36+'11. Šildymo sistema (lauko)'!Q36+'12. Šaldymas ir oro kondiciona'!Q36+'13. Ventiliacija'!Q36+'14. Vandentiekio sistema (vida'!Q36+'15. Vandentiekio sistema (lauk'!Q36+'16. Nuotekų šalinimo sistema'!Q36+'17. Nuotekų šalinimo sistema'!Q36+'18. Elektros instaliacija (vid'!Q36+'19. Elektros instaliacija (lau'!Q36+'20. Dujos'!Q36+'21. Apsaugos sistema'!Q36+'22. Telekomunikacijos'!Q36+'23. Gaisro gesinimo sistema'!Q36+'24. Transportavimo sistema'!Q36+'25. Lietaus surinkimo sistema'!Q36+'Bendrosios pastato išlaidos'!J47)","v":0},{"$f":"SUM('1. Pamatai'!R36+'2. Perdangos'!R36+'3. Sienos'!R36+'4. Durys'!R36+'5. Langai'!R36+'6. Laiptai'!R36+'7. Stogas'!R36+'8. Vidaus apdaila'!R36+'9. Išorės apdaila'!R36+'10. Šildymo sistema (vidaus)'!R36+'11. Šildymo sistema (lauko)'!R36+'12. Šaldymas ir oro kondiciona'!R36+'13. Ventiliacija'!R36+'14. Vandentiekio sistema (vida'!R36+'15. Vandentiekio sistema (lauk'!R36+'16. Nuotekų šalinimo sistema'!R36+'17. Nuotekų šalinimo sistema'!R36+'18. Elektros instaliacija (vid'!R36+'19. Elektros instaliacija (lau'!R36+'20. Dujos'!R36+'21. Apsaugos sistema'!R36+'22. Telekomunikacijos'!R36+'23. Gaisro gesinimo sistema'!R36+'24. Transportavimo sistema'!R36+'25. Lietaus surinkimo sistema'!R36+'Bendrosios pastato išlaidos'!K47)","v":0},{"$f":"SUM('1. Pamatai'!S36+'2. Perdangos'!S36+'3. Sienos'!S36+'4. Durys'!S36+'5. Langai'!S36+'6. Laiptai'!S36+'7. Stogas'!S36+'8. Vidaus apdaila'!S36+'9. Išorės apdaila'!S36+'10. Šildymo sistema (vidaus)'!S36+'11. Šildymo sistema (lauko)'!S36+'12. Šaldymas ir oro kondiciona'!S36+'13. Ventiliacija'!S36+'14. Vandentiekio sistema (vida'!S36+'15. Vandentiekio sistema (lauk'!S36+'16. Nuotekų šalinimo sistema'!S36+'17. Nuotekų šalinimo sistema'!S36+'18. Elektros instaliacija (vid'!S36+'19. Elektros instaliacija (lau'!S36+'20. Dujos'!S36+'21. Apsaugos sistema'!S36+'22. Telekomunikacijos'!S36+'23. Gaisro gesinimo sistema'!S36+'24. Transportavimo sistema'!S36+'25. Lietaus surinkimo sistema'!S36+'Bendrosios pastato išlaidos'!L47)","v":0},{"$f":"SUM('1. Pamatai'!T36+'2. Perdangos'!T36+'3. Sienos'!T36+'4. Durys'!T36+'5. Langai'!T36+'6. Laiptai'!T36+'7. Stogas'!T36+'8. Vidaus apdaila'!T36+'9. Išorės apdaila'!T36+'10. Šildymo sistema (vidaus)'!T36+'11. Šildymo sistema (lauko)'!T36+'12. Šaldymas ir oro kondiciona'!T36+'13. Ventiliacija'!T36+'14. Vandentiekio sistema (vida'!T36+'15. Vandentiekio sistema (lauk'!T36+'16. Nuotekų šalinimo sistema'!T36+'17. Nuotekų šalinimo sistema'!T36+'18. Elektros instaliacija (vid'!T36+'19. Elektros instaliacija (lau'!T36+'20. Dujos'!T36+'21. Apsaugos sistema'!T36+'22. Telekomunikacijos'!T36+'23. Gaisro gesinimo sistema'!T36+'24. Transportavimo sistema'!T36+'25. Lietaus surinkimo sistema'!T36+'Bendrosios pastato išlaidos'!M47)","v":0},{"$f":"SUM('1. Pamatai'!U36+'2. Perdangos'!U36+'3. Sienos'!U36+'4. Durys'!U36+'5. Langai'!U36+'6. Laiptai'!U36+'7. Stogas'!U36+'8. Vidaus apdaila'!U36+'9. Išorės apdaila'!U36+'10. Šildymo sistema (vidaus)'!U36+'11. Šildymo sistema (lauko)'!U36+'12. Šaldymas ir oro kondiciona'!U36+'13. Ventiliacija'!U36+'14. Vandentiekio sistema (vida'!U36+'15. Vandentiekio sistema (lauk'!U36+'16. Nuotekų šalinimo sistema'!U36+'17. Nuotekų šalinimo sistema'!U36+'18. Elektros instaliacija (vid'!U36+'19. Elektros instaliacija (lau'!U36+'20. Dujos'!U36+'21. Apsaugos sistema'!U36+'22. Telekomunikacijos'!U36+'23. Gaisro gesinimo sistema'!U36+'24. Transportavimo sistema'!U36+'25. Lietaus surinkimo sistema'!U36+'Bendrosios pastato išlaidos'!N47)","v":0}]
[null,"D.5.1. Einamojo remonto išlaidos",{"$f":"SUM(D50:OFFSET(D50,0,1000))","v":0},{"$f":"SUM('1. Pamatai'!M37+'2. Perdangos'!M37+'3. Sienos'!M37+'4. Durys'!M37+'5. Langai'!M37+'6. Laiptai'!M37+'7. Stogas'!M37+'8. Vidaus apdaila'!M37+'9. Išorės apdaila'!M37+'10. Šildymo sistema (vidaus)'!M37+'11. Šildymo sistema (lauko)'!M37+'12. Šaldymas ir oro kondiciona'!M37+'13. Ventiliacija'!M37+'14. Vandentiekio sistema (vida'!M37+'15. Vandentiekio sistema (lauk'!M37+'16. Nuotekų šalinimo sistema'!M37+'17. Nuotekų šalinimo sistema'!M37+'18. Elektros instaliacija (vid'!M37+'19. Elektros instaliacija (lau'!M37+'20. Dujos'!M37+'21. Apsaugos sistema'!M37+'22. Telekomunikacijos'!M37+'23. Gaisro gesinimo sistema'!M37+'24. Transportavimo sistema'!M37+'25. Lietaus surinkimo sistema'!M37+'Bendrosios pastato išlaidos'!F48)","v":0},{"$f":"SUM('1. Pamatai'!N37+'2. Perdangos'!N37+'3. Sienos'!N37+'4. Durys'!N37+'5. Langai'!N37+'6. Laiptai'!N37+'7. Stogas'!N37+'8. Vidaus apdaila'!N37+'9. Išorės apdaila'!N37+'10. Šildymo sistema (vidaus)'!N37+'11. Šildymo sistema (lauko)'!N37+'12. Šaldymas ir oro kondiciona'!N37+'13. Ventiliacija'!N37+'14. Vandentiekio sistema (vida'!N37+'15. Vandentiekio sistema (lauk'!N37+'16. Nuotekų šalinimo sistema'!N37+'17. Nuotekų šalinimo sistema'!N37+'18. Elektros instaliacija (vid'!N37+'19. Elektros instaliacija (lau'!N37+'20. Dujos'!N37+'21. Apsaugos sistema'!N37+'22. Telekomunikacijos'!N37+'23. Gaisro gesinimo sistema'!N37+'24. Transportavimo sistema'!N37+'25. Lietaus surinkimo sistema'!N37+'Bendrosios pastato išlaidos'!G48)","v":0},{"$f":"SUM('1. Pamatai'!O37+'2. Perdangos'!O37+'3. Sienos'!O37+'4. Durys'!O37+'5. Langai'!O37+'6. Laiptai'!O37+'7. Stogas'!O37+'8. Vidaus apdaila'!O37+'9. Išorės apdaila'!O37+'10. Šildymo sistema (vidaus)'!O37+'11. Šildymo sistema (lauko)'!O37+'12. Šaldymas ir oro kondiciona'!O37+'13. Ventiliacija'!O37+'14. Vandentiekio sistema (vida'!O37+'15. Vandentiekio sistema (lauk'!O37+'16. Nuotekų šalinimo sistema'!O37+'17. Nuotekų šalinimo sistema'!O37+'18. Elektros instaliacija (vid'!O37+'19. Elektros instaliacija (lau'!O37+'20. Dujos'!O37+'21. Apsaugos sistema'!O37+'22. Telekomunikacijos'!O37+'23. Gaisro gesinimo sistema'!O37+'24. Transportavimo sistema'!O37+'25. Lietaus surinkimo sistema'!O37+'Bendrosios pastato išlaidos'!H48)","v":0},{"$f":"SUM('1. Pamatai'!P37+'2. Perdangos'!P37+'3. Sienos'!P37+'4. Durys'!P37+'5. Langai'!P37+'6. Laiptai'!P37+'7. Stogas'!P37+'8. Vidaus apdaila'!P37+'9. Išorės apdaila'!P37+'10. Šildymo sistema (vidaus)'!P37+'11. Šildymo sistema (lauko)'!P37+'12. Šaldymas ir oro kondiciona'!P37+'13. Ventiliacija'!P37+'14. Vandentiekio sistema (vida'!P37+'15. Vandentiekio sistema (lauk'!P37+'16. Nuotekų šalinimo sistema'!P37+'17. Nuotekų šalinimo sistema'!P37+'18. Elektros instaliacija (vid'!P37+'19. Elektros instaliacija (lau'!P37+'20. Dujos'!P37+'21. Apsaugos sistema'!P37+'22. Telekomunikacijos'!P37+'23. Gaisro gesinimo sistema'!P37+'24. Transportavimo sistema'!P37+'25. Lietaus surinkimo sistema'!P37+'Bendrosios pastato išlaidos'!I48)","v":0},{"$f":"SUM('1. Pamatai'!Q37+'2. Perdangos'!Q37+'3. Sienos'!Q37+'4. Durys'!Q37+'5. Langai'!Q37+'6. Laiptai'!Q37+'7. Stogas'!Q37+'8. Vidaus apdaila'!Q37+'9. Išorės apdaila'!Q37+'10. Šildymo sistema (vidaus)'!Q37+'11. Šildymo sistema (lauko)'!Q37+'12. Šaldymas ir oro kondiciona'!Q37+'13. Ventiliacija'!Q37+'14. Vandentiekio sistema (vida'!Q37+'15. Vandentiekio sistema (lauk'!Q37+'16. Nuotekų šalinimo sistema'!Q37+'17. Nuotekų šalinimo sistema'!Q37+'18. Elektros instaliacija (vid'!Q37+'19. Elektros instaliacija (lau'!Q37+'20. Dujos'!Q37+'21. Apsaugos sistema'!Q37+'22. Telekomunikacijos'!Q37+'23. Gaisro gesinimo sistema'!Q37+'24. Transportavimo sistema'!Q37+'25. Lietaus surinkimo sistema'!Q37+'Bendrosios pastato išlaidos'!J48)","v":0},{"$f":"SUM('1. Pamatai'!R37+'2. Perdangos'!R37+'3. Sienos'!R37+'4. Durys'!R37+'5. Langai'!R37+'6. Laiptai'!R37+'7. Stogas'!R37+'8. Vidaus apdaila'!R37+'9. Išorės apdaila'!R37+'10. Šildymo sistema (vidaus)'!R37+'11. Šildymo sistema (lauko)'!R37+'12. Šaldymas ir oro kondiciona'!R37+'13. Ventiliacija'!R37+'14. Vandentiekio sistema (vida'!R37+'15. Vandentiekio sistema (lauk'!R37+'16. Nuotekų šalinimo sistema'!R37+'17. Nuotekų šalinimo sistema'!R37+'18. Elektros instaliacija (vid'!R37+'19. Elektros instaliacija (lau'!R37+'20. Dujos'!R37+'21. Apsaugos sistema'!R37+'22. Telekomunikacijos'!R37+'23. Gaisro gesinimo sistema'!R37+'24. Transportavimo sistema'!R37+'25. Lietaus surinkimo sistema'!R37+'Bendrosios pastato išlaidos'!K48)","v":0},{"$f":"SUM('1. Pamatai'!S37+'2. Perdangos'!S37+'3. Sienos'!S37+'4. Durys'!S37+'5. Langai'!S37+'6. Laiptai'!S37+'7. Stogas'!S37+'8. Vidaus apdaila'!S37+'9. Išorės apdaila'!S37+'10. Šildymo sistema (vidaus)'!S37+'11. Šildymo sistema (lauko)'!S37+'12. Šaldymas ir oro kondiciona'!S37+'13. Ventiliacija'!S37+'14. Vandentiekio sistema (vida'!S37+'15. Vandentiekio sistema (lauk'!S37+'16. Nuotekų šalinimo sistema'!S37+'17. Nuotekų šalinimo sistema'!S37+'18. Elektros instaliacija (vid'!S37+'19. Elektros instaliacija (lau'!S37+'20. Dujos'!S37+'21. Apsaugos sistema'!S37+'22. Telekomunikacijos'!S37+'23. Gaisro gesinimo sistema'!S37+'24. Transportavimo sistema'!S37+'25. Lietaus surinkimo sistema'!S37+'Bendrosios pastato išlaidos'!L48)","v":0},{"$f":"SUM('1. Pamatai'!T37+'2. Perdangos'!T37+'3. Sienos'!T37+'4. Durys'!T37+'5. Langai'!T37+'6. Laiptai'!T37+'7. Stogas'!T37+'8. Vidaus apdaila'!T37+'9. Išorės apdaila'!T37+'10. Šildymo sistema (vidaus)'!T37+'11. Šildymo sistema (lauko)'!T37+'12. Šaldymas ir oro kondiciona'!T37+'13. Ventiliacija'!T37+'14. Vandentiekio sistema (vida'!T37+'15. Vandentiekio sistema (lauk'!T37+'16. Nuotekų šalinimo sistema'!T37+'17. Nuotekų šalinimo sistema'!T37+'18. Elektros instaliacija (vid'!T37+'19. Elektros instaliacija (lau'!T37+'20. Dujos'!T37+'21. Apsaugos sistema'!T37+'22. Telekomunikacijos'!T37+'23. Gaisro gesinimo sistema'!T37+'24. Transportavimo sistema'!T37+'25. Lietaus surinkimo sistema'!T37+'Bendrosios pastato išlaidos'!M48)","v":0},{"$f":"SUM('1. Pamatai'!U37+'2. Perdangos'!U37+'3. Sienos'!U37+'4. Durys'!U37+'5. Langai'!U37+'6. Laiptai'!U37+'7. Stogas'!U37+'8. Vidaus apdaila'!U37+'9. Išorės apdaila'!U37+'10. Šildymo sistema (vidaus)'!U37+'11. Šildymo sistema (lauko)'!U37+'12. Šaldymas ir oro kondiciona'!U37+'13. Ventiliacija'!U37+'14. Vandentiekio sistema (vida'!U37+'15. Vandentiekio sistema (lauk'!U37+'16. Nuotekų šalinimo sistema'!U37+'17. Nuotekų šalinimo sistema'!U37+'18. Elektros instaliacija (vid'!U37+'19. Elektros instaliacija (lau'!U37+'20. Dujos'!U37+'21. Apsaugos sistema'!U37+'22. Telekomunikacijos'!U37+'23. Gaisro gesinimo sistema'!U37+'24. Transportavimo sistema'!U37+'25. Lietaus surinkimo sistema'!U37+'Bendrosios pastato išlaidos'!N48)","v":0}]
[null,"D.6. Utilizavimo išlaidos",{"$f":"SUM(C52:C54)","v":0},{"$f":"SUM('1. Pamatai'!M38+'2. Perdangos'!M38+'3. Sienos'!M38+'4. Durys'!M38+'5. Langai'!M38+'6. Laiptai'!M38+'7. Stogas'!M38+'8. Vidaus apdaila'!M38+'9. Išorės apdaila'!M38+'10. Šildymo sistema (vidaus)'!M38+'11. Šildymo sistema (lauko)'!M38+'12. Šaldymas ir oro kondiciona'!M38+'13. Ventiliacija'!M38+'14. Vandentiekio sistema (vida'!M38+'15. Vandentiekio sistema (lauk'!M38+'16. Nuotekų šalinimo sistema'!M38+'17. Nuotekų šalinimo sistema'!M38+'18. Elektros instaliacija (vid'!M38+'19. Elektros instaliacija (lau'!M38+'20. Dujos'!M38+'21. Apsaugos sistema'!M38+'22. Telekomunikacijos'!M38+'23. Gaisro gesinimo sistema'!M38+'24. Transportavimo sistema'!M38+'25. Lietaus surinkimo sistema'!M38+'Bendrosios pastato išlaidos'!F49)","v":0},{"$f":"SUM('1. Pamatai'!N38+'2. Perdangos'!N38+'3. Sienos'!N38+'4. Durys'!N38+'5. Langai'!N38+'6. Laiptai'!N38+'7. Stogas'!N38+'8. Vidaus apdaila'!N38+'9. Išorės apdaila'!N38+'10. Šildymo sistema (vidaus)'!N38+'11. Šildymo sistema (lauko)'!N38+'12. Šaldymas ir oro kondiciona'!N38+'13. Ventiliacija'!N38+'14. Vandentiekio sistema (vida'!N38+'15. Vandentiekio sistema (lauk'!N38+'16. Nuotekų šalinimo sistema'!N38+'17. Nuotekų šalinimo sistema'!N38+'18. Elektros instaliacija (vid'!N38+'19. Elektros instaliacija (lau'!N38+'20. Dujos'!N38+'21. Apsaugos sistema'!N38+'22. Telekomunikacijos'!N38+'23. Gaisro gesinimo sistema'!N38+'24. Transportavimo sistema'!N38+'25. Lietaus surinkimo sistema'!N38+'Bendrosios pastato išlaidos'!G49)","v":0},{"$f":"SUM('1. Pamatai'!O38+'2. Perdangos'!O38+'3. Sienos'!O38+'4. Durys'!O38+'5. Langai'!O38+'6. Laiptai'!O38+'7. Stogas'!O38+'8. Vidaus apdaila'!O38+'9. Išorės apdaila'!O38+'10. Šildymo sistema (vidaus)'!O38+'11. Šildymo sistema (lauko)'!O38+'12. Šaldymas ir oro kondiciona'!O38+'13. Ventiliacija'!O38+'14. Vandentiekio sistema (vida'!O38+'15. Vandentiekio sistema (lauk'!O38+'16. Nuotekų šalinimo sistema'!O38+'17. Nuotekų šalinimo sistema'!O38+'18. Elektros instaliacija (vid'!O38+'19. Elektros instaliacija (lau'!O38+'20. Dujos'!O38+'21. Apsaugos sistema'!O38+'22. Telekomunikacijos'!O38+'23. Gaisro gesinimo sistema'!O38+'24. Transportavimo sistema'!O38+'25. Lietaus surinkimo sistema'!O38+'Bendrosios pastato išlaidos'!H49)","v":0},{"$f":"SUM('1. Pamatai'!P38+'2. Perdangos'!P38+'3. Sienos'!P38+'4. Durys'!P38+'5. Langai'!P38+'6. Laiptai'!P38+'7. Stogas'!P38+'8. Vidaus apdaila'!P38+'9. Išorės apdaila'!P38+'10. Šildymo sistema (vidaus)'!P38+'11. Šildymo sistema (lauko)'!P38+'12. Šaldymas ir oro kondiciona'!P38+'13. Ventiliacija'!P38+'14. Vandentiekio sistema (vida'!P38+'15. Vandentiekio sistema (lauk'!P38+'16. Nuotekų šalinimo sistema'!P38+'17. Nuotekų šalinimo sistema'!P38+'18. Elektros instaliacija (vid'!P38+'19. Elektros instaliacija (lau'!P38+'20. Dujos'!P38+'21. Apsaugos sistema'!P38+'22. Telekomunikacijos'!P38+'23. Gaisro gesinimo sistema'!P38+'24. Transportavimo sistema'!P38+'25. Lietaus surinkimo sistema'!P38+'Bendrosios pastato išlaidos'!I49)","v":0},{"$f":"SUM('1. Pamatai'!Q38+'2. Perdangos'!Q38+'3. Sienos'!Q38+'4. Durys'!Q38+'5. Langai'!Q38+'6. Laiptai'!Q38+'7. Stogas'!Q38+'8. Vidaus apdaila'!Q38+'9. Išorės apdaila'!Q38+'10. Šildymo sistema (vidaus)'!Q38+'11. Šildymo sistema (lauko)'!Q38+'12. Šaldymas ir oro kondiciona'!Q38+'13. Ventiliacija'!Q38+'14. Vandentiekio sistema (vida'!Q38+'15. Vandentiekio sistema (lauk'!Q38+'16. Nuotekų šalinimo sistema'!Q38+'17. Nuotekų šalinimo sistema'!Q38+'18. Elektros instaliacija (vid'!Q38+'19. Elektros instaliacija (lau'!Q38+'20. Dujos'!Q38+'21. Apsaugos sistema'!Q38+'22. Telekomunikacijos'!Q38+'23. Gaisro gesinimo sistema'!Q38+'24. Transportavimo sistema'!Q38+'25. Lietaus surinkimo sistema'!Q38+'Bendrosios pastato išlaidos'!J49)","v":0},{"$f":"SUM('1. Pamatai'!R38+'2. Perdangos'!R38+'3. Sienos'!R38+'4. Durys'!R38+'5. Langai'!R38+'6. Laiptai'!R38+'7. Stogas'!R38+'8. Vidaus apdaila'!R38+'9. Išorės apdaila'!R38+'10. Šildymo sistema (vidaus)'!R38+'11. Šildymo sistema (lauko)'!R38+'12. Šaldymas ir oro kondiciona'!R38+'13. Ventiliacija'!R38+'14. Vandentiekio sistema (vida'!R38+'15. Vandentiekio sistema (lauk'!R38+'16. Nuotekų šalinimo sistema'!R38+'17. Nuotekų šalinimo sistema'!R38+'18. Elektros instaliacija (vid'!R38+'19. Elektros instaliacija (lau'!R38+'20. Dujos'!R38+'21. Apsaugos sistema'!R38+'22. Telekomunikacijos'!R38+'23. Gaisro gesinimo sistema'!R38+'24. Transportavimo sistema'!R38+'25. Lietaus surinkimo sistema'!R38+'Bendrosios pastato išlaidos'!K49)","v":0},{"$f":"SUM('1. Pamatai'!S38+'2. Perdangos'!S38+'3. Sienos'!S38+'4. Durys'!S38+'5. Langai'!S38+'6. Laiptai'!S38+'7. Stogas'!S38+'8. Vidaus apdaila'!S38+'9. Išorės apdaila'!S38+'10. Šildymo sistema (vidaus)'!S38+'11. Šildymo sistema (lauko)'!S38+'12. Šaldymas ir oro kondiciona'!S38+'13. Ventiliacija'!S38+'14. Vandentiekio sistema (vida'!S38+'15. Vandentiekio sistema (lauk'!S38+'16. Nuotekų šalinimo sistema'!S38+'17. Nuotekų šalinimo sistema'!S38+'18. Elektros instaliacija (vid'!S38+'19. Elektros instaliacija (lau'!S38+'20. Dujos'!S38+'21. Apsaugos sistema'!S38+'22. Telekomunikacijos'!S38+'23. Gaisro gesinimo sistema'!S38+'24. Transportavimo sistema'!S38+'25. Lietaus surinkimo sistema'!S38+'Bendrosios pastato išlaidos'!L49)","v":0},{"$f":"SUM('1. Pamatai'!T38+'2. Perdangos'!T38+'3. Sienos'!T38+'4. Durys'!T38+'5. Langai'!T38+'6. Laiptai'!T38+'7. Stogas'!T38+'8. Vidaus apdaila'!T38+'9. Išorės apdaila'!T38+'10. Šildymo sistema (vidaus)'!T38+'11. Šildymo sistema (lauko)'!T38+'12. Šaldymas ir oro kondiciona'!T38+'13. Ventiliacija'!T38+'14. Vandentiekio sistema (vida'!T38+'15. Vandentiekio sistema (lauk'!T38+'16. Nuotekų šalinimo sistema'!T38+'17. Nuotekų šalinimo sistema'!T38+'18. Elektros instaliacija (vid'!T38+'19. Elektros instaliacija (lau'!T38+'20. Dujos'!T38+'21. Apsaugos sistema'!T38+'22. Telekomunikacijos'!T38+'23. Gaisro gesinimo sistema'!T38+'24. Transportavimo sistema'!T38+'25. Lietaus surinkimo sistema'!T38+'Bendrosios pastato išlaidos'!M49)","v":0},{"$f":"SUM('1. Pamatai'!U38+'2. Perdangos'!U38+'3. Sienos'!U38+'4. Durys'!U38+'5. Langai'!U38+'6. Laiptai'!U38+'7. Stogas'!U38+'8. Vidaus apdaila'!U38+'9. Išorės apdaila'!U38+'10. Šildymo sistema (vidaus)'!U38+'11. Šildymo sistema (lauko)'!U38+'12. Šaldymas ir oro kondiciona'!U38+'13. Ventiliacija'!U38+'14. Vandentiekio sistema (vida'!U38+'15. Vandentiekio sistema (lauk'!U38+'16. Nuotekų šalinimo sistema'!U38+'17. Nuotekų šalinimo sistema'!U38+'18. Elektros instaliacija (vid'!U38+'19. Elektros instaliacija (lau'!U38+'20. Dujos'!U38+'21. Apsaugos sistema'!U38+'22. Telekomunikacijos'!U38+'23. Gaisro gesinimo sistema'!U38+'24. Transportavimo sistema'!U38+'25. Lietaus surinkimo sistema'!U38+'Bendrosios pastato išlaidos'!N49)","v":0}]
[null,"D.6.1. Atliekų surinkimo išlaidos",{"$f":"SUM(D52:OFFSET(D52,0,1000))","v":0},{"$f":"SUM('1. Pamatai'!M39+'2. Perdangos'!M39+'3. Sienos'!M39+'4. Durys'!M39+'5. Langai'!M39+'6. Laiptai'!M39+'7. Stogas'!M39+'8. Vidaus apdaila'!M39+'9. Išorės apdaila'!M39+'10. Šildymo sistema (vidaus)'!M39+'11. Šildymo sistema (lauko)'!M39+'12. Šaldymas ir oro kondiciona'!M39+'13. Ventiliacija'!M39+'14. Vandentiekio sistema (vida'!M39+'15. Vandentiekio sistema (lauk'!M39+'16. Nuotekų šalinimo sistema'!M39+'17. Nuotekų šalinimo sistema'!M39+'18. Elektros instaliacija (vid'!M39+'19. Elektros instaliacija (lau'!M39+'20. Dujos'!M39+'21. Apsaugos sistema'!M39+'22. Telekomunikacijos'!M39+'23. Gaisro gesinimo sistema'!M39+'24. Transportavimo sistema'!M39+'25. Lietaus surinkimo sistema'!M39+'Bendrosios pastato išlaidos'!F50)","v":0},{"$f":"SUM('1. Pamatai'!N39+'2. Perdangos'!N39+'3. Sienos'!N39+'4. Durys'!N39+'5. Langai'!N39+'6. Laiptai'!N39+'7. Stogas'!N39+'8. Vidaus apdaila'!N39+'9. Išorės apdaila'!N39+'10. Šildymo sistema (vidaus)'!N39+'11. Šildymo sistema (lauko)'!N39+'12. Šaldymas ir oro kondiciona'!N39+'13. Ventiliacija'!N39+'14. Vandentiekio sistema (vida'!N39+'15. Vandentiekio sistema (lauk'!N39+'16. Nuotekų šalinimo sistema'!N39+'17. Nuotekų šalinimo sistema'!N39+'18. Elektros instaliacija (vid'!N39+'19. Elektros instaliacija (lau'!N39+'20. Dujos'!N39+'21. Apsaugos sistema'!N39+'22. Telekomunikacijos'!N39+'23. Gaisro gesinimo sistema'!N39+'24. Transportavimo sistema'!N39+'25. Lietaus surinkimo sistema'!N39+'Bendrosios pastato išlaidos'!G50)","v":0},{"$f":"SUM('1. Pamatai'!O39+'2. Perdangos'!O39+'3. Sienos'!O39+'4. Durys'!O39+'5. Langai'!O39+'6. Laiptai'!O39+'7. Stogas'!O39+'8. Vidaus apdaila'!O39+'9. Išorės apdaila'!O39+'10. Šildymo sistema (vidaus)'!O39+'11. Šildymo sistema (lauko)'!O39+'12. Šaldymas ir oro kondiciona'!O39+'13. Ventiliacija'!O39+'14. Vandentiekio sistema (vida'!O39+'15. Vandentiekio sistema (lauk'!O39+'16. Nuotekų šalinimo sistema'!O39+'17. Nuotekų šalinimo sistema'!O39+'18. Elektros instaliacija (vid'!O39+'19. Elektros instaliacija (lau'!O39+'20. Dujos'!O39+'21. Apsaugos sistema'!O39+'22. Telekomunikacijos'!O39+'23. Gaisro gesinimo sistema'!O39+'24. Transportavimo sistema'!O39+'25. Lietaus surinkimo sistema'!O39+'Bendrosios pastato išlaidos'!H50)","v":0},{"$f":"SUM('1. Pamatai'!P39+'2. Perdangos'!P39+'3. Sienos'!P39+'4. Durys'!P39+'5. Langai'!P39+'6. Laiptai'!P39+'7. Stogas'!P39+'8. Vidaus apdaila'!P39+'9. Išorės apdaila'!P39+'10. Šildymo sistema (vidaus)'!P39+'11. Šildymo sistema (lauko)'!P39+'12. Šaldymas ir oro kondiciona'!P39+'13. Ventiliacija'!P39+'14. Vandentiekio sistema (vida'!P39+'15. Vandentiekio sistema (lauk'!P39+'16. Nuotekų šalinimo sistema'!P39+'17. Nuotekų šalinimo sistema'!P39+'18. Elektros instaliacija (vid'!P39+'19. Elektros instaliacija (lau'!P39+'20. Dujos'!P39+'21. Apsaugos sistema'!P39+'22. Telekomunikacijos'!P39+'23. Gaisro gesinimo sistema'!P39+'24. Transportavimo sistema'!P39+'25. Lietaus surinkimo sistema'!P39+'Bendrosios pastato išlaidos'!I50)","v":0},{"$f":"SUM('1. Pamatai'!Q39+'2. Perdangos'!Q39+'3. Sienos'!Q39+'4. Durys'!Q39+'5. Langai'!Q39+'6. Laiptai'!Q39+'7. Stogas'!Q39+'8. Vidaus apdaila'!Q39+'9. Išorės apdaila'!Q39+'10. Šildymo sistema (vidaus)'!Q39+'11. Šildymo sistema (lauko)'!Q39+'12. Šaldymas ir oro kondiciona'!Q39+'13. Ventiliacija'!Q39+'14. Vandentiekio sistema (vida'!Q39+'15. Vandentiekio sistema (lauk'!Q39+'16. Nuotekų šalinimo sistema'!Q39+'17. Nuotekų šalinimo sistema'!Q39+'18. Elektros instaliacija (vid'!Q39+'19. Elektros instaliacija (lau'!Q39+'20. Dujos'!Q39+'21. Apsaugos sistema'!Q39+'22. Telekomunikacijos'!Q39+'23. Gaisro gesinimo sistema'!Q39+'24. Transportavimo sistema'!Q39+'25. Lietaus surinkimo sistema'!Q39+'Bendrosios pastato išlaidos'!J50)","v":0},{"$f":"SUM('1. Pamatai'!R39+'2. Perdangos'!R39+'3. Sienos'!R39+'4. Durys'!R39+'5. Langai'!R39+'6. Laiptai'!R39+'7. Stogas'!R39+'8. Vidaus apdaila'!R39+'9. Išorės apdaila'!R39+'10. Šildymo sistema (vidaus)'!R39+'11. Šildymo sistema (lauko)'!R39+'12. Šaldymas ir oro kondiciona'!R39+'13. Ventiliacija'!R39+'14. Vandentiekio sistema (vida'!R39+'15. Vandentiekio sistema (lauk'!R39+'16. Nuotekų šalinimo sistema'!R39+'17. Nuotekų šalinimo sistema'!R39+'18. Elektros instaliacija (vid'!R39+'19. Elektros instaliacija (lau'!R39+'20. Dujos'!R39+'21. Apsaugos sistema'!R39+'22. Telekomunikacijos'!R39+'23. Gaisro gesinimo sistema'!R39+'24. Transportavimo sistema'!R39+'25. Lietaus surinkimo sistema'!R39+'Bendrosios pastato išlaidos'!K50)","v":0},{"$f":"SUM('1. Pamatai'!S39+'2. Perdangos'!S39+'3. Sienos'!S39+'4. Durys'!S39+'5. Langai'!S39+'6. Laiptai'!S39+'7. Stogas'!S39+'8. Vidaus apdaila'!S39+'9. Išorės apdaila'!S39+'10. Šildymo sistema (vidaus)'!S39+'11. Šildymo sistema (lauko)'!S39+'12. Šaldymas ir oro kondiciona'!S39+'13. Ventiliacija'!S39+'14. Vandentiekio sistema (vida'!S39+'15. Vandentiekio sistema (lauk'!S39+'16. Nuotekų šalinimo sistema'!S39+'17. Nuotekų šalinimo sistema'!S39+'18. Elektros instaliacija (vid'!S39+'19. Elektros instaliacija (lau'!S39+'20. Dujos'!S39+'21. Apsaugos sistema'!S39+'22. Telekomunikacijos'!S39+'23. Gaisro gesinimo sistema'!S39+'24. Transportavimo sistema'!S39+'25. Lietaus surinkimo sistema'!S39+'Bendrosios pastato išlaidos'!L50)","v":0},{"$f":"SUM('1. Pamatai'!T39+'2. Perdangos'!T39+'3. Sienos'!T39+'4. Durys'!T39+'5. Langai'!T39+'6. Laiptai'!T39+'7. Stogas'!T39+'8. Vidaus apdaila'!T39+'9. Išorės apdaila'!T39+'10. Šildymo sistema (vidaus)'!T39+'11. Šildymo sistema (lauko)'!T39+'12. Šaldymas ir oro kondiciona'!T39+'13. Ventiliacija'!T39+'14. Vandentiekio sistema (vida'!T39+'15. Vandentiekio sistema (lauk'!T39+'16. Nuotekų šalinimo sistema'!T39+'17. Nuotekų šalinimo sistema'!T39+'18. Elektros instaliacija (vid'!T39+'19. Elektros instaliacija (lau'!T39+'20. Dujos'!T39+'21. Apsaugos sistema'!T39+'22. Telekomunikacijos'!T39+'23. Gaisro gesinimo sistema'!T39+'24. Transportavimo sistema'!T39+'25. Lietaus surinkimo sistema'!T39+'Bendrosios pastato išlaidos'!M50)","v":0},{"$f":"SUM('1. Pamatai'!U39+'2. Perdangos'!U39+'3. Sienos'!U39+'4. Durys'!U39+'5. Langai'!U39+'6. Laiptai'!U39+'7. Stogas'!U39+'8. Vidaus apdaila'!U39+'9. Išorės apdaila'!U39+'10. Šildymo sistema (vidaus)'!U39+'11. Šildymo sistema (lauko)'!U39+'12. Šaldymas ir oro kondiciona'!U39+'13. Ventiliacija'!U39+'14. Vandentiekio sistema (vida'!U39+'15. Vandentiekio sistema (lauk'!U39+'16. Nuotekų šalinimo sistema'!U39+'17. Nuotekų šalinimo sistema'!U39+'18. Elektros instaliacija (vid'!U39+'19. Elektros instaliacija (lau'!U39+'20. Dujos'!U39+'21. Apsaugos sistema'!U39+'22. Telekomunikacijos'!U39+'23. Gaisro gesinimo sistema'!U39+'24. Transportavimo sistema'!U39+'25. Lietaus surinkimo sistema'!U39+'Bendrosios pastato išlaidos'!N50)","v":0}]
[null,"D.6.2. Perdirbimo išlaidos",{"$f":"SUM(D53:OFFSET(D53,0,1000))","v":0},{"$f":"SUM('1. Pamatai'!M40+'2. Perdangos'!M40+'3. Sienos'!M40+'4. Durys'!M40+'5. Langai'!M40+'6. Laiptai'!M40+'7. Stogas'!M40+'8. Vidaus apdaila'!M40+'9. Išorės apdaila'!M40+'10. Šildymo sistema (vidaus)'!M40+'11. Šildymo sistema (lauko)'!M40+'12. Šaldymas ir oro kondiciona'!M40+'13. Ventiliacija'!M40+'14. Vandentiekio sistema (vida'!M40+'15. Vandentiekio sistema (lauk'!M40+'16. Nuotekų šalinimo sistema'!M40+'17. Nuotekų šalinimo sistema'!M40+'18. Elektros instaliacija (vid'!M40+'19. Elektros instaliacija (lau'!M40+'20. Dujos'!M40+'21. Apsaugos sistema'!M40+'22. Telekomunikacijos'!M40+'23. Gaisro gesinimo sistema'!M40+'24. Transportavimo sistema'!M40+'25. Lietaus surinkimo sistema'!M40+'Bendrosios pastato išlaidos'!F51)","v":0},{"$f":"SUM('1. Pamatai'!N40+'2. Perdangos'!N40+'3. Sienos'!N40+'4. Durys'!N40+'5. Langai'!N40+'6. Laiptai'!N40+'7. Stogas'!N40+'8. Vidaus apdaila'!N40+'9. Išorės apdaila'!N40+'10. Šildymo sistema (vidaus)'!N40+'11. Šildymo sistema (lauko)'!N40+'12. Šaldymas ir oro kondiciona'!N40+'13. Ventiliacija'!N40+'14. Vandentiekio sistema (vida'!N40+'15. Vandentiekio sistema (lauk'!N40+'16. Nuotekų šalinimo sistema'!N40+'17. Nuotekų šalinimo sistema'!N40+'18. Elektros instaliacija (vid'!N40+'19. Elektros instaliacija (lau'!N40+'20. Dujos'!N40+'21. Apsaugos sistema'!N40+'22. Telekomunikacijos'!N40+'23. Gaisro gesinimo sistema'!N40+'24. Transportavimo sistema'!N40+'25. Lietaus surinkimo sistema'!N40+'Bendrosios pastato išlaidos'!G51)","v":0},{"$f":"SUM('1. Pamatai'!O40+'2. Perdangos'!O40+'3. Sienos'!O40+'4. Durys'!O40+'5. Langai'!O40+'6. Laiptai'!O40+'7. Stogas'!O40+'8. Vidaus apdaila'!O40+'9. Išorės apdaila'!O40+'10. Šildymo sistema (vidaus)'!O40+'11. Šildymo sistema (lauko)'!O40+'12. Šaldymas ir oro kondiciona'!O40+'13. Ventiliacija'!O40+'14. Vandentiekio sistema (vida'!O40+'15. Vandentiekio sistema (lauk'!O40+'16. Nuotekų šalinimo sistema'!O40+'17. Nuotekų šalinimo sistema'!O40+'18. Elektros instaliacija (vid'!O40+'19. Elektros instaliacija (lau'!O40+'20. Dujos'!O40+'21. Apsaugos sistema'!O40+'22. Telekomunikacijos'!O40+'23. Gaisro gesinimo sistema'!O40+'24. Transportavimo sistema'!O40+'25. Lietaus surinkimo sistema'!O40+'Bendrosios pastato išlaidos'!H51)","v":0},{"$f":"SUM('1. Pamatai'!P40+'2. Perdangos'!P40+'3. Sienos'!P40+'4. Durys'!P40+'5. Langai'!P40+'6. Laiptai'!P40+'7. Stogas'!P40+'8. Vidaus apdaila'!P40+'9. Išorės apdaila'!P40+'10. Šildymo sistema (vidaus)'!P40+'11. Šildymo sistema (lauko)'!P40+'12. Šaldymas ir oro kondiciona'!P40+'13. Ventiliacija'!P40+'14. Vandentiekio sistema (vida'!P40+'15. Vandentiekio sistema (lauk'!P40+'16. Nuotekų šalinimo sistema'!P40+'17. Nuotekų šalinimo sistema'!P40+'18. Elektros instaliacija (vid'!P40+'19. Elektros instaliacija (lau'!P40+'20. Dujos'!P40+'21. Apsaugos sistema'!P40+'22. Telekomunikacijos'!P40+'23. Gaisro gesinimo sistema'!P40+'24. Transportavimo sistema'!P40+'25. Lietaus surinkimo sistema'!P40+'Bendrosios pastato išlaidos'!I51)","v":0},{"$f":"SUM('1. Pamatai'!Q40+'2. Perdangos'!Q40+'3. Sienos'!Q40+'4. Durys'!Q40+'5. Langai'!Q40+'6. Laiptai'!Q40+'7. Stogas'!Q40+'8. Vidaus apdaila'!Q40+'9. Išorės apdaila'!Q40+'10. Šildymo sistema (vidaus)'!Q40+'11. Šildymo sistema (lauko)'!Q40+'12. Šaldymas ir oro kondiciona'!Q40+'13. Ventiliacija'!Q40+'14. Vandentiekio sistema (vida'!Q40+'15. Vandentiekio sistema (lauk'!Q40+'16. Nuotekų šalinimo sistema'!Q40+'17. Nuotekų šalinimo sistema'!Q40+'18. Elektros instaliacija (vid'!Q40+'19. Elektros instaliacija (lau'!Q40+'20. Dujos'!Q40+'21. Apsaugos sistema'!Q40+'22. Telekomunikacijos'!Q40+'23. Gaisro gesinimo sistema'!Q40+'24. Transportavimo sistema'!Q40+'25. Lietaus surinkimo sistema'!Q40+'Bendrosios pastato išlaidos'!J51)","v":0},{"$f":"SUM('1. Pamatai'!R40+'2. Perdangos'!R40+'3. Sienos'!R40+'4. Durys'!R40+'5. Langai'!R40+'6. Laiptai'!R40+'7. Stogas'!R40+'8. Vidaus apdaila'!R40+'9. Išorės apdaila'!R40+'10. Šildymo sistema (vidaus)'!R40+'11. Šildymo sistema (lauko)'!R40+'12. Šaldymas ir oro kondiciona'!R40+'13. Ventiliacija'!R40+'14. Vandentiekio sistema (vida'!R40+'15. Vandentiekio sistema (lauk'!R40+'16. Nuotekų šalinimo sistema'!R40+'17. Nuotekų šalinimo sistema'!R40+'18. Elektros instaliacija (vid'!R40+'19. Elektros instaliacija (lau'!R40+'20. Dujos'!R40+'21. Apsaugos sistema'!R40+'22. Telekomunikacijos'!R40+'23. Gaisro gesinimo sistema'!R40+'24. Transportavimo sistema'!R40+'25. Lietaus surinkimo sistema'!R40+'Bendrosios pastato išlaidos'!K51)","v":0},{"$f":"SUM('1. Pamatai'!S40+'2. Perdangos'!S40+'3. Sienos'!S40+'4. Durys'!S40+'5. Langai'!S40+'6. Laiptai'!S40+'7. Stogas'!S40+'8. Vidaus apdaila'!S40+'9. Išorės apdaila'!S40+'10. Šildymo sistema (vidaus)'!S40+'11. Šildymo sistema (lauko)'!S40+'12. Šaldymas ir oro kondiciona'!S40+'13. Ventiliacija'!S40+'14. Vandentiekio sistema (vida'!S40+'15. Vandentiekio sistema (lauk'!S40+'16. Nuotekų šalinimo sistema'!S40+'17. Nuotekų šalinimo sistema'!S40+'18. Elektros instaliacija (vid'!S40+'19. Elektros instaliacija (lau'!S40+'20. Dujos'!S40+'21. Apsaugos sistema'!S40+'22. Telekomunikacijos'!S40+'23. Gaisro gesinimo sistema'!S40+'24. Transportavimo sistema'!S40+'25. Lietaus surinkimo sistema'!S40+'Bendrosios pastato išlaidos'!L51)","v":0},{"$f":"SUM('1. Pamatai'!T40+'2. Perdangos'!T40+'3. Sienos'!T40+'4. Durys'!T40+'5. Langai'!T40+'6. Laiptai'!T40+'7. Stogas'!T40+'8. Vidaus apdaila'!T40+'9. Išorės apdaila'!T40+'10. Šildymo sistema (vidaus)'!T40+'11. Šildymo sistema (lauko)'!T40+'12. Šaldymas ir oro kondiciona'!T40+'13. Ventiliacija'!T40+'14. Vandentiekio sistema (vida'!T40+'15. Vandentiekio sistema (lauk'!T40+'16. Nuotekų šalinimo sistema'!T40+'17. Nuotekų šalinimo sistema'!T40+'18. Elektros instaliacija (vid'!T40+'19. Elektros instaliacija (lau'!T40+'20. Dujos'!T40+'21. Apsaugos sistema'!T40+'22. Telekomunikacijos'!T40+'23. Gaisro gesinimo sistema'!T40+'24. Transportavimo sistema'!T40+'25. Lietaus surinkimo sistema'!T40+'Bendrosios pastato išlaidos'!M51)","v":0},{"$f":"SUM('1. Pamatai'!U40+'2. Perdangos'!U40+'3. Sienos'!U40+'4. Durys'!U40+'5. Langai'!U40+'6. Laiptai'!U40+'7. Stogas'!U40+'8. Vidaus apdaila'!U40+'9. Išorės apdaila'!U40+'10. Šildymo sistema (vidaus)'!U40+'11. Šildymo sistema (lauko)'!U40+'12. Šaldymas ir oro kondiciona'!U40+'13. Ventiliacija'!U40+'14. Vandentiekio sistema (vida'!U40+'15. Vandentiekio sistema (lauk'!U40+'16. Nuotekų šalinimo sistema'!U40+'17. Nuotekų šalinimo sistema'!U40+'18. Elektros instaliacija (vid'!U40+'19. Elektros instaliacija (lau'!U40+'20. Dujos'!U40+'21. Apsaugos sistema'!U40+'22. Telekomunikacijos'!U40+'23. Gaisro gesinimo sistema'!U40+'24. Transportavimo sistema'!U40+'25. Lietaus surinkimo sistema'!U40+'Bendrosios pastato išlaidos'!N51)","v":0}]
[null,"D.6.3. Turto išmontavimo (nugriovimo išlaidos)",{"$f":"SUM(D54:OFFSET(D54,0,1000))","v":0},{"$f":"SUM('1. Pamatai'!M41+'2. Perdangos'!M41+'3. Sienos'!M41+'4. Durys'!M41+'5. Langai'!M41+'6. Laiptai'!M41+'7. Stogas'!M41+'8. Vidaus apdaila'!M41+'9. Išorės apdaila'!M41+'10. Šildymo sistema (vidaus)'!M41+'11. Šildymo sistema (lauko)'!M41+'12. Šaldymas ir oro kondiciona'!M41+'13. Ventiliacija'!M41+'14. Vandentiekio sistema (vida'!M41+'15. Vandentiekio sistema (lauk'!M41+'16. Nuotekų šalinimo sistema'!M41+'17. Nuotekų šalinimo sistema'!M41+'18. Elektros instaliacija (vid'!M41+'19. Elektros instaliacija (lau'!M41+'20. Dujos'!M41+'21. Apsaugos sistema'!M41+'22. Telekomunikacijos'!M41+'23. Gaisro gesinimo sistema'!M41+'24. Transportavimo sistema'!M41+'25. Lietaus surinkimo sistema'!M41+'Bendrosios pastato išlaidos'!F52)","v":0},{"$f":"SUM('1. Pamatai'!N41+'2. Perdangos'!N41+'3. Sienos'!N41+'4. Durys'!N41+'5. Langai'!N41+'6. Laiptai'!N41+'7. Stogas'!N41+'8. Vidaus apdaila'!N41+'9. Išorės apdaila'!N41+'10. Šildymo sistema (vidaus)'!N41+'11. Šildymo sistema (lauko)'!N41+'12. Šaldymas ir oro kondiciona'!N41+'13. Ventiliacija'!N41+'14. Vandentiekio sistema (vida'!N41+'15. Vandentiekio sistema (lauk'!N41+'16. Nuotekų šalinimo sistema'!N41+'17. Nuotekų šalinimo sistema'!N41+'18. Elektros instaliacija (vid'!N41+'19. Elektros instaliacija (lau'!N41+'20. Dujos'!N41+'21. Apsaugos sistema'!N41+'22. Telekomunikacijos'!N41+'23. Gaisro gesinimo sistema'!N41+'24. Transportavimo sistema'!N41+'25. Lietaus surinkimo sistema'!N41+'Bendrosios pastato išlaidos'!G52)","v":0},{"$f":"SUM('1. Pamatai'!O41+'2. Perdangos'!O41+'3. Sienos'!O41+'4. Durys'!O41+'5. Langai'!O41+'6. Laiptai'!O41+'7. Stogas'!O41+'8. Vidaus apdaila'!O41+'9. Išorės apdaila'!O41+'10. Šildymo sistema (vidaus)'!O41+'11. Šildymo sistema (lauko)'!O41+'12. Šaldymas ir oro kondiciona'!O41+'13. Ventiliacija'!O41+'14. Vandentiekio sistema (vida'!O41+'15. Vandentiekio sistema (lauk'!O41+'16. Nuotekų šalinimo sistema'!O41+'17. Nuotekų šalinimo sistema'!O41+'18. Elektros instaliacija (vid'!O41+'19. Elektros instaliacija (lau'!O41+'20. Dujos'!O41+'21. Apsaugos sistema'!O41+'22. Telekomunikacijos'!O41+'23. Gaisro gesinimo sistema'!O41+'24. Transportavimo sistema'!O41+'25. Lietaus surinkimo sistema'!O41+'Bendrosios pastato išlaidos'!H52)","v":0},{"$f":"SUM('1. Pamatai'!P41+'2. Perdangos'!P41+'3. Sienos'!P41+'4. Durys'!P41+'5. Langai'!P41+'6. Laiptai'!P41+'7. Stogas'!P41+'8. Vidaus apdaila'!P41+'9. Išorės apdaila'!P41+'10. Šildymo sistema (vidaus)'!P41+'11. Šildymo sistema (lauko)'!P41+'12. Šaldymas ir oro kondiciona'!P41+'13. Ventiliacija'!P41+'14. Vandentiekio sistema (vida'!P41+'15. Vandentiekio sistema (lauk'!P41+'16. Nuotekų šalinimo sistema'!P41+'17. Nuotekų šalinimo sistema'!P41+'18. Elektros instaliacija (vid'!P41+'19. Elektros instaliacija (lau'!P41+'20. Dujos'!P41+'21. Apsaugos sistema'!P41+'22. Telekomunikacijos'!P41+'23. Gaisro gesinimo sistema'!P41+'24. Transportavimo sistema'!P41+'25. Lietaus surinkimo sistema'!P41+'Bendrosios pastato išlaidos'!I52)","v":0},{"$f":"SUM('1. Pamatai'!Q41+'2. Perdangos'!Q41+'3. Sienos'!Q41+'4. Durys'!Q41+'5. Langai'!Q41+'6. Laiptai'!Q41+'7. Stogas'!Q41+'8. Vidaus apdaila'!Q41+'9. Išorės apdaila'!Q41+'10. Šildymo sistema (vidaus)'!Q41+'11. Šildymo sistema (lauko)'!Q41+'12. Šaldymas ir oro kondiciona'!Q41+'13. Ventiliacija'!Q41+'14. Vandentiekio sistema (vida'!Q41+'15. Vandentiekio sistema (lauk'!Q41+'16. Nuotekų šalinimo sistema'!Q41+'17. Nuotekų šalinimo sistema'!Q41+'18. Elektros instaliacija (vid'!Q41+'19. Elektros instaliacija (lau'!Q41+'20. Dujos'!Q41+'21. Apsaugos sistema'!Q41+'22. Telekomunikacijos'!Q41+'23. Gaisro gesinimo sistema'!Q41+'24. Transportavimo sistema'!Q41+'25. Lietaus surinkimo sistema'!Q41+'Bendrosios pastato išlaidos'!J52)","v":0},{"$f":"SUM('1. Pamatai'!R41+'2. Perdangos'!R41+'3. Sienos'!R41+'4. Durys'!R41+'5. Langai'!R41+'6. Laiptai'!R41+'7. Stogas'!R41+'8. Vidaus apdaila'!R41+'9. Išorės apdaila'!R41+'10. Šildymo sistema (vidaus)'!R41+'11. Šildymo sistema (lauko)'!R41+'12. Šaldymas ir oro kondiciona'!R41+'13. Ventiliacija'!R41+'14. Vandentiekio sistema (vida'!R41+'15. Vandentiekio sistema (lauk'!R41+'16. Nuotekų šalinimo sistema'!R41+'17. Nuotekų šalinimo sistema'!R41+'18. Elektros instaliacija (vid'!R41+'19. Elektros instaliacija (lau'!R41+'20. Dujos'!R41+'21. Apsaugos sistema'!R41+'22. Telekomunikacijos'!R41+'23. Gaisro gesinimo sistema'!R41+'24. Transportavimo sistema'!R41+'25. Lietaus surinkimo sistema'!R41+'Bendrosios pastato išlaidos'!K52)","v":0},{"$f":"SUM('1. Pamatai'!S41+'2. Perdangos'!S41+'3. Sienos'!S41+'4. Durys'!S41+'5. Langai'!S41+'6. Laiptai'!S41+'7. Stogas'!S41+'8. Vidaus apdaila'!S41+'9. Išorės apdaila'!S41+'10. Šildymo sistema (vidaus)'!S41+'11. Šildymo sistema (lauko)'!S41+'12. Šaldymas ir oro kondiciona'!S41+'13. Ventiliacija'!S41+'14. Vandentiekio sistema (vida'!S41+'15. Vandentiekio sistema (lauk'!S41+'16. Nuotekų šalinimo sistema'!S41+'17. Nuotekų šalinimo sistema'!S41+'18. Elektros instaliacija (vid'!S41+'19. Elektros instaliacija (lau'!S41+'20. Dujos'!S41+'21. Apsaugos sistema'!S41+'22. Telekomunikacijos'!S41+'23. Gaisro gesinimo sistema'!S41+'24. Transportavimo sistema'!S41+'25. Lietaus surinkimo sistema'!S41+'Bendrosios pastato išlaidos'!L52)","v":0},{"$f":"SUM('1. Pamatai'!T41+'2. Perdangos'!T41+'3. Sienos'!T41+'4. Durys'!T41+'5. Langai'!T41+'6. Laiptai'!T41+'7. Stogas'!T41+'8. Vidaus apdaila'!T41+'9. Išorės apdaila'!T41+'10. Šildymo sistema (vidaus)'!T41+'11. Šildymo sistema (lauko)'!T41+'12. Šaldymas ir oro kondiciona'!T41+'13. Ventiliacija'!T41+'14. Vandentiekio sistema (vida'!T41+'15. Vandentiekio sistema (lauk'!T41+'16. Nuotekų šalinimo sistema'!T41+'17. Nuotekų šalinimo sistema'!T41+'18. Elektros instaliacija (vid'!T41+'19. Elektros instaliacija (lau'!T41+'20. Dujos'!T41+'21. Apsaugos sistema'!T41+'22. Telekomunikacijos'!T41+'23. Gaisro gesinimo sistema'!T41+'24. Transportavimo sistema'!T41+'25. Lietaus surinkimo sistema'!T41+'Bendrosios pastato išlaidos'!M52)","v":0},{"$f":"SUM('1. Pamatai'!U41+'2. Perdangos'!U41+'3. Sienos'!U41+'4. Durys'!U41+'5. Langai'!U41+'6. Laiptai'!U41+'7. Stogas'!U41+'8. Vidaus apdaila'!U41+'9. Išorės apdaila'!U41+'10. Šildymo sistema (vidaus)'!U41+'11. Šildymo sistema (lauko)'!U41+'12. Šaldymas ir oro kondiciona'!U41+'13. Ventiliacija'!U41+'14. Vandentiekio sistema (vida'!U41+'15. Vandentiekio sistema (lauk'!U41+'16. Nuotekų šalinimo sistema'!U41+'17. Nuotekų šalinimo sistema'!U41+'18. Elektros instaliacija (vid'!U41+'19. Elektros instaliacija (lau'!U41+'20. Dujos'!U41+'21. Apsaugos sistema'!U41+'22. Telekomunikacijos'!U41+'23. Gaisro gesinimo sistema'!U41+'24. Transportavimo sistema'!U41+'25. Lietaus surinkimo sistema'!U41+'Bendrosios pastato išlaidos'!N52)","v":0}]
[null,"D.7. Kitos išlaidos",{"$f":"SUM(D55:OFFSET(D55,0,1000))","v":0},{"$f":"SUM('1. Pamatai'!M42+'2. Perdangos'!M42+'3. Sienos'!M42+'4. Durys'!M42+'5. Langai'!M42+'6. Laiptai'!M42+'7. Stogas'!M42+'8. Vidaus apdaila'!M42+'9. Išorės apdaila'!M42+'10. Šildymo sistema (vidaus)'!M42+'11. Šildymo sistema (lauko)'!M42+'12. Šaldymas ir oro kondiciona'!M42+'13. Ventiliacija'!M42+'14. Vandentiekio sistema (vida'!M42+'15. Vandentiekio sistema (lauk'!M42+'16. Nuotekų šalinimo sistema'!M42+'17. Nuotekų šalinimo sistema'!M42+'18. Elektros instaliacija (vid'!M42+'19. Elektros instaliacija (lau'!M42+'20. Dujos'!M42+'21. Apsaugos sistema'!M42+'22. Telekomunikacijos'!M42+'23. Gaisro gesinimo sistema'!M42+'24. Transportavimo sistema'!M42+'25. Lietaus surinkimo sistema'!M42+'Bendrosios pastato išlaidos'!F53)","v":0},{"$f":"SUM('1. Pamatai'!N42+'2. Perdangos'!N42+'3. Sienos'!N42+'4. Durys'!N42+'5. Langai'!N42+'6. Laiptai'!N42+'7. Stogas'!N42+'8. Vidaus apdaila'!N42+'9. Išorės apdaila'!N42+'10. Šildymo sistema (vidaus)'!N42+'11. Šildymo sistema (lauko)'!N42+'12. Šaldymas ir oro kondiciona'!N42+'13. Ventiliacija'!N42+'14. Vandentiekio sistema (vida'!N42+'15. Vandentiekio sistema (lauk'!N42+'16. Nuotekų šalinimo sistema'!N42+'17. Nuotekų šalinimo sistema'!N42+'18. Elektros instaliacija (vid'!N42+'19. Elektros instaliacija (lau'!N42+'20. Dujos'!N42+'21. Apsaugos sistema'!N42+'22. Telekomunikacijos'!N42+'23. Gaisro gesinimo sistema'!N42+'24. Transportavimo sistema'!N42+'25. Lietaus surinkimo sistema'!N42+'Bendrosios pastato išlaidos'!G53)","v":0},{"$f":"SUM('1. Pamatai'!O42+'2. Perdangos'!O42+'3. Sienos'!O42+'4. Durys'!O42+'5. Langai'!O42+'6. Laiptai'!O42+'7. Stogas'!O42+'8. Vidaus apdaila'!O42+'9. Išorės apdaila'!O42+'10. Šildymo sistema (vidaus)'!O42+'11. Šildymo sistema (lauko)'!O42+'12. Šaldymas ir oro kondiciona'!O42+'13. Ventiliacija'!O42+'14. Vandentiekio sistema (vida'!O42+'15. Vandentiekio sistema (lauk'!O42+'16. Nuotekų šalinimo sistema'!O42+'17. Nuotekų šalinimo sistema'!O42+'18. Elektros instaliacija (vid'!O42+'19. Elektros instaliacija (lau'!O42+'20. Dujos'!O42+'21. Apsaugos sistema'!O42+'22. Telekomunikacijos'!O42+'23. Gaisro gesinimo sistema'!O42+'24. Transportavimo sistema'!O42+'25. Lietaus surinkimo sistema'!O42+'Bendrosios pastato išlaidos'!H53)","v":0},{"$f":"SUM('1. Pamatai'!P42+'2. Perdangos'!P42+'3. Sienos'!P42+'4. Durys'!P42+'5. Langai'!P42+'6. Laiptai'!P42+'7. Stogas'!P42+'8. Vidaus apdaila'!P42+'9. Išorės apdaila'!P42+'10. Šildymo sistema (vidaus)'!P42+'11. Šildymo sistema (lauko)'!P42+'12. Šaldymas ir oro kondiciona'!P42+'13. Ventiliacija'!P42+'14. Vandentiekio sistema (vida'!P42+'15. Vandentiekio sistema (lauk'!P42+'16. Nuotekų šalinimo sistema'!P42+'17. Nuotekų šalinimo sistema'!P42+'18. Elektros instaliacija (vid'!P42+'19. Elektros instaliacija (lau'!P42+'20. Dujos'!P42+'21. Apsaugos sistema'!P42+'22. Telekomunikacijos'!P42+'23. Gaisro gesinimo sistema'!P42+'24. Transportavimo sistema'!P42+'25. Lietaus surinkimo sistema'!P42+'Bendrosios pastato išlaidos'!I53)","v":0},{"$f":"SUM('1. Pamatai'!Q42+'2. Perdangos'!Q42+'3. Sienos'!Q42+'4. Durys'!Q42+'5. Langai'!Q42+'6. Laiptai'!Q42+'7. Stogas'!Q42+'8. Vidaus apdaila'!Q42+'9. Išorės apdaila'!Q42+'10. Šildymo sistema (vidaus)'!Q42+'11. Šildymo sistema (lauko)'!Q42+'12. Šaldymas ir oro kondiciona'!Q42+'13. Ventiliacija'!Q42+'14. Vandentiekio sistema (vida'!Q42+'15. Vandentiekio sistema (lauk'!Q42+'16. Nuotekų šalinimo sistema'!Q42+'17. Nuotekų šalinimo sistema'!Q42+'18. Elektros instaliacija (vid'!Q42+'19. Elektros instaliacija (lau'!Q42+'20. Dujos'!Q42+'21. Apsaugos sistema'!Q42+'22. Telekomunikacijos'!Q42+'23. Gaisro gesinimo sistema'!Q42+'24. Transportavimo sistema'!Q42+'25. Lietaus surinkimo sistema'!Q42+'Bendrosios pastato išlaidos'!J53)","v":0},{"$f":"SUM('1. Pamatai'!R42+'2. Perdangos'!R42+'3. Sienos'!R42+'4. Durys'!R42+'5. Langai'!R42+'6. Laiptai'!R42+'7. Stogas'!R42+'8. Vidaus apdaila'!R42+'9. Išorės apdaila'!R42+'10. Šildymo sistema (vidaus)'!R42+'11. Šildymo sistema (lauko)'!R42+'12. Šaldymas ir oro kondiciona'!R42+'13. Ventiliacija'!R42+'14. Vandentiekio sistema (vida'!R42+'15. Vandentiekio sistema (lauk'!R42+'16. Nuotekų šalinimo sistema'!R42+'17. Nuotekų šalinimo sistema'!R42+'18. Elektros instaliacija (vid'!R42+'19. Elektros instaliacija (lau'!R42+'20. Dujos'!R42+'21. Apsaugos sistema'!R42+'22. Telekomunikacijos'!R42+'23. Gaisro gesinimo sistema'!R42+'24. Transportavimo sistema'!R42+'25. Lietaus surinkimo sistema'!R42+'Bendrosios pastato išlaidos'!K53)","v":0},{"$f":"SUM('1. Pamatai'!S42+'2. Perdangos'!S42+'3. Sienos'!S42+'4. Durys'!S42+'5. Langai'!S42+'6. Laiptai'!S42+'7. Stogas'!S42+'8. Vidaus apdaila'!S42+'9. Išorės apdaila'!S42+'10. Šildymo sistema (vidaus)'!S42+'11. Šildymo sistema (lauko)'!S42+'12. Šaldymas ir oro kondiciona'!S42+'13. Ventiliacija'!S42+'14. Vandentiekio sistema (vida'!S42+'15. Vandentiekio sistema (lauk'!S42+'16. Nuotekų šalinimo sistema'!S42+'17. Nuotekų šalinimo sistema'!S42+'18. Elektros instaliacija (vid'!S42+'19. Elektros instaliacija (lau'!S42+'20. Dujos'!S42+'21. Apsaugos sistema'!S42+'22. Telekomunikacijos'!S42+'23. Gaisro gesinimo sistema'!S42+'24. Transportavimo sistema'!S42+'25. Lietaus surinkimo sistema'!S42+'Bendrosios pastato išlaidos'!L53)","v":0},{"$f":"SUM('1. Pamatai'!T42+'2. Perdangos'!T42+'3. Sienos'!T42+'4. Durys'!T42+'5. Langai'!T42+'6. Laiptai'!T42+'7. Stogas'!T42+'8. Vidaus apdaila'!T42+'9. Išorės apdaila'!T42+'10. Šildymo sistema (vidaus)'!T42+'11. Šildymo sistema (lauko)'!T42+'12. Šaldymas ir oro kondiciona'!T42+'13. Ventiliacija'!T42+'14. Vandentiekio sistema (vida'!T42+'15. Vandentiekio sistema (lauk'!T42+'16. Nuotekų šalinimo sistema'!T42+'17. Nuotekų šalinimo sistema'!T42+'18. Elektros instaliacija (vid'!T42+'19. Elektros instaliacija (lau'!T42+'20. Dujos'!T42+'21. Apsaugos sistema'!T42+'22. Telekomunikacijos'!T42+'23. Gaisro gesinimo sistema'!T42+'24. Transportavimo sistema'!T42+'25. Lietaus surinkimo sistema'!T42+'Bendrosios pastato išlaidos'!M53)","v":0},{"$f":"SUM('1. Pamatai'!U42+'2. Perdangos'!U42+'3. Sienos'!U42+'4. Durys'!U42+'5. Langai'!U42+'6. Laiptai'!U42+'7. Stogas'!U42+'8. Vidaus apdaila'!U42+'9. Išorės apdaila'!U42+'10. Šildymo sistema (vidaus)'!U42+'11. Šildymo sistema (lauko)'!U42+'12. Šaldymas ir oro kondiciona'!U42+'13. Ventiliacija'!U42+'14. Vandentiekio sistema (vida'!U42+'15. Vandentiekio sistema (lauk'!U42+'16. Nuotekų šalinimo sistema'!U42+'17. Nuotekų šalinimo sistema'!U42+'18. Elektros instaliacija (vid'!U42+'19. Elektros instaliacija (lau'!U42+'20. Dujos'!U42+'21. Apsaugos sistema'!U42+'22. Telekomunikacijos'!U42+'23. Gaisro gesinimo sistema'!U42+'24. Transportavimo sistema'!U42+'25. Lietaus surinkimo sistema'!U42+'Bendrosios pastato išlaidos'!N53)","v":0}]
[null,"D'. Veiklos išlaidos pagal pildančios institucijos numatytas palaikymo apimtis",{"$f":"SUM(D56:OFFSET(D56,0,1000))","v":0},{"$f":"SUM('1. Pamatai'!M43+'2. Perdangos'!M43+'3. Sienos'!M43+'4. Durys'!M43+'5. Langai'!M43+'6. Laiptai'!M43+'7. Stogas'!M43+'8. Vidaus apdaila'!M43+'9. Išorės apdaila'!M43+'10. Šildymo sistema (vidaus)'!M43+'11. Šildymo sistema (lauko)'!M43+'12. Šaldymas ir oro kondiciona'!M43+'13. Ventiliacija'!M43+'14. Vandentiekio sistema (vida'!M43+'15. Vandentiekio sistema (lauk'!M43+'16. Nuotekų šalinimo sistema'!M43+'17. Nuotekų šalinimo sistema'!M43+'18. Elektros instaliacija (vid'!M43+'19. Elektros instaliacija (lau'!M43+'20. Dujos'!M43+'21. Apsaugos sistema'!M43+'22. Telekomunikacijos'!M43+'23. Gaisro gesinimo sistema'!M43+'24. Transportavimo sistema'!M43+'25. Lietaus surinkimo sistema'!M43)","v":0},{"$f":"SUM('1. Pamatai'!N43+'2. Perdangos'!N43+'3. Sienos'!N43+'4. Durys'!N43+'5. Langai'!N43+'6. Laiptai'!N43+'7. Stogas'!N43+'8. Vidaus apdaila'!N43+'9. Išorės apdaila'!N43+'10. Šildymo sistema (vidaus)'!N43+'11. Šildymo sistema (lauko)'!N43+'12. Šaldymas ir oro kondiciona'!N43+'13. Ventiliacija'!N43+'14. Vandentiekio sistema (vida'!N43+'15. Vandentiekio sistema (lauk'!N43+'16. Nuotekų šalinimo sistema'!N43+'17. Nuotekų šalinimo sistema'!N43+'18. Elektros instaliacija (vid'!N43+'19. Elektros instaliacija (lau'!N43+'20. Dujos'!N43+'21. Apsaugos sistema'!N43+'22. Telekomunikacijos'!N43+'23. Gaisro gesinimo sistema'!N43+'24. Transportavimo sistema'!N43+'25. Lietaus surinkimo sistema'!N43)","v":0},{"$f":"SUM('1. Pamatai'!O43+'2. Perdangos'!O43+'3. Sienos'!O43+'4. Durys'!O43+'5. Langai'!O43+'6. Laiptai'!O43+'7. Stogas'!O43+'8. Vidaus apdaila'!O43+'9. Išorės apdaila'!O43+'10. Šildymo sistema (vidaus)'!O43+'11. Šildymo sistema (lauko)'!O43+'12. Šaldymas ir oro kondiciona'!O43+'13. Ventiliacija'!O43+'14. Vandentiekio sistema (vida'!O43+'15. Vandentiekio sistema (lauk'!O43+'16. Nuotekų šalinimo sistema'!O43+'17. Nuotekų šalinimo sistema'!O43+'18. Elektros instaliacija (vid'!O43+'19. Elektros instaliacija (lau'!O43+'20. Dujos'!O43+'21. Apsaugos sistema'!O43+'22. Telekomunikacijos'!O43+'23. Gaisro gesinimo sistema'!O43+'24. Transportavimo sistema'!O43+'25. Lietaus surinkimo sistema'!O43)","v":0},{"$f":"SUM('1. Pamatai'!P43+'2. Perdangos'!P43+'3. Sienos'!P43+'4. Durys'!P43+'5. Langai'!P43+'6. Laiptai'!P43+'7. Stogas'!P43+'8. Vidaus apdaila'!P43+'9. Išorės apdaila'!P43+'10. Šildymo sistema (vidaus)'!P43+'11. Šildymo sistema (lauko)'!P43+'12. Šaldymas ir oro kondiciona'!P43+'13. Ventiliacija'!P43+'14. Vandentiekio sistema (vida'!P43+'15. Vandentiekio sistema (lauk'!P43+'16. Nuotekų šalinimo sistema'!P43+'17. Nuotekų šalinimo sistema'!P43+'18. Elektros instaliacija (vid'!P43+'19. Elektros instaliacija (lau'!P43+'20. Dujos'!P43+'21. Apsaugos sistema'!P43+'22. Telekomunikacijos'!P43+'23. Gaisro gesinimo sistema'!P43+'24. Transportavimo sistema'!P43+'25. Lietaus surinkimo sistema'!P43)","v":0},{"$f":"SUM('1. Pamatai'!Q43+'2. Perdangos'!Q43+'3. Sienos'!Q43+'4. Durys'!Q43+'5. Langai'!Q43+'6. Laiptai'!Q43+'7. Stogas'!Q43+'8. Vidaus apdaila'!Q43+'9. Išorės apdaila'!Q43+'10. Šildymo sistema (vidaus)'!Q43+'11. Šildymo sistema (lauko)'!Q43+'12. Šaldymas ir oro kondiciona'!Q43+'13. Ventiliacija'!Q43+'14. Vandentiekio sistema (vida'!Q43+'15. Vandentiekio sistema (lauk'!Q43+'16. Nuotekų šalinimo sistema'!Q43+'17. Nuotekų šalinimo sistema'!Q43+'18. Elektros instaliacija (vid'!Q43+'19. Elektros instaliacija (lau'!Q43+'20. Dujos'!Q43+'21. Apsaugos sistema'!Q43+'22. Telekomunikacijos'!Q43+'23. Gaisro gesinimo sistema'!Q43+'24. Transportavimo sistema'!Q43+'25. Lietaus surinkimo sistema'!Q43)","v":0},{"$f":"SUM('1. Pamatai'!R43+'2. Perdangos'!R43+'3. Sienos'!R43+'4. Durys'!R43+'5. Langai'!R43+'6. Laiptai'!R43+'7. Stogas'!R43+'8. Vidaus apdaila'!R43+'9. Išorės apdaila'!R43+'10. Šildymo sistema (vidaus)'!R43+'11. Šildymo sistema (lauko)'!R43+'12. Šaldymas ir oro kondiciona'!R43+'13. Ventiliacija'!R43+'14. Vandentiekio sistema (vida'!R43+'15. Vandentiekio sistema (lauk'!R43+'16. Nuotekų šalinimo sistema'!R43+'17. Nuotekų šalinimo sistema'!R43+'18. Elektros instaliacija (vid'!R43+'19. Elektros instaliacija (lau'!R43+'20. Dujos'!R43+'21. Apsaugos sistema'!R43+'22. Telekomunikacijos'!R43+'23. Gaisro gesinimo sistema'!R43+'24. Transportavimo sistema'!R43+'25. Lietaus surinkimo sistema'!R43)","v":0},{"$f":"SUM('1. Pamatai'!S43+'2. Perdangos'!S43+'3. Sienos'!S43+'4. Durys'!S43+'5. Langai'!S43+'6. Laiptai'!S43+'7. Stogas'!S43+'8. Vidaus apdaila'!S43+'9. Išorės apdaila'!S43+'10. Šildymo sistema (vidaus)'!S43+'11. Šildymo sistema (lauko)'!S43+'12. Šaldymas ir oro kondiciona'!S43+'13. Ventiliacija'!S43+'14. Vandentiekio sistema (vida'!S43+'15. Vandentiekio sistema (lauk'!S43+'16. Nuotekų šalinimo sistema'!S43+'17. Nuotekų šalinimo sistema'!S43+'18. Elektros instaliacija (vid'!S43+'19. Elektros instaliacija (lau'!S43+'20. Dujos'!S43+'21. Apsaugos sistema'!S43+'22. Telekomunikacijos'!S43+'23. Gaisro gesinimo sistema'!S43+'24. Transportavimo sistema'!S43+'25. Lietaus surinkimo sistema'!S43)","v":0},{"$f":"SUM('1. Pamatai'!T43+'2. Perdangos'!T43+'3. Sienos'!T43+'4. Durys'!T43+'5. Langai'!T43+'6. Laiptai'!T43+'7. Stogas'!T43+'8. Vidaus apdaila'!T43+'9. Išorės apdaila'!T43+'10. Šildymo sistema (vidaus)'!T43+'11. Šildymo sistema (lauko)'!T43+'12. Šaldymas ir oro kondiciona'!T43+'13. Ventiliacija'!T43+'14. Vandentiekio sistema (vida'!T43+'15. Vandentiekio sistema (lauk'!T43+'16. Nuotekų šalinimo sistema'!T43+'17. Nuotekų šalinimo sistema'!T43+'18. Elektros instaliacija (vid'!T43+'19. Elektros instaliacija (lau'!T43+'20. Dujos'!T43+'21. Apsaugos sistema'!T43+'22. Telekomunikacijos'!T43+'23. Gaisro gesinimo sistema'!T43+'24. Transportavimo sistema'!T43+'25. Lietaus surinkimo sistema'!T43)","v":0},{"$f":"SUM('1. Pamatai'!U43+'2. Perdangos'!U43+'3. Sienos'!U43+'4. Durys'!U43+'5. Langai'!U43+'6. Laiptai'!U43+'7. Stogas'!U43+'8. Vidaus apdaila'!U43+'9. Išorės apdaila'!U43+'10. Šildymo sistema (vidaus)'!U43+'11. Šildymo sistema (lauko)'!U43+'12. Šaldymas ir oro kondiciona'!U43+'13. Ventiliacija'!U43+'14. Vandentiekio sistema (vida'!U43+'15. Vandentiekio sistema (lauk'!U43+'16. Nuotekų šalinimo sistema'!U43+'17. Nuotekų šalinimo sistema'!U43+'18. Elektros instaliacija (vid'!U43+'19. Elektros instaliacija (lau'!U43+'20. Dujos'!U43+'21. Apsaugos sistema'!U43+'22. Telekomunikacijos'!U43+'23. Gaisro gesinimo sistema'!U43+'24. Transportavimo sistema'!U43+'25. Lietaus surinkimo sistema'!U43)","v":0}]
[null,"E. Gautų paskolų palūkanos",{"$f":"SUM(D57:OFFSET(D57,0,1000))","v":0},{"$f":"'Bendrosios pastato išlaidos'!F54","v":0},{"$f":"'Bendrosios pastato išlaidos'!G54","v":0},{"$f":"'Bendrosios pastato išlaidos'!H54","v":0},{"$f":"'Bendrosios pastato išlaidos'!I54","v":0},{"$f":"'Bendrosios pastato išlaidos'!J54","v":0},{"$f":"'Bendrosios pastato išlaidos'!K54","v":0},{"$f":"'Bendrosios pastato išlaidos'!L54","v":0},{"$f":"'Bendrosios pastato išlaidos'!M54","v":0},{"$f":"'Bendrosios pastato išlaidos'!N54","v":0}]
[null,"F. Mokesčiai",{"$f":"SUM(C59:C61)","v":0},0,0,0,0,0,0,0,0,0]
[null,"F.1. Bendra importo/pirkimo PVM suma",{"$f":"SUM(D59:OFFSET(D59,0,1000))","v":0},{"$f":"'Bendrosios pastato išlaidos'!F56","v":0},{"$f":"'Bendrosios pastato išlaidos'!G56","v":0},{"$f":"'Bendrosios pastato išlaidos'!H56","v":0},{"$f":"'Bendrosios pastato išlaidos'!I56","v":0},{"$f":"'Bendrosios pastato išlaidos'!J56","v":0},{"$f":"'Bendrosios pastato išlaidos'!K56","v":0},{"$f":"'Bendrosios pastato išlaidos'!L56","v":0},{"$f":"'Bendrosios pastato išlaidos'!M56","v":0},{"$f":"'Bendrosios pastato išlaidos'!N56","v":0}]
[null,"F.2. Bendra pardavimo PVM suma",{"$f":"SUM(D60:OFFSET(D60,0,1000))","v":0},{"$f":"'Bendrosios pastato išlaidos'!F57","v":0},{"$f":"'Bendrosios pastato išlaidos'!G57","v":0},{"$f":"'Bendrosios pastato išlaidos'!H57","v":0},{"$f":"'Bendrosios pastato išlaidos'!I57","v":0},{"$f":"'Bendrosios pastato išlaidos'!J57","v":0},{"$f":"'Bendrosios pastato išlaidos'!K57","v":0},{"$f":"'Bendrosios pastato išlaidos'!L57","v":0},{"$f":"'Bendrosios pastato išlaidos'!M57","v":0},{"$f":"'Bendrosios pastato išlaidos'!N57","v":0}]
[null,"F.3. Bendra kitų mokėtinų netiesioginių mokesčių suma",{"$f":"SUM(D61:OFFSET(D61,0,1000))","v":0},{"$f":"'Bendrosios pastato išlaidos'!F58","v":0},{"$f":"'Bendrosios pastato išlaidos'!G58","v":0},{"$f":"'Bendrosios pastato išlaidos'!H58","v":0},{"$f":"'Bendrosios pastato išlaidos'!I58","v":0},{"$f":"'Bendrosios pastato išlaidos'!J58","v":0},{"$f":"'Bendrosios pastato išlaidos'!K58","v":0},{"$f":"'Bendrosios pastato išlaidos'!L58","v":0},{"$f":"'Bendrosios pastato išlaidos'!M58","v":0},{"$f":"'Bendrosios pastato išlaidos'!N58","v":0}]
[null,"Iš viso, laikantis rinkoje taikomų eksploatavimo apimčių (D + E + E)",{"$f":"C24+C57+C58","v":0},0,0,0,0,0,0,0,0,0]
[null,"Iš viso, pagal pildančios institucijos numatytas palaikymo apimtis (D' + E + F)",{"$f":"C56+C57+C58","v":0},0,0,0,0,0,0,0,0,0]
[]
[null,"GCS (pinigų srautai) be išorinių socialinių - ekonominių išlaidų","Iš viso, EUR",{"$f":"YEAR('Bendrieji įvesties duomenys'!$C$6)+COLUMN(C65)-3","v":2019},{"$f":"YEAR('Bendrieji įvesties duomenys'!$C$6)+COLUMN(D65)-3","v":2020},{"$f":"YEAR('Bendrieji įvesties duomenys'!$C$6)+COLUMN(E65)-3","v":2021},{"$f":"YEAR('Bendrieji įvesties duomenys'!$C$6)+COLUMN(F65)-3","v":2022},{"$f":"YEAR('Bendrieji įvesties duomenys'!$C$6)+COLUMN(G65)-3","v":2023},{"$f":"YEAR('Bendrieji įvesties duomenys'!$C$6)+COLUMN(H65)-3","v":2024},{"$f":"YEAR('Bendrieji įvesties duomenys'!$C$6)+COLUMN(I65)-3","v":2025},{"$f":"YEAR('Bendrieji įvesties duomenys'!$C$6)+COLUMN(J65)-3","v":2026},{"$f":"YEAR('Bendrieji įvesties duomenys'!$C$6)+COLUMN(K65)-3","v":2027}]
[]
[null,"GCS, laikantis rinkoje taikomų eksploatavimo apimčių ",{"$f":"SUM(D67:OFFSET(D67,0,100))","v":0},{"$f":"ABS(-(D10+D11+D18)-D62)","v":0},0,0,0,0,0,0,0,0]
[null,"GCS pagal pildančios institucijos numatytas palaikymo apimtis ",{"$f":"SUM(D68:OFFSET(D68,0,100))","v":0},{"$f":"ABS(-(D10+D11+D18)-D63)","v":0},0,0,0,0,0,0,0,0]
[null,"Taikoma reali finansinė diskonto norma",{"$f":"IF(C65=$C$65,'Bendrieji įvesties duomenys'!$C$35,\"\")","v":0.04}]
[null,"GCS grynoji dabartinė vertė, laikantis rinkoje taikomų eksploatavimo apimčių",{"$f":"IF(C65=$C$65,NPV($C$69,D67:OFFSET(D67,0,1000))+C19/((1+$C$69)^'Elementų tarnavimo trukmė'!$O$7),\"\")","v":0}]
[null,"GCS grynoji dabartinė vertė, pagal pildančios institucijos numatytas palaikymo apimtis ",{"$f":"IF(C65=$C$65,NPV($C$69,D68:OFFSET(D68,0,1000))+C19/((1+$C$69)^'Elementų tarnavimo trukmė'!$O$7),\"\")","v":0}]
[]
[null,"Išorinės socialinės - ekonominės išlaidos","Iš viso, EUR",{"$f":"YEAR('Bendrieji įvesties duomenys'!$C$6)+COLUMN(C73)-3","v":2019},{"$f":"YEAR('Bendrieji įvesties duomenys'!$C$6)+COLUMN(D73)-3","v":2020},{"$f":"YEAR('Bendrieji įvesties duomenys'!$C$6)+COLUMN(E73)-3","v":2021},{"$f":"YEAR('Bendrieji įvesties duomenys'!$C$6)+COLUMN(F73)-3","v":2022},{"$f":"YEAR('Bendrieji įvesties duomenys'!$C$6)+COLUMN(G73)-3","v":2023},{"$f":"YEAR('Bendrieji įvesties duomenys'!$C$6)+COLUMN(H73)-3","v":2024},{"$f":"YEAR('Bendrieji įvesties duomenys'!$C$6)+COLUMN(I73)-3","v":2025},{"$f":"YEAR('Bendrieji įvesties duomenys'!$C$6)+COLUMN(J73)-3","v":2026},{"$f":"YEAR('Bendrieji įvesties duomenys'!$C$6)+COLUMN(K73)-3","v":2027}]
[]
[null,"Išorės išlaidos",{"$f":"SUM(D75:OFFSET(D75,0,1000))","v":0},{"$f":"'Bendrosios pastato išlaidos'!F67","v":0},{"$f":"'Bendrosios pastato išlaidos'!G67","v":0},{"$f":"'Bendrosios pastato išlaidos'!H67","v":0},{"$f":"'Bendrosios pastato išlaidos'!I67","v":0},{"$f":"'Bendrosios pastato išlaidos'!J67","v":0},{"$f":"'Bendrosios pastato išlaidos'!K67","v":0},{"$f":"'Bendrosios pastato išlaidos'!L67","v":0},{"$f":"'Bendrosios pastato išlaidos'!M67","v":0},{"$f":"'Bendrosios pastato išlaidos'!N67","v":0}]
[]
[null,"GCS (pinigų srautai) su išorinėmis socialinėmis - ekonominėmis išlaidomis","Iš viso, EUR",{"$f":"YEAR('Bendrieji įvesties duomenys'!$C$6)+COLUMN(C77)-3","v":2019},{"$f":"YEAR('Bendrieji įvesties duomenys'!$C$6)+COLUMN(D77)-3","v":2020},{"$f":"YEAR('Bendrieji įvesties duomenys'!$C$6)+COLUMN(E77)-3","v":2021},{"$f":"YEAR('Bendrieji įvesties duomenys'!$C$6)+COLUMN(F77)-3","v":2022},{"$f":"YEAR('Bendrieji įvesties duomenys'!$C$6)+COLUMN(G77)-3","v":2023},{"$f":"YEAR('Bendrieji įvesties duomenys'!$C$6)+COLUMN(H77)-3","v":2024},{"$f":"YEAR('Bendrieji įvesties duomenys'!$C$6)+COLUMN(I77)-3","v":2025},{"$f":"YEAR('Bendrieji įvesties duomenys'!$C$6)+COLUMN(J77)-3","v":2026},{"$f":"YEAR('Bendrieji įvesties duomenys'!$C$6)+COLUMN(K77)-3","v":2027}]
[]
[null,"GCS, laikantis rinkoje taikomų eksploatavimo apimčių ",{"$f":"SUM(D79:OFFSET(D79,0,100))","v":0},{"$f":"ABS(-(D10+D11+D18)-D62-D75)","v":0},0,0,0,0,0,0,0,0]
[null,"GCS pagal pildančios institucijos numatytas palaikymo apimtis ",{"$f":"SUM(D80:OFFSET(D80,0,100))","v":0},{"$f":"ABS(-(D10+D11+D18)-D63-D75)","v":0},0,0,0,0,0,0,0,0]
[null,"Taikoma socialinė diskonto norma",{"$f":"IF(C77=$C$77,'Bendrieji įvesties duomenys'!$C$37,\"\")","v":0.05}]
[null,"GCS grynoji dabartinė vertė, laikantis rinkoje taikomų eksploatavimo apimčių (su išorinėmis išlaidomis)",{"$f":"IF(C77=$C$77,NPV($C$81,D79:OFFSET(D79,0,1000))+C19/(1+$C$81)^'Elementų tarnavimo trukmė'!$O$7,\"\")","v":0},{"$f":"IF(D65=$C$65,NPV($C$81,#REF!:OFFSET(#REF!,0,100)),\"\")","v":""},{"$f":"IF(E65=$C$65,NPV($C$81,#REF!:OFFSET(#REF!,0,100)),\"\")","v":""},{"$f":"IF(F65=$C$65,NPV($C$81,#REF!:OFFSET(#REF!,0,100)),\"\")","v":""},{"$f":"IF(G65=$C$65,NPV($C$81,#REF!:OFFSET(#REF!,0,100)),\"\")","v":""},{"$f":"IF(H65=$C$65,NPV($C$81,#REF!:OFFSET(#REF!,0,100)),\"\")","v":""},{"$f":"IF(I65=$C$65,NPV($C$81,#REF!:OFFSET(#REF!,0,100)),\"\")","v":""},{"$f":"IF(J65=$C$65,NPV($C$81,#REF!:OFFSET(#REF!,0,100)),\"\")","v":""},{"$f":"IF(K65=$C$65,NPV($C$81,#REF!:OFFSET(#REF!,0,100)),\"\")","v":""},{"$f":"IF(L65=$C$65,NPV($C$81,#REF!:OFFSET(#REF!,0,100)),\"\")","v":""}]
[null,"GCS grynoji dabartinė vertė, pagal pildančios institucijos numatytas palaikymo apimtis (su išorinėmis išlaidomis)",{"$f":"IF(C77=$C$77,NPV($C$81,D80:OFFSET(D80,0,1000))+C19/(1+$C$81)^'Elementų tarnavimo trukmė'!$O$7,\"\")","v":0}]

{"sheet":"1. Pamatai","index":5,"n_rows":43,"n_cols":21,"rows_kept":43,"cut":false,"hidden":true,"merged":[[24,1,26,4],[27,1,27,4],[28,1,30,4],[31,1,31,4],[39,1,39,4],[32,1,32,4],[33,1,33,4],[34,1,35,4],[36,1,36,4],[37,1,38,4],[20,1,20,4],[21,1,22,4],[23,1,23,4],[17,1,19,4],[19,7,19,10],[41,7,41,10],[42,7,42,10],[0,7,0,10],[1,7,1,10],[2,7,2,10],[10,7,10,10],[11,7,11,10],[12,7,12,10],[35,7,35,10],[14,7,14,10],[15,7,15,10],[16,7,16,10],[3,7,3,10],[4,7,4,10],[37,7,37,10],[7,7,7,10],[0,1,0,4],[2,1,2,4],[1,1,1,4],[17,7,17,10],[18,7,18,10],[3,1,3,4],[4,1,5,4],[6,1,6,4],[7,1,9,4],[10,1,10,4],[11,1,15,4],[16,1,16,4],[5,7,5,10],[6,7,6,10],[8,7,8,10],[9,7,9,10]]}
[null,"\n1. Pamatai\n\nPildymo instrukcijos\nPaspauskite ant paveiksliuko norėdami gauti daugiau informacijos",null,null,null,null,null,"Pastato elemento išlaidų apibendrinimas"]
[null,"Pildymo instrukcijos",null,null,null,null,null,"Investicijų išlaidos",null,null,null,"Iš viso, EUR",{"$f":"YEAR('Bendrieji įvesties duomenys'!$C$6)+COLUMN(L2)-12","v":2019},{"$f":"YEAR('Bendrieji įvesties duomenys'!$C$6)+COLUMN(M2)-12","v":2020},{"$f":"YEAR('Bendrieji įvesties duomenys'!$C$6)+COLUMN(N2)-12","v":2021},{"$f":"YEAR('Bendrieji įvesties duomenys'!$C$6)+COLUMN(O2)-12","v":2022},{"$f":"YEAR('Bendrieji įvesties duomenys'!$C$6)+COLUMN(P2)-12","v":2023},{"$f":"YEAR('Bendrieji įvesties duomenys'!$C$6)+COLUMN(Q2)-12","v":2024},{"$f":"YEAR('Bendrieji įvesties duomenys'!$C$6)+COLUMN(R2)-12","v":2025},{"$f":"YEAR('Bendrieji įvesties duomenys'!$C$6)+COLUMN(S2)-12","v":2026},{"$f":"YEAR('Bendrieji įvesties duomenys'!$C$6)+COLUMN(T2)-12","v":2027}]
[null,null,null,null,null,null,null,"A. Turto įsigijimo ir kūrimo išlaidos išlaidos",null,null,null,{"$f":"SUM(M3:OFFSET(M3,0,1000))","v":0},{"$f":"OFFSET(M3,46,0)","v":0},0,0,0,0,0,0,0,0]
[null,null,null,null,null,null,null,"A.1. Žaliavų, medžiagų, sudedamųjų dalių ir detalių, sunaudotų kuriant ilgalaikį turtą, įsigijimo išlaidos",null,null,null,{"$f":"SUM(M4:OFFSET(M4,0,1000))","v":0},0,0,0,0,0,0,0,0,0]
[null,"1.  Paspaudus žemiau esantį mygtuką „Pridėti“, inicijuojamas duomenų pildymo procesas ir sukuriama duomenų įvesties lentelė.",null,null,null,null,null,"A.2. Statyba",null,null,null,{"$f":"SUM(M5:OFFSET(M5,0,1000))","v":0},0,0,0,0,0,0,0,0,0]
[null,null,null,null,null,null,null,"A.3. Rekonstravimas",null,null,null,{"$f":"SUM(M6:OFFSET(M6,0,1000))","v":0},0,0,0,0,0,0,0,0,0]
[null,null,null,null,null,null,null,"A.4. Kapitalinis remontas",null,null,null,{"$f":"SUM(M7:OFFSET(M7,0,1000))","v":0},0,0,0,0,0,0,0,0,0]
[null,"2. Lentelėje „Pastato elemento fiziniai parametrai ir tarnavimo laikotarpis“, pildytojas turėtų  užpildyti visus žalia spalva pažymėtus E stulpelio laukelius, atsižvelgiant į B stulpelyje pateiktus laukelių aprašymus.",null,null,null,null,null,"A.5. Projektavimo paslaugos",null,null,null,{"$f":"SUM(M8:OFFSET(M8,0,1000))","v":0},0,0,0,0,0,0,0,0,0]
[null,null,null,null,null,null,null,"A.6. Techninės priežiūros paslaugos",null,null,null,{"$f":"SUM(M9:OFFSET(M9,0,1000))","v":0},0,0,0,0,0,0,0,0,0]
[null,null,null,null,null,null,null,"A.7. Kitos su investicijomis į ilgalaikį turtą susijusios paslaugos ir išlaidos",null,null,null,{"$f":"SUM(M10:OFFSET(M10,0,1000))","v":0},0,0,0,0,0,0,0,0,0]
[null,null,null,null,null,null,null,"B. Kitos paslaugos ir išlaidos",null,null,null,{"$f":"SUM(M11:OFFSET(M11,0,1000))","v":0},0,0,0,0,0,0,0,0,0]
[null,"3. Užpildžius lentelę „Pastato elemento fiziniai parametrai ir tarnavimo laikotarpis“, turėtų būti pereita prie „Pastato elemento išlaidų įvestis“ sekcijos. Šioje dalyje pildomos investicijų bei veiklos ir eksploatavimo išlaidos, susijusios su pasirinkta pastato elemento konstrukcija/tipu ar prietaisu/dalimi. Informacija veda į atitinkamus laukelius, nurodant tiek investicijų sumą (I-J stulpeliai), tiek investicijų/išlaidų pasikartojimo periodą (K stulpelis).",null,null,null,null,null,"C. Likutinės vertės pinigų srautas",null,null,null,{"$f":"SUM(M12:OFFSET(M12,0,1000))","v":0},0,0,0,0,0,0,0,0,0]
[null,null,null,null,null,null,null,"Iš viso (A + B)",null,null,null,{"$f":"SUM(M13:OFFSET(M13,0,1000))","v":0},{"$f":"M3+M11","v":0},{"$f":"N3+N11","v":0},0,0,0,0,0,0,0]
[]
[null,null,null,null,null,null,null,"Eksploatavimo ir veiklos išlaidos",null,null,null,"Iš viso, EUR",{"$f":"YEAR('Bendrieji įvesties duomenys'!$C$6)+COLUMN(L15)-12","v":2019},{"$f":"YEAR('Bendrieji įvesties duomenys'!$C$6)+COLUMN(M15)-12","v":2020},{"$f":"YEAR('Bendrieji įvesties duomenys'!$C$6)+COLUMN(N15)-12","v":2021},{"$f":"YEAR('Bendrieji įvesties duomenys'!$C$6)+COLUMN(O15)-12","v":2022},{"$f":"YEAR('Bendrieji įvesties duomenys'!$C$6)+COLUMN(P15)-12","v":2023},{"$f":"YEAR('Bendrieji įvesties duomenys'!$C$6)+COLUMN(Q15)-12","v":2024},{"$f":"YEAR('Bendrieji įvesties duomenys'!$C$6)+COLUMN(R15)-12","v":2025},{"$f":"YEAR('Bendrieji įvesties duomenys'!$C$6)+COLUMN(S15)-12","v":2026},{"$f":"YEAR('Bendrieji įvesties duomenys'!$C$6)+COLUMN(T15)-12","v":2027}]
[null,null,null,null,null,null,null,"D. Veiklos išlaidos laikantis rinkoje taikomų eksploatavimo apimčių",null,null,null,{"$f":"SUM(M16:OFFSET(M16,0,1000))","v":0},{"$f":"OFFSET(M16,46,0)","v":0},0,0,0,0,0,0,0,0]
[null,null,null,null,null,null,null,"D. Veiklos išlaidos laikantis pildančios institucijos taikomų eksploatavimo apimčių",null,null,null,{"$f":"SUM(M17:OFFSET(M17,0,1000))","v":0},0,0,0,0,0,0,0,0,0]
[null,"Pastaba: D'. Veiklos išlaidos pagal pildančios institucijos numatytas palaikymo apimtis apskaičiuojamos automatiškai pagal suvestas eksploatavimo ir veiklos išlaidas ir numato būsimas išlaidas kiekvienam periodui.",null,null,null,null,null,"D.1.Žaliavos",null,null,null,{"$f":"SUM(M18:OFFSET(M18,0,1000))","v":0},0,0,0,0,0,0,0,0,0]
[null,null,null,null,null,null,null,"D.2. Darbo užmokesčio išlaidos",null,null,null,{"$f":"SUM(M19:OFFSET(M19,0,1000))","v":0},0,0,0,0,0,0,0,0,0]
[null,null,null,null,null,null,null,"D.4. Infrastruktūros būklės palaikymo (eksploatavimo) išlaidos",null,null,null,{"$f":"SUM(M20:OFFSET(M20,0,1000))","v":0},0,0,0,0,0,0,0,0,0]
[null,null,null,null,null,null,null,"D.4.1. Vėdinimo sistemų įrenginių eksploatacijos išlaidos",null,null,null,{"$f":"SUM(M21:OFFSET(M21,0,1000))","v":0},{"$f":"1-1","v":0},{"$f":"1-1","v":0},0,0,0,0,0,0,0]
[null,"4. Norint pridėti dar vieną su pastato elementu susijusią sąnaudų įvesties lentelę, spaudžiamas mygtukas „Pridėti“ ir kartojami 2-3 žingsniuose aprašyti veiksmai.",null,null,null,null,null,"D.4.2. Šilumos sistemų tinklų palaikymo (eksploatavimo) išlaidos",null,null,null,{"$f":"SUM(M22:OFFSET(M22,0,1000))","v":0},0,0,0,0,0,0,0,0,0]
[null,null,null,null,null,null,null,"D.4.3. Oro kondicionavimo ir šaldymo įrenginių eksploatacijos išlaidos",null,null,null,{"$f":"SUM(M23:OFFSET(M23,0,1000))","v":0},0,0,0,0,0,0,0,0,0]
[null,null,null,null,null,null,null,"D.4.4. Vandentiekio ir nuotekų tinklų įrenginių eksploatacijos išlaidos",null,null,null,{"$f":"SUM(M24:OFFSET(M24,0,1000))","v":0},0,0,0,0,0,0,0,0,0]
[null,"5. Esant įvesties klaidoms ar norint pašalinti perteklinę pastato elemento įvesties lentelę, spaudžiamas mygtukas „Ištrinti“ bei įvedamas lentelės numeris, kuris yra kiekvienos lentelės kairiojo kampo viršuje.",null,null,null,null,null,"D.4.5 Lietaus surinkimo ir drenažo sistemos eksploatacijos išlaidos ",null,null,null,{"$f":"SUM(M25:OFFSET(M25,0,1000))","v":0},0,0,0,0,0,0,0,0,0]
[null,null,null,null,null,null,null,"D.4.6. Elektros tinklų įrenginių ekploatacijos išlaidos",null,null,null,{"$f":"SUM(M26:OFFSET(M26,0,1000))","v":0},0,0,0,0,0,0,0,0,0]
[null,null,null,null,null,null,null,"D.4.7. Dujotekio sistemos įrenginių eksploatacijos išlaidos",null,null,null,{"$f":"SUM(M27:OFFSET(M27,0,1000))","v":0},0,0,0,0,0,0,0,0,0]
[null,null,null,null,null,null,null,"D.4.8. Gaisro gesinimo ir perspėjimo sistemų įrenginių eksploatacijos išlaidos",null,null,null,{"$f":"SUM(M28:OFFSET(M28,0,1000))","v":0},0,0,0,0,0,0,0,0,0]
[null,"6. Informacija, pateikta atskirose pastato elementų įvesties lentelėse, atsispindi apibendrinimo lapuose, kur apskaičiuojama bendroji GCS suma: „Elementų išlaidų apibendrinimas“, „Pastato išlaidų apibendrinimas“",null,null,null,null,null,"D.4.9. Apsaugos sistemos įrenginių ekploatacijos išlaidos",null,null,null,{"$f":"SUM(M29:OFFSET(M29,0,1000))","v":0},0,0,0,0,0,0,0,0,0]
[null,null,null,null,null,null,null,"D.4.10. Telekomunikacijos sistemos įrenginių eksploatacijos išlaidos",null,null,null,{"$f":"SUM(M30:OFFSET(M30,0,1000))","v":0},0,0,0,0,0,0,0,0,0]
[null,null,null,null,null,null,null,"D.4.11. Transportavimo sistemos įrenginių ekploatacijos išlaidos",null,null,null,{"$f":"SUM(M31:OFFSET(M31,0,1000))","v":0},0,0,0,0,0,0,0,0,0]
[null,null,null,null,null,null,null,"D.4.12. Apsaugos išlaidos",null,null,null,{"$f":"SUM(M32:OFFSET(M32,0,1000))","v":0},0,{"$f":"1-1","v":0},0,0,0,0,0,0,0]
[null,"7. Norint grįžti į navigacijos puslapį, turėtų būti spaudžiamas mygtukas „Navigacija\". ",null,null,null,null,null,"D.4.13. Valymo išlaidos",null,null,null,{"$f":"SUM(M33:OFFSET(M33,0,1000))","v":0},0,0,0,0,0,0,0,0,0]
[null,null,null,null,null,null,null,"D.4.14. Draudimo išlaidos",null,null,null,{"$f":"SUM(M34:OFFSET(M34,0,1000))","v":0},0,0,0,0,0,0,0,0,0]
[null,"SVARBU: Pilka spalva pažymėti langeliai yra skirti skaičiavimams bei duomenų įvedimui, kurie yra atliekami formulių pagalba ir neturėtų būti keičiami rankiniu būdu.",null,null,null,null,null,"D.4.15. Kitos išlaidos",null,null,null,{"$f":"SUM(M35:OFFSET(M35,0,1000))","v":0},{"$f":"OFFSET(M35,33,0) + OFFSET(M35,32,0)","v":0},0,0,0,0,0,0,0,0]
[null,null,null,null,null,null,null,"D.5. Remonto išlaidos",null,null,null,{"$f":"SUM(M36:OFFSET(M36,0,1000))","v":0},{"$f":"OFFSET(M36,33,0)","v":0},0,0,0,0,0,0,0,0]
[null,null,null,null,null,null,null,"D.5.1. Einamojo remonto išlaidos",null,null,null,{"$f":"SUM(M37:OFFSET(M37,0,1000))","v":0},0,0,0,0,0,0,0,0,0]
[null,"Dalis žalia spalva pažymėtų langelių, priklausomai nuo pasirinkimų, tampa pilkais, įstrižine juosta perbrauktais langeliais. Šie langeliai yra neaktualūs.",null,null,null,{"$f":"IFERROR(IF(AND(F39=\"Pradėta\",G40<>\"Ne\"),\"Taip\",\"Ne\"),\"Ne\")","v":"Ne"},null,"D.6. Utilizavimo išlaidos",null,null,null,{"$f":"SUM(M38:OFFSET(M38,0,1000))","v":0},0,0,0,0,0,0,0,0,0]
[null,null,null,null,null,{"$f":"IF(MATCH(\"Grįžti į viršų\",E45:E7120,0),\"Pradėta\",\"Ne\")","v":{"$error":"#N/A"}},null,"D.6.1. Atliekų surinkimo išlaidos",null,null,null,{"$f":"SUM(M39:OFFSET(M39,0,1000))","v":0},0,0,0,0,0,0,0,0,0]
[null,null,null,null,null,{"$f":"IF(COUNTIF(#REF!,\"Ne\"),\"Ne\",\"Taip\")","v":{"$error":"#REF!"}},{"$f":"IFERROR(IF(F40=\"Taip\",\"Taip\",\"Ne\"),\"Taip\")","v":"Taip"},"D.6.2. Perdirbimo išlaidos",null,null,null,{"$f":"SUM(M40:OFFSET(M40,0,1000))","v":0},0,0,0,0,0,0,0,0,0]
[null,null,null,null,null,null,null,"D.6.3. Turto išmontavimo (nugriovimo išlaidos)",null,null,null,{"$f":"SUM(M41:OFFSET(M41,0,1000))","v":0},0,0,0,0,0,0,0,0,0]
[null,null,null,null,null,null,null,"D.7. Kitos išlaidos",null,null,null,{"$f":"SUM(M42:OFFSET(M42,0,1000))","v":0},0,0,0,0,0,0,0,0,0]
[null,null,null,null,null,null,null,"D'. Veiklos išlaidos pagal pildančios institucijos numatytas palaikymo apimtis",null,null,null,{"$f":"SUM(M43:OFFSET(M43,0,1000))","v":0},0,0,0,0,0,0,0,0,0]

{"sheet":"2. Perdangos","index":6,"n_rows":43,"n_cols":21,"rows_kept":43,"cut":false,"hidden":true,"merged":[[28,1,30,4],[31,1,31,4],[39,1,39,4],[32,1,32,4],[33,1,33,4],[34,1,35,4],[36,1,36,4],[37,1,38,4],[20,1,20,4],[21,1,22,4],[23,1,23,4],[24,1,26,4],[27,1,27,4],[41,7,41,10],[42,7,42,10],[0,7,0,10],[1,7,1,10],[2,7,2,10],[6,7,6,10],[7,7,7,10],[8,7,8,10],[9,7,9,10],[37,7,37,10],[3,7,3,10],[4,7,4,10],[5,7,5,10],[15,7,15,10],[16,7,16,10],[17,7,17,10],[0,1,2,4],[35,7,35,10],[11,7,11,10],[12,7,12,10],[10,7,10,10],[14,7,14,10],[18,7,18,10],[19,7,19,10],[3,1,3,4],[4,1,5,4],[6,1,6,4],[7,1,9,4],[10,1,10,4],[11,1,15,4],[16,1,16,4],[17,1,19,4]]}
[null,"2. Perdangos\n\nPildymo instrukcijos",null,null,null,null,null,"Pastato elemento išlaidų apibendrinimas"]
[null,null,null,null,null,null,null,"Investicijų išlaidos",null,null,null,"Iš viso, EUR",{"$f":"YEAR('Bendrieji įvesties duomenys'!$C$6)+COLUMN(L2)-12","v":2019},{"$f":"YEAR('Bendrieji įvesties duomenys'!$C$6)+COLUMN(M2)-12","v":2020},{"$f":"YEAR('Bendrieji įvesties duomenys'!$C$6)+COLUMN(N2)-12","v":2021},{"$f":"YEAR('Bendrieji įvesties duomenys'!$C$6)+COLUMN(O2)-12","v":2022},{"$f":"YEAR('Bendrieji įvesties duomenys'!$C$6)+COLUMN(P2)-12","v":2023},{"$f":"YEAR('Bendrieji įvesties duomenys'!$C$6)+COLUMN(Q2)-12","v":2024},{"$f":"YEAR('Bendrieji įvesties duomenys'!$C$6)+COLUMN(R2)-12","v":2025},{"$f":"YEAR('Bendrieji įvesties duomenys'!$C$6)+COLUMN(S2)-12","v":2026},{"$f":"YEAR('Bendrieji įvesties duomenys'!$C$6)+COLUMN(T2)-12","v":2027}]
[null,null,null,null,null,null,null,"A. Turto įsigijimo ir kūrimo išlaidos išlaidos",null,null,null,{"$f":"SUM(M3:OFFSET(M3,0,1000))","v":0},{"$f":"OFFSET(M3,46,0)","v":0},0,0,0,0,0,0,0,0]
[null,null,null,null,null,null,null,"A.1. Žaliavų, medžiagų, sudedamųjų dalių ir detalių, sunaudotų kuriant ilgalaikį turtą, įsigijimo išlaidos",null,null,null,{"$f":"SUM(M4:OFFSET(M4,0,1000))","v":0},0,0,0,0,0,0,0,0,0]
[null,"1.  Paspaudus žemiau esantį mygtuką „Pridėti“, inicijuojamas duomenų pildymo procesas ir sukuriama duomenų įvesties lentelė.",null,null,null,null,null,"A.2. Statyba",null,null,null,{"$f":"SUM(M5:OFFSET(M5,0,1000))","v":0},0,0,0,0,0,0,0,0,0]
[null,null,null,null,null,null,null,"A.3. Rekonstravimas",null,null,null,{"$f":"SUM(M6:OFFSET(M6,0,1000))","v":0},0,0,0,0,0,0,0,0,0]
[null,null,null,null,null,null,null,"A.4. Kapitalinis remontas",null,null,null,{"$f":"SUM(M7:OFFSET(M7,0,1000))","v":0},0,0,0,0,0,0,0,0,0]
[null,"2. Lentelėje „Pastato elemento fiziniai parametrai ir tarnavimo laikotarpis“, pildytojas turėtų  užpildyti visus žalia spalva pažymėtus E stulpelio laukelius, atsižvelgiant į B stulpelyje pateiktus laukelių aprašymus.",null,null,null,null,null,"A.5. Projektavimo paslaugos",null,null,null,{"$f":"SUM(M8:OFFSET(M8,0,1000))","v":0},0,0,0,0,0,0,0,0,0]
[null,null,null,null,null,null,null,"A.6. Techninės priežiūros paslaugos",null,null,null,{"$f":"SUM(M9:OFFSET(M9,0,1000))","v":0},0,0,0,0,0,0,0,0,0]
[null,null,null,null,null,null,null,"A.7. Kitos su investicijomis į ilgalaikį turtą susijusios paslaugos ir išlaidos",null,null,null,{"$f":"SUM(M10:OFFSET(M10,0,1000))","v":0},0,0,0,0,0,0,0,0,0]
[null,null,null,null,null,null,null,"B. Kitos paslaugos ir išlaidos",null,null,null,{"$f":"SUM(M11:OFFSET(M11,0,1000))","v":0},0,0,0,0,0,0,0,0,0]
[null,"3. Užpildžius lentelę „Pastato elemento fiziniai parametrai ir tarnavimo laikotarpis“, turėtų būti pereita prie „Pastato elemento išlaidų įvestis“ sekcijos. Šioje dalyje pildomos investicijų bei veiklos ir eksploatavimo išlaidos, susijusios su pasirinkta pastato elemento konstrukcija/tipu ar prietaisu/dalimi. Informacija veda į atitinkamus laukelius, nurodant tiek investicijų sumą (I-J stulpeliai), tiek investicijų/išlaidų pasikartojimo periodą (K stulpelis).",null,null,null,null,null,"C. Likutinės vertės pinigų srautas",null,null,null,{"$f":"SUM(M12:OFFSET(M12,0,1000))","v":0},0,0,0,0,0,0,0,0,0]
[null,null,null,null,null,null,null,"Iš viso (A + B)",null,null,null,{"$f":"SUM(M13:OFFSET(M13,0,1000))","v":0},{"$f":"M3+M11","v":0},{"$f":"N3+N11","v":0},0,0,0,0,0,0,0]
[]
[null,null,null,null,null,null,null,"Eksploatavimo ir veiklos išlaidos",null,null,null,"Iš viso, EUR",{"$f":"YEAR('Bendrieji įvesties duomenys'!$C$6)+COLUMN(L15)-12","v":2019},{"$f":"YEAR('Bendrieji įvesties duomenys'!$C$6)+COLUMN(M15)-12","v":2020},{"$f":"YEAR('Bendrieji įvesties duomenys'!$C$6)+COLUMN(N15)-12","v":2021},{"$f":"YEAR('Bendrieji įvesties duomenys'!$C$6)+COLUMN(O15)-12","v":2022},{"$f":"YEAR('Bendrieji įvesties duomenys'!$C$6)+COLUMN(P15)-12","v":2023},{"$f":"YEAR('Bendrieji įvesties duomenys'!$C$6)+COLUMN(Q15)-12","v":2024},{"$f":"YEAR('Bendrieji įvesties duomenys'!$C$6)+COLUMN(R15)-12","v":2025},{"$f":"YEAR('Bendrieji įvesties duomenys'!$C$6)+COLUMN(S15)-12","v":2026},{"$f":"YEAR('Bendrieji įvesties duomenys'!$C$6)+COLUMN(T15)-12","v":2027}]
[null,null,null,null,null,null,null,"D. Veiklos išlaidos laikantis rinkoje taikomų eksploatavimo apimčių",null,null,null,{"$f":"SUM(M16:OFFSET(M16,0,1000))","v":0},{"$f":"OFFSET(M16,46,0)","v":0},0,0,0,0,0,0,0,0]
[null,null,null,null,null,null,null,"D. Veiklos išlaidos laikantis pildančios institucijos taikomų eksploatavimo apimčių",null,null,null,{"$f":"SUM(M17:OFFSET(M17,0,1000))","v":0},0,0,0,0,0,0,0,0,0]
[null,"Pastaba: D'. Veiklos išlaidos pagal pildančios institucijos numatytas palaikymo apimtis apskaičiuojamos automatiškai pagal suvestas eksploatavimo ir veiklos išlaidas ir numato būsimas išlaidas kiekvienam periodui.",null,null,null,null,null,"D.1.Žaliavos",null,null,null,{"$f":"SUM(M18:OFFSET(M18,0,1000))","v":0},0,0,0,0,0,0,0,0,0]
[null,null,null,null,null,null,null,"D.2. Darbo užmokesčio išlaidos",null,null,null,{"$f":"SUM(M19:OFFSET(M19,0,1000))","v":0},0,0,0,0,0,0,0,0,0]
[null,null,null,null,null,null,null,"D.4. Infrastruktūros būklės palaikymo (eksploatavimo) išlaidos",null,null,null,{"$f":"SUM(M20:OFFSET(M20,0,1000))","v":0},0,0,0,0,0,0,0,0,0]
[null,null,null,null,null,null,null,"D.4.1. Vėdinimo sistemų įrenginių eksploatacijos išlaidos",null,null,null,{"$f":"SUM(M21:OFFSET(M21,0,1000))","v":0},{"$f":"1-1","v":0},{"$f":"1-1","v":0},0,0,0,0,0,0,0]
[null,"4. Norint pridėti dar vieną su pastato elementu susijusią sąnaudų įvesties lentelę, spaudžiamas mygtukas „Pridėti“ ir kartojami 2-3 žingsniuose aprašyti veiksmai.",null,null,null,null,null,"D.4.2. Šilumos sistemų tinklų palaikymo (eksploatavimo) išlaidos",null,null,null,{"$f":"SUM(M22:OFFSET(M22,0,1000))","v":0},0,0,0,0,0,0,0,0,0]
[null,null,null,null,null,null,null,"D.4.3. Oro kondicionavimo ir šaldymo įrenginių eksploatacijos išlaidos",null,null,null,{"$f":"SUM(M23:OFFSET(M23,0,1000))","v":0},0,0,0,0,0,0,0,0,0]
[null,null,null,null,null,null,null,"D.4.4. Vandentiekio ir nuotekų tinklų įrenginių eksploatacijos išlaidos",null,null,null,{"$f":"SUM(M24:OFFSET(M24,0,1000))","v":0},0,0,0,0,0,0,0,0,0]
[null,"5. Esant įvesties klaidoms ar norint pašalinti perteklinę pastato elemento įvesties lentelę, spaudžiamas mygtukas „Ištrinti“ bei įvedamas lentelės numeris, kuris yra kiekvienos lentelės kairiojo kampo viršuje.",null,null,null,null,null,"D.4.5 Lietaus surinkimo ir drenažo sistemos eksploatacijos išlaidos ",null,null,null,{"$f":"SUM(M25:OFFSET(M25,0,1000))","v":0},0,0,0,0,0,0,0,0,0]
[null,null,null,null,null,null,null,"D.4.6. Elektros tinklų įrenginių ekploatacijos išlaidos",null,null,null,{"$f":"SUM(M26:OFFSET(M26,0,1000))","v":0},0,0,0,0,0,0,0,0,0]
[null,null,null,null,null,null,null,"D.4.7. Dujotekio sistemos įrenginių eksploatacijos išlaidos",null,null,null,{"$f":"SUM(M27:OFFSET(M27,0,1000))","v":0},0,0,0,0,0,0,0,0,0]
[null,null,null,null,null,null,null,"D.4.8. Gaisro gesinimo ir perspėjimo sistemų įrenginių eksploatacijos išlaidos",null,null,null,{"$f":"SUM(M28:OFFSET(M28,0,1000))","v":0},0,0,0,0,0,0,0,0,0]
[null,"6. Informacija, pateikta atskirose pastato elementų įvesties lentelėse, atsispindi apibendrinimo lapuose, kur apskaičiuojama bendroji GCS suma: „Elementų išlaidų apibendrinimas“, „Pastato išlaidų apibendrinimas“",null,null,null,null,null,"D.4.9. Apsaugos sistemos įrenginių ekploatacijos išlaidos",null,null,null,{"$f":"SUM(M29:OFFSET(M29,0,1000))","v":0},0,0,0,0,0,0,0,0,0]
[null,null,null,null,null,null,null,"D.4.10. Telekomunikacijos sistemos įrenginių eksploatacijos išlaidos",null,null,null,{"$f":"SUM(M30:OFFSET(M30,0,1000))","v":0},0,0,0,0,0,0,0,0,0]
[null,null,null,null,null,null,null,"D.4.11. Transportavimo sistemos įrenginių ekploatacijos išlaidos",null,null,null,{"$f":"SUM(M31:OFFSET(M31,0,1000))","v":0},0,0,0,0,0,0,0,0,0]
[null,null,null,null,null,null,null,"D.4.12. Apsaugos išlaidos",null,null,null,{"$f":"SUM(M32:OFFSET(M32,0,1000))","v":0},0,{"$f":"1-1","v":0},0,0,0,0,0,0,0]
[null,"7. Norint grįžti į navigacijos puslapį, turėtų būti spaudžiamas mygtukas „Navigacija\". ",null,null,null,null,null,"D.4.13. Valymo išlaidos",null,null,null,{"$f":"SUM(M33:OFFSET(M33,0,1000))","v":0},0,0,0,0,0,0,0,0,0]
[null,null,null,null,null,null,null,"D.4.14. Draudimo išlaidos",null,null,null,{"$f":"SUM(M34:OFFSET(M34,0,1000))","v":0},0,0,0,0,0,0,0,0,0]
[null,"SVARBU: Pilka spalva pažymėti langeliai yra skirti skaičiavimams bei duomenų įvedimui, kurie yra atliekami formulių pagalba ir neturėtų būti keičiami rankiniu būdu.",null,null,null,null,null,"D.4.15. Kitos išlaidos",null,null,null,{"$f":"SUM(M35:OFFSET(M35,0,1000))","v":0},{"$f":"OFFSET(M35,33,0) + OFFSET(M35,32,0)","v":0},0,0,0,0,0,0,0,0]
[null,null,null,null,null,null,null,"D.5. Remonto išlaidos",null,null,null,{"$f":"SUM(M36:OFFSET(M36,0,1000))","v":0},{"$f":"OFFSET(M36,33,0)","v":0},0,0,0,0,0,0,0,0]
[null,null,null,null,null,null,null,"D.5.1. Einamojo remonto išlaidos",null,null,null,{"$f":"SUM(M37:OFFSET(M37,0,1000))","v":0},0,0,0,0,0,0,0,0,0]
[null,"Dalis žalia spalva pažymėtų langelių, priklausomai nuo pasirinkimų, tampa pilkais, įstrižine juosta perbrauktais langeliais. Šie langeliai yra neaktualūs.",null,null,null,{"$f":"IFERROR(IF(AND(F39=\"Pradėta\",G40<>\"Ne\"),\"Taip\",\"Ne\"),\"Ne\")","v":"Ne"},null,"D.6. Utilizavimo išlaidos",null,null,null,{"$f":"SUM(M38:OFFSET(M38,0,1000))","v":0},0,0,0,0,0,0,0,0,0]
[null,null,null,null,null,{"$f":"IF(MATCH(\"Grįžti į viršų\",E45:E9325,0),\"Pradėta\",\"Ne\")","v":{"$error":"#N/A"}},null,"D.6.1. Atliekų surinkimo išlaidos",null,null,null,{"$f":"SUM(M39:OFFSET(M39,0,1000))","v":0},0,0,0,0,0,0,0,0,0]
[null,null,null,null,null,{"$f":"IF(COUNTIF(E45:E730,\"Ne\"),\"Ne\",\"Taip\")","v":"Taip"},{"$f":"IFERROR(IF(F40=\"Taip\",\"Taip\",\"Ne\"),\"Taip\")","v":"Taip"},"D.6.2. Perdirbimo išlaidos",null,null,null,{"$f":"SUM(M40:OFFSET(M40,0,1000))","v":0},0,0,0,0,0,0,0,0,0]
[null,null,null,null,null,null,null,"D.6.3. Turto išmontavimo (nugriovimo išlaidos)",null,null,null,{"$f":"SUM(M41:OFFSET(M41,0,1000))","v":0},0,0,0,0,0,0,0,0,0]
[null,null,null,null,null,null,null,"D.7. Kitos išlaidos",null,null,null,{"$f":"SUM(M42:OFFSET(M42,0,1000))","v":0},0,0,0,0,0,0,0,0,0]
[null,null,null,null,null,null,null,"D'. Veiklos išlaidos pagal pildančios institucijos numatytas palaikymo apimtis",null,null,null,{"$f":"SUM(M43:OFFSET(M43,0,1000))","v":0},0,0,0,0,0,0,0,0,0]

{"sheet":"3. Sienos","index":7,"n_rows":43,"n_cols":21,"rows_kept":43,"cut":false,"hidden":true,"merged":[[37,1,38,4],[39,1,39,4],[28,1,30,4],[31,1,31,4],[32,1,32,4],[33,1,33,4],[34,1,35,4],[21,1,22,4],[23,1,23,4],[24,1,26,4],[27,1,27,4],[36,1,36,4],[10,1,10,4],[11,1,15,4],[16,1,16,4],[17,1,19,4],[20,1,20,4],[42,7,42,10],[35,7,35,10],[11,7,11,10],[12,7,12,10],[41,7,41,10],[14,7,14,10],[15,7,15,10],[16,7,16,10],[17,7,17,10],[18,7,18,10],[19,7,19,10],[37,7,37,10],[6,1,6,4],[10,7,10,10],[0,7,0,10],[1,7,1,10],[6,7,6,10],[7,7,7,10],[8,7,8,10],[9,7,9,10],[2,7,2,10],[3,7,3,10],[4,7,4,10],[5,7,5,10],[0,1,2,4],[3,1,3,4],[4,1,5,4],[7,1,9,4]]}
[null,"3. Sienos\n\nPildymo instrukcijos",null,null,null,null,null,"Pastato elemento išlaidų apibendrinimas"]
[null,null,null,null,null,null,null,"Investicijų išlaidos",null,null,null,"Iš viso, EUR",{"$f":"YEAR('Bendrieji įvesties duomenys'!$C$6)+COLUMN(L2)-12","v":2019},{"$f":"YEAR('Bendrieji įvesties duomenys'!$C$6)+COLUMN(M2)-12","v":2020},{"$f":"YEAR('Bendrieji įvesties duomenys'!$C$6)+COLUMN(N2)-12","v":2021},{"$f":"YEAR('Bendrieji įvesties duomenys'!$C$6)+COLUMN(O2)-12","v":2022},{"$f":"YEAR('Bendrieji įvesties duomenys'!$C$6)+COLUMN(P2)-12","v":2023},{"$f":"YEAR('Bendrieji įvesties duomenys'!$C$6)+COLUMN(Q2)-12","v":2024},{"$f":"YEAR('Bendrieji įvesties duomenys'!$C$6)+COLUMN(R2)-12","v":2025},{"$f":"YEAR('Bendrieji įvesties duomenys'!$C$6)+COLUMN(S2)-12","v":2026},{"$f":"YEAR('Bendrieji įvesties duomenys'!$C$6)+COLUMN(T2)-12","v":2027}]
[null,null,null,null,null,null,null,"A. Turto įsigijimo ir kūrimo išlaidos išlaidos",null,null,null,{"$f":"SUM(M3:OFFSET(M3,0,1000))","v":0},{"$f":"OFFSET(M3,46,0)","v":0},0,0,0,0,0,0,0,0]
[null,null,null,null,null,null,null,"A.1. Žaliavų, medžiagų, sudedamųjų dalių ir detalių, sunaudotų kuriant ilgalaikį turtą, įsigijimo išlaidos",null,null,null,{"$f":"SUM(M4:OFFSET(M4,0,1000))","v":0},0,0,0,0,0,0,0,0,0]
[null,"1.  Paspaudus žemiau esantį mygtuką „Pridėti“, inicijuojamas duomenų pildymo procesas ir sukuriama duomenų įvesties lentelė.",null,null,null,null,null,"A.2. Statyba",null,null,null,{"$f":"SUM(M5:OFFSET(M5,0,1000))","v":0},0,0,0,0,0,0,0,0,0]
[null,null,null,null,null,null,null,"A.3. Rekonstravimas",null,null,null,{"$f":"SUM(M6:OFFSET(M6,0,1000))","v":0},0,0,0,0,0,0,0,0,0]
[null,null,null,null,null,null,null,"A.4. Kapitalinis remontas",null,null,null,{"$f":"SUM(M7:OFFSET(M7,0,1000))","v":0},0,0,0,0,0,0,0,0,0]
[null,"2. Lentelėje „Pastato elemento fiziniai parametrai ir tarnavimo laikotarpis“, pildytojas turėtų  užpildyti visus žalia spalva pažymėtus E stulpelio laukelius, atsižvelgiant į B stulpelyje pateiktus laukelių aprašymus.",null,null,null,null,null,"A.5. Projektavimo paslaugos",null,null,null,{"$f":"SUM(M8:OFFSET(M8,0,1000))","v":0},0,0,0,0,0,0,0,0,0]
[null,null,null,null,null,null,null,"A.6. Techninės priežiūros paslaugos",null,null,null,{"$f":"SUM(M9:OFFSET(M9,0,1000))","v":0},0,0,0,0,0,0,0,0,0]
[null,null,null,null,null,null,null,"A.7. Kitos su investicijomis į ilgalaikį turtą susijusios paslaugos ir išlaidos",null,null,null,{"$f":"SUM(M10:OFFSET(M10,0,1000))","v":0},0,0,0,0,0,0,0,0,0]
[null,null,null,null,null,null,null,"B. Kitos paslaugos ir išlaidos",null,null,null,{"$f":"SUM(M11:OFFSET(M11,0,1000))","v":0},0,0,0,0,0,0,0,0,0]
[null,"3. Užpildžius lentelę „Pastato elemento fiziniai parametrai ir tarnavimo laikotarpis“, turėtų būti pereita prie „Pastato elemento išlaidų įvestis“ sekcijos. Šioje dalyje pildomos investicijų bei veiklos ir eksploatavimo išlaidos, susijusios su pasirinkta pastato elemento konstrukcija/tipu ar prietaisu/dalimi. Informacija veda į atitinkamus laukelius, nurodant tiek investicijų sumą (I-J stulpeliai), tiek investicijų/išlaidų pasikartojimo periodą (K stulpelis).",null,null,null,null,null,"C. Likutinės vertės pinigų srautas",null,null,null,{"$f":"SUM(M12:OFFSET(M12,0,1000))","v":0},0,0,0,0,0,0,0,0,0]
[null,null,null,null,null,null,null,"Iš viso (A + B)",null,null,null,{"$f":"SUM(M13:OFFSET(M13,0,1000))","v":0},{"$f":"M3+M11","v":0},{"$f":"N3+N11","v":0},0,0,0,0,0,0,0]
[]
[null,null,null,null,null,null,null,"Eksploatavimo ir veiklos išlaidos",null,null,null,"Iš viso, EUR",{"$f":"YEAR('Bendrieji įvesties duomenys'!$C$6)+COLUMN(L15)-12","v":2019},{"$f":"YEAR('Bendrieji įvesties duomenys'!$C$6)+COLUMN(M15)-12","v":2020},{"$f":"YEAR('Bendrieji įvesties duomenys'!$C$6)+COLUMN(N15)-12","v":2021},{"$f":"YEAR('Bendrieji įvesties duomenys'!$C$6)+COLUMN(O15)-12","v":2022},{"$f":"YEAR('Bendrieji įvesties duomenys'!$C$6)+COLUMN(P15)-12","v":2023},{"$f":"YEAR('Bendrieji įvesties duomenys'!$C$6)+COLUMN(Q15)-12","v":2024},{"$f":"YEAR('Bendrieji įvesties duomenys'!$C$6)+COLUMN(R15)-12","v":2025},{"$f":"YEAR('Bendrieji įvesties duomenys'!$C$6)+COLUMN(S15)-12","v":2026},{"$f":"YEAR('Bendrieji įvesties duomenys'!$C$6)+COLUMN(T15)-12","v":2027}]
[null,null,null,null,null,null,null,"D. Veiklos išlaidos laikantis rinkoje taikomų eksploatavimo apimčių",null,null,null,{"$f":"SUM(M16:OFFSET(M16,0,1000))","v":0},{"$f":"OFFSET(M16,46,0)","v":0},0,0,0,0,0,0,0,0]
[null,null,null,null,null,null,null,"D. Veiklos išlaidos laikantis pildančios institucijos taikomų eksploatavimo apimčių",null,null,null,{"$f":"SUM(M17:OFFSET(M17,0,1000))","v":0},0,0,0,0,0,0,0,0,0]
[null,"Pastaba: D'. Veiklos išlaidos pagal pildančios institucijos numatytas palaikymo apimtis apskaičiuojamos automatiškai pagal suvestas eksploatavimo ir veiklos išlaidas ir numato būsimas išlaidas kiekvienam periodui.",null,null,null,null,null,"D.1.Žaliavos",null,null,null,{"$f":"SUM(M18:OFFSET(M18,0,1000))","v":0},0,0,0,0,0,0,0,0,0]
[null,null,null,null,null,null,null,"D.2. Darbo užmokesčio išlaidos",null,null,null,{"$f":"SUM(M19:OFFSET(M19,0,1000))","v":0},0,0,0,0,0,0,0,0,0]
[null,null,null,null,null,null,null,"D.4. Infrastruktūros būklės palaikymo (eksploatavimo) išlaidos",null,null,null,{"$f":"SUM(M20:OFFSET(M20,0,1000))","v":0},0,0,0,0,0,0,0,0,0]
[null,null,null,null,null,null,null,"D.4.1. Vėdinimo sistemų įrenginių eksploatacijos išlaidos",null,null,null,{"$f":"SUM(M21:OFFSET(M21,0,1000))","v":0},{"$f":"1-1","v":0},{"$f":"1-1","v":0},0,0,0,0,0,0,0]
[null,"4. Norint pridėti dar vieną su pastato elementu susijusią sąnaudų įvesties lentelę, spaudžiamas mygtukas „Pridėti“ ir kartojami 2-3 žingsniuose aprašyti veiksmai.",null,null,null,null,null,"D.4.2. Šilumos sistemų tinklų palaikymo (eksploatavimo) išlaidos",null,null,null,{"$f":"SUM(M22:OFFSET(M22,0,1000))","v":0},0,0,0,0,0,0,0,0,0]
[null,null,null,null,null,null,null,"D.4.3. Oro kondicionavimo ir šaldymo įrenginių eksploatacijos išlaidos",null,null,null,{"$f":"SUM(M23:OFFSET(M23,0,1000))","v":0},0,0,0,0,0,0,0,0,0]
[null,null,null,null,null,null,null,"D.4.4. Vandentiekio ir nuotekų tinklų įrenginių eksploatacijos išlaidos",null,null,null,{"$f":"SUM(M24:OFFSET(M24,0,1000))","v":0},0,0,0,0,0,0,0,0,0]
[null,"5. Esant įvesties klaidoms ar norint pašalinti perteklinę pastato elemento įvesties lentelę, spaudžiamas mygtukas „Ištrinti“ bei įvedamas lentelės numeris, kuris yra kiekvienos lentelės kairiojo kampo viršuje.",null,null,null,null,null,"D.4.5 Lietaus surinkimo ir drenažo sistemos eksploatacijos išlaidos ",null,null,null,{"$f":"SUM(M25:OFFSET(M25,0,1000))","v":0},0,0,0,0,0,0,0,0,0]
[null,null,null,null,null,null,null,"D.4.6. Elektros tinklų įrenginių ekploatacijos išlaidos",null,null,null,{"$f":"SUM(M26:OFFSET(M26,0,1000))","v":0},0,0,0,0,0,0,0,0,0]
[null,null,null,null,null,null,null,"D.4.7. Dujotekio sistemos įrenginių eksploatacijos išlaidos",null,null,null,{"$f":"SUM(M27:OFFSET(M27,0,1000))","v":0},0,0,0,0,0,0,0,0,0]
[null,null,null,null,null,null,null,"D.4.8. Gaisro gesinimo ir perspėjimo sistemų įrenginių eksploatacijos išlaidos",null,null,null,{"$f":"SUM(M28:OFFSET(M28,0,1000))","v":0},0,0,0,0,0,0,0,0,0]
[null,"6. Informacija, pateikta atskirose pastato elementų įvesties lentelėse, atsispindi apibendrinimo lapuose, kur apskaičiuojama bendroji GCS suma: „Elementų išlaidų apibendrinimas“, „Pastato išlaidų apibendrinimas“",null,null,null,null,null,"D.4.9. Apsaugos sistemos įrenginių ekploatacijos išlaidos",null,null,null,{"$f":"SUM(M29:OFFSET(M29,0,1000))","v":0},0,0,0,0,0,0,0,0,0]
[null,null,null,null,null,null,null,"D.4.10. Telekomunikacijos sistemos įrenginių eksploatacijos išlaidos",null,null,null,{"$f":"SUM(M30:OFFSET(M30,0,1000))","v":0},0,0,0,0,0,0,0,0,0]
[null,null,null,null,null,null,null,"D.4.11. Transportavimo sistemos įrenginių ekploatacijos išlaidos",null,null,null,{"$f":"SUM(M31:OFFSET(M31,0,1000))","v":0},0,0,0,0,0,0,0,0,0]
[null,null,null,null,null,null,null,"D.4.12. Apsaugos išlaidos",null,null,null,{"$f":"SUM(M32:OFFSET(M32,0,1000))","v":0},0,{"$f":"1-1","v":0},0,0,0,0,0,0,0]
[null,"7. Norint grįžti į navigacijos puslapį, turėtų būti spaudžiamas mygtukas „Navigacija\". ",null,null,null,null,null,"D.4.13. Valymo išlaidos",null,null,null,{"$f":"SUM(M33:OFFSET(M33,0,1000))","v":0},0,0,0,0,0,0,0,0,0]
[null,null,null,null,null,null,null,"D.4.14. Draudimo išlaidos",null,null,null,{"$f":"SUM(M34:OFFSET(M34,0,1000))","v":0},0,0,0,0,0,0,0,0,0]
[null,"SVARBU: Pilka spalva pažymėti langeliai yra skirti skaičiavimams bei duomenų įvedimui, kurie yra atliekami formulių pagalba ir neturėtų būti keičiami rankiniu būdu.",null,null,null,null,null,"D.4.15. Kitos išlaidos",null,null,null,{"$f":"SUM(M35:OFFSET(M35,0,1000))","v":0},{"$f":"OFFSET(M35,33,0) + OFFSET(M35,32,0)","v":0},0,0,0,0,0,0,0,0]
[null,null,null,null,null,null,null,"D.5. Remonto išlaidos",null,null,null,{"$f":"SUM(M36:OFFSET(M36,0,1000))","v":0},{"$f":"OFFSET(M36,33,0)","v":0},0,0,0,0,0,0,0,0]
[null,null,null,null,null,null,null,"D.5.1. Einamojo remonto išlaidos",null,null,null,{"$f":"SUM(M37:OFFSET(M37,0,1000))","v":0},0,0,0,0,0,0,0,0,0]
[null,"Dalis žalia spalva pažymėtų langelių, priklausomai nuo pasirinkimų, tampa pilkais, įstrižine juosta perbrauktais langeliais. Šie langeliai yra neaktualūs.",null,null,null,{"$f":"IFERROR(IF(AND(F39=\"Pradėta\",G40<>\"Ne\"),\"Taip\",\"Ne\"),\"Ne\")","v":"Ne"},null,"D.6. Utilizavimo išlaidos",null,null,null,{"$f":"SUM(M38:OFFSET(M38,0,1000))","v":0},0,0,0,0,0,0,0,0,0]
[null,null,null,null,null,{"$f":"IF(MATCH(\"Grįžti į viršų\",E45:E9505,0),\"Pradėta\",\"Ne\")","v":{"$error":"#N/A"}},null,"D.6.1. Atliekų surinkimo išlaidos",null,null,null,{"$f":"SUM(M39:OFFSET(M39,0,1000))","v":0},0,0,0,0,0,0,0,0,0]
[null,null,null,null,null,{"$f":"IF(COUNTIF(E45:E910,\"Ne\"),\"Ne\",\"Taip\")","v":"Taip"},{"$f":"IFERROR(IF(F40=\"Taip\",\"Taip\",\"Ne\"),\"Taip\")","v":"Taip"},"D.6.2. Perdirbimo išlaidos",null,null,null,{"$f":"SUM(M40:OFFSET(M40,0,1000))","v":0},0,0,0,0,0,0,0,0,0]
[null,null,null,null,null,null,null,"D.6.3. Turto išmontavimo (nugriovimo išlaidos)",null,null,null,{"$f":"SUM(M41:OFFSET(M41,0,1000))","v":0},0,0,0,0,0,0,0,0,0]
[null,null,null,null,null,null,null,"D.7. Kitos išlaidos",null,null,null,{"$f":"SUM(M42:OFFSET(M42,0,1000))","v":0},0,0,0,0,0,0,0,0,0]
[null,null,null,null,null,null,null,"D'. Veiklos išlaidos pagal pildančios institucijos numatytas palaikymo apimtis",null,null,null,{"$f":"SUM(M43:OFFSET(M43,0,1000))","v":0},0,0,0,0,0,0,0,0,0]

{"sheet":"4. Durys","index":8,"n_rows":43,"n_cols":21,"rows_kept":43,"cut":false,"hidden":true,"merged":[[36,1,36,4],[37,1,38,4],[39,1,39,4],[27,1,27,4],[28,1,30,4],[31,1,31,4],[32,1,32,4],[33,1,33,4],[20,1,20,4],[21,1,22,4],[23,1,23,4],[24,1,26,4],[34,1,35,4],[42,7,42,10],[0,1,2,4],[14,7,14,10],[15,7,15,10],[16,7,16,10],[17,7,17,10],[0,7,0,10],[1,7,1,10],[2,7,2,10],[8,7,8,10],[9,7,9,10],[3,7,3,10],[4,7,4,10],[3,1,3,4],[4,1,5,4],[6,1,6,4],[5,7,5,10],[6,7,6,10],[11,1,15,4],[16,1,16,4],[41,7,41,10],[7,1,9,4],[10,1,10,4],[7,7,7,10],[18,7,18,10],[19,7,19,10],[37,7,37,10],[10,7,10,10],[35,7,35,10],[11,7,11,10],[12,7,12,10],[17,1,19,4]]}
[null,"4. Durys\n\nPildymo instrukcijos",null,null,null,null,null,"Pastato elemento išlaidų apibendrinimas"]
[null,null,null,null,null,null,null,"Investicijų išlaidos",null,null,null,"Iš viso, EUR",{"$f":"YEAR('Bendrieji įvesties duomenys'!$C$6)+COLUMN(L2)-12","v":2019},{"$f":"YEAR('Bendrieji įvesties duomenys'!$C$6)+COLUMN(M2)-12","v":2020},{"$f":"YEAR('Bendrieji įvesties duomenys'!$C$6)+COLUMN(N2)-12","v":2021},{"$f":"YEAR('Bendrieji įvesties duomenys'!$C$6)+COLUMN(O2)-12","v":2022},{"$f":"YEAR('Bendrieji įvesties duomenys'!$C$6)+COLUMN(P2)-12","v":2023},{"$f":"YEAR('Bendrieji įvesties duomenys'!$C$6)+COLUMN(Q2)-12","v":2024},{"$f":"YEAR('Bendrieji įvesties duomenys'!$C$6)+COLUMN(R2)-12","v":2025},{"$f":"YEAR('Bendrieji įvesties duomenys'!$C$6)+COLUMN(S2)-12","v":2026},{"$f":"YEAR('Bendrieji įvesties duomenys'!$C$6)+COLUMN(T2)-12","v":2027}]
[null,null,null,null,null,null,null,"A. Turto įsigijimo ir kūrimo išlaidos išlaidos",null,null,null,{"$f":"SUM(M3:OFFSET(M3,0,1000))","v":0},{"$f":"OFFSET(M3,46,0)","v":0},0,0,0,0,0,0,0,0]
[null,null,null,null,null,null,null,"A.1. Žaliavų, medžiagų, sudedamųjų dalių ir detalių, sunaudotų kuriant ilgalaikį turtą, įsigijimo išlaidos",null,null,null,{"$f":"SUM(M4:OFFSET(M4,0,1000))","v":0},0,0,0,0,0,0,0,0,0]
[null,"1.  Paspaudus žemiau esantį mygtuką „Pridėti“, inicijuojamas duomenų pildymo procesas ir sukuriama duomenų įvesties lentelė.",null,null,null,null,null,"A.2. Statyba",null,null,null,{"$f":"SUM(M5:OFFSET(M5,0,1000))","v":0},0,0,0,0,0,0,0,0,0]
[null,null,null,null,null,null,null,"A.3. Rekonstravimas",null,null,null,{"$f":"SUM(M6:OFFSET(M6,0,1000))","v":0},0,0,0,0,0,0,0,0,0]
[null,null,null,null,null,null,null,"A.4. Kapitalinis remontas",null,null,null,{"$f":"SUM(M7:OFFSET(M7,0,1000))","v":0},0,0,0,0,0,0,0,0,0]
[null,"2. Lentelėje „Pastato elemento fiziniai parametrai ir tarnavimo laikotarpis“, pildytojas turėtų  užpildyti visus žalia spalva pažymėtus E stulpelio laukelius, atsižvelgiant į B stulpelyje pateiktus laukelių aprašymus.",null,null,null,null,null,"A.5. Projektavimo paslaugos",null,null,null,{"$f":"SUM(M8:OFFSET(M8,0,1000))","v":0},0,0,0,0,0,0,0,0,0]
[null,null,null,null,null,null,null,"A.6. Techninės priežiūros paslaugos",null,null,null,{"$f":"SUM(M9:OFFSET(M9,0,1000))","v":0},0,0,0,0,0,0,0,0,0]
[null,null,null,null,null,null,null,"A.7. Kitos su investicijomis į ilgalaikį turtą susijusios paslaugos ir išlaidos",null,null,null,{"$f":"SUM(M10:OFFSET(M10,0,1000))","v":0},0,0,0,0,0,0,0,0,0]
[null,null,null,null,null,null,null,"B. Kitos paslaugos ir išlaidos",null,null,null,{"$f":"SUM(M11:OFFSET(M11,0,1000))","v":0},0,0,0,0,0,0,0,0,0]
[null,"3. Užpildžius lentelę „Pastato elemento fiziniai parametrai ir tarnavimo laikotarpis“, turėtų būti pereita prie „Pastato elemento išlaidų įvestis“ sekcijos. Šioje dalyje pildomos investicijų bei veiklos ir eksploatavimo išlaidos, susijusios su pasirinkta pastato elemento konstrukcija/tipu ar prietaisu/dalimi. Informacija veda į atitinkamus laukelius, nurodant tiek investicijų sumą (I-J stulpeliai), tiek investicijų/išlaidų pasikartojimo periodą (K stulpelis).",null,null,null,null,null,"C. Likutinės vertės pinigų srautas",null,null,null,{"$f":"SUM(M12:OFFSET(M12,0,1000))","v":0},0,0,0,0,0,0,0,0,0]
[null,null,null,null,null,null,null,"Iš viso (A + B)",null,null,null,{"$f":"SUM(M13:OFFSET(M13,0,1000))","v":0},{"$f":"M3+M11","v":0},{"$f":"N3+N11","v":0},0,0,0,0,0,0,0]
[]
[null,null,null,null,null,null,null,"Eksploatavimo ir veiklos išlaidos",null,null,null,"Iš viso, EUR",{"$f":"YEAR('Bendrieji įvesties duomenys'!$C$6)+COLUMN(L15)-12","v":2019},{"$f":"YEAR('Bendrieji įvesties duomenys'!$C$6)+COLUMN(M15)-12","v":2020},{"$f":"YEAR('Bendrieji įvesties duomenys'!$C$6)+COLUMN(N15)-12","v":2021},{"$f":"YEAR('Bendrieji įvesties duomenys'!$C$6)+COLUMN(O15)-12","v":2022},{"$f":"YEAR('Bendrieji įvesties duomenys'!$C$6)+COLUMN(P15)-12","v":2023},{"$f":"YEAR('Bendrieji įvesties duomenys'!$C$6)+COLUMN(Q15)-12","v":2024},{"$f":"YEAR('Bendrieji įvesties duomenys'!$C$6)+COLUMN(R15)-12","v":2025},{"$f":"YEAR('Bendrieji įvesties duomenys'!$C$6)+COLUMN(S15)-12","v":2026},{"$f":"YEAR('Bendrieji įvesties duomenys'!$C$6)+COLUMN(T15)-12","v":2027}]
[null,null,null,null,null,null,null,"D. Veiklos išlaidos laikantis rinkoje taikomų eksploatavimo apimčių",null,null,null,{"$f":"SUM(M16:OFFSET(M16,0,1000))","v":0},{"$f":"OFFSET(M16,46,0)","v":0},0,0,0,0,0,0,0,0]
[null,null,null,null,null,null,null,"D. Veiklos išlaidos laikantis pildančios institucijos taikomų eksploatavimo apimčių",null,null,null,{"$f":"SUM(M17:OFFSET(M17,0,1000))","v":0},0,0,0,0,0,0,0,0,0]
[null,"Pastaba: D'. Veiklos išlaidos pagal pildančios institucijos numatytas palaikymo apimtis apskaičiuojamos automatiškai pagal suvestas eksploatavimo ir veiklos išlaidas ir numato būsimas išlaidas kiekvienam periodui.",null,null,null,null,null,"D.1.Žaliavos",null,null,null,{"$f":"SUM(M18:OFFSET(M18,0,1000))","v":0},0,0,0,0,0,0,0,0,0]
[null,null,null,null,null,null,null,"D.2. Darbo užmokesčio išlaidos",null,null,null,{"$f":"SUM(M19:OFFSET(M19,0,1000))","v":0},0,0,0,0,0,0,0,0,0]
[null,null,null,null,null,null,null,"D.4. Infrastruktūros būklės palaikymo (eksploatavimo) išlaidos",null,null,null,{"$f":"SUM(M20:OFFSET(M20,0,1000))","v":0},0,0,0,0,0,0,0,0,0]
[null,null,null,null,null,null,null,"D.4.1. Vėdinimo sistemų įrenginių eksploatacijos išlaidos",null,null,null,{"$f":"SUM(M21:OFFSET(M21,0,1000))","v":0},{"$f":"1-1","v":0},{"$f":"1-1","v":0},0,0,0,0,0,0,0]
[null,"4. Norint pridėti dar vieną su pastato elementu susijusią sąnaudų įvesties lentelę, spaudžiamas mygtukas „Pridėti“ ir kartojami 2-3 žingsniuose aprašyti veiksmai.",null,null,null,null,null,"D.4.2. Šilumos sistemų tinklų palaikymo (eksploatavimo) išlaidos",null,null,null,{"$f":"SUM(M22:OFFSET(M22,0,1000))","v":0},0,0,0,0,0,0,0,0,0]
[null,null,null,null,null,null,null,"D.4.3. Oro kondicionavimo ir šaldymo įrenginių eksploatacijos išlaidos",null,null,null,{"$f":"SUM(M23:OFFSET(M23,0,1000))","v":0},0,0,0,0,0,0,0,0,0]
[null,null,null,null,null,null,null,"D.4.4. Vandentiekio ir nuotekų tinklų įrenginių eksploatacijos išlaidos",null,null,null,{"$f":"SUM(M24:OFFSET(M24,0,1000))","v":0},0,0,0,0,0,0,0,0,0]
[null,"5. Esant įvesties klaidoms ar norint pašalinti perteklinę pastato elemento įvesties lentelę, spaudžiamas mygtukas „Ištrinti“ bei įvedamas lentelės numeris, kuris yra kiekvienos lentelės kairiojo kampo viršuje.",null,null,null,null,null,"D.4.5 Lietaus surinkimo ir drenažo sistemos eksploatacijos išlaidos ",null,null,null,{"$f":"SUM(M25:OFFSET(M25,0,1000))","v":0},0,0,0,0,0,0,0,0,0]
[null,null,null,null,null,null,null,"D.4.6. Elektros tinklų įrenginių ekploatacijos išlaidos",null,null,null,{"$f":"SUM(M26:OFFSET(M26,0,1000))","v":0},0,0,0,0,0,0,0,0,0]
[null,null,null,null,null,null,null,"D.4.7. Dujotekio sistemos įrenginių eksploatacijos išlaidos",null,null,null,{"$f":"SUM(M27:OFFSET(M27,0,1000))","v":0},0,0,0,0,0,0,0,0,0]
[null,null,null,null,null,null,null,"D.4.8. Gaisro gesinimo ir perspėjimo sistemų įrenginių eksploatacijos išlaidos",null,null,null,{"$f":"SUM(M28:OFFSET(M28,0,1000))","v":0},0,0,0,0,0,0,0,0,0]
[null,"6. Informacija, pateikta atskirose pastato elementų įvesties lentelėse, atsispindi apibendrinimo lapuose, kur apskaičiuojama bendroji GCS suma: „Elementų išlaidų apibendrinimas“, „Pastato išlaidų apibendrinimas“",null,null,null,null,null,"D.4.9. Apsaugos sistemos įrenginių ekploatacijos išlaidos",null,null,null,{"$f":"SUM(M29:OFFSET(M29,0,1000))","v":0},0,0,0,0,0,0,0,0,0]
[null,null,null,null,null,null,null,"D.4.10. Telekomunikacijos sistemos įrenginių eksploatacijos išlaidos",null,null,null,{"$f":"SUM(M30:OFFSET(M30,0,1000))","v":0},0,0,0,0,0,0,0,0,0]
[null,null,null,null,null,null,null,"D.4.11. Transportavimo sistemos įrenginių ekploatacijos išlaidos",null,null,null,{"$f":"SUM(M31:OFFSET(M31,0,1000))","v":0},0,0,0,0,0,0,0,0,0]
[null,null,null,null,null,null,null,"D.4.12. Apsaugos išlaidos",null,null,null,{"$f":"SUM(M32:OFFSET(M32,0,1000))","v":0},0,{"$f":"1-1","v":0},0,0,0,0,0,0,0]
[null,"7. Norint grįžti į navigacijos puslapį, turėtų būti spaudžiamas mygtukas „Navigacija\". ",null,null,null,null,null,"D.4.13. Valymo išlaidos",null,null,null,{"$f":"SUM(M33:OFFSET(M33,0,1000))","v":0},0,0,0,0,0,0,0,0,0]
[null,null,null,null,null,null,null,"D.4.14. Draudimo išlaidos",null,null,null,{"$f":"SUM(M34:OFFSET(M34,0,1000))","v":0},0,0,0,0,0,0,0,0,0]
[null,"SVARBU: Pilka spalva pažymėti langeliai yra skirti skaičiavimams bei duomenų įvedimui, kurie yra atliekami formulių pagalba ir neturėtų būti keičiami rankiniu būdu.",null,null,null,null,null,"D.4.15. Kitos išlaidos",null,null,null,{"$f":"SUM(M35:OFFSET(M35,0,1000))","v":0},{"$f":"OFFSET(M35,33,0) + OFFSET(M35,32,0)","v":0},0,0,0,0,0,0,0,0]
[null,null,null,null,null,null,null,"D.5. Remonto išlaidos",null,null,null,{"$f":"SUM(M36:OFFSET(M36,0,1000))","v":0},{"$f":"OFFSET(M36,33,0)","v":0},0,0,0,0,0,0,0,0]
[null,null,null,null,null,null,null,"D.5.1. Einamojo remonto išlaidos",null,null,null,{"$f":"SUM(M37:OFFSET(M37,0,1000))","v":0},0,0,0,0,0,0,0,0,0]
[null,"Dalis žalia spalva pažymėtų langelių, priklausomai nuo pasirinkimų, tampa pilkais, įstrižine juosta perbrauktais langeliais. Šie langeliai yra neaktualūs.",null,null,null,{"$f":"IFERROR(IF(AND(F39=\"Pradėta\",G40<>\"Ne\"),\"Taip\",\"Ne\"),\"Ne\")","v":"Ne"},null,"D.6. Utilizavimo išlaidos",null,null,null,{"$f":"SUM(M38:OFFSET(M38,0,1000))","v":0},0,0,0,0,0,0,0,0,0]
[null,null,null,null,null,{"$f":"IF(MATCH(\"Grįžti į viršų\",E45:E9550,0),\"Pradėta\",\"Ne\")","v":{"$error":"#N/A"}},null,"D.6.1. Atliekų surinkimo išlaidos",null,null,null,{"$f":"SUM(M39:OFFSET(M39,0,1000))","v":0},0,0,0,0,0,0,0,0,0]
[null,null,null,null,null,{"$f":"IF(COUNTIF(E45:E955,\"Ne\"),\"Ne\",\"Taip\")","v":"Taip"},{"$f":"IFERROR(IF(F40=\"Taip\",\"Taip\",\"Ne\"),\"Taip\")","v":"Taip"},"D.6.2. Perdirbimo išlaidos",null,null,null,{"$f":"SUM(M40:OFFSET(M40,0,1000))","v":0},0,0,0,0,0,0,0,0,0]
[null,null,null,null,null,null,null,"D.6.3. Turto išmontavimo (nugriovimo išlaidos)",null,null,null,{"$f":"SUM(M41:OFFSET(M41,0,1000))","v":0},0,0,0,0,0,0,0,0,0]
[null,null,null,null,null,null,null,"D.7. Kitos išlaidos",null,null,null,{"$f":"SUM(M42:OFFSET(M42,0,1000))","v":0},0,0,0,0,0,0,0,0,0]
[null,null,null,null,null,null,null,"D'. Veiklos išlaidos pagal pildančios institucijos numatytas palaikymo apimtis",null,null,null,{"$f":"SUM(M43:OFFSET(M43,0,1000))","v":0},0,0,0,0,0,0,0,0,0]

{"sheet":"5. Langai","index":9,"n_rows":43,"n_cols":21,"rows_kept":43,"cut":false,"hidden":true,"merged":[[37,1,38,4],[39,1,39,4],[28,1,30,4],[31,1,31,4],[32,1,32,4],[33,1,33,4],[34,1,35,4],[21,1,22,4],[23,1,23,4],[24,1,26,4],[27,1,27,4],[36,1,36,4],[10,1,10,4],[11,1,15,4],[16,1,16,4],[17,1,19,4],[20,1,20,4],[0,1,2,4],[14,7,14,10],[15,7,15,10],[16,7,16,10],[17,7,17,10],[0,7,0,10],[6,7,6,10],[7,7,7,10],[8,7,8,10],[9,7,9,10],[1,7,1,10],[2,7,2,10],[3,1,3,4],[4,1,5,4],[6,1,6,4],[7,1,9,4],[42,7,42,10],[18,7,18,10],[19,7,19,10],[37,7,37,10],[3,7,3,10],[4,7,4,10],[5,7,5,10],[41,7,41,10],[10,7,10,10],[35,7,35,10],[11,7,11,10],[12,7,12,10]]}
[null,"5. Langai\n\nPildymo instrukcijos",null,null,null,null,null,"Pastato elemento išlaidų apibendrinimas"]
[null,null,null,null,null,null,null,"Investicijų išlaidos",null,null,null,"Iš viso, EUR",{"$f":"YEAR('Bendrieji įvesties duomenys'!$C$6)+COLUMN(L2)-12","v":2019},{"$f":"YEAR('Bendrieji įvesties duomenys'!$C$6)+COLUMN(M2)-12","v":2020},{"$f":"YEAR('Bendrieji įvesties duomenys'!$C$6)+COLUMN(N2)-12","v":2021},{"$f":"YEAR('Bendrieji įvesties duomenys'!$C$6)+COLUMN(O2)-12","v":2022},{"$f":"YEAR('Bendrieji įvesties duomenys'!$C$6)+COLUMN(P2)-12","v":2023},{"$f":"YEAR('Bendrieji įvesties duomenys'!$C$6)+COLUMN(Q2)-12","v":2024},{"$f":"YEAR('Bendrieji įvesties duomenys'!$C$6)+COLUMN(R2)-12","v":2025},{"$f":"YEAR('Bendrieji įvesties duomenys'!$C$6)+COLUMN(S2)-12","v":2026},{"$f":"YEAR('Bendrieji įvesties duomenys'!$C$6)+COLUMN(T2)-12","v":2027}]
[null,null,null,null,null,null,null,"A. Turto įsigijimo ir kūrimo išlaidos išlaidos",null,null,null,{"$f":"SUM(M3:OFFSET(M3,0,1000))","v":0},{"$f":"OFFSET(M3,46,0)","v":0},0,0,0,0,0,0,0,0]
[null,null,null,null,null,null,null,"A.1. Žaliavų, medžiagų, sudedamųjų dalių ir detalių, sunaudotų kuriant ilgalaikį turtą, įsigijimo išlaidos",null,null,null,{"$f":"SUM(M4:OFFSET(M4,0,1000))","v":0},0,0,0,0,0,0,0,0,0]
[null,"1.  Paspaudus žemiau esantį mygtuką „Pridėti“, inicijuojamas duomenų pildymo procesas ir sukuriama duomenų įvesties lentelė.",null,null,null,null,null,"A.2. Statyba",null,null,null,{"$f":"SUM(M5:OFFSET(M5,0,1000))","v":0},0,0,0,0,0,0,0,0,0]
[null,null,null,null,null,null,null,"A.3. Rekonstravimas",null,null,null,{"$f":"SUM(M6:OFFSET(M6,0,1000))","v":0},0,0,0,0,0,0,0,0,0]
[null,null,null,null,null,null,null,"A.4. Kapitalinis remontas",null,null,null,{"$f":"SUM(M7:OFFSET(M7,0,1000))","v":0},0,0,0,0,0,0,0,0,0]
[null,"2. Lentelėje „Pastato elemento fiziniai parametrai ir tarnavimo laikotarpis“, pildytojas turėtų  užpildyti visus žalia spalva pažymėtus E stulpelio laukelius, atsižvelgiant į B stulpelyje pateiktus laukelių aprašymus.",null,null,null,null,null,"A.5. Projektavimo paslaugos",null,null,null,{"$f":"SUM(M8:OFFSET(M8,0,1000))","v":0},0,0,0,0,0,0,0,0,0]
[null,null,null,null,null,null,null,"A.6. Techninės priežiūros paslaugos",null,null,null,{"$f":"SUM(M9:OFFSET(M9,0,1000))","v":0},0,0,0,0,0,0,0,0,0]
[null,null,null,null,null,null,null,"A.7. Kitos su investicijomis į ilgalaikį turtą susijusios paslaugos ir išlaidos",null,null,null,{"$f":"SUM(M10:OFFSET(M10,0,1000))","v":0},0,0,0,0,0,0,0,0,0]
[null,null,null,null,null,null,null,"B. Kitos paslaugos ir išlaidos",null,null,null,{"$f":"SUM(M11:OFFSET(M11,0,1000))","v":0},0,0,0,0,0,0,0,0,0]
[null,"3. Užpildžius lentelę „Pastato elemento fiziniai parametrai ir tarnavimo laikotarpis“, turėtų būti pereita prie „Pastato elemento išlaidų įvestis“ sekcijos. Šioje dalyje pildomos investicijų bei veiklos ir eksploatavimo išlaidos, susijusios su pasirinkta pastato elemento konstrukcija/tipu ar prietaisu/dalimi. Informacija veda į atitinkamus laukelius, nurodant tiek investicijų sumą (I-J stulpeliai), tiek investicijų/išlaidų pasikartojimo periodą (K stulpelis).",null,null,null,null,null,"C. Likutinės vertės pinigų srautas",null,null,null,{"$f":"SUM(M12:OFFSET(M12,0,1000))","v":0},0,0,0,0,0,0,0,0,0]
[null,null,null,null,null,null,null,"Iš viso (A + B)",null,null,null,{"$f":"SUM(M13:OFFSET(M13,0,1000))","v":0},{"$f":"M3+M11","v":0},{"$f":"N3+N11","v":0},0,0,0,0,0,0,0]
[]
[null,null,null,null,null,null,null,"Eksploatavimo ir veiklos išlaidos",null,null,null,"Iš viso, EUR",{"$f":"YEAR('Bendrieji įvesties duomenys'!$C$6)+COLUMN(L15)-12","v":2019},{"$f":"YEAR('Bendrieji įvesties duomenys'!$C$6)+COLUMN(M15)-12","v":2020},{"$f":"YEAR('Bendrieji įvesties duomenys'!$C$6)+COLUMN(N15)-12","v":2021},{"$f":"YEAR('Bendrieji įvesties duomenys'!$C$6)+COLUMN(O15)-12","v":2022},{"$f":"YEAR('Bendrieji įvesties duomenys'!$C$6)+COLUMN(P15)-12","v":2023},{"$f":"YEAR('Bendrieji įvesties duomenys'!$C$6)+COLUMN(Q15)-12","v":2024},{"$f":"YEAR('Bendrieji įvesties duomenys'!$C$6)+COLUMN(R15)-12","v":2025},{"$f":"YEAR('Bendrieji įvesties duomenys'!$C$6)+COLUMN(S15)-12","v":2026},{"$f":"YEAR('Bendrieji įvesties duomenys'!$C$6)+COLUMN(T15)-12","v":2027}]
[null,null,null,null,null,null,null,"D. Veiklos išlaidos laikantis rinkoje taikomų eksploatavimo apimčių",null,null,null,{"$f":"SUM(M16:OFFSET(M16,0,1000))","v":0},{"$f":"OFFSET(M16,46,0)","v":0},0,0,0,0,0,0,0,0]
[null,null,null,null,null,null,null,"D. Veiklos išlaidos laikantis pildančios institucijos taikomų eksploatavimo apimčių",null,null,null,{"$f":"SUM(M17:OFFSET(M17,0,1000))","v":0},0,0,0,0,0,0,0,0,0]
[null,"Pastaba: D'. Veiklos išlaidos pagal pildančios institucijos numatytas palaikymo apimtis apskaičiuojamos automatiškai pagal suvestas eksploatavimo ir veiklos išlaidas ir numato būsimas išlaidas kiekvienam periodui.",null,null,null,null,null,"D.1.Žaliavos",null,null,null,{"$f":"SUM(M18:OFFSET(M18,0,1000))","v":0},0,0,0,0,0,0,0,0,0]
[null,null,null,null,null,null,null,"D.2. Darbo užmokesčio išlaidos",null,null,null,{"$f":"SUM(M19:OFFSET(M19,0,1000))","v":0},0,0,0,0,0,0,0,0,0]
[null,null,null,null,null,null,null,"D.4. Infrastruktūros būklės palaikymo (eksploatavimo) išlaidos",null,null,null,{"$f":"SUM(M20:OFFSET(M20,0,1000))","v":0},0,0,0,0,0,0,0,0,0]
[null,null,null,null,null,null,null,"D.4.1. Vėdinimo sistemų įrenginių eksploatacijos išlaidos",null,null,null,{"$f":"SUM(M21:OFFSET(M21,0,1000))","v":0},{"$f":"1-1","v":0},{"$f":"1-1","v":0},0,0,0,0,0,0,0]
[null,"4. Norint pridėti dar vieną su pastato elementu susijusią sąnaudų įvesties lentelę, spaudžiamas mygtukas „Pridėti“ ir kartojami 2-3 žingsniuose aprašyti veiksmai.",null,null,null,null,null,"D.4.2. Šilumos sistemų tinklų palaikymo (eksploatavimo) išlaidos",null,null,null,{"$f":"SUM(M22:OFFSET(M22,0,1000))","v":0},0,0,0,0,0,0,0,0,0]
[null,null,null,null,null,null,null,"D.4.3. Oro kondicionavimo ir šaldymo įrenginių eksploatacijos išlaidos",null,null,null,{"$f":"SUM(M23:OFFSET(M23,0,1000))","v":0},0,0,0,0,0,0,0,0,0]
[null,null,null,null,null,null,null,"D.4.4. Vandentiekio ir nuotekų tinklų įrenginių eksploatacijos išlaidos",null,null,null,{"$f":"SUM(M24:OFFSET(M24,0,1000))","v":0},0,0,0,0,0,0,0,0,0]
[null,"5. Esant įvesties klaidoms ar norint pašalinti perteklinę pastato elemento įvesties lentelę, spaudžiamas mygtukas „Ištrinti“ bei įvedamas lentelės numeris, kuris yra kiekvienos lentelės kairiojo kampo viršuje.",null,null,null,null,null,"D.4.5 Lietaus surinkimo ir drenažo sistemos eksploatacijos išlaidos ",null,null,null,{"$f":"SUM(M25:OFFSET(M25,0,1000))","v":0},0,0,0,0,0,0,0,0,0]
[null,null,null,null,null,null,null,"D.4.6. Elektros tinklų įrenginių ekploatacijos išlaidos",null,null,null,{"$f":"SUM(M26:OFFSET(M26,0,1000))","v":0},0,0,0,0,0,0,0,0,0]
[null,null,null,null,null,null,null,"D.4.7. Dujotekio sistemos įrenginių eksploatacijos išlaidos",null,null,null,{"$f":"SUM(M27:OFFSET(M27,0,1000))","v":0},0,0,0,0,0,0,0,0,0]
[null,null,null,null,null,null,null,"D.4.8. Gaisro gesinimo ir perspėjimo sistemų įrenginių eksploatacijos išlaidos",null,null,null,{"$f":"SUM(M28:OFFSET(M28,0,1000))","v":0},0,0,0,0,0,0,0,0,0]
[null,"6. Informacija, pateikta atskirose pastato elementų įvesties lentelėse, atsispindi apibendrinimo lapuose, kur apskaičiuojama bendroji GCS suma: „Elementų išlaidų apibendrinimas“, „Pastato išlaidų apibendrinimas“",null,null,null,null,null,"D.4.9. Apsaugos sistemos įrenginių ekploatacijos išlaidos",null,null,null,{"$f":"SUM(M29:OFFSET(M29,0,1000))","v":0},0,0,0,0,0,0,0,0,0]
[null,null,null,null,null,null,null,"D.4.10. Telekomunikacijos sistemos įrenginių eksploatacijos išlaidos",null,null,null,{"$f":"SUM(M30:OFFSET(M30,0,1000))","v":0},0,0,0,0,0,0,0,0,0]
[null,null,null,null,null,null,null,"D.4.11. Transportavimo sistemos įrenginių ekploatacijos išlaidos",null,null,null,{"$f":"SUM(M31:OFFSET(M31,0,1000))","v":0},0,0,0,0,0,0,0,0,0]
[null,null,null,null,null,null,null,"D.4.12. Apsaugos išlaidos",null,null,null,{"$f":"SUM(M32:OFFSET(M32,0,1000))","v":0},0,{"$f":"1-1","v":0},0,0,0,0,0,0,0]
[null,"7. Norint grįžti į navigacijos puslapį, turėtų būti spaudžiamas mygtukas „Navigacija\". ",null,null,null,null,null,"D.4.13. Valymo išlaidos",null,null,null,{"$f":"SUM(M33:OFFSET(M33,0,1000))","v":0},0,0,0,0,0,0,0,0,0]
[null,null,null,null,null,null,null,"D.4.14. Draudimo išlaidos",null,null,null,{"$f":"SUM(M34:OFFSET(M34,0,1000))","v":0},0,0,0,0,0,0,0,0,0]
[null,"SVARBU: Pilka spalva pažymėti langeliai yra skirti skaičiavimams bei duomenų įvedimui, kurie yra atliekami formulių pagalba ir neturėtų būti keičiami rankiniu būdu.",null,null,null,null,null,"D.4.15. Kitos išlaidos",null,null,null,{"$f":"1-1","v":0},{"$f":"OFFSET(M35,33,0) + OFFSET(M35,32,0)","v":0},0,0,0,0,0,0,0,0]
[null,null,null,null,null,null,null,"D.5. Remonto išlaidos",null,null,null,{"$f":"1-1","v":0},{"$f":"OFFSET(M36,33,0)","v":0},0,0,0,0,0,0,0,0]
[null,null,null,null,null,null,null,"D.5.1. Einamojo remonto išlaidos",null,null,null,0,0,0,0,0,0,0,0,0,0]
[null,"Dalis žalia spalva pažymėtų langelių, priklausomai nuo pasirinkimų, tampa pilkais, įstrižine juosta perbrauktais langeliais. Šie langeliai yra neaktualūs.",null,null,null,{"$f":"IFERROR(IF(AND(F39=\"Pradėta\",G40<>\"Ne\"),\"Taip\",\"Ne\"),\"Ne\")","v":"Ne"},null,"D.6. Utilizavimo išlaidos",null,null,null,0,0,0,0,0,0,0,0,0,0]
[null,null,null,null,null,{"$f":"IF(MATCH(\"Grįžti į viršų\",E45:E9550,0),\"Pradėta\",\"Ne\")","v":{"$error":"#N/A"}},null,"D.6.1. Atliekų surinkimo išlaidos",null,null,null,0,0,0,0,0,0,0,0,0,0]
[null,null,null,null,null,{"$f":"IF(COUNTIF(E45:E955,\"Ne\"),\"Ne\",\"Taip\")","v":"Taip"},{"$f":"IFERROR(IF(F40=\"Taip\",\"Taip\",\"Ne\"),\"Taip\")","v":"Taip"},"D.6.2. Perdirbimo išlaidos",null,null,null,0,0,0,0,0,0,0,0,0,0]
[null,null,null,null,null,null,null,"D.6.3. Turto išmontavimo (nugriovimo išlaidos)",null,null,null,0,0,0,0,0,0,0,0,0,0]
[null,null,null,null,null,null,null,"D.7. Kitos išlaidos",null,null,null,0,0,0,0,0,0,0,0,0,0]
[null,null,null,null,null,null,null,"D'. Veiklos išlaidos pagal pildančios institucijos numatytas palaikymo apimtis",null,null,null,0,0,0,0,0,0,0,0,0,0]

{"sheet":"6. Laiptai","index":10,"n_rows":43,"n_cols":21,"rows_kept":43,"cut":false,"hidden":true,"merged":[[39,1,39,4],[32,1,32,4],[33,1,33,4],[34,1,35,4],[36,1,36,4],[37,1,38,4],[23,1,23,4],[24,1,26,4],[27,1,27,4],[28,1,30,4],[31,1,31,4],[11,1,15,4],[16,1,16,4],[17,1,19,4],[20,1,20,4],[21,1,22,4],[3,1,3,4],[4,1,5,4],[6,1,6,4],[7,1,9,4],[10,1,10,4],[7,7,7,10],[8,7,8,10],[9,7,9,10],[1,7,1,10],[2,7,2,10],[3,7,3,10],[4,7,4,10],[5,7,5,10],[41,7,41,10],[42,7,42,10],[0,1,2,4],[14,7,14,10],[15,7,15,10],[16,7,16,10],[17,7,17,10],[18,7,18,10],[19,7,19,10],[37,7,37,10],[10,7,10,10],[35,7,35,10],[11,7,11,10],[12,7,12,10],[0,7,0,10],[6,7,6,10]]}
[null,"6. Laiptai\n\nPildymo instrukcijos",null,null,null,null,null,"Pastato elemento išlaidų apibendrinimas"]
[null,null,null,null,null,null,null,"Investicijų išlaidos",null,null,null,"Iš viso, EUR",{"$f":"YEAR('Bendrieji įvesties duomenys'!$C$6)+COLUMN(L2)-12","v":2019},{"$f":"YEAR('Bendrieji įvesties duomenys'!$C$6)+COLUMN(M2)-12","v":2020},{"$f":"YEAR('Bendrieji įvesties duomenys'!$C$6)+COLUMN(N2)-12","v":2021},{"$f":"YEAR('Bendrieji įvesties duomenys'!$C$6)+COLUMN(O2)-12","v":2022},{"$f":"YEAR('Bendrieji įvesties duomenys'!$C$6)+COLUMN(P2)-12","v":2023},{"$f":"YEAR('Bendrieji įvesties duomenys'!$C$6)+COLUMN(Q2)-12","v":2024},{"$f":"YEAR('Bendrieji įvesties duomenys'!$C$6)+COLUMN(R2)-12","v":2025},{"$f":"YEAR('Bendrieji įvesties duomenys'!$C$6)+COLUMN(S2)-12","v":2026},{"$f":"YEAR('Bendrieji įvesties duomenys'!$C$6)+COLUMN(T2)-12","v":2027}]
[null,null,null,null,null,null,null,"A. Turto įsigijimo ir kūrimo išlaidos išlaidos",null,null,null,{"$f":"SUM(M3:OFFSET(M3,0,1000))","v":0},{"$f":"OFFSET(M3,46,0)","v":0},0,0,0,0,0,0,0,0]
[null,null,null,null,null,null,null,"A.1. Žaliavų, medžiagų, sudedamųjų dalių ir detalių, sunaudotų kuriant ilgalaikį turtą, įsigijimo išlaidos",null,null,null,{"$f":"SUM(M4:OFFSET(M4,0,1000))","v":0},0,0,0,0,0,0,0,0,0]
[null,"1.  Paspaudus žemiau esantį mygtuką „Pridėti“, inicijuojamas duomenų pildymo procesas ir sukuriama duomenų įvesties lentelė.",null,null,null,null,null,"A.2. Statyba",null,null,null,{"$f":"SUM(M5:OFFSET(M5,0,1000))","v":0},0,0,0,0,0,0,0,0,0]
[null,null,null,null,null,null,null,"A.3. Rekonstravimas",null,null,null,{"$f":"SUM(M6:OFFSET(M6,0,1000))","v":0},0,0,0,0,0,0,0,0,0]
[null,null,null,null,null,null,null,"A.4. Kapitalinis remontas",null,null,null,{"$f":"SUM(M7:OFFSET(M7,0,1000))","v":0},0,0,0,0,0,0,0,0,0]
[null,"2. Lentelėje „Pastato elemento fiziniai parametrai ir tarnavimo laikotarpis“, pildytojas turėtų  užpildyti visus žalia spalva pažymėtus E stulpelio laukelius, atsižvelgiant į B stulpelyje pateiktus laukelių aprašymus.",null,null,null,null,null,"A.5. Projektavimo paslaugos",null,null,null,{"$f":"SUM(M8:OFFSET(M8,0,1000))","v":0},0,0,0,0,0,0,0,0,0]
[null,null,null,null,null,null,null,"A.6. Techninės priežiūros paslaugos",null,null,null,{"$f":"SUM(M9:OFFSET(M9,0,1000))","v":0},0,0,0,0,0,0,0,0,0]
[null,null,null,null,null,null,null,"A.7. Kitos su investicijomis į ilgalaikį turtą susijusios paslaugos ir išlaidos",null,null,null,{"$f":"SUM(M10:OFFSET(M10,0,1000))","v":0},0,0,0,0,0,0,0,0,0]
[null,null,null,null,null,null,null,"B. Kitos paslaugos ir išlaidos",null,null,null,{"$f":"SUM(M11:OFFSET(M11,0,1000))","v":0},0,0,0,0,0,0,0,0,0]
[null,"3. Užpildžius lentelę „Pastato elemento fiziniai parametrai ir tarnavimo laikotarpis“, turėtų būti pereita prie „Pastato elemento išlaidų įvestis“ sekcijos. Šioje dalyje pildomos investicijų bei veiklos ir eksploatavimo išlaidos, susijusios su pasirinkta pastato elemento konstrukcija/tipu ar prietaisu/dalimi. Informacija veda į atitinkamus laukelius, nurodant tiek investicijų sumą (I-J stulpeliai), tiek investicijų/išlaidų pasikartojimo periodą (K stulpelis).",null,null,null,null,null,"C. Likutinės vertės pinigų srautas",null,null,null,{"$f":"SUM(M12:OFFSET(M12,0,1000))","v":0},0,0,0,0,0,0,0,0,0]
[null,null,null,null,null,null,null,"Iš viso (A + B)",null,null,null,{"$f":"SUM(M13:OFFSET(M13,0,1000))","v":0},{"$f":"M3+M11","v":0},{"$f":"N3+N11","v":0},0,0,0,0,0,0,0]
[]
[null,null,null,null,null,null,null,"Eksploatavimo ir veiklos išlaidos",null,null,null,"Iš viso, EUR",{"$f":"YEAR('Bendrieji įvesties duomenys'!$C$6)+COLUMN(L15)-12","v":2019},{"$f":"YEAR('Bendrieji įvesties duomenys'!$C$6)+COLUMN(M15)-12","v":2020},{"$f":"YEAR('Bendrieji įvesties duomenys'!$C$6)+COLUMN(N15)-12","v":2021},{"$f":"YEAR('Bendrieji įvesties duomenys'!$C$6)+COLUMN(O15)-12","v":2022},{"$f":"YEAR('Bendrieji įvesties duomenys'!$C$6)+COLUMN(P15)-12","v":2023},{"$f":"YEAR('Bendrieji įvesties duomenys'!$C$6)+COLUMN(Q15)-12","v":2024},{"$f":"YEAR('Bendrieji įvesties duomenys'!$C$6)+COLUMN(R15)-12","v":2025},{"$f":"YEAR('Bendrieji įvesties duomenys'!$C$6)+COLUMN(S15)-12","v":2026},{"$f":"YEAR('Bendrieji įvesties duomenys'!$C$6)+COLUMN(T15)-12","v":2027}]
[null,null,null,null,null,null,null,"D. Veiklos išlaidos laikantis rinkoje taikomų eksploatavimo apimčių",null,null,null,{"$f":"SUM(M16:OFFSET(M16,0,1000))","v":0},{"$f":"OFFSET(M16,46,0)","v":0},0,0,0,0,0,0,0,0]
[null,null,null,null,null,null,null,"D. Veiklos išlaidos laikantis pildančios institucijos taikomų eksploatavimo apimčių",null,null,null,{"$f":"SUM(M17:OFFSET(M17,0,1000))","v":0},0,0,0,0,0,0,0,0,0]
[null,"Pastaba: D'. Veiklos išlaidos pagal pildančios institucijos numatytas palaikymo apimtis apskaičiuojamos automatiškai pagal suvestas eksploatavimo ir veiklos išlaidas ir numato būsimas išlaidas kiekvienam periodui.",null,null,null,null,null,"D.1.Žaliavos",null,null,null,{"$f":"SUM(M18:OFFSET(M18,0,1000))","v":0},0,0,0,0,0,0,0,0,0]
[null,null,null,null,null,null,null,"D.2. Darbo užmokesčio išlaidos",null,null,null,{"$f":"SUM(M19:OFFSET(M19,0,1000))","v":0},0,0,0,0,0,0,0,0,0]
[null,null,null,null,null,null,null,"D.4. Infrastruktūros būklės palaikymo (eksploatavimo) išlaidos",null,null,null,{"$f":"SUM(M20:OFFSET(M20,0,1000))","v":0},0,0,0,0,0,0,0,0,0]
[null,null,null,null,null,null,null,"D.4.1. Vėdinimo sistemų įrenginių eksploatacijos išlaidos",null,null,null,{"$f":"SUM(M21:OFFSET(M21,0,1000))","v":0},{"$f":"1-1","v":0},{"$f":"1-1","v":0},0,0,0,0,0,0,0]
[null,"4. Norint pridėti dar vieną su pastato elementu susijusią sąnaudų įvesties lentelę, spaudžiamas mygtukas „Pridėti“ ir kartojami 2-3 žingsniuose aprašyti veiksmai.",null,null,null,null,null,"D.4.2. Šilumos sistemų tinklų palaikymo (eksploatavimo) išlaidos",null,null,null,{"$f":"SUM(M22:OFFSET(M22,0,1000))","v":0},0,0,0,0,0,0,0,0,0]
[null,null,null,null,null,null,null,"D.4.3. Oro kondicionavimo ir šaldymo įrenginių eksploatacijos išlaidos",null,null,null,{"$f":"SUM(M23:OFFSET(M23,0,1000))","v":0},0,0,0,0,0,0,0,0,0]
[null,null,null,null,null,null,null,"D.4.4. Vandentiekio ir nuotekų tinklų įrenginių eksploatacijos išlaidos",null,null,null,{"$f":"SUM(M24:OFFSET(M24,0,1000))","v":0},0,0,0,0,0,0,0,0,0]
[null,"5. Esant įvesties klaidoms ar norint pašalinti perteklinę pastato elemento įvesties lentelę, spaudžiamas mygtukas „Ištrinti“ bei įvedamas lentelės numeris, kuris yra kiekvienos lentelės kairiojo kampo viršuje.",null,null,null,null,null,"D.4.5 Lietaus surinkimo ir drenažo sistemos eksploatacijos išlaidos ",null,null,null,{"$f":"SUM(M25:OFFSET(M25,0,1000))","v":0},0,0,0,0,0,0,0,0,0]
[null,null,null,null,null,null,null,"D.4.6. Elektros tinklų įrenginių ekploatacijos išlaidos",null,null,null,{"$f":"SUM(M26:OFFSET(M26,0,1000))","v":0},0,0,0,0,0,0,0,0,0]
[null,null,null,null,null,null,null,"D.4.7. Dujotekio sistemos įrenginių eksploatacijos išlaidos",null,null,null,{"$f":"SUM(M27:OFFSET(M27,0,1000))","v":0},0,0,0,0,0,0,0,0,0]
[null,null,null,null,null,null,null,"D.4.8. Gaisro gesinimo ir perspėjimo sistemų įrenginių eksploatacijos išlaidos",null,null,null,{"$f":"SUM(M28:OFFSET(M28,0,1000))","v":0},0,0,0,0,0,0,0,0,0]
[null,"6. Informacija, pateikta atskirose pastato elementų įvesties lentelėse, atsispindi apibendrinimo lapuose, kur apskaičiuojama bendroji GCS suma: „Elementų išlaidų apibendrinimas“, „Pastato išlaidų apibendrinimas“",null,null,null,null,null,"D.4.9. Apsaugos sistemos įrenginių ekploatacijos išlaidos",null,null,null,{"$f":"SUM(M29:OFFSET(M29,0,1000))","v":0},0,0,0,0,0,0,0,0,0]
[null,null,null,null,null,null,null,"D.4.10. Telekomunikacijos sistemos įrenginių eksploatacijos išlaidos",null,null,null,{"$f":"SUM(M30:OFFSET(M30,0,1000))","v":0},0,0,0,0,0,0,0,0,0]
[null,null,null,null,null,null,null,"D.4.11. Transportavimo sistemos įrenginių ekploatacijos išlaidos",null,null,null,{"$f":"SUM(M31:OFFSET(M31,0,1000))","v":0},0,0,0,0,0,0,0,0,0]
[null,null,null,null,null,null,null,"D.4.12. Apsaugos išlaidos",null,null,null,{"$f":"SUM(M32:OFFSET(M32,0,1000))","v":0},0,{"$f":"1-1","v":0},0,0,0,0,0,0,0]
[null,"7. Norint grįžti į navigacijos puslapį, turėtų būti spaudžiamas mygtukas „Navigacija\". ",null,null,null,null,null,"D.4.13. Valymo išlaidos",null,null,null,{"$f":"SUM(M33:OFFSET(M33,0,1000))","v":0},0,0,0,0,0,0,0,0,0]
[null,null,null,null,null,null,null,"D.4.14. Draudimo išlaidos",null,null,null,{"$f":"SUM(M34:OFFSET(M34,0,1000))","v":0},0,0,0,0,0,0,0,0,0]
[null,"SVARBU: Pilka spalva pažymėti langeliai yra skirti skaičiavimams bei duomenų įvedimui, kurie yra atliekami formulių pagalba ir neturėtų būti keičiami rankiniu būdu.",null,null,null,null,null,"D.4.15. Kitos išlaidos",null,null,null,{"$f":"SUM(M35:OFFSET(M35,0,1000))","v":0},{"$f":"OFFSET(M35,33,0) + OFFSET(M35,32,0)","v":0},0,0,0,0,0,0,0,0]
[null,null,null,null,null,null,null,"D.5. Remonto išlaidos",null,null,null,{"$f":"SUM(M36:OFFSET(M36,0,1000))","v":0},{"$f":"OFFSET(M36,33,0)","v":0},0,0,0,0,0,0,0,0]
[null,null,null,null,null,null,null,"D.5.1. Einamojo remonto išlaidos",null,null,null,{"$f":"SUM(M37:OFFSET(M37,0,1000))","v":0},0,0,0,0,0,0,0,0,0]
[null,"Dalis žalia spalva pažymėtų langelių, priklausomai nuo pasirinkimų, tampa pilkais, įstrižine juosta perbrauktais langeliais. Šie langeliai yra neaktualūs.",null,null,null,{"$f":"IFERROR(IF(AND(F39=\"Pradėta\",G40<>\"Ne\"),\"Taip\",\"Ne\"),\"Ne\")","v":"Ne"},null,"D.6. Utilizavimo išlaidos",null,null,null,{"$f":"SUM(M38:OFFSET(M38,0,1000))","v":0},0,0,0,0,0,0,0,0,0]
[null,null,null,null,null,{"$f":"IF(MATCH(\"Grįžti į viršų\",E45:E9505,0),\"Pradėta\",\"Ne\")","v":{"$error":"#N/A"}},null,"D.6.1. Atliekų surinkimo išlaidos",null,null,null,{"$f":"SUM(M39:OFFSET(M39,0,1000))","v":0},0,0,0,0,0,0,0,0,0]
[null,null,null,null,null,{"$f":"IF(COUNTIF(E45:E910,\"Ne\"),\"Ne\",\"Taip\")","v":"Taip"},{"$f":"IFERROR(IF(F40=\"Taip\",\"Taip\",\"Ne\"),\"Taip\")","v":"Taip"},"D.6.2. Perdirbimo išlaidos",null,null,null,{"$f":"SUM(M40:OFFSET(M40,0,1000))","v":0},0,0,0,0,0,0,0,0,0]
[null,null,null,null,null,null,null,"D.6.3. Turto išmontavimo (nugriovimo išlaidos)",null,null,null,{"$f":"SUM(M41:OFFSET(M41,0,1000))","v":0},0,0,0,0,0,0,0,0,0]
[null,null,null,null,null,null,null,"D.7. Kitos išlaidos",null,null,null,{"$f":"SUM(M42:OFFSET(M42,0,1000))","v":0},0,0,0,0,0,0,0,0,0]
[null,null,null,null,null,null,null,"D'. Veiklos išlaidos pagal pildančios institucijos numatytas palaikymo apimtis",null,null,null,{"$f":"SUM(M43:OFFSET(M43,0,1000))","v":0},0,0,0,0,0,0,0,0,0]

{"sheet":"7. Stogas","index":11,"n_rows":43,"n_cols":21,"rows_kept":43,"cut":false,"hidden":true,"merged":[[39,1,39,4],[32,1,32,4],[33,1,33,4],[34,1,35,4],[36,1,36,4],[37,1,38,4],[23,1,23,4],[24,1,26,4],[27,1,27,4],[28,1,30,4],[31,1,31,4],[11,1,15,4],[16,1,16,4],[17,1,19,4],[20,1,20,4],[21,1,22,4],[3,1,3,4],[4,1,5,4],[6,1,6,4],[7,1,9,4],[10,1,10,4],[7,7,7,10],[8,7,8,10],[9,7,9,10],[1,7,1,10],[2,7,2,10],[3,7,3,10],[4,7,4,10],[5,7,5,10],[41,7,41,10],[42,7,42,10],[0,1,2,4],[14,7,14,10],[15,7,15,10],[16,7,16,10],[17,7,17,10],[18,7,18,10],[19,7,19,10],[37,7,37,10],[10,7,10,10],[35,7,35,10],[11,7,11,10],[12,7,12,10],[0,7,0,10],[6,7,6,10]]}
[null,"7. Stogas\n\nPildymo instrukcijos",null,null,null,null,null,"Pastato elemento išlaidų apibendrinimas"]
[null,null,null,null,null,null,null,"Investicijų išlaidos",null,null,null,"Iš viso, EUR",{"$f":"YEAR('Bendrieji įvesties duomenys'!$C$6)+COLUMN(L2)-12","v":2019},{"$f":"YEAR('Bendrieji įvesties duomenys'!$C$6)+COLUMN(M2)-12","v":2020},{"$f":"YEAR('Bendrieji įvesties duomenys'!$C$6)+COLUMN(N2)-12","v":2021},{"$f":"YEAR('Bendrieji įvesties duomenys'!$C$6)+COLUMN(O2)-12","v":2022},{"$f":"YEAR('Bendrieji įvesties duomenys'!$C$6)+COLUMN(P2)-12","v":2023},{"$f":"YEAR('Bendrieji įvesties duomenys'!$C$6)+COLUMN(Q2)-12","v":2024},{"$f":"YEAR('Bendrieji įvesties duomenys'!$C$6)+COLUMN(R2)-12","v":2025},{"$f":"YEAR('Bendrieji įvesties duomenys'!$C$6)+COLUMN(S2)-12","v":2026},{"$f":"YEAR('Bendrieji įvesties duomenys'!$C$6)+COLUMN(T2)-12","v":2027}]
[null,null,null,null,null,null,null,"A. Turto įsigijimo ir kūrimo išlaidos išlaidos",null,null,null,{"$f":"SUM(M3:OFFSET(M3,0,1000))","v":0},{"$f":"OFFSET(M3,46,0)","v":0},0,0,0,0,0,0,0,0]
[null,null,null,null,null,null,null,"A.1. Žaliavų, medžiagų, sudedamųjų dalių ir detalių, sunaudotų kuriant ilgalaikį turtą, įsigijimo išlaidos",null,null,null,{"$f":"SUM(M4:OFFSET(M4,0,1000))","v":0},0,0,0,0,0,0,0,0,0]
[null,"1.  Paspaudus žemiau esantį mygtuką „Pridėti“, inicijuojamas duomenų pildymo procesas ir sukuriama duomenų įvesties lentelė.",null,null,null,null,null,"A.2. Statyba",null,null,null,{"$f":"SUM(M5:OFFSET(M5,0,1000))","v":0},0,0,0,0,0,0,0,0,0]
[null,null,null,null,null,null,null,"A.3. Rekonstravimas",null,null,null,{"$f":"SUM(M6:OFFSET(M6,0,1000))","v":0},0,0,0,0,0,0,0,0,0]
[null,null,null,null,null,null,null,"A.4. Kapitalinis remontas",null,null,null,{"$f":"SUM(M7:OFFSET(M7,0,1000))","v":0},0,0,0,0,0,0,0,0,0]
[null,"2. Lentelėje „Pastato elemento fiziniai parametrai ir tarnavimo laikotarpis“, pildytojas turėtų  užpildyti visus žalia spalva pažymėtus E stulpelio laukelius, atsižvelgiant į B stulpelyje pateiktus laukelių aprašymus.",null,null,null,null,null,"A.5. Projektavimo paslaugos",null,null,null,{"$f":"SUM(M8:OFFSET(M8,0,1000))","v":0},0,0,0,0,0,0,0,0,0]
[null,null,null,null,null,null,null,"A.6. Techninės priežiūros paslaugos",null,null,null,{"$f":"SUM(M9:OFFSET(M9,0,1000))","v":0},0,0,0,0,0,0,0,0,0]
[null,null,null,null,null,null,null,"A.7. Kitos su investicijomis į ilgalaikį turtą susijusios paslaugos ir išlaidos",null,null,null,{"$f":"SUM(M10:OFFSET(M10,0,1000))","v":0},0,0,0,0,0,0,0,0,0]
[null,null,null,null,null,null,null,"B. Kitos paslaugos ir išlaidos",null,null,null,{"$f":"SUM(M11:OFFSET(M11,0,1000))","v":0},0,0,0,0,0,0,0,0,0]
[null,"3. Užpildžius lentelę „Pastato elemento fiziniai parametrai ir tarnavimo laikotarpis“, turėtų būti pereita prie „Pastato elemento išlaidų įvestis“ sekcijos. Šioje dalyje pildomos investicijų bei veiklos ir eksploatavimo išlaidos, susijusios su pasirinkta pastato elemento konstrukcija/tipu ar prietaisu/dalimi. Informacija veda į atitinkamus laukelius, nurodant tiek investicijų sumą (I-J stulpeliai), tiek investicijų/išlaidų pasikartojimo periodą (K stulpelis).",null,null,null,null,null,"C. Likutinės vertės pinigų srautas",null,null,null,{"$f":"SUM(M12:OFFSET(M12,0,1000))","v":0},0,0,0,0,0,0,0,0,0]
[null,null,null,null,null,null,null,"Iš viso (A + B)",null,null,null,{"$f":"SUM(M13:OFFSET(M13,0,1000))","v":0},{"$f":"M3+M11","v":0},{"$f":"N3+N11","v":0},0,0,0,0,0,0,0]
[]
[null,null,null,null,null,null,null,"Eksploatavimo ir veiklos išlaidos",null,null,null,"Iš viso, EUR",{"$f":"YEAR('Bendrieji įvesties duomenys'!$C$6)+COLUMN(L15)-12","v":2019},{"$f":"YEAR('Bendrieji įvesties duomenys'!$C$6)+COLUMN(M15)-12","v":2020},{"$f":"YEAR('Bendrieji įvesties duomenys'!$C$6)+COLUMN(N15)-12","v":2021},{"$f":"YEAR('Bendrieji įvesties duomenys'!$C$6)+COLUMN(O15)-12","v":2022},{"$f":"YEAR('Bendrieji įvesties duomenys'!$C$6)+COLUMN(P15)-12","v":2023},{"$f":"YEAR('Bendrieji įvesties duomenys'!$C$6)+COLUMN(Q15)-12","v":2024},{"$f":"YEAR('Bendrieji įvesties duomenys'!$C$6)+COLUMN(R15)-12","v":2025},{"$f":"YEAR('Bendrieji įvesties duomenys'!$C$6)+COLUMN(S15)-12","v":2026},{"$f":"YEAR('Bendrieji įvesties duomenys'!$C$6)+COLUMN(T15)-12","v":2027}]
[null,null,null,null,null,null,null,"D. Veiklos išlaidos laikantis rinkoje taikomų eksploatavimo apimčių",null,null,null,{"$f":"SUM(M16:OFFSET(M16,0,1000))","v":0},{"$f":"OFFSET(M16,46,0)","v":0},0,0,0,0,0,0,0,0]
[null,null,null,null,null,null,null,"D. Veiklos išlaidos laikantis pildančios institucijos taikomų eksploatavimo apimčių",null,null,null,{"$f":"SUM(M17:OFFSET(M17,0,1000))","v":0},0,0,0,0,0,0,0,0,0]
[null,"Pastaba: D'. Veiklos išlaidos pagal pildančios institucijos numatytas palaikymo apimtis apskaičiuojamos automatiškai pagal suvestas eksploatavimo ir veiklos išlaidas ir numato būsimas išlaidas kiekvienam periodui.",null,null,null,null,null,"D.1.Žaliavos",null,null,null,{"$f":"SUM(M18:OFFSET(M18,0,1000))","v":0},0,0,0,0,0,0,0,0,0]
[null,null,null,null,null,null,null,"D.2. Darbo užmokesčio išlaidos",null,null,null,{"$f":"SUM(M19:OFFSET(M19,0,1000))","v":0},0,0,0,0,0,0,0,0,0]
[null,null,null,null,null,null,null,"D.4. Infrastruktūros būklės palaikymo (eksploatavimo) išlaidos",null,null,null,{"$f":"SUM(M20:OFFSET(M20,0,1000))","v":0},0,0,0,0,0,0,0,0,0]
[null,null,null,null,null,null,null,"D.4.1. Vėdinimo sistemų įrenginių eksploatacijos išlaidos",null,null,null,{"$f":"SUM(M21:OFFSET(M21,0,1000))","v":0},{"$f":"1-1","v":0},{"$f":"1-1","v":0},0,0,0,0,0,0,0]
[null,"4. Norint pridėti dar vieną su pastato elementu susijusią sąnaudų įvesties lentelę, spaudžiamas mygtukas „Pridėti“ ir kartojami 2-3 žingsniuose aprašyti veiksmai.",null,null,null,null,null,"D.4.2. Šilumos sistemų tinklų palaikymo (eksploatavimo) išlaidos",null,null,null,{"$f":"SUM(M22:OFFSET(M22,0,1000))","v":0},0,0,0,0,0,0,0,0,0]
[null,null,null,null,null,null,null,"D.4.3. Oro kondicionavimo ir šaldymo įrenginių eksploatacijos išlaidos",null,null,null,{"$f":"SUM(M23:OFFSET(M23,0,1000))","v":0},0,0,0,0,0,0,0,0,0]
[null,null,null,null,null,null,null,"D.4.4. Vandentiekio ir nuotekų tinklų įrenginių eksploatacijos išlaidos",null,null,null,{"$f":"SUM(M24:OFFSET(M24,0,1000))","v":0},0,0,0,0,0,0,0,0,0]
[null,"5. Esant įvesties klaidoms ar norint pašalinti perteklinę pastato elemento įvesties lentelę, spaudžiamas mygtukas „Ištrinti“ bei įvedamas lentelės numeris, kuris yra kiekvienos lentelės kairiojo kampo viršuje.",null,null,null,null,null,"D.4.5 Lietaus surinkimo ir drenažo sistemos eksploatacijos išlaidos ",null,null,null,{"$f":"SUM(M25:OFFSET(M25,0,1000))","v":0},0,0,0,0,0,0,0,0,0]
[null,null,null,null,null,null,null,"D.4.6. Elektros tinklų įrenginių ekploatacijos išlaidos",null,null,null,{"$f":"SUM(M26:OFFSET(M26,0,1000))","v":0},0,0,0,0,0,0,0,0,0]
[null,null,null,null,null,null,null,"D.4.7. Dujotekio sistemos įrenginių eksploatacijos išlaidos",null,null,null,{"$f":"SUM(M27:OFFSET(M27,0,1000))","v":0},0,0,0,0,0,0,0,0,0]
[null,null,null,null,null,null,null,"D.4.8. Gaisro gesinimo ir perspėjimo sistemų įrenginių eksploatacijos išlaidos",null,null,null,{"$f":"SUM(M28:OFFSET(M28,0,1000))","v":0},0,0,0,0,0,0,0,0,0]
[null,"6. Informacija, pateikta atskirose pastato elementų įvesties lentelėse, atsispindi apibendrinimo lapuose, kur apskaičiuojama bendroji GCS suma: „Elementų išlaidų apibendrinimas“, „Pastato išlaidų apibendrinimas“",null,null,null,null,null,"D.4.9. Apsaugos sistemos įrenginių ekploatacijos išlaidos",null,null,null,{"$f":"SUM(M29:OFFSET(M29,0,1000))","v":0},0,0,0,0,0,0,0,0,0]
[null,null,null,null,null,null,null,"D.4.10. Telekomunikacijos sistemos įrenginių eksploatacijos išlaidos",null,null,null,{"$f":"SUM(M30:OFFSET(M30,0,1000))","v":0},0,0,0,0,0,0,0,0,0]
[null,null,null,null,null,null,null,"D.4.11. Transportavimo sistemos įrenginių ekploatacijos išlaidos",null,null,null,{"$f":"SUM(M31:OFFSET(M31,0,1000))","v":0},0,0,0,0,0,0,0,0,0]
[null,null,null,null,null,null,null,"D.4.12. Apsaugos išlaidos",null,null,null,{"$f":"SUM(M32:OFFSET(M32,0,1000))","v":0},0,{"$f":"1-1","v":0},0,0,0,0,0,0,0]
[null,"7. Norint grįžti į navigacijos puslapį, turėtų būti spaudžiamas mygtukas „Navigacija\". ",null,null,null,null,null,"D.4.13. Valymo išlaidos",null,null,null,{"$f":"SUM(M33:OFFSET(M33,0,1000))","v":0},0,0,0,0,0,0,0,0,0]
[null,null,null,null,null,null,null,"D.4.14. Draudimo išlaidos",null,null,null,{"$f":"SUM(M34:OFFSET(M34,0,1000))","v":0},0,0,0,0,0,0,0,0,0]
[null,"SVARBU: Pilka spalva pažymėti langeliai yra skirti skaičiavimams bei duomenų įvedimui, kurie yra atliekami formulių pagalba ir neturėtų būti keičiami rankiniu būdu.",null,null,null,null,null,"D.4.15. Kitos išlaidos",null,null,null,{"$f":"SUM(M35:OFFSET(M35,0,1000))","v":0},{"$f":"OFFSET(M35,33,0) + OFFSET(M35,32,0)","v":0},0,0,0,0,0,0,0,0]
[null,null,null,null,null,null,null,"D.5. Remonto išlaidos",null,null,null,{"$f":"SUM(M36:OFFSET(M36,0,1000))","v":0},{"$f":"OFFSET(M36,33,0)","v":0},0,0,0,0,0,0,0,0]
[null,null,null,null,null,null,null,"D.5.1. Einamojo remonto išlaidos",null,null,null,{"$f":"SUM(M37:OFFSET(M37,0,1000))","v":0},0,0,0,0,0,0,0,0,0]
[null,"Dalis žalia spalva pažymėtų langelių, priklausomai nuo pasirinkimų, tampa pilkais, įstrižine juosta perbrauktais langeliais. Šie langeliai yra neaktualūs.",null,null,null,{"$f":"IFERROR(IF(AND(F39=\"Pradėta\",G40<>\"Ne\"),\"Taip\",\"Ne\"),\"Ne\")","v":"Ne"},null,"D.6. Utilizavimo išlaidos",null,null,null,{"$f":"SUM(M38:OFFSET(M38,0,1000))","v":0},0,0,0,0,0,0,0,0,0]
[null,null,null,null,null,{"$f":"IF(MATCH(\"Grįžti į viršų\",E45:E9550,0),\"Pradėta\",\"Ne\")","v":{"$error":"#N/A"}},null,"D.6.1. Atliekų surinkimo išlaidos",null,null,null,{"$f":"SUM(M39:OFFSET(M39,0,1000))","v":0},0,0,0,0,0,0,0,0,0]
[null,null,null,null,null,{"$f":"IF(COUNTIF(E45:E955,\"Ne\"),\"Ne\",\"Taip\")","v":"Taip"},{"$f":"IFERROR(IF(F40=\"Taip\",\"Taip\",\"Ne\"),\"Taip\")","v":"Taip"},"D.6.2. Perdirbimo išlaidos",null,null,null,{"$f":"SUM(M40:OFFSET(M40,0,1000))","v":0},0,0,0,0,0,0,0,0,0]
[null,null,null,null,null,null,null,"D.6.3. Turto išmontavimo (nugriovimo išlaidos)",null,null,null,{"$f":"SUM(M41:OFFSET(M41,0,1000))","v":0},0,0,0,0,0,0,0,0,0]
[null,null,null,null,null,null,null,"D.7. Kitos išlaidos",null,null,null,{"$f":"SUM(M42:OFFSET(M42,0,1000))","v":0},0,0,0,0,0,0,0,0,0]
[null,null,null,null,null,null,null,"D'. Veiklos išlaidos pagal pildančios institucijos numatytas palaikymo apimtis",null,null,null,{"$f":"SUM(M43:OFFSET(M43,0,1000))","v":0},0,0,0,0,0,0,0,0,0]

{"sheet":"8. Vidaus apdaila","index":12,"n_rows":43,"n_cols":21,"rows_kept":43,"cut":false,"hidden":true,"merged":[[39,1,39,4],[32,1,32,4],[33,1,33,4],[34,1,35,4],[36,1,36,4],[37,1,38,4],[23,1,23,4],[24,1,26,4],[27,1,27,4],[28,1,30,4],[31,1,31,4],[11,1,15,4],[16,1,16,4],[17,1,19,4],[20,1,20,4],[21,1,22,4],[3,1,3,4],[4,1,5,4],[6,1,6,4],[7,1,9,4],[10,1,10,4],[7,7,7,10],[8,7,8,10],[9,7,9,10],[1,7,1,10],[2,7,2,10],[3,7,3,10],[4,7,4,10],[5,7,5,10],[41,7,41,10],[42,7,42,10],[0,1,2,4],[14,7,14,10],[15,7,15,10],[16,7,16,10],[17,7,17,10],[18,7,18,10],[19,7,19,10],[37,7,37,10],[10,7,10,10],[35,7,35,10],[11,7,11,10],[12,7,12,10],[0,7,0,10],[6,7,6,10]]}
[null,"8. Vidaus apdaila\n\nPildymo instrukcijos",null,null,null,null,null,"Pastato elemento išlaidų apibendrinimas"]
[null,null,null,null,null,null,null,"Investicijų išlaidos",null,null,null,"Iš viso, EUR",{"$f":"YEAR('Bendrieji įvesties duomenys'!$C$6)+COLUMN(L2)-12","v":2019},{"$f":"YEAR('Bendrieji įvesties duomenys'!$C$6)+COLUMN(M2)-12","v":2020},{"$f":"YEAR('Bendrieji įvesties duomenys'!$C$6)+COLUMN(N2)-12","v":2021},{"$f":"YEAR('Bendrieji įvesties duomenys'!$C$6)+COLUMN(O2)-12","v":2022},{"$f":"YEAR('Bendrieji įvesties duomenys'!$C$6)+COLUMN(P2)-12","v":2023},{"$f":"YEAR('Bendrieji įvesties duomenys'!$C$6)+COLUMN(Q2)-12","v":2024},{"$f":"YEAR('Bendrieji įvesties duomenys'!$C$6)+COLUMN(R2)-12","v":2025},{"$f":"YEAR('Bendrieji įvesties duomenys'!$C$6)+COLUMN(S2)-12","v":2026},{"$f":"YEAR('Bendrieji įvesties duomenys'!$C$6)+COLUMN(T2)-12","v":2027}]
[null,null,null,null,null,null,null,"A. Turto įsigijimo ir kūrimo išlaidos išlaidos",null,null,null,{"$f":"SUM(M3:OFFSET(M3,0,1000))","v":0},{"$f":"OFFSET(M3,46,0)","v":0},0,0,0,0,0,0,0,0]
[null,null,null,null,null,null,null,"A.1. Žaliavų, medžiagų, sudedamųjų dalių ir detalių, sunaudotų kuriant ilgalaikį turtą, įsigijimo išlaidos",null,null,null,{"$f":"SUM(M4:OFFSET(M4,0,1000))","v":0},0,0,0,0,0,0,0,0,0]
[null,"1.  Paspaudus žemiau esantį mygtuką „Pridėti“, inicijuojamas duomenų pildymo procesas ir sukuriama duomenų įvesties lentelė.",null,null,null,null,null,"A.2. Statyba",null,null,null,{"$f":"SUM(M5:OFFSET(M5,0,1000))","v":0},0,0,0,0,0,0,0,0,0]
[null,null,null,null,null,null,null,"A.3. Rekonstravimas",null,null,null,{"$f":"SUM(M6:OFFSET(M6,0,1000))","v":0},0,0,0,0,0,0,0,0,0]
[null,null,null,null,null,null,null,"A.4. Kapitalinis remontas",null,null,null,{"$f":"SUM(M7:OFFSET(M7,0,1000))","v":0},0,0,0,0,0,0,0,0,0]
[null,"2. Lentelėje „Pastato elemento fiziniai parametrai ir tarnavimo laikotarpis“, pildytojas turėtų  užpildyti visus žalia spalva pažymėtus E stulpelio laukelius, atsižvelgiant į B stulpelyje pateiktus laukelių aprašymus.",null,null,null,null,null,"A.5. Projektavimo paslaugos",null,null,null,{"$f":"SUM(M8:OFFSET(M8,0,1000))","v":0},0,0,0,0,0,0,0,0,0]
[null,null,null,null,null,null,null,"A.6. Techninės priežiūros paslaugos",null,null,null,{"$f":"SUM(M9:OFFSET(M9,0,1000))","v":0},0,0,0,0,0,0,0,0,0]
[null,null,null,null,null,null,null,"A.7. Kitos su investicijomis į ilgalaikį turtą susijusios paslaugos ir išlaidos",null,null,null,{"$f":"SUM(M10:OFFSET(M10,0,1000))","v":0},0,0,0,0,0,0,0,0,0]
[null,null,null,null,null,null,null,"B. Kitos paslaugos ir išlaidos",null,null,null,{"$f":"SUM(M11:OFFSET(M11,0,1000))","v":0},0,0,0,0,0,0,0,0,0]
[null,"3. Užpildžius lentelę „Pastato elemento fiziniai parametrai ir tarnavimo laikotarpis“, turėtų būti pereita prie „Pastato elemento išlaidų įvestis“ sekcijos. Šioje dalyje pildomos investicijų bei veiklos ir eksploatavimo išlaidos, susijusios su pasirinkta pastato elemento konstrukcija/tipu ar prietaisu/dalimi. Informacija veda į atitinkamus laukelius, nurodant tiek investicijų sumą (I-J stulpeliai), tiek investicijų/išlaidų pasikartojimo periodą (K stulpelis).",null,null,null,null,null,"C. Likutinės vertės pinigų srautas",null,null,null,{"$f":"SUM(M12:OFFSET(M12,0,1000))","v":0},0,0,0,0,0,0,0,0,0]
[null,null,null,null,null,null,null,"Iš viso (A + B)",null,null,null,{"$f":"SUM(M13:OFFSET(M13,0,1000))","v":0},{"$f":"M3+M11","v":0},{"$f":"N3+N11","v":0},0,0,0,0,0,0,0]
[]
[null,null,null,null,null,null,null,"Eksploatavimo ir veiklos išlaidos",null,null,null,"Iš viso, EUR",{"$f":"YEAR('Bendrieji įvesties duomenys'!$C$6)+COLUMN(L15)-12","v":2019},{"$f":"YEAR('Bendrieji įvesties duomenys'!$C$6)+COLUMN(M15)-12","v":2020},{"$f":"YEAR('Bendrieji įvesties duomenys'!$C$6)+COLUMN(N15)-12","v":2021},{"$f":"YEAR('Bendrieji įvesties duomenys'!$C$6)+COLUMN(O15)-12","v":2022},{"$f":"YEAR('Bendrieji įvesties duomenys'!$C$6)+COLUMN(P15)-12","v":2023},{"$f":"YEAR('Bendrieji įvesties duomenys'!$C$6)+COLUMN(Q15)-12","v":2024},{"$f":"YEAR('Bendrieji įvesties duomenys'!$C$6)+COLUMN(R15)-12","v":2025},{"$f":"YEAR('Bendrieji įvesties duomenys'!$C$6)+COLUMN(S15)-12","v":2026},{"$f":"YEAR('Bendrieji įvesties duomenys'!$C$6)+COLUMN(T15)-12","v":2027}]
[null,null,null,null,null,null,null,"D. Veiklos išlaidos laikantis rinkoje taikomų eksploatavimo apimčių",null,null,null,{"$f":"SUM(M16:OFFSET(M16,0,1000))","v":0},{"$f":"OFFSET(M16,46,0)","v":0},0,0,0,0,0,0,0,0]
[null,null,null,null,null,null,null,"D. Veiklos išlaidos laikantis pildančios institucijos taikomų eksploatavimo apimčių",null,null,null,{"$f":"SUM(M17:OFFSET(M17,0,1000))","v":0},0,0,0,0,0,0,0,0,0]
[null,"Pastaba: D'. Veiklos išlaidos pagal pildančios institucijos numatytas palaikymo apimtis apskaičiuojamos automatiškai pagal suvestas eksploatavimo ir veiklos išlaidas ir numato būsimas išlaidas kiekvienam periodui.",null,null,null,null,null,"D.1.Žaliavos",null,null,null,{"$f":"SUM(M18:OFFSET(M18,0,1000))","v":0},0,0,0,0,0,0,0,0,0]
[null,null,null,null,null,null,null,"D.2. Darbo užmokesčio išlaidos",null,null,null,{"$f":"SUM(M19:OFFSET(M19,0,1000))","v":0},0,0,0,0,0,0,0,0,0]
[null,null,null,null,null,null,null,"D.4. Infrastruktūros būklės palaikymo (eksploatavimo) išlaidos",null,null,null,{"$f":"SUM(M20:OFFSET(M20,0,1000))","v":0},0,0,0,0,0,0,0,0,0]
[null,null,null,null,null,null,null,"D.4.1. Vėdinimo sistemų įrenginių eksploatacijos išlaidos",null,null,null,{"$f":"SUM(M21:OFFSET(M21,0,1000))","v":0},{"$f":"1-1","v":0},{"$f":"1-1","v":0},0,0,0,0,0,0,0]
[null,"4. Norint pridėti dar vieną su pastato elementu susijusią sąnaudų įvesties lentelę, spaudžiamas mygtukas „Pridėti“ ir kartojami 2-3 žingsniuose aprašyti veiksmai.",null,null,null,null,null,"D.4.2. Šilumos sistemų tinklų palaikymo (eksploatavimo) išlaidos",null,null,null,{"$f":"SUM(M22:OFFSET(M22,0,1000))","v":0},0,0,0,0,0,0,0,0,0]
[null,null,null,null,null,null,null,"D.4.3. Oro kondicionavimo ir šaldymo įrenginių eksploatacijos išlaidos",null,null,null,{"$f":"SUM(M23:OFFSET(M23,0,1000))","v":0},0,0,0,0,0,0,0,0,0]
[null,null,null,null,null,null,null,"D.4.4. Vandentiekio ir nuotekų tinklų įrenginių eksploatacijos išlaidos",null,null,null,{"$f":"SUM(M24:OFFSET(M24,0,1000))","v":0},0,0,0,0,0,0,0,0,0]
[null,"5. Esant įvesties klaidoms ar norint pašalinti perteklinę pastato elemento įvesties lentelę, spaudžiamas mygtukas „Ištrinti“ bei įvedamas lentelės numeris, kuris yra kiekvienos lentelės kairiojo kampo viršuje.",null,null,null,null,null,"D.4.5 Lietaus surinkimo ir drenažo sistemos eksploatacijos išlaidos ",null,null,null,{"$f":"SUM(M25:OFFSET(M25,0,1000))","v":0},0,0,0,0,0,0,0,0,0]
[null,null,null,null,null,null,null,"D.4.6. Elektros tinklų įrenginių ekploatacijos išlaidos",null,null,null,{"$f":"SUM(M26:OFFSET(M26,0,1000))","v":0},0,0,0,0,0,0,0,0,0]
[null,null,null,null,null,null,null,"D.4.7. Dujotekio sistemos įrenginių eksploatacijos išlaidos",null,null,null,{"$f":"SUM(M27:OFFSET(M27,0,1000))","v":0},0,0,0,0,0,0,0,0,0]
[null,null,null,null,null,null,null,"D.4.8. Gaisro gesinimo ir perspėjimo sistemų įrenginių eksploatacijos išlaidos",null,null,null,{"$f":"SUM(M28:OFFSET(M28,0,1000))","v":0},0,0,0,0,0,0,0,0,0]
[null,"6. Informacija, pateikta atskirose pastato elementų įvesties lentelėse, atsispindi apibendrinimo lapuose, kur apskaičiuojama bendroji GCS suma: „Elementų išlaidų apibendrinimas“, „Pastato išlaidų apibendrinimas“",null,null,null,null,null,"D.4.9. Apsaugos sistemos įrenginių ekploatacijos išlaidos",null,null,null,{"$f":"SUM(M29:OFFSET(M29,0,1000))","v":0},0,0,0,0,0,0,0,0,0]
[null,null,null,null,null,null,null,"D.4.10. Telekomunikacijos sistemos įrenginių eksploatacijos išlaidos",null,null,null,{"$f":"SUM(M30:OFFSET(M30,0,1000))","v":0},0,0,0,0,0,0,0,0,0]
[null,null,null,null,null,null,null,"D.4.11. Transportavimo sistemos įrenginių ekploatacijos išlaidos",null,null,null,{"$f":"SUM(M31:OFFSET(M31,0,1000))","v":0},0,0,0,0,0,0,0,0,0]
[null,null,null,null,null,null,null,"D.4.12. Apsaugos išlaidos",null,null,null,{"$f":"SUM(M32:OFFSET(M32,0,1000))","v":0},0,{"$f":"1-1","v":0},0,0,0,0,0,0,0]
[null,"7. Norint grįžti į navigacijos puslapį, turėtų būti spaudžiamas mygtukas „Navigacija\". ",null,null,null,null,null,"D.4.13. Valymo išlaidos",null,null,null,{"$f":"SUM(M33:OFFSET(M33,0,1000))","v":0},0,0,0,0,0,0,0,0,0]
[null,null,null,null,null,null,null,"D.4.14. Draudimo išlaidos",null,null,null,{"$f":"SUM(M34:OFFSET(M34,0,1000))","v":0},0,0,0,0,0,0,0,0,0]
[null,"SVARBU: Pilka spalva pažymėti langeliai yra skirti skaičiavimams bei duomenų įvedimui, kurie yra atliekami formulių pagalba ir neturėtų būti keičiami rankiniu būdu.",null,null,null,null,null,"D.4.15. Kitos išlaidos",null,null,null,{"$f":"SUM(M35:OFFSET(M35,0,1000))","v":0},{"$f":"OFFSET(M35,33,0) + OFFSET(M35,32,0)","v":0},0,0,0,0,0,0,0,0]
[null,null,null,null,null,null,null,"D.5. Remonto išlaidos",null,null,null,{"$f":"SUM(M36:OFFSET(M36,0,1000))","v":0},{"$f":"OFFSET(M36,33,0)","v":0},0,0,0,0,0,0,0,0]
[null,null,null,null,null,null,null,"D.5.1. Einamojo remonto išlaidos",null,null,null,{"$f":"SUM(M37:OFFSET(M37,0,1000))","v":0},0,0,0,0,0,0,0,0,0]
[null,"Dalis žalia spalva pažymėtų langelių, priklausomai nuo pasirinkimų, tampa pilkais, įstrižine juosta perbrauktais langeliais. Šie langeliai yra neaktualūs.",null,null,null,{"$f":"IFERROR(IF(AND(F39=\"Pradėta\",G40<>\"Ne\"),\"Taip\",\"Ne\"),\"Ne\")","v":"Ne"},null,"D.6. Utilizavimo išlaidos",null,null,null,{"$f":"SUM(M38:OFFSET(M38,0,1000))","v":0},0,0,0,0,0,0,0,0,0]
[null,null,null,null,null,{"$f":"IF(MATCH(\"Grįžti į viršų\",E45:E9550,0),\"Pradėta\",\"Ne\")","v":{"$error":"#N/A"}},null,"D.6.1. Atliekų surinkimo išlaidos",null,null,null,{"$f":"SUM(M39:OFFSET(M39,0,1000))","v":0},0,0,0,0,0,0,0,0,0]
[null,null,null,null,null,{"$f":"IF(COUNTIF(E45:E955,\"Ne\"),\"Ne\",\"Taip\")","v":"Taip"},{"$f":"IFERROR(IF(F40=\"Taip\",\"Taip\",\"Ne\"),\"Taip\")","v":"Taip"},"D.6.2. Perdirbimo išlaidos",null,null,null,{"$f":"SUM(M40:OFFSET(M40,0,1000))","v":0},0,0,0,0,0,0,0,0,0]
[null,null,null,null,null,null,null,"D.6.3. Turto išmontavimo (nugriovimo išlaidos)",null,null,null,{"$f":"SUM(M41:OFFSET(M41,0,1000))","v":0},0,0,0,0,0,0,0,0,0]
[null,null,null,null,null,null,null,"D.7. Kitos išlaidos",null,null,null,{"$f":"SUM(M42:OFFSET(M42,0,1000))","v":0},0,0,0,0,0,0,0,0,0]
[null,null,null,null,null,null,null,"D'. Veiklos išlaidos pagal pildančios institucijos numatytas palaikymo apimtis",null,null,null,{"$f":"SUM(M43:OFFSET(M43,0,1000))","v":0},0,0,0,0,0,0,0,0,0]

{"sheet":"9. Išorės apdaila","index":13,"n_rows":43,"n_cols":21,"rows_kept":43,"cut":false,"hidden":true,"merged":[[39,1,39,4],[31,1,31,4],[32,1,32,4],[33,1,33,4],[34,1,35,4],[36,1,36,4],[23,1,23,4],[24,1,26,4],[27,1,27,4],[28,1,30,4],[37,1,38,4],[11,1,15,4],[16,1,16,4],[17,1,19,4],[20,1,20,4],[21,1,22,4],[0,1,2,4],[19,7,19,10],[37,7,37,10],[41,7,41,10],[3,7,3,10],[4,7,4,10],[5,7,5,10],[6,7,6,10],[7,7,7,10],[8,7,8,10],[9,7,9,10],[3,1,3,4],[4,1,5,4],[6,1,6,4],[7,1,9,4],[10,1,10,4],[42,7,42,10],[0,7,0,10],[1,7,1,10],[2,7,2,10],[10,7,10,10],[35,7,35,10],[11,7,11,10],[12,7,12,10],[14,7,14,10],[15,7,15,10],[16,7,16,10],[17,7,17,10],[18,7,18,10]]}
[null,"9. Išorės apdaila\n\nPildymo instrukcijos",null,null,null,null,null,"Pastato elemento išlaidų apibendrinimas"]
[null,null,null,null,null,null,null,"Investicijų išlaidos",null,null,null,"Iš viso, EUR",{"$f":"YEAR('Bendrieji įvesties duomenys'!$C$6)+COLUMN(L2)-12","v":2019},{"$f":"YEAR('Bendrieji įvesties duomenys'!$C$6)+COLUMN(M2)-12","v":2020},{"$f":"YEAR('Bendrieji įvesties duomenys'!$C$6)+COLUMN(N2)-12","v":2021},{"$f":"YEAR('Bendrieji įvesties duomenys'!$C$6)+COLUMN(O2)-12","v":2022},{"$f":"YEAR('Bendrieji įvesties duomenys'!$C$6)+COLUMN(P2)-12","v":2023},{"$f":"YEAR('Bendrieji įvesties duomenys'!$C$6)+COLUMN(Q2)-12","v":2024},{"$f":"YEAR('Bendrieji įvesties duomenys'!$C$6)+COLUMN(R2)-12","v":2025},{"$f":"YEAR('Bendrieji įvesties duomenys'!$C$6)+COLUMN(S2)-12","v":2026},{"$f":"YEAR('Bendrieji įvesties duomenys'!$C$6)+COLUMN(T2)-12","v":2027}]
[null,null,null,null,null,null,null,"A. Turto įsigijimo ir kūrimo išlaidos išlaidos",null,null,null,{"$f":"SUM(M3:OFFSET(M3,0,1000))","v":0},{"$f":"OFFSET(M3,46,0)","v":0},0,0,0,0,0,0,0,0]
[null,null,null,null,null,null,null,"A.1. Žaliavų, medžiagų, sudedamųjų dalių ir detalių, sunaudotų kuriant ilgalaikį turtą, įsigijimo išlaidos",null,null,null,{"$f":"SUM(M4:OFFSET(M4,0,1000))","v":0},0,0,0,0,0,0,0,0,0]
[null,"1.  Paspaudus žemiau esantį mygtuką „Pridėti“, inicijuojamas duomenų pildymo procesas ir sukuriama duomenų įvesties lentelė.",null,null,null,null,null,"A.2. Statyba",null,null,null,{"$f":"SUM(M5:OFFSET(M5,0,1000))","v":0},0,0,0,0,0,0,0,0,0]
[null,null,null,null,null,null,null,"A.3. Rekonstravimas",null,null,null,{"$f":"SUM(M6:OFFSET(M6,0,1000))","v":0},0,0,0,0,0,0,0,0,0]
[null,null,null,null,null,null,null,"A.4. Kapitalinis remontas",null,null,null,{"$f":"SUM(M7:OFFSET(M7,0,1000))","v":0},0,0,0,0,0,0,0,0,0]
[null,"2. Lentelėje „Pastato elemento fiziniai parametrai ir tarnavimo laikotarpis“, pildytojas turėtų  užpildyti visus žalia spalva pažymėtus E stulpelio laukelius, atsižvelgiant į B stulpelyje pateiktus laukelių aprašymus.",null,null,null,null,null,"A.5. Projektavimo paslaugos",null,null,null,{"$f":"SUM(M8:OFFSET(M8,0,1000))","v":0},0,0,0,0,0,0,0,0,0]
[null,null,null,null,null,null,null,"A.6. Techninės priežiūros paslaugos",null,null,null,{"$f":"SUM(M9:OFFSET(M9,0,1000))","v":0},0,0,0,0,0,0,0,0,0]
[null,null,null,null,null,null,null,"A.7. Kitos su investicijomis į ilgalaikį turtą susijusios paslaugos ir išlaidos",null,null,null,{"$f":"SUM(M10:OFFSET(M10,0,1000))","v":0},0,0,0,0,0,0,0,0,0]
[null,null,null,null,null,null,null,"B. Kitos paslaugos ir išlaidos",null,null,null,{"$f":"SUM(M11:OFFSET(M11,0,1000))","v":0},0,0,0,0,0,0,0,0,0]
[null,"3. Užpildžius lentelę „Pastato elemento fiziniai parametrai ir tarnavimo laikotarpis“, turėtų būti pereita prie „Pastato elemento išlaidų įvestis“ sekcijos. Šioje dalyje pildomos investicijų bei veiklos ir eksploatavimo išlaidos, susijusios su pasirinkta pastato elemento konstrukcija/tipu ar prietaisu/dalimi. Informacija veda į atitinkamus laukelius, nurodant tiek investicijų sumą (I-J stulpeliai), tiek investicijų/išlaidų pasikartojimo periodą (K stulpelis).",null,null,null,null,null,"C. Likutinės vertės pinigų srautas",null,null,null,{"$f":"SUM(M12:OFFSET(M12,0,1000))","v":0},0,0,0,0,0,0,0,0,0]
[null,null,null,null,null,null,null,"Iš viso (A + B)",null,null,null,{"$f":"SUM(M13:OFFSET(M13,0,1000))","v":0},{"$f":"M3+M11","v":0},{"$f":"N3+N11","v":0},0,0,0,0,0,0,0]
[]
[null,null,null,null,null,null,null,"Eksploatavimo ir veiklos išlaidos",null,null,null,"Iš viso, EUR",{"$f":"YEAR('Bendrieji įvesties duomenys'!$C$6)+COLUMN(L15)-12","v":2019},{"$f":"YEAR('Bendrieji įvesties duomenys'!$C$6)+COLUMN(M15)-12","v":2020},{"$f":"YEAR('Bendrieji įvesties duomenys'!$C$6)+COLUMN(N15)-12","v":2021},{"$f":"YEAR('Bendrieji įvesties duomenys'!$C$6)+COLUMN(O15)-12","v":2022},{"$f":"YEAR('Bendrieji įvesties duomenys'!$C$6)+COLUMN(P15)-12","v":2023},{"$f":"YEAR('Bendrieji įvesties duomenys'!$C$6)+COLUMN(Q15)-12","v":2024},{"$f":"YEAR('Bendrieji įvesties duomenys'!$C$6)+COLUMN(R15)-12","v":2025},{"$f":"YEAR('Bendrieji įvesties duomenys'!$C$6)+COLUMN(S15)-12","v":2026},{"$f":"YEAR('Bendrieji įvesties duomenys'!$C$6)+COLUMN(T15)-12","v":2027}]
[null,null,null,null,null,null,null,"D. Veiklos išlaidos laikantis rinkoje taikomų eksploatavimo apimčių",null,null,null,{"$f":"SUM(M16:OFFSET(M16,0,1000))","v":0},{"$f":"OFFSET(M16,46,0)","v":0},0,0,0,0,0,0,0,0]
[null,null,null,null,null,null,null,"D. Veiklos išlaidos laikantis pildančios institucijos taikomų eksploatavimo apimčių",null,null,null,{"$f":"SUM(M17:OFFSET(M17,0,1000))","v":0},0,0,0,0,0,0,0,0,0]
[null,"Pastaba: D'. Veiklos išlaidos pagal pildančios institucijos numatytas palaikymo apimtis apskaičiuojamos automatiškai pagal suvestas eksploatavimo ir veiklos išlaidas ir numato būsimas išlaidas kiekvienam periodui.",null,null,null,null,null,"D.1.Žaliavos",null,null,null,{"$f":"SUM(M18:OFFSET(M18,0,1000))","v":0},0,0,0,0,0,0,0,0,0]
[null,null,null,null,null,null,null,"D.2. Darbo užmokesčio išlaidos",null,null,null,{"$f":"SUM(M19:OFFSET(M19,0,1000))","v":0},0,0,0,0,0,0,0,0,0]
[null,null,null,null,null,null,null,"D.4. Infrastruktūros būklės palaikymo (eksploatavimo) išlaidos",null,null,null,{"$f":"SUM(M20:OFFSET(M20,0,1000))","v":0},0,0,0,0,0,0,0,0,0]
[null,null,null,null,null,null,null,"D.4.1. Vėdinimo sistemų įrenginių eksploatacijos išlaidos",null,null,null,{"$f":"SUM(M21:OFFSET(M21,0,1000))","v":0},{"$f":"1-1","v":0},{"$f":"1-1","v":0},0,0,0,0,0,0,0]
[null,"4. Norint pridėti dar vieną su pastato elementu susijusią sąnaudų įvesties lentelę, spaudžiamas mygtukas „Pridėti“ ir kartojami 2-3 žingsniuose aprašyti veiksmai.",null,null,null,null,null,"D.4.2. Šilumos sistemų tinklų palaikymo (eksploatavimo) išlaidos",null,null,null,{"$f":"SUM(M22:OFFSET(M22,0,1000))","v":0},0,0,0,0,0,0,0,0,0]
[null,null,null,null,null,null,null,"D.4.3. Oro kondicionavimo ir šaldymo įrenginių eksploatacijos išlaidos",null,null,null,{"$f":"SUM(M23:OFFSET(M23,0,1000))","v":0},0,0,0,0,0,0,0,0,0]
[null,null,null,null,null,null,null,"D.4.4. Vandentiekio ir nuotekų tinklų įrenginių eksploatacijos išlaidos",null,null,null,{"$f":"SUM(M24:OFFSET(M24,0,1000))","v":0},0,0,0,0,0,0,0,0,0]
[null,"5. Esant įvesties klaidoms ar norint pašalinti perteklinę pastato elemento įvesties lentelę, spaudžiamas mygtukas „Ištrinti“ bei įvedamas lentelės numeris, kuris yra kiekvienos lentelės kairiojo kampo viršuje.",null,null,null,null,null,"D.4.5 Lietaus surinkimo ir drenažo sistemos eksploatacijos išlaidos ",null,null,null,{"$f":"SUM(M25:OFFSET(M25,0,1000))","v":0},0,0,0,0,0,0,0,0,0]
[null,null,null,null,null,null,null,"D.4.6. Elektros tinklų įrenginių ekploatacijos išlaidos",null,null,null,{"$f":"SUM(M26:OFFSET(M26,0,1000))","v":0},0,0,0,0,0,0,0,0,0]
[null,null,null,null,null,null,null,"D.4.7. Dujotekio sistemos įrenginių eksploatacijos išlaidos",null,null,null,{"$f":"SUM(M27:OFFSET(M27,0,1000))","v":0},0,0,0,0,0,0,0,0,0]
[null,null,null,null,null,null,null,"D.4.8. Gaisro gesinimo ir perspėjimo sistemų įrenginių eksploatacijos išlaidos",null,null,null,{"$f":"SUM(M28:OFFSET(M28,0,1000))","v":0},0,0,0,0,0,0,0,0,0]
[null,"6. Informacija, pateikta atskirose pastato elementų įvesties lentelėse, atsispindi apibendrinimo lapuose, kur apskaičiuojama bendroji GCS suma: „Elementų išlaidų apibendrinimas“, „Pastato išlaidų apibendrinimas“",null,null,null,null,null,"D.4.9. Apsaugos sistemos įrenginių ekploatacijos išlaidos",null,null,null,{"$f":"SUM(M29:OFFSET(M29,0,1000))","v":0},0,0,0,0,0,0,0,0,0]
[null,null,null,null,null,null,null,"D.4.10. Telekomunikacijos sistemos įrenginių eksploatacijos išlaidos",null,null,null,{"$f":"SUM(M30:OFFSET(M30,0,1000))","v":0},0,0,0,0,0,0,0,0,0]
[null,null,null,null,null,null,null,"D.4.11. Transportavimo sistemos įrenginių ekploatacijos išlaidos",null,null,null,{"$f":"SUM(M31:OFFSET(M31,0,1000))","v":0},0,0,0,0,0,0,0,0,0]
[null,null,null,null,null,null,null,"D.4.12. Apsaugos išlaidos",null,null,null,{"$f":"SUM(M32:OFFSET(M32,0,1000))","v":0},0,{"$f":"1-1","v":0},0,0,0,0,0,0,0]
[null,"7. Norint grįžti į navigacijos puslapį, turėtų būti spaudžiamas mygtukas „Navigacija\". ",null,null,null,null,null,"D.4.13. Valymo išlaidos",null,null,null,{"$f":"SUM(M33:OFFSET(M33,0,1000))","v":0},0,0,0,0,0,0,0,0,0]
[null,null,null,null,null,null,null,"D.4.14. Draudimo išlaidos",null,null,null,{"$f":"SUM(M34:OFFSET(M34,0,1000))","v":0},0,0,0,0,0,0,0,0,0]
[null,"SVARBU: Pilka spalva pažymėti langeliai yra skirti skaičiavimams bei duomenų įvedimui, kurie yra atliekami formulių pagalba ir neturėtų būti keičiami rankiniu būdu.",null,null,null,null,null,"D.4.15. Kitos išlaidos",null,null,null,{"$f":"SUM(M35:OFFSET(M35,0,1000))","v":0},{"$f":"OFFSET(M35,33,0) + OFFSET(M35,32,0)","v":0},0,0,0,0,0,0,0,0]
[null,null,null,null,null,null,null,"D.5. Remonto išlaidos",null,null,null,{"$f":"SUM(M36:OFFSET(M36,0,1000))","v":0},{"$f":"OFFSET(M36,33,0)","v":0},0,0,0,0,0,0,0,0]
[null,null,null,null,null,null,null,"D.5.1. Einamojo remonto išlaidos",null,null,null,{"$f":"SUM(M37:OFFSET(M37,0,1000))","v":0},0,0,0,0,0,0,0,0,0]
[null,"Dalis žalia spalva pažymėtų langelių, priklausomai nuo pasirinkimų, tampa pilkais, įstrižine juosta perbrauktais langeliais. Šie langeliai yra neaktualūs.",null,null,null,{"$f":"IFERROR(IF(AND(F39=\"Pradėta\",G40<>\"Ne\"),\"Taip\",\"Ne\"),\"Ne\")","v":"Ne"},null,"D.6. Utilizavimo išlaidos",null,null,null,{"$f":"SUM(M38:OFFSET(M38,0,1000))","v":0},0,0,0,0,0,0,0,0,0]
[null,null,null,null,null,{"$f":"IF(MATCH(\"Grįžti į viršų\",E45:E9100,0),\"Pradėta\",\"Ne\")","v":{"$error":"#N/A"}},null,"D.6.1. Atliekų surinkimo išlaidos",null,null,null,{"$f":"SUM(M39:OFFSET(M39,0,1000))","v":0},0,0,0,0,0,0,0,0,0]
[null,null,null,null,null,{"$f":"IF(COUNTIF(E45:E505,\"Ne\"),\"Ne\",\"Taip\")","v":"Taip"},{"$f":"IFERROR(IF(F40=\"Taip\",\"Taip\",\"Ne\"),\"Taip\")","v":"Taip"},"D.6.2. Perdirbimo išlaidos",null,null,null,{"$f":"SUM(M40:OFFSET(M40,0,1000))","v":0},0,0,0,0,0,0,0,0,0]
[null,null,null,null,null,null,null,"D.6.3. Turto išmontavimo (nugriovimo išlaidos)",null,null,null,{"$f":"SUM(M41:OFFSET(M41,0,1000))","v":0},0,0,0,0,0,0,0,0,0]
[null,null,null,null,null,null,null,"D.7. Kitos išlaidos",null,null,null,{"$f":"SUM(M42:OFFSET(M42,0,1000))","v":0},0,0,0,0,0,0,0,0,0]
[null,null,null,null,null,null,null,"D'. Veiklos išlaidos pagal pildančios institucijos numatytas palaikymo apimtis",null,null,null,{"$f":"SUM(M43:OFFSET(M43,0,1000))","v":0},0,0,0,0,0,0,0,0,0]

{"sheet":"10. Šildymo sistema (vidaus)","index":14,"n_rows":43,"n_cols":21,"rows_kept":43,"cut":false,"hidden":true,"merged":[[39,1,39,4],[31,1,31,4],[32,1,32,4],[33,1,33,4],[34,1,35,4],[36,1,36,4],[23,1,23,4],[24,1,26,4],[27,1,27,4],[28,1,30,4],[37,1,38,4],[11,1,15,4],[16,1,16,4],[17,1,19,4],[20,1,20,4],[21,1,22,4],[0,1,2,4],[19,7,19,10],[37,7,37,10],[41,7,41,10],[3,7,3,10],[4,7,4,10],[5,7,5,10],[6,7,6,10],[7,7,7,10],[8,7,8,10],[9,7,9,10],[3,1,3,4],[4,1,5,4],[6,1,6,4],[7,1,9,4],[10,1,10,4],[42,7,42,10],[0,7,0,10],[1,7,1,10],[2,7,2,10],[10,7,10,10],[35,7,35,10],[11,7,11,10],[12,7,12,10],[14,7,14,10],[15,7,15,10],[16,7,16,10],[17,7,17,10],[18,7,18,10]]}
[null,"10. Šildymo sistema (vidaus)\n\nPildymo instrukcijos",null,null,null,null,null,"Pastato elemento išlaidų apibendrinimas"]
[null,null,null,null,null,null,null,"Investicijų išlaidos",null,null,null,"Iš viso, EUR",{"$f":"YEAR('Bendrieji įvesties duomenys'!$C$6)+COLUMN(L2)-12","v":2019},{"$f":"YEAR('Bendrieji įvesties duomenys'!$C$6)+COLUMN(M2)-12","v":2020},{"$f":"YEAR('Bendrieji įvesties duomenys'!$C$6)+COLUMN(N2)-12","v":2021},{"$f":"YEAR('Bendrieji įvesties duomenys'!$C$6)+COLUMN(O2)-12","v":2022},{"$f":"YEAR('Bendrieji įvesties duomenys'!$C$6)+COLUMN(P2)-12","v":2023},{"$f":"YEAR('Bendrieji įvesties duomenys'!$C$6)+COLUMN(Q2)-12","v":2024},{"$f":"YEAR('Bendrieji įvesties duomenys'!$C$6)+COLUMN(R2)-12","v":2025},{"$f":"YEAR('Bendrieji įvesties duomenys'!$C$6)+COLUMN(S2)-12","v":2026},{"$f":"YEAR('Bendrieji įvesties duomenys'!$C$6)+COLUMN(T2)-12","v":2027}]
[null,null,null,null,null,null,null,"A. Turto įsigijimo ir kūrimo išlaidos išlaidos",null,null,null,{"$f":"SUM(M3:OFFSET(M3,0,1000))","v":0},{"$f":"OFFSET(M3,46,0)","v":0},0,0,0,0,0,0,0,0]
[null,null,null,null,null,null,null,"A.1. Žaliavų, medžiagų, sudedamųjų dalių ir detalių, sunaudotų kuriant ilgalaikį turtą, įsigijimo išlaidos",null,null,null,{"$f":"SUM(M4:OFFSET(M4,0,1000))","v":0},0,0,0,0,0,0,0,0,0]
[null,"1.  Paspaudus žemiau esantį mygtuką „Pridėti“, inicijuojamas duomenų pildymo procesas ir sukuriama duomenų įvesties lentelė.",null,null,null,null,null,"A.2. Statyba",null,null,null,{"$f":"SUM(M5:OFFSET(M5,0,1000))","v":0},0,0,0,0,0,0,0,0,0]
[null,null,null,null,null,null,null,"A.3. Rekonstravimas",null,null,null,{"$f":"SUM(M6:OFFSET(M6,0,1000))","v":0},0,0,0,0,0,0,0,0,0]
[null,null,null,null,null,null,null,"A.4. Kapitalinis remontas",null,null,null,{"$f":"SUM(M7:OFFSET(M7,0,1000))","v":0},0,0,0,0,0,0,0,0,0]
[null,"2. Lentelėje „Pastato elemento fiziniai parametrai ir tarnavimo laikotarpis“, pildytojas turėtų  užpildyti visus žalia spalva pažymėtus E stulpelio laukelius, atsižvelgiant į B stulpelyje pateiktus laukelių aprašymus.",null,null,null,null,null,"A.5. Projektavimo paslaugos",null,null,null,{"$f":"SUM(M8:OFFSET(M8,0,1000))","v":0},0,0,0,0,0,0,0,0,0]
[null,null,null,null,null,null,null,"A.6. Techninės priežiūros paslaugos",null,null,null,{"$f":"SUM(M9:OFFSET(M9,0,1000))","v":0},0,0,0,0,0,0,0,0,0]
[null,null,null,null,null,null,null,"A.7. Kitos su investicijomis į ilgalaikį turtą susijusios paslaugos ir išlaidos",null,null,null,{"$f":"SUM(M10:OFFSET(M10,0,1000))","v":0},0,0,0,0,0,0,0,0,0]
[null,null,null,null,null,null,null,"B. Kitos paslaugos ir išlaidos",null,null,null,{"$f":"SUM(M11:OFFSET(M11,0,1000))","v":0},0,0,0,0,0,0,0,0,0]
[null,"3. Užpildžius lentelę „Pastato elemento fiziniai parametrai ir tarnavimo laikotarpis“, turėtų būti pereita prie „Pastato elemento išlaidų įvestis“ sekcijos. Šioje dalyje pildomos investicijų bei veiklos ir eksploatavimo išlaidos, susijusios su pasirinkta pastato elemento konstrukcija/tipu ar prietaisu/dalimi. Informacija veda į atitinkamus laukelius, nurodant tiek investicijų sumą (I-J stulpeliai), tiek investicijų/išlaidų pasikartojimo periodą (K stulpelis).",null,null,null,null,null,"C. Likutinės vertės pinigų srautas",null,null,null,{"$f":"SUM(M12:OFFSET(M12,0,1000))","v":0},0,0,0,0,0,0,0,0,0]
[null,null,null,null,null,null,null,"Iš viso (A + B)",null,null,null,{"$f":"SUM(M13:OFFSET(M13,0,1000))","v":0},{"$f":"M3+M11","v":0},{"$f":"N3+N11","v":0},0,0,0,0,0,0,0]
[]
[null,null,null,null,null,null,null,"Eksploatavimo ir veiklos išlaidos",null,null,null,"Iš viso, EUR",{"$f":"YEAR('Bendrieji įvesties duomenys'!$C$6)+COLUMN(L15)-12","v":2019},{"$f":"YEAR('Bendrieji įvesties duomenys'!$C$6)+COLUMN(M15)-12","v":2020},{"$f":"YEAR('Bendrieji įvesties duomenys'!$C$6)+COLUMN(N15)-12","v":2021},{"$f":"YEAR('Bendrieji įvesties duomenys'!$C$6)+COLUMN(O15)-12","v":2022},{"$f":"YEAR('Bendrieji įvesties duomenys'!$C$6)+COLUMN(P15)-12","v":2023},{"$f":"YEAR('Bendrieji įvesties duomenys'!$C$6)+COLUMN(Q15)-12","v":2024},{"$f":"YEAR('Bendrieji įvesties duomenys'!$C$6)+COLUMN(R15)-12","v":2025},{"$f":"YEAR('Bendrieji įvesties duomenys'!$C$6)+COLUMN(S15)-12","v":2026},{"$f":"YEAR('Bendrieji įvesties duomenys'!$C$6)+COLUMN(T15)-12","v":2027}]
[null,null,null,null,null,null,null,"D. Veiklos išlaidos laikantis rinkoje taikomų eksploatavimo apimčių",null,null,null,{"$f":"SUM(M16:OFFSET(M16,0,1000))","v":0},{"$f":"OFFSET(M16,46,0)","v":0},0,0,0,0,0,0,0,0]
[null,null,null,null,null,null,null,"D. Veiklos išlaidos laikantis pildančios institucijos taikomų eksploatavimo apimčių",null,null,null,{"$f":"SUM(M17:OFFSET(M17,0,1000))","v":0},0,0,0,0,0,0,0,0,0]
[null,"Pastaba: D'. Veiklos išlaidos pagal pildančios institucijos numatytas palaikymo apimtis apskaičiuojamos automatiškai pagal suvestas eksploatavimo ir veiklos išlaidas ir numato būsimas išlaidas kiekvienam periodui.",null,null,null,null,null,"D.1.Žaliavos",null,null,null,{"$f":"SUM(M18:OFFSET(M18,0,1000))","v":0},0,0,0,0,0,0,0,0,0]
[null,null,null,null,null,null,null,"D.2. Darbo užmokesčio išlaidos",null,null,null,{"$f":"SUM(M19:OFFSET(M19,0,1000))","v":0},0,0,0,0,0,0,0,0,0]
[null,null,null,null,null,null,null,"D.4. Infrastruktūros būklės palaikymo (eksploatavimo) išlaidos",null,null,null,{"$f":"SUM(M20:OFFSET(M20,0,1000))","v":0},0,0,0,0,0,0,0,0,0]
[null,null,null,null,null,null,null,"D.4.1. Vėdinimo sistemų įrenginių eksploatacijos išlaidos",null,null,null,{"$f":"SUM(M21:OFFSET(M21,0,1000))","v":0},{"$f":"1-1","v":0},{"$f":"1-1","v":0},0,0,0,0,0,0,0]
[null,"4. Norint pridėti dar vieną su pastato elementu susijusią sąnaudų įvesties lentelę, spaudžiamas mygtukas „Pridėti“ ir kartojami 2-3 žingsniuose aprašyti veiksmai.",null,null,null,null,null,"D.4.2. Šilumos sistemų tinklų palaikymo (eksploatavimo) išlaidos",null,null,null,{"$f":"SUM(M22:OFFSET(M22,0,1000))","v":0},{"$f":"OFFSET(M22,45,0)","v":0},0,0,0,0,0,0,0,0]
[null,null,null,null,null,null,null,"D.4.3. Oro kondicionavimo ir šaldymo įrenginių eksploatacijos išlaidos",null,null,null,{"$f":"SUM(M23:OFFSET(M23,0,1000))","v":0},{"$f":"1-1","v":0},0,0,0,0,0,0,0,0]
[null,null,null,null,null,null,null,"D.4.4. Vandentiekio ir nuotekų tinklų įrenginių eksploatacijos išlaidos",null,null,null,{"$f":"SUM(M24:OFFSET(M24,0,1000))","v":0},0,0,0,0,0,0,0,0,0]
[null,"5. Esant įvesties klaidoms ar norint pašalinti perteklinę pastato elemento įvesties lentelę, spaudžiamas mygtukas „Ištrinti“ bei įvedamas lentelės numeris, kuris yra kiekvienos lentelės kairiojo kampo viršuje.",null,null,null,null,null,"D.4.5 Lietaus surinkimo ir drenažo sistemos eksploatacijos išlaidos ",null,null,null,{"$f":"SUM(M25:OFFSET(M25,0,1000))","v":0},0,0,0,0,0,0,0,0,0]
[null,null,null,null,null,null,null,"D.4.6. Elektros tinklų įrenginių ekploatacijos išlaidos",null,null,null,{"$f":"SUM(M26:OFFSET(M26,0,1000))","v":0},0,0,0,0,0,0,0,0,0]
[null,null,null,null,null,null,null,"D.4.7. Dujotekio sistemos įrenginių eksploatacijos išlaidos",null,null,null,{"$f":"SUM(M27:OFFSET(M27,0,1000))","v":0},0,0,0,0,0,0,0,0,0]
[null,null,null,null,null,null,null,"D.4.8. Gaisro gesinimo ir perspėjimo sistemų įrenginių eksploatacijos išlaidos",null,null,null,{"$f":"SUM(M28:OFFSET(M28,0,1000))","v":0},0,0,0,0,0,0,0,0,0]
[null,"6. Informacija, pateikta atskirose pastato elementų įvesties lentelėse, atsispindi apibendrinimo lapuose, kur apskaičiuojama bendroji GCS suma: „Elementų išlaidų apibendrinimas“, „Pastato išlaidų apibendrinimas“",null,null,null,null,null,"D.4.9. Apsaugos sistemos įrenginių ekploatacijos išlaidos",null,null,null,{"$f":"SUM(M29:OFFSET(M29,0,1000))","v":0},0,0,0,0,0,0,0,0,0]
[null,null,null,null,null,null,null,"D.4.10. Telekomunikacijos sistemos įrenginių eksploatacijos išlaidos",null,null,null,{"$f":"SUM(M30:OFFSET(M30,0,1000))","v":0},0,0,0,0,0,0,0,0,0]
[null,null,null,null,null,null,null,"D.4.11. Transportavimo sistemos įrenginių ekploatacijos išlaidos",null,null,null,{"$f":"SUM(M31:OFFSET(M31,0,1000))","v":0},0,0,0,0,0,0,0,0,0]
[null,null,null,null,null,null,null,"D.4.12. Apsaugos išlaidos",null,null,null,{"$f":"SUM(M32:OFFSET(M32,0,1000))","v":0},0,{"$f":"1-1","v":0},0,0,0,0,0,0,0]
[null,"7. Norint grįžti į navigacijos puslapį, turėtų būti spaudžiamas mygtukas „Navigacija\". ",null,null,null,null,null,"D.4.13. Valymo išlaidos",null,null,null,{"$f":"SUM(M33:OFFSET(M33,0,1000))","v":0},0,0,0,0,0,0,0,0,0]
[null,null,null,null,null,null,null,"D.4.14. Draudimo išlaidos",null,null,null,{"$f":"SUM(M34:OFFSET(M34,0,1000))","v":0},0,0,0,0,0,0,0,0,0]
[null,"SVARBU: Pilka spalva pažymėti langeliai yra skirti skaičiavimams bei duomenų įvedimui, kurie yra atliekami formulių pagalba ir neturėtų būti keičiami rankiniu būdu.",null,null,null,null,null,"D.4.15. Kitos išlaidos",null,null,null,{"$f":"SUM(M35:OFFSET(M35,0,1000))","v":0},{"$f":"OFFSET(M35,33,0)","v":0},0,0,0,0,0,0,0,0]
[null,null,null,null,null,null,null,"D.5. Remonto išlaidos",null,null,null,{"$f":"SUM(M36:OFFSET(M36,0,1000))","v":0},0,0,0,0,0,0,0,0,0]
[null,null,null,null,null,null,null,"D.5.1. Einamojo remonto išlaidos",null,null,null,{"$f":"SUM(M37:OFFSET(M37,0,1000))","v":0},0,0,0,0,0,0,0,0,0]
[null,"Dalis žalia spalva pažymėtų langelių, priklausomai nuo pasirinkimų, tampa pilkais, įstrižine juosta perbrauktais langeliais. Šie langeliai yra neaktualūs.",null,null,null,{"$f":"IFERROR(IF(AND(F39=\"Pradėta\",G40<>\"Ne\"),\"Taip\",\"Ne\"),\"Ne\")","v":"Ne"},null,"D.6. Utilizavimo išlaidos",null,null,null,{"$f":"SUM(M38:OFFSET(M38,0,1000))","v":0},0,0,0,0,0,0,0,0,0]
[null,null,null,null,null,{"$f":"IF(MATCH(\"Grįžti į viršų\",E45:E9460,0),\"Pradėta\",\"Ne\")","v":{"$error":"#N/A"}},null,"D.6.1. Atliekų surinkimo išlaidos",null,null,null,{"$f":"SUM(M39:OFFSET(M39,0,1000))","v":0},0,0,0,0,0,0,0,0,0]
[null,null,null,null,null,{"$f":"IF(COUNTIF(E45:E865,\"Ne\"),\"Ne\",\"Taip\")","v":"Taip"},{"$f":"IFERROR(IF(F40=\"Taip\",\"Taip\",\"Ne\"),\"Taip\")","v":"Taip"},"D.6.2. Perdirbimo išlaidos",null,null,null,{"$f":"SUM(M40:OFFSET(M40,0,1000))","v":0},0,0,0,0,0,0,0,0,0]
[null,null,null,null,null,null,null,"D.6.3. Turto išmontavimo (nugriovimo išlaidos)",null,null,null,{"$f":"SUM(M41:OFFSET(M41,0,1000))","v":0},0,0,0,0,0,0,0,0,0]
[null,null,null,null,null,null,null,"D.7. Kitos išlaidos",null,null,null,{"$f":"SUM(M42:OFFSET(M42,0,1000))","v":0},0,0,0,0,0,0,0,0,0]
[null,null,null,null,null,null,null,"D'. Veiklos išlaidos pagal pildančios institucijos numatytas palaikymo apimtis",null,null,null,{"$f":"SUM(M43:OFFSET(M43,0,1000))","v":0},0,0,0,0,0,0,0,0,0]

{"sheet":"11. Šildymo sistema (lauko)","index":15,"n_rows":43,"n_cols":21,"rows_kept":43,"cut":false,"hidden":true,"merged":[[39,1,39,4],[32,1,32,4],[33,1,33,4],[34,1,35,4],[36,1,36,4],[37,1,38,4],[23,1,23,4],[24,1,26,4],[27,1,27,4],[28,1,30,4],[31,1,31,4],[11,1,15,4],[16,1,16,4],[17,1,19,4],[20,1,20,4],[21,1,22,4],[3,1,3,4],[4,1,5,4],[6,1,6,4],[7,1,9,4],[10,1,10,4],[7,7,7,10],[8,7,8,10],[9,7,9,10],[1,7,1,10],[2,7,2,10],[3,7,3,10],[4,7,4,10],[5,7,5,10],[41,7,41,10],[42,7,42,10],[0,1,2,4],[14,7,14,10],[15,7,15,10],[16,7,16,10],[17,7,17,10],[18,7,18,10],[19,7,19,10],[37,7,37,10],[10,7,10,10],[35,7,35,10],[11,7,11,10],[12,7,12,10],[0,7,0,10],[6,7,6,10]]}
[null,"11. Šildymo sistema (lauko)\n\nPildymo instrukcijos",null,null,null,null,null,"Pastato elemento išlaidų apibendrinimas"]
[null,null,null,null,null,null,null,"Investicijų išlaidos",null,null,null,"Iš viso, EUR",{"$f":"YEAR('Bendrieji įvesties duomenys'!$C$6)+COLUMN(L2)-12","v":2019},{"$f":"YEAR('Bendrieji įvesties duomenys'!$C$6)+COLUMN(M2)-12","v":2020},{"$f":"YEAR('Bendrieji įvesties duomenys'!$C$6)+COLUMN(N2)-12","v":2021},{"$f":"YEAR('Bendrieji įvesties duomenys'!$C$6)+COLUMN(O2)-12","v":2022},{"$f":"YEAR('Bendrieji įvesties duomenys'!$C$6)+COLUMN(P2)-12","v":2023},{"$f":"YEAR('Bendrieji įvesties duomenys'!$C$6)+COLUMN(Q2)-12","v":2024},{"$f":"YEAR('Bendrieji įvesties duomenys'!$C$6)+COLUMN(R2)-12","v":2025},{"$f":"YEAR('Bendrieji įvesties duomenys'!$C$6)+COLUMN(S2)-12","v":2026},{"$f":"YEAR('Bendrieji įvesties duomenys'!$C$6)+COLUMN(T2)-12","v":2027}]
[null,null,null,null,null,null,null,"A. Turto įsigijimo ir kūrimo išlaidos išlaidos",null,null,null,{"$f":"SUM(M3:OFFSET(M3,0,1000))","v":0},{"$f":"1-1","v":0},{"$f":"1-1","v":0},0,0,0,0,0,0,0]
[null,null,null,null,null,null,null,"A.1. Žaliavų, medžiagų, sudedamųjų dalių ir detalių, sunaudotų kuriant ilgalaikį turtą, įsigijimo išlaidos",null,null,null,{"$f":"SUM(M4:OFFSET(M4,0,1000))","v":0},{"$f":"1-1","v":0},0,0,0,0,0,0,0,0]
[null,"1.  Paspaudus žemiau esantį mygtuką „Pridėti“, inicijuojamas duomenų pildymo procesas ir sukuriama duomenų įvesties lentelė.",null,null,null,null,null,"A.2. Statyba",null,null,null,{"$f":"SUM(M5:OFFSET(M5,0,1000))","v":0},0,0,0,0,0,0,0,0,0]
[null,null,null,null,null,null,null,"A.3. Rekonstravimas",null,null,null,{"$f":"SUM(M6:OFFSET(M6,0,1000))","v":0},0,0,0,0,0,0,0,0,0]
[null,null,null,null,null,null,null,"A.4. Kapitalinis remontas",null,null,null,{"$f":"SUM(M7:OFFSET(M7,0,1000))","v":0},0,0,0,0,0,0,0,0,0]
[null,"2. Lentelėje „Pastato elemento fiziniai parametrai ir tarnavimo laikotarpis“, pildytojas turėtų  užpildyti visus žalia spalva pažymėtus E stulpelio laukelius, atsižvelgiant į B stulpelyje pateiktus laukelių aprašymus.",null,null,null,null,null,"A.5. Projektavimo paslaugos",null,null,null,{"$f":"SUM(M8:OFFSET(M8,0,1000))","v":0},0,0,0,0,0,0,0,0,0]
[null,null,null,null,null,null,null,"A.6. Techninės priežiūros paslaugos",null,null,null,{"$f":"SUM(M9:OFFSET(M9,0,1000))","v":0},0,0,0,0,0,0,0,0,0]
[null,null,null,null,null,null,null,"A.7. Kitos su investicijomis į ilgalaikį turtą susijusios paslaugos ir išlaidos",null,null,null,{"$f":"SUM(M10:OFFSET(M10,0,1000))","v":0},0,0,0,0,0,0,0,0,0]
[null,null,null,null,null,null,null,"B. Kitos paslaugos ir išlaidos",null,null,null,{"$f":"SUM(M11:OFFSET(M11,0,1000))","v":0},0,0,0,0,0,0,0,0,0]
[null,"3. Užpildžius lentelę „Pastato elemento fiziniai parametrai ir tarnavimo laikotarpis“, turėtų būti pereita prie „Pastato elemento išlaidų įvestis“ sekcijos. Šioje dalyje pildomos investicijų bei veiklos ir eksploatavimo išlaidos, susijusios su pasirinkta pastato elemento konstrukcija/tipu ar prietaisu/dalimi. Informacija veda į atitinkamus laukelius, nurodant tiek investicijų sumą (I-J stulpeliai), tiek investicijų/išlaidų pasikartojimo periodą (K stulpelis).",null,null,null,null,null,"C. Likutinės vertės pinigų srautas",null,null,null,{"$f":"SUM(M12:OFFSET(M12,0,1000))","v":0},0,0,0,0,0,0,0,0,0]
[null,null,null,null,null,null,null,"Iš viso (A + B)",null,null,null,{"$f":"SUM(M13:OFFSET(M13,0,1000))","v":0},{"$f":"M3+M11","v":0},{"$f":"N3+N11","v":0},0,0,0,0,0,0,0]
[]
[null,null,null,null,null,null,null,"Eksploatavimo ir veiklos išlaidos",null,null,null,"Iš viso, EUR",{"$f":"YEAR('Bendrieji įvesties duomenys'!$C$6)+COLUMN(L15)-12","v":2019},{"$f":"YEAR('Bendrieji įvesties duomenys'!$C$6)+COLUMN(M15)-12","v":2020},{"$f":"YEAR('Bendrieji įvesties duomenys'!$C$6)+COLUMN(N15)-12","v":2021},{"$f":"YEAR('Bendrieji įvesties duomenys'!$C$6)+COLUMN(O15)-12","v":2022},{"$f":"YEAR('Bendrieji įvesties duomenys'!$C$6)+COLUMN(P15)-12","v":2023},{"$f":"YEAR('Bendrieji įvesties duomenys'!$C$6)+COLUMN(Q15)-12","v":2024},{"$f":"YEAR('Bendrieji įvesties duomenys'!$C$6)+COLUMN(R15)-12","v":2025},{"$f":"YEAR('Bendrieji įvesties duomenys'!$C$6)+COLUMN(S15)-12","v":2026},{"$f":"YEAR('Bendrieji įvesties duomenys'!$C$6)+COLUMN(T15)-12","v":2027}]
[null,null,null,null,null,null,null,"D. Veiklos išlaidos laikantis rinkoje taikomų eksploatavimo apimčių",null,null,null,{"$f":"SUM(M16:OFFSET(M16,0,1000))","v":0},{"$f":"1-1","v":0},{"$f":"1-1","v":0},0,0,0,0,0,0,0]
[null,null,null,null,null,null,null,"D. Veiklos išlaidos laikantis pildančios institucijos taikomų eksploatavimo apimčių",null,null,null,{"$f":"SUM(M17:OFFSET(M17,0,1000))","v":0},0,0,0,0,0,0,0,0,0]
[null,"Pastaba: D'. Veiklos išlaidos pagal pildančios institucijos numatytas palaikymo apimtis apskaičiuojamos automatiškai pagal suvestas eksploatavimo ir veiklos išlaidas ir numato būsimas išlaidas kiekvienam periodui.",null,null,null,null,null,"D.1.Žaliavos",null,null,null,{"$f":"SUM(M18:OFFSET(M18,0,1000))","v":0},0,0,0,0,0,0,0,0,0]
[null,null,null,null,null,null,null,"D.2. Darbo užmokesčio išlaidos",null,null,null,{"$f":"SUM(M19:OFFSET(M19,0,1000))","v":0},0,0,0,0,0,0,0,0,0]
[null,null,null,null,null,null,null,"D.4. Infrastruktūros būklės palaikymo (eksploatavimo) išlaidos",null,null,null,{"$f":"SUM(M20:OFFSET(M20,0,1000))","v":0},0,0,0,0,0,0,0,0,0]
[null,null,null,null,null,null,null,"D.4.1. Vėdinimo sistemų įrenginių eksploatacijos išlaidos",null,null,null,{"$f":"SUM(M21:OFFSET(M21,0,1000))","v":0},0,0,0,0,0,0,0,0,0]
[null,"4. Norint pridėti dar vieną su pastato elementu susijusią sąnaudų įvesties lentelę, spaudžiamas mygtukas „Pridėti“ ir kartojami 2-3 žingsniuose aprašyti veiksmai.",null,null,null,null,null,"D.4.2. Šilumos sistemų tinklų palaikymo (eksploatavimo) išlaidos",null,null,null,{"$f":"SUM(M22:OFFSET(M22,0,1000))","v":0},0,0,0,0,0,0,0,0,0]
[null,null,null,null,null,null,null,"D.4.3. Oro kondicionavimo ir šaldymo įrenginių eksploatacijos išlaidos",null,null,null,{"$f":"SUM(M23:OFFSET(M23,0,1000))","v":0},0,0,0,0,0,0,0,0,0]
[null,null,null,null,null,null,null,"D.4.4. Vandentiekio ir nuotekų tinklų įrenginių eksploatacijos išlaidos",null,null,null,{"$f":"SUM(M24:OFFSET(M24,0,1000))","v":0},0,0,0,0,0,0,0,0,0]
[null,"5. Esant įvesties klaidoms ar norint pašalinti perteklinę pastato elemento įvesties lentelę, spaudžiamas mygtukas „Ištrinti“ bei įvedamas lentelės numeris, kuris yra kiekvienos lentelės kairiojo kampo viršuje.",null,null,null,null,null,"D.4.5 Lietaus surinkimo ir drenažo sistemos eksploatacijos išlaidos ",null,null,null,{"$f":"SUM(M25:OFFSET(M25,0,1000))","v":0},0,0,0,0,0,0,0,0,0]
[null,null,null,null,null,null,null,"D.4.6. Elektros tinklų įrenginių ekploatacijos išlaidos",null,null,null,{"$f":"SUM(M26:OFFSET(M26,0,1000))","v":0},0,0,0,0,0,0,0,0,0]
[null,null,null,null,null,null,null,"D.4.7. Dujotekio sistemos įrenginių eksploatacijos išlaidos",null,null,null,{"$f":"SUM(M27:OFFSET(M27,0,1000))","v":0},0,0,0,0,0,0,0,0,0]
[null,null,null,null,null,null,null,"D.4.8. Gaisro gesinimo ir perspėjimo sistemų įrenginių eksploatacijos išlaidos",null,null,null,{"$f":"SUM(M28:OFFSET(M28,0,1000))","v":0},0,0,0,0,0,0,0,0,0]
[null,"6. Informacija, pateikta atskirose pastato elementų įvesties lentelėse, atsispindi apibendrinimo lapuose, kur apskaičiuojama bendroji GCS suma: „Elementų išlaidų apibendrinimas“, „Pastato išlaidų apibendrinimas“",null,null,null,null,null,"D.4.9. Apsaugos sistemos įrenginių ekploatacijos išlaidos",null,null,null,{"$f":"SUM(M29:OFFSET(M29,0,1000))","v":0},0,0,0,0,0,0,0,0,0]
[null,null,null,null,null,null,null,"D.4.10. Telekomunikacijos sistemos įrenginių eksploatacijos išlaidos",null,null,null,{"$f":"SUM(M30:OFFSET(M30,0,1000))","v":0},0,0,0,0,0,0,0,0,0]
[null,null,null,null,null,null,null,"D.4.11. Transportavimo sistemos įrenginių ekploatacijos išlaidos",null,null,null,{"$f":"SUM(M31:OFFSET(M31,0,1000))","v":0},0,0,0,0,0,0,0,0,0]
[null,null,null,null,null,null,null,"D.4.12. Apsaugos išlaidos",null,null,null,{"$f":"SUM(M32:OFFSET(M32,0,1000))","v":0},0,{"$f":"1-1","v":0},0,0,0,0,0,0,0]
[null,"7. Norint grįžti į navigacijos puslapį, turėtų būti spaudžiamas mygtukas „Navigacija\". ",null,null,null,null,null,"D.4.13. Valymo išlaidos",null,null,null,{"$f":"SUM(M33:OFFSET(M33,0,1000))","v":0},0,0,0,0,0,0,0,0,0]
[null,null,null,null,null,null,null,"D.4.14. Draudimo išlaidos",null,null,null,{"$f":"SUM(M34:OFFSET(M34,0,1000))","v":0},0,0,0,0,0,0,0,0,0]
[null,"SVARBU: Pilka spalva pažymėti langeliai yra skirti skaičiavimams bei duomenų įvedimui, kurie yra atliekami formulių pagalba ir neturėtų būti keičiami rankiniu būdu.",null,null,null,null,null,"D.4.15. Kitos išlaidos",null,null,null,{"$f":"SUM(M35:OFFSET(M35,0,1000))","v":0},0,0,0,0,0,0,0,0,0]
[null,null,null,null,null,null,null,"D.5. Remonto išlaidos",null,null,null,{"$f":"SUM(M36:OFFSET(M36,0,1000))","v":0},0,0,0,0,0,0,0,0,0]
[null,null,null,null,null,null,null,"D.5.1. Einamojo remonto išlaidos",null,null,null,{"$f":"SUM(M37:OFFSET(M37,0,1000))","v":0},0,0,0,0,0,0,0,0,0]
[null,"Dalis žalia spalva pažymėtų langelių, priklausomai nuo pasirinkimų, tampa pilkais, įstrižine juosta perbrauktais langeliais. Šie langeliai yra neaktualūs.",null,null,null,{"$f":"IFERROR(IF(AND(F39=\"Pradėta\",G40<>\"Ne\"),\"Taip\",\"Ne\"),\"Ne\")","v":"Ne"},null,"D.6. Utilizavimo išlaidos",null,null,null,{"$f":"SUM(M38:OFFSET(M38,0,1000))","v":0},0,0,0,0,0,0,0,0,0]
[null,null,null,null,null,{"$f":"IF(MATCH(\"Grįžti į viršų\",E45:E9550,0),\"Pradėta\",\"Ne\")","v":{"$error":"#N/A"}},null,"D.6.1. Atliekų surinkimo išlaidos",null,null,null,{"$f":"SUM(M39:OFFSET(M39,0,1000))","v":0},0,0,0,0,0,0,0,0,0]
[null,null,null,null,null,{"$f":"IF(COUNTIF(E45:E955,\"Ne\"),\"Ne\",\"Taip\")","v":"Taip"},{"$f":"IFERROR(IF(F40=\"Taip\",\"Taip\",\"Ne\"),\"Taip\")","v":"Taip"},"D.6.2. Perdirbimo išlaidos",null,null,null,{"$f":"SUM(M40:OFFSET(M40,0,1000))","v":0},0,0,0,0,0,0,0,0,0]
[null,null,null,null,null,null,null,"D.6.3. Turto išmontavimo (nugriovimo išlaidos)",null,null,null,{"$f":"SUM(M41:OFFSET(M41,0,1000))","v":0},0,0,0,0,0,0,0,0,0]
[null,null,null,null,null,null,null,"D.7. Kitos išlaidos",null,null,null,{"$f":"SUM(M42:OFFSET(M42,0,1000))","v":0},0,0,0,0,0,0,0,0,0]
[null,null,null,null,null,null,null,"D'. Veiklos išlaidos pagal pildančios institucijos numatytas palaikymo apimtis",null,null,null,{"$f":"SUM(M43:OFFSET(M43,0,1000))","v":0},0,0,0,0,0,0,0,0,0]

{"sheet":"12. Šaldymas ir oro kondiciona","index":16,"n_rows":43,"n_cols":21,"rows_kept":43,"cut":false,"hidden":true,"merged":[[39,1,39,4],[32,1,32,4],[33,1,33,4],[34,1,35,4],[36,1,36,4],[37,1,38,4],[23,1,23,4],[24,1,26,4],[27,1,27,4],[28,1,30,4],[31,1,31,4],[11,1,15,4],[16,1,16,4],[17,1,19,4],[20,1,20,4],[21,1,22,4],[3,1,3,4],[4,1,5,4],[6,1,6,4],[7,1,9,4],[10,1,10,4],[7,7,7,10],[8,7,8,10],[9,7,9,10],[1,7,1,10],[2,7,2,10],[3,7,3,10],[4,7,4,10],[5,7,5,10],[41,7,41,10],[42,7,42,10],[0,1,2,4],[14,7,14,10],[15,7,15,10],[16,7,16,10],[17,7,17,10],[18,7,18,10],[19,7,19,10],[37,7,37,10],[35,7,35,10],[11,7,11,10],[12,7,12,10],[10,7,10,10],[0,7,0,10],[6,7,6,10]]}
[null,"12. Šaldymas ir oro kondicionavimas\n\nPildymo instrukcijos",null,null,null,null,null,"Pastato elemento išlaidų apibendrinimas"]
[null,null,null,null,null,null,null,"Investicijų išlaidos",null,null,null,"Iš viso, EUR",{"$f":"YEAR('Bendrieji įvesties duomenys'!$C$6)+COLUMN(L2)-12","v":2019},{"$f":"YEAR('Bendrieji įvesties duomenys'!$C$6)+COLUMN(M2)-12","v":2020},{"$f":"YEAR('Bendrieji įvesties duomenys'!$C$6)+COLUMN(N2)-12","v":2021},{"$f":"YEAR('Bendrieji įvesties duomenys'!$C$6)+COLUMN(O2)-12","v":2022},{"$f":"YEAR('Bendrieji įvesties duomenys'!$C$6)+COLUMN(P2)-12","v":2023},{"$f":"YEAR('Bendrieji įvesties duomenys'!$C$6)+COLUMN(Q2)-12","v":2024},{"$f":"YEAR('Bendrieji įvesties duomenys'!$C$6)+COLUMN(R2)-12","v":2025},{"$f":"YEAR('Bendrieji įvesties duomenys'!$C$6)+COLUMN(S2)-12","v":2026},{"$f":"YEAR('Bendrieji įvesties duomenys'!$C$6)+COLUMN(T2)-12","v":2027}]
[null,null,null,null,null,null,null,"A. Turto įsigijimo ir kūrimo išlaidos išlaidos",null,null,null,{"$f":"SUM(M3:OFFSET(M3,0,1000))","v":0},{"$f":"OFFSET(M3,46,0)","v":0},0,0,0,0,0,0,0,0]
[null,null,null,null,null,null,null,"A.1. Žaliavų, medžiagų, sudedamųjų dalių ir detalių, sunaudotų kuriant ilgalaikį turtą, įsigijimo išlaidos",null,null,null,{"$f":"SUM(M4:OFFSET(M4,0,1000))","v":0},0,0,0,0,0,0,0,0,0]
[null,"1.  Paspaudus žemiau esantį mygtuką „Pridėti“, inicijuojamas duomenų pildymo procesas ir sukuriama duomenų įvesties lentelė.",null,null,null,null,null,"A.2. Statyba",null,null,null,{"$f":"SUM(M5:OFFSET(M5,0,1000))","v":0},0,0,0,0,0,0,0,0,0]
[null,null,null,null,null,null,null,"A.3. Rekonstravimas",null,null,null,{"$f":"SUM(M6:OFFSET(M6,0,1000))","v":0},0,0,0,0,0,0,0,0,0]
[null,null,null,null,null,null,null,"A.4. Kapitalinis remontas",null,null,null,{"$f":"SUM(M7:OFFSET(M7,0,1000))","v":0},0,0,0,0,0,0,0,0,0]
[null,"2. Lentelėje „Pastato elemento fiziniai parametrai ir tarnavimo laikotarpis“, pildytojas turėtų  užpildyti visus žalia spalva pažymėtus E stulpelio laukelius, atsižvelgiant į B stulpelyje pateiktus laukelių aprašymus.",null,null,null,null,null,"A.5. Projektavimo paslaugos",null,null,null,{"$f":"SUM(M8:OFFSET(M8,0,1000))","v":0},0,0,0,0,0,0,0,0,0]
[null,null,null,null,null,null,null,"A.6. Techninės priežiūros paslaugos",null,null,null,{"$f":"SUM(M9:OFFSET(M9,0,1000))","v":0},0,0,0,0,0,0,0,0,0]
[null,null,null,null,null,null,null,"A.7. Kitos su investicijomis į ilgalaikį turtą susijusios paslaugos ir išlaidos",null,null,null,{"$f":"SUM(M10:OFFSET(M10,0,1000))","v":0},0,0,0,0,0,0,0,0,0]
[null,null,null,null,null,null,null,"B. Kitos paslaugos ir išlaidos",null,null,null,{"$f":"SUM(M11:OFFSET(M11,0,1000))","v":0},0,0,0,0,0,0,0,0,0]
[null,"3. Užpildžius lentelę „Pastato elemento fiziniai parametrai ir tarnavimo laikotarpis“, turėtų būti pereita prie „Pastato elemento išlaidų įvestis“ sekcijos. Šioje dalyje pildomos investicijų bei veiklos ir eksploatavimo išlaidos, susijusios su pasirinkta pastato elemento konstrukcija/tipu ar prietaisu/dalimi. Informacija veda į atitinkamus laukelius, nurodant tiek investicijų sumą (I-J stulpeliai), tiek investicijų/išlaidų pasikartojimo periodą (K stulpelis).",null,null,null,null,null,"C. Likutinės vertės pinigų srautas",null,null,null,{"$f":"SUM(M12:OFFSET(M12,0,1000))","v":0},0,0,0,0,0,0,0,0,0]
[null,null,null,null,null,null,null,"Iš viso (A + B)",null,null,null,{"$f":"SUM(M13:OFFSET(M13,0,1000))","v":0},{"$f":"M3+M11","v":0},{"$f":"N3+N11","v":0},0,0,0,0,0,0,0]
[]
[null,null,null,null,null,null,null,"Eksploatavimo ir veiklos išlaidos",null,null,null,"Iš viso, EUR",{"$f":"YEAR('Bendrieji įvesties duomenys'!$C$6)+COLUMN(L15)-12","v":2019},{"$f":"YEAR('Bendrieji įvesties duomenys'!$C$6)+COLUMN(M15)-12","v":2020},{"$f":"YEAR('Bendrieji įvesties duomenys'!$C$6)+COLUMN(N15)-12","v":2021},{"$f":"YEAR('Bendrieji įvesties duomenys'!$C$6)+COLUMN(O15)-12","v":2022},{"$f":"YEAR('Bendrieji įvesties duomenys'!$C$6)+COLUMN(P15)-12","v":2023},{"$f":"YEAR('Bendrieji įvesties duomenys'!$C$6)+COLUMN(Q15)-12","v":2024},{"$f":"YEAR('Bendrieji įvesties duomenys'!$C$6)+COLUMN(R15)-12","v":2025},{"$f":"YEAR('Bendrieji įvesties duomenys'!$C$6)+COLUMN(S15)-12","v":2026},{"$f":"YEAR('Bendrieji įvesties duomenys'!$C$6)+COLUMN(T15)-12","v":2027}]
[null,null,null,null,null,null,null,"D. Veiklos išlaidos laikantis rinkoje taikomų eksploatavimo apimčių",null,null,null,{"$f":"SUM(M16:OFFSET(M16,0,1000))","v":0},{"$f":"OFFSET(M16,46,0)","v":0},0,0,0,0,0,0,0,0]
[null,null,null,null,null,null,null,"D. Veiklos išlaidos laikantis pildančios institucijos taikomų eksploatavimo apimčių",null,null,null,{"$f":"SUM(M17:OFFSET(M17,0,1000))","v":0},0,0,0,0,0,0,0,0,0]
[null,"Pastaba: D'. Veiklos išlaidos pagal pildančios institucijos numatytas palaikymo apimtis apskaičiuojamos automatiškai pagal suvestas eksploatavimo ir veiklos išlaidas ir numato būsimas išlaidas kiekvienam periodui.",null,null,null,null,null,"D.1.Žaliavos",null,null,null,{"$f":"SUM(M18:OFFSET(M18,0,1000))","v":0},0,0,0,0,0,0,0,0,0]
[null,null,null,null,null,null,null,"D.2. Darbo užmokesčio išlaidos",null,null,null,{"$f":"SUM(M19:OFFSET(M19,0,1000))","v":0},0,0,0,0,0,0,0,0,0]
[null,null,null,null,null,null,null,"D.4. Infrastruktūros būklės palaikymo (eksploatavimo) išlaidos",null,null,null,{"$f":"SUM(M20:OFFSET(M20,0,1000))","v":0},0,0,0,0,0,0,0,0,0]
[null,null,null,null,null,null,null,"D.4.1. Vėdinimo sistemų įrenginių eksploatacijos išlaidos",null,null,null,{"$f":"SUM(M21:OFFSET(M21,0,1000))","v":0},{"$f":"1-1","v":0},{"$f":"1-1","v":0},0,0,0,0,0,0,0]
[null,"4. Norint pridėti dar vieną su pastato elementu susijusią sąnaudų įvesties lentelę, spaudžiamas mygtukas „Pridėti“ ir kartojami 2-3 žingsniuose aprašyti veiksmai.",null,null,null,null,null,"D.4.2. Šilumos sistemų tinklų palaikymo (eksploatavimo) išlaidos",null,null,null,{"$f":"SUM(M22:OFFSET(M22,0,1000))","v":0},{"$f":"1-1","v":0},0,0,0,0,0,0,0,0]
[null,null,null,null,null,null,null,"D.4.3. Oro kondicionavimo ir šaldymo įrenginių eksploatacijos išlaidos",null,null,null,{"$f":"SUM(M23:OFFSET(M23,0,1000))","v":0},{"$f":"OFFSET(M23,44,0)","v":0},0,0,0,0,0,0,0,0]
[null,null,null,null,null,null,null,"D.4.4. Vandentiekio ir nuotekų tinklų įrenginių eksploatacijos išlaidos",null,null,null,{"$f":"SUM(M24:OFFSET(M24,0,1000))","v":0},{"$f":"1-1","v":0},0,0,0,0,0,0,0,0]
[null,"5. Esant įvesties klaidoms ar norint pašalinti perteklinę pastato elemento įvesties lentelę, spaudžiamas mygtukas „Ištrinti“ bei įvedamas lentelės numeris, kuris yra kiekvienos lentelės kairiojo kampo viršuje.",null,null,null,null,null,"D.4.5 Lietaus surinkimo ir drenažo sistemos eksploatacijos išlaidos ",null,null,null,{"$f":"SUM(M25:OFFSET(M25,0,1000))","v":0},0,0,0,0,0,0,0,0,0]
[null,null,null,null,null,null,null,"D.4.6. Elektros tinklų įrenginių ekploatacijos išlaidos",null,null,null,{"$f":"SUM(M26:OFFSET(M26,0,1000))","v":0},0,0,0,0,0,0,0,0,0]
[null,null,null,null,null,null,null,"D.4.7. Dujotekio sistemos įrenginių eksploatacijos išlaidos",null,null,null,{"$f":"SUM(M27:OFFSET(M27,0,1000))","v":0},0,0,0,0,0,0,0,0,0]
[null,null,null,null,null,null,null,"D.4.8. Gaisro gesinimo ir perspėjimo sistemų įrenginių eksploatacijos išlaidos",null,null,null,{"$f":"SUM(M28:OFFSET(M28,0,1000))","v":0},0,0,0,0,0,0,0,0,0]
[null,"6. Informacija, pateikta atskirose pastato elementų įvesties lentelėse, atsispindi apibendrinimo lapuose, kur apskaičiuojama bendroji GCS suma: „Elementų išlaidų apibendrinimas“, „Pastato išlaidų apibendrinimas“",null,null,null,null,null,"D.4.9. Apsaugos sistemos įrenginių ekploatacijos išlaidos",null,null,null,{"$f":"SUM(M29:OFFSET(M29,0,1000))","v":0},0,0,0,0,0,0,0,0,0]
[null,null,null,null,null,null,null,"D.4.10. Telekomunikacijos sistemos įrenginių eksploatacijos išlaidos",null,null,null,{"$f":"SUM(M30:OFFSET(M30,0,1000))","v":0},0,0,0,0,0,0,0,0,0]
[null,null,null,null,null,null,null,"D.4.11. Transportavimo sistemos įrenginių ekploatacijos išlaidos",null,null,null,{"$f":"SUM(M31:OFFSET(M31,0,1000))","v":0},0,0,0,0,0,0,0,0,0]
[null,null,null,null,null,null,null,"D.4.12. Apsaugos išlaidos",null,null,null,{"$f":"SUM(M32:OFFSET(M32,0,1000))","v":0},0,{"$f":"1-1","v":0},0,0,0,0,0,0,0]
[null,"7. Norint grįžti į navigacijos puslapį, turėtų būti spaudžiamas mygtukas „Navigacija\". ",null,null,null,null,null,"D.4.13. Valymo išlaidos",null,null,null,{"$f":"SUM(M33:OFFSET(M33,0,1000))","v":0},0,0,0,0,0,0,0,0,0]
[null,null,null,null,null,null,null,"D.4.14. Draudimo išlaidos",null,null,null,{"$f":"SUM(M34:OFFSET(M34,0,1000))","v":0},0,0,0,0,0,0,0,0,0]
[null,"SVARBU: Pilka spalva pažymėti langeliai yra skirti skaičiavimams bei duomenų įvedimui, kurie yra atliekami formulių pagalba ir neturėtų būti keičiami rankiniu būdu.",null,null,null,null,null,"D.4.15. Kitos išlaidos",null,null,null,{"$f":"SUM(M35:OFFSET(M35,0,1000))","v":0},{"$f":"OFFSET(M35,33,0)","v":0},0,0,0,0,0,0,0,0]
[null,null,null,null,null,null,null,"D.5. Remonto išlaidos",null,null,null,{"$f":"SUM(M36:OFFSET(M36,0,1000))","v":0},0,0,0,0,0,0,0,0,0]
[null,null,null,null,null,null,null,"D.5.1. Einamojo remonto išlaidos",null,null,null,{"$f":"SUM(M37:OFFSET(M37,0,1000))","v":0},0,0,0,0,0,0,0,0,0]
[null,"Dalis žalia spalva pažymėtų langelių, priklausomai nuo pasirinkimų, tampa pilkais, įstrižine juosta perbrauktais langeliais. Šie langeliai yra neaktualūs.",null,null,null,{"$f":"IFERROR(IF(AND(F39=\"Pradėta\",G40<>\"Ne\"),\"Taip\",\"Ne\"),\"Ne\")","v":"Ne"},null,"D.6. Utilizavimo išlaidos",null,null,null,{"$f":"SUM(M38:OFFSET(M38,0,1000))","v":0},0,0,0,0,0,0,0,0,0]
[null,null,null,null,null,{"$f":"IF(MATCH(\"Grįžti į viršų\",E45:E9460,0),\"Pradėta\",\"Ne\")","v":{"$error":"#N/A"}},null,"D.6.1. Atliekų surinkimo išlaidos",null,null,null,{"$f":"SUM(M39:OFFSET(M39,0,1000))","v":0},0,0,0,0,0,0,0,0,0]
[null,null,null,null,null,{"$f":"IF(COUNTIF(E45:E865,\"Ne\"),\"Ne\",\"Taip\")","v":"Taip"},{"$f":"IFERROR(IF(F40=\"Taip\",\"Taip\",\"Ne\"),\"Taip\")","v":"Taip"},"D.6.2. Perdirbimo išlaidos",null,null,null,{"$f":"SUM(M40:OFFSET(M40,0,1000))","v":0},0,0,0,0,0,0,0,0,0]
[null,null,null,null,null,null,null,"D.6.3. Turto išmontavimo (nugriovimo išlaidos)",null,null,null,{"$f":"SUM(M41:OFFSET(M41,0,1000))","v":0},0,0,0,0,0,0,0,0,0]
[null,null,null,null,null,null,null,"D.7. Kitos išlaidos",null,null,null,{"$f":"SUM(M42:OFFSET(M42,0,1000))","v":0},0,0,0,0,0,0,0,0,0]
[null,null,null,null,null,null,null,"D'. Veiklos išlaidos pagal pildančios institucijos numatytas palaikymo apimtis",null,null,null,{"$f":"SUM(M43:OFFSET(M43,0,1000))","v":0},0,0,0,0,0,0,0,0,0]

{"sheet":"13. Ventiliacija","index":17,"n_rows":43,"n_cols":21,"rows_kept":43,"cut":false,"hidden":true,"merged":[[24,1,26,4],[27,1,27,4],[28,1,30,4],[31,1,31,4],[39,1,39,4],[32,1,32,4],[33,1,33,4],[34,1,35,4],[36,1,36,4],[37,1,38,4],[16,1,16,4],[17,1,19,4],[20,1,20,4],[21,1,22,4],[23,1,23,4],[4,1,5,4],[6,1,6,4],[7,1,9,4],[10,1,10,4],[11,1,15,4],[41,7,41,10],[42,7,42,10],[10,7,10,10],[35,7,35,10],[11,7,11,10],[12,7,12,10],[18,7,18,10],[19,7,19,10],[37,7,37,10],[0,1,2,4],[14,7,14,10],[15,7,15,10],[16,7,16,10],[17,7,17,10],[0,7,0,10],[1,7,1,10],[2,7,2,10],[3,7,3,10],[4,7,4,10],[5,7,5,10],[6,7,6,10],[7,7,7,10],[8,7,8,10],[9,7,9,10],[3,1,3,4]]}
[null,"13. Ventiliacija\n\nPildymo instrukcijos",null,null,null,null,null,"Pastato elemento išlaidų apibendrinimas"]
[null,null,null,null,null,null,null,"Investicijų išlaidos",null,null,null,"Iš viso, EUR",{"$f":"YEAR('Bendrieji įvesties duomenys'!$C$6)+COLUMN(L2)-12","v":2019},{"$f":"YEAR('Bendrieji įvesties duomenys'!$C$6)+COLUMN(M2)-12","v":2020},{"$f":"YEAR('Bendrieji įvesties duomenys'!$C$6)+COLUMN(N2)-12","v":2021},{"$f":"YEAR('Bendrieji įvesties duomenys'!$C$6)+COLUMN(O2)-12","v":2022},{"$f":"YEAR('Bendrieji įvesties duomenys'!$C$6)+COLUMN(P2)-12","v":2023},{"$f":"YEAR('Bendrieji įvesties duomenys'!$C$6)+COLUMN(Q2)-12","v":2024},{"$f":"YEAR('Bendrieji įvesties duomenys'!$C$6)+COLUMN(R2)-12","v":2025},{"$f":"YEAR('Bendrieji įvesties duomenys'!$C$6)+COLUMN(S2)-12","v":2026},{"$f":"YEAR('Bendrieji įvesties duomenys'!$C$6)+COLUMN(T2)-12","v":2027}]
[null,null,null,null,null,null,null,"A. Turto įsigijimo ir kūrimo išlaidos išlaidos",null,null,null,{"$f":"SUM(M3:OFFSET(M3,0,1000))","v":0},{"$f":"1-1","v":0},{"$f":"1-1","v":0},0,0,0,0,0,0,0]
[null,null,null,null,null,null,null,"A.1. Žaliavų, medžiagų, sudedamųjų dalių ir detalių, sunaudotų kuriant ilgalaikį turtą, įsigijimo išlaidos",null,null,null,{"$f":"SUM(M4:OFFSET(M4,0,1000))","v":0},{"$f":"1-1","v":0},0,0,0,0,0,0,0,0]
[null,"1.  Paspaudus žemiau esantį mygtuką „Pridėti“, inicijuojamas duomenų pildymo procesas ir sukuriama duomenų įvesties lentelė.",null,null,null,null,null,"A.2. Statyba",null,null,null,{"$f":"SUM(M5:OFFSET(M5,0,1000))","v":0},0,0,0,0,0,0,0,0,0]
[null,null,null,null,null,null,null,"A.3. Rekonstravimas",null,null,null,{"$f":"SUM(M6:OFFSET(M6,0,1000))","v":0},0,0,0,0,0,0,0,0,0]
[null,null,null,null,null,null,null,"A.4. Kapitalinis remontas",null,null,null,{"$f":"SUM(M7:OFFSET(M7,0,1000))","v":0},0,0,0,0,0,0,0,0,0]
[null,"2. Lentelėje „Pastato elemento fiziniai parametrai ir tarnavimo laikotarpis“, pildytojas turėtų  užpildyti visus žalia spalva pažymėtus E stulpelio laukelius, atsižvelgiant į B stulpelyje pateiktus laukelių aprašymus.",null,null,null,null,null,"A.5. Projektavimo paslaugos",null,null,null,{"$f":"SUM(M8:OFFSET(M8,0,1000))","v":0},0,0,0,0,0,0,0,0,0]
[null,null,null,null,null,null,null,"A.6. Techninės priežiūros paslaugos",null,null,null,{"$f":"SUM(M9:OFFSET(M9,0,1000))","v":0},0,0,0,0,0,0,0,0,0]
[null,null,null,null,null,null,null,"A.7. Kitos su investicijomis į ilgalaikį turtą susijusios paslaugos ir išlaidos",null,null,null,{"$f":"SUM(M10:OFFSET(M10,0,1000))","v":0},0,0,0,0,0,0,0,0,0]
[null,null,null,null,null,null,null,"B. Kitos paslaugos ir išlaidos",null,null,null,{"$f":"SUM(M11:OFFSET(M11,0,1000))","v":0},0,0,0,0,0,0,0,0,0]
[null,"3. Užpildžius lentelę „Pastato elemento fiziniai parametrai ir tarnavimo laikotarpis“, turėtų būti pereita prie „Pastato elemento išlaidų įvestis“ sekcijos. Šioje dalyje pildomos investicijų bei veiklos ir eksploatavimo išlaidos, susijusios su pasirinkta pastato elemento konstrukcija/tipu ar prietaisu/dalimi. Informacija veda į atitinkamus laukelius, nurodant tiek investicijų sumą (I-J stulpeliai), tiek investicijų/išlaidų pasikartojimo periodą (K stulpelis).",null,null,null,null,null,"C. Likutinės vertės pinigų srautas",null,null,null,{"$f":"SUM(M12:OFFSET(M12,0,1000))","v":0},0,0,0,0,0,0,0,0,0]
[null,null,null,null,null,null,null,"Iš viso (A + B)",null,null,null,{"$f":"SUM(M13:OFFSET(M13,0,1000))","v":0},{"$f":"M3+M11","v":0},{"$f":"N3+N11","v":0},0,0,0,0,0,0,0]
[]
[null,null,null,null,null,null,null,"Eksploatavimo ir veiklos išlaidos",null,null,null,"Iš viso, EUR",{"$f":"YEAR('Bendrieji įvesties duomenys'!$C$6)+COLUMN(L15)-12","v":2019},{"$f":"YEAR('Bendrieji įvesties duomenys'!$C$6)+COLUMN(M15)-12","v":2020},{"$f":"YEAR('Bendrieji įvesties duomenys'!$C$6)+COLUMN(N15)-12","v":2021},{"$f":"YEAR('Bendrieji įvesties duomenys'!$C$6)+COLUMN(O15)-12","v":2022},{"$f":"YEAR('Bendrieji įvesties duomenys'!$C$6)+COLUMN(P15)-12","v":2023},{"$f":"YEAR('Bendrieji įvesties duomenys'!$C$6)+COLUMN(Q15)-12","v":2024},{"$f":"YEAR('Bendrieji įvesties duomenys'!$C$6)+COLUMN(R15)-12","v":2025},{"$f":"YEAR('Bendrieji įvesties duomenys'!$C$6)+COLUMN(S15)-12","v":2026},{"$f":"YEAR('Bendrieji įvesties duomenys'!$C$6)+COLUMN(T15)-12","v":2027}]
[null,null,null,null,null,null,null,"D. Veiklos išlaidos laikantis rinkoje taikomų eksploatavimo apimčių",null,null,null,{"$f":"SUM(M16:OFFSET(M16,0,1000))","v":0},{"$f":"1-1","v":0},{"$f":"1-1","v":0},0,0,0,0,0,0,0]
[null,null,null,null,null,null,null,"D. Veiklos išlaidos laikantis pildančios institucijos taikomų eksploatavimo apimčių",null,null,null,{"$f":"SUM(M17:OFFSET(M17,0,1000))","v":0},0,0,0,0,0,0,0,0,0]
[null,"Pastaba: D'. Veiklos išlaidos pagal pildančios institucijos numatytas palaikymo apimtis apskaičiuojamos automatiškai pagal suvestas eksploatavimo ir veiklos išlaidas ir numato būsimas išlaidas kiekvienam periodui.",null,null,null,null,null,"D.1.Žaliavos",null,null,null,{"$f":"SUM(M18:OFFSET(M18,0,1000))","v":0},0,0,0,0,0,0,0,0,0]
[null,null,null,null,null,null,null,"D.2. Darbo užmokesčio išlaidos",null,null,null,{"$f":"SUM(M19:OFFSET(M19,0,1000))","v":0},0,0,0,0,0,0,0,0,0]
[null,null,null,null,null,null,null,"D.4. Infrastruktūros būklės palaikymo (eksploatavimo) išlaidos",null,null,null,{"$f":"SUM(M20:OFFSET(M20,0,1000))","v":0},0,0,0,0,0,0,0,0,0]
[null,null,null,null,null,null,null,"D.4.1. Vėdinimo sistemų įrenginių eksploatacijos išlaidos",null,null,null,{"$f":"SUM(M21:OFFSET(M21,0,1000))","v":0},0,0,0,0,0,0,0,0,0]
[null,"4. Norint pridėti dar vieną su pastato elementu susijusią sąnaudų įvesties lentelę, spaudžiamas mygtukas „Pridėti“ ir kartojami 2-3 žingsniuose aprašyti veiksmai.",null,null,null,null,null,"D.4.2. Šilumos sistemų tinklų palaikymo (eksploatavimo) išlaidos",null,null,null,{"$f":"SUM(M22:OFFSET(M22,0,1000))","v":0},0,0,0,0,0,0,0,0,0]
[null,null,null,null,null,null,null,"D.4.3. Oro kondicionavimo ir šaldymo įrenginių eksploatacijos išlaidos",null,null,null,{"$f":"SUM(M23:OFFSET(M23,0,1000))","v":0},0,0,0,0,0,0,0,0,0]
[null,null,null,null,null,null,null,"D.4.4. Vandentiekio ir nuotekų tinklų įrenginių eksploatacijos išlaidos",null,null,null,{"$f":"SUM(M24:OFFSET(M24,0,1000))","v":0},0,0,0,0,0,0,0,0,0]
[null,"5. Esant įvesties klaidoms ar norint pašalinti perteklinę pastato elemento įvesties lentelę, spaudžiamas mygtukas „Ištrinti“ bei įvedamas lentelės numeris, kuris yra kiekvienos lentelės kairiojo kampo viršuje.",null,null,null,null,null,"D.4.5 Lietaus surinkimo ir drenažo sistemos eksploatacijos išlaidos ",null,null,null,{"$f":"SUM(M25:OFFSET(M25,0,1000))","v":0},0,0,0,0,0,0,0,0,0]
[null,null,null,null,null,null,null,"D.4.6. Elektros tinklų įrenginių ekploatacijos išlaidos",null,null,null,{"$f":"SUM(M26:OFFSET(M26,0,1000))","v":0},0,0,0,0,0,0,0,0,0]
[null,null,null,null,null,null,null,"D.4.7. Dujotekio sistemos įrenginių eksploatacijos išlaidos",null,null,null,{"$f":"SUM(M27:OFFSET(M27,0,1000))","v":0},0,0,0,0,0,0,0,0,0]
[null,null,null,null,null,null,null,"D.4.8. Gaisro gesinimo ir perspėjimo sistemų įrenginių eksploatacijos išlaidos",null,null,null,{"$f":"SUM(M28:OFFSET(M28,0,1000))","v":0},0,0,0,0,0,0,0,0,0]
[null,"6. Informacija, pateikta atskirose pastato elementų įvesties lentelėse, atsispindi apibendrinimo lapuose, kur apskaičiuojama bendroji GCS suma: „Elementų išlaidų apibendrinimas“, „Pastato išlaidų apibendrinimas“",null,null,null,null,null,"D.4.9. Apsaugos sistemos įrenginių ekploatacijos išlaidos",null,null,null,{"$f":"SUM(M29:OFFSET(M29,0,1000))","v":0},0,0,0,0,0,0,0,0,0]
[null,null,null,null,null,null,null,"D.4.10. Telekomunikacijos sistemos įrenginių eksploatacijos išlaidos",null,null,null,{"$f":"SUM(M30:OFFSET(M30,0,1000))","v":0},0,0,0,0,0,0,0,0,0]
[null,null,null,null,null,null,null,"D.4.11. Transportavimo sistemos įrenginių ekploatacijos išlaidos",null,null,null,{"$f":"SUM(M31:OFFSET(M31,0,1000))","v":0},0,0,0,0,0,0,0,0,0]
[null,null,null,null,null,null,null,"D.4.12. Apsaugos išlaidos",null,null,null,{"$f":"SUM(M32:OFFSET(M32,0,1000))","v":0},0,{"$f":"1-1","v":0},0,0,0,0,0,0,0]
[null,"7. Norint grįžti į navigacijos puslapį, turėtų būti spaudžiamas mygtukas „Navigacija\". ",null,null,null,null,null,"D.4.13. Valymo išlaidos",null,null,null,{"$f":"SUM(M33:OFFSET(M33,0,1000))","v":0},0,0,0,0,0,0,0,0,0]
[null,null,null,null,null,null,null,"D.4.14. Draudimo išlaidos",null,null,null,{"$f":"SUM(M34:OFFSET(M34,0,1000))","v":0},0,0,0,0,0,0,0,0,0]
[null,"SVARBU: Pilka spalva pažymėti langeliai yra skirti skaičiavimams bei duomenų įvedimui, kurie yra atliekami formulių pagalba ir neturėtų būti keičiami rankiniu būdu.",null,null,null,null,null,"D.4.15. Kitos išlaidos",null,null,null,{"$f":"SUM(M35:OFFSET(M35,0,1000))","v":0},0,0,0,0,0,0,0,0,0]
[null,null,null,null,null,null,null,"D.5. Remonto išlaidos",null,null,null,{"$f":"SUM(M36:OFFSET(M36,0,1000))","v":0},0,0,0,0,0,0,0,0,0]
[null,null,null,null,null,null,null,"D.5.1. Einamojo remonto išlaidos",null,null,null,{"$f":"SUM(M37:OFFSET(M37,0,1000))","v":0},0,0,0,0,0,0,0,0,0]
[null,"Dalis žalia spalva pažymėtų langelių, priklausomai nuo pasirinkimų, tampa pilkais, įstrižine juosta perbrauktais langeliais. Šie langeliai yra neaktualūs.",null,null,null,{"$f":"IFERROR(IF(AND(F39=\"Pradėta\",G40<>\"Ne\"),\"Taip\",\"Ne\"),\"Ne\")","v":"Ne"},null,"D.6. Utilizavimo išlaidos",null,null,null,{"$f":"SUM(M38:OFFSET(M38,0,1000))","v":0},0,0,0,0,0,0,0,0,0]
[null,null,null,null,null,{"$f":"IF(MATCH(\"Grįžti į viršų\",E45:E9550,0),\"Pradėta\",\"Ne\")","v":{"$error":"#N/A"}},null,"D.6.1. Atliekų surinkimo išlaidos",null,null,null,{"$f":"SUM(M39:OFFSET(M39,0,1000))","v":0},0,0,0,0,0,0,0,0,0]
[null,null,null,null,null,{"$f":"IF(COUNTIF(E45:E955,\"Ne\"),\"Ne\",\"Taip\")","v":"Taip"},{"$f":"IFERROR(IF(F40=\"Taip\",\"Taip\",\"Ne\"),\"Taip\")","v":"Taip"},"D.6.2. Perdirbimo išlaidos",null,null,null,{"$f":"SUM(M40:OFFSET(M40,0,1000))","v":0},0,0,0,0,0,0,0,0,0]
[null,null,null,null,null,null,null,"D.6.3. Turto išmontavimo (nugriovimo išlaidos)",null,null,null,{"$f":"SUM(M41:OFFSET(M41,0,1000))","v":0},0,0,0,0,0,0,0,0,0]
[null,null,null,null,null,null,null,"D.7. Kitos išlaidos",null,null,null,{"$f":"SUM(M42:OFFSET(M42,0,1000))","v":0},0,0,0,0,0,0,0,0,0]
[null,null,null,null,null,null,null,"D'. Veiklos išlaidos pagal pildančios institucijos numatytas palaikymo apimtis",null,null,null,{"$f":"SUM(M43:OFFSET(M43,0,1000))","v":0},0,0,0,0,0,0,0,0,0]

{"sheet":"14. Vandentiekio sistema (vida","index":18,"n_rows":43,"n_cols":21,"rows_kept":43,"cut":false,"hidden":true,"merged":[[39,1,39,4],[32,1,32,4],[33,1,33,4],[34,1,35,4],[36,1,36,4],[37,1,38,4],[23,1,23,4],[24,1,26,4],[27,1,27,4],[28,1,30,4],[31,1,31,4],[11,1,15,4],[16,1,16,4],[17,1,19,4],[20,1,20,4],[21,1,22,4],[3,1,3,4],[4,1,5,4],[6,1,6,4],[7,1,9,4],[10,1,10,4],[7,7,7,10],[8,7,8,10],[9,7,9,10],[1,7,1,10],[2,7,2,10],[3,7,3,10],[4,7,4,10],[5,7,5,10],[41,7,41,10],[42,7,42,10],[0,1,2,4],[14,7,14,10],[15,7,15,10],[16,7,16,10],[17,7,17,10],[18,7,18,10],[19,7,19,10],[37,7,37,10],[10,7,10,10],[35,7,35,10],[11,7,11,10],[12,7,12,10],[0,7,0,10],[6,7,6,10]]}
[null,"14. Vandentiekio sistema (vidaus)\n\nPildymo instrukcijos",null,null,null,null,null,"Pastato elemento išlaidų apibendrinimas"]
[null,null,null,null,null,null,null,"Investicijų išlaidos",null,null,null,"Iš viso, EUR",{"$f":"YEAR('Bendrieji įvesties duomenys'!$C$6)+COLUMN(L2)-12","v":2019},{"$f":"YEAR('Bendrieji įvesties duomenys'!$C$6)+COLUMN(M2)-12","v":2020},{"$f":"YEAR('Bendrieji įvesties duomenys'!$C$6)+COLUMN(N2)-12","v":2021},{"$f":"YEAR('Bendrieji įvesties duomenys'!$C$6)+COLUMN(O2)-12","v":2022},{"$f":"YEAR('Bendrieji įvesties duomenys'!$C$6)+COLUMN(P2)-12","v":2023},{"$f":"YEAR('Bendrieji įvesties duomenys'!$C$6)+COLUMN(Q2)-12","v":2024},{"$f":"YEAR('Bendrieji įvesties duomenys'!$C$6)+COLUMN(R2)-12","v":2025},{"$f":"YEAR('Bendrieji įvesties duomenys'!$C$6)+COLUMN(S2)-12","v":2026},{"$f":"YEAR('Bendrieji įvesties duomenys'!$C$6)+COLUMN(T2)-12","v":2027}]
[null,null,null,null,null,null,null,"A. Turto įsigijimo ir kūrimo išlaidos išlaidos",null,null,null,{"$f":"SUM(M3:OFFSET(M3,0,1000))","v":0},{"$f":"1-1","v":0},{"$f":"1-1","v":0},0,0,0,0,0,0,0]
[null,null,null,null,null,null,null,"A.1. Žaliavų, medžiagų, sudedamųjų dalių ir detalių, sunaudotų kuriant ilgalaikį turtą, įsigijimo išlaidos",null,null,null,{"$f":"SUM(M4:OFFSET(M4,0,1000))","v":0},{"$f":"1-1","v":0},0,0,0,0,0,0,0,0]
[null,"1.  Paspaudus žemiau esantį mygtuką „Pridėti“, inicijuojamas duomenų pildymo procesas ir sukuriama duomenų įvesties lentelė.",null,null,null,null,null,"A.2. Statyba",null,null,null,{"$f":"SUM(M5:OFFSET(M5,0,1000))","v":0},0,0,0,0,0,0,0,0,0]
[null,null,null,null,null,null,null,"A.3. Rekonstravimas",null,null,null,{"$f":"SUM(M6:OFFSET(M6,0,1000))","v":0},0,0,0,0,0,0,0,0,0]
[null,null,null,null,null,null,null,"A.4. Kapitalinis remontas",null,null,null,{"$f":"SUM(M7:OFFSET(M7,0,1000))","v":0},0,0,0,0,0,0,0,0,0]
[null,"2. Lentelėje „Pastato elemento fiziniai parametrai ir tarnavimo laikotarpis“, pildytojas turėtų  užpildyti visus žalia spalva pažymėtus E stulpelio laukelius, atsižvelgiant į B stulpelyje pateiktus laukelių aprašymus.",null,null,null,null,null,"A.5. Projektavimo paslaugos",null,null,null,{"$f":"SUM(M8:OFFSET(M8,0,1000))","v":0},0,0,0,0,0,0,0,0,0]
[null,null,null,null,null,null,null,"A.6. Techninės priežiūros paslaugos",null,null,null,{"$f":"SUM(M9:OFFSET(M9,0,1000))","v":0},0,0,0,0,0,0,0,0,0]
[null,null,null,null,null,null,null,"A.7. Kitos su investicijomis į ilgalaikį turtą susijusios paslaugos ir išlaidos",null,null,null,{"$f":"SUM(M10:OFFSET(M10,0,1000))","v":0},0,0,0,0,0,0,0,0,0]
[null,null,null,null,null,null,null,"B. Kitos paslaugos ir išlaidos",null,null,null,{"$f":"SUM(M11:OFFSET(M11,0,1000))","v":0},0,0,0,0,0,0,0,0,0]
[null,"3. Užpildžius lentelę „Pastato elemento fiziniai parametrai ir tarnavimo laikotarpis“, turėtų būti pereita prie „Pastato elemento išlaidų įvestis“ sekcijos. Šioje dalyje pildomos investicijų bei veiklos ir eksploatavimo išlaidos, susijusios su pasirinkta pastato elemento konstrukcija/tipu ar prietaisu/dalimi. Informacija veda į atitinkamus laukelius, nurodant tiek investicijų sumą (I-J stulpeliai), tiek investicijų/išlaidų pasikartojimo periodą (K stulpelis).",null,null,null,null,null,"C. Likutinės vertės pinigų srautas",null,null,null,{"$f":"SUM(M12:OFFSET(M12,0,1000))","v":0},0,0,0,0,0,0,0,0,0]
[null,null,null,null,null,null,null,"Iš viso (A + B)",null,null,null,{"$f":"SUM(M13:OFFSET(M13,0,1000))","v":0},{"$f":"M3+M11","v":0},{"$f":"N3+N11","v":0},0,0,0,0,0,0,0]
[]
[null,null,null,null,null,null,null,"Eksploatavimo ir veiklos išlaidos",null,null,null,"Iš viso, EUR",{"$f":"YEAR('Bendrieji įvesties duomenys'!$C$6)+COLUMN(L15)-12","v":2019},{"$f":"YEAR('Bendrieji įvesties duomenys'!$C$6)+COLUMN(M15)-12","v":2020},{"$f":"YEAR('Bendrieji įvesties duomenys'!$C$6)+COLUMN(N15)-12","v":2021},{"$f":"YEAR('Bendrieji įvesties duomenys'!$C$6)+COLUMN(O15)-12","v":2022},{"$f":"YEAR('Bendrieji įvesties duomenys'!$C$6)+COLUMN(P15)-12","v":2023},{"$f":"YEAR('Bendrieji įvesties duomenys'!$C$6)+COLUMN(Q15)-12","v":2024},{"$f":"YEAR('Bendrieji įvesties duomenys'!$C$6)+COLUMN(R15)-12","v":2025},{"$f":"YEAR('Bendrieji įvesties duomenys'!$C$6)+COLUMN(S15)-12","v":2026},{"$f":"YEAR('Bendrieji įvesties duomenys'!$C$6)+COLUMN(T15)-12","v":2027}]
[null,null,null,null,null,null,null,"D. Veiklos išlaidos laikantis rinkoje taikomų eksploatavimo apimčių",null,null,null,{"$f":"SUM(M16:OFFSET(M16,0,1000))","v":0},{"$f":"1-1","v":0},{"$f":"1-1","v":0},0,0,0,0,0,0,0]
[null,null,null,null,null,null,null,"D. Veiklos išlaidos laikantis pildančios institucijos taikomų eksploatavimo apimčių",null,null,null,{"$f":"SUM(M17:OFFSET(M17,0,1000))","v":0},0,0,0,0,0,0,0,0,0]
[null,"Pastaba: D'. Veiklos išlaidos pagal pildančios institucijos numatytas palaikymo apimtis apskaičiuojamos automatiškai pagal suvestas eksploatavimo ir veiklos išlaidas ir numato būsimas išlaidas kiekvienam periodui.",null,null,null,null,null,"D.1.Žaliavos",null,null,null,{"$f":"SUM(M18:OFFSET(M18,0,1000))","v":0},0,0,0,0,0,0,0,0,0]
[null,null,null,null,null,null,null,"D.2. Darbo užmokesčio išlaidos",null,null,null,{"$f":"SUM(M19:OFFSET(M19,0,1000))","v":0},0,0,0,0,0,0,0,0,0]
[null,null,null,null,null,null,null,"D.4. Infrastruktūros būklės palaikymo (eksploatavimo) išlaidos",null,null,null,{"$f":"SUM(M20:OFFSET(M20,0,1000))","v":0},0,0,0,0,0,0,0,0,0]
[null,null,null,null,null,null,null,"D.4.1. Vėdinimo sistemų įrenginių eksploatacijos išlaidos",null,null,null,{"$f":"SUM(M21:OFFSET(M21,0,1000))","v":0},0,0,0,0,0,0,0,0,0]
[null,"4. Norint pridėti dar vieną su pastato elementu susijusią sąnaudų įvesties lentelę, spaudžiamas mygtukas „Pridėti“ ir kartojami 2-3 žingsniuose aprašyti veiksmai.",null,null,null,null,null,"D.4.2. Šilumos sistemų tinklų palaikymo (eksploatavimo) išlaidos",null,null,null,{"$f":"SUM(M22:OFFSET(M22,0,1000))","v":0},0,0,0,0,0,0,0,0,0]
[null,null,null,null,null,null,null,"D.4.3. Oro kondicionavimo ir šaldymo įrenginių eksploatacijos išlaidos",null,null,null,{"$f":"SUM(M23:OFFSET(M23,0,1000))","v":0},0,0,0,0,0,0,0,0,0]
[null,null,null,null,null,null,null,"D.4.4. Vandentiekio ir nuotekų tinklų įrenginių eksploatacijos išlaidos",null,null,null,{"$f":"SUM(M24:OFFSET(M24,0,1000))","v":0},0,0,0,0,0,0,0,0,0]
[null,"5. Esant įvesties klaidoms ar norint pašalinti perteklinę pastato elemento įvesties lentelę, spaudžiamas mygtukas „Ištrinti“ bei įvedamas lentelės numeris, kuris yra kiekvienos lentelės kairiojo kampo viršuje.",null,null,null,null,null,"D.4.5 Lietaus surinkimo ir drenažo sistemos eksploatacijos išlaidos ",null,null,null,{"$f":"SUM(M25:OFFSET(M25,0,1000))","v":0},0,0,0,0,0,0,0,0,0]
[null,null,null,null,null,null,null,"D.4.6. Elektros tinklų įrenginių ekploatacijos išlaidos",null,null,null,{"$f":"SUM(M26:OFFSET(M26,0,1000))","v":0},0,0,0,0,0,0,0,0,0]
[null,null,null,null,null,null,null,"D.4.7. Dujotekio sistemos įrenginių eksploatacijos išlaidos",null,null,null,{"$f":"SUM(M27:OFFSET(M27,0,1000))","v":0},0,0,0,0,0,0,0,0,0]
[null,null,null,null,null,null,null,"D.4.8. Gaisro gesinimo ir perspėjimo sistemų įrenginių eksploatacijos išlaidos",null,null,null,{"$f":"SUM(M28:OFFSET(M28,0,1000))","v":0},0,0,0,0,0,0,0,0,0]
[null,"6. Informacija, pateikta atskirose pastato elementų įvesties lentelėse, atsispindi apibendrinimo lapuose, kur apskaičiuojama bendroji GCS suma: „Elementų išlaidų apibendrinimas“, „Pastato išlaidų apibendrinimas“",null,null,null,null,null,"D.4.9. Apsaugos sistemos įrenginių ekploatacijos išlaidos",null,null,null,{"$f":"SUM(M29:OFFSET(M29,0,1000))","v":0},0,0,0,0,0,0,0,0,0]
[null,null,null,null,null,null,null,"D.4.10. Telekomunikacijos sistemos įrenginių eksploatacijos išlaidos",null,null,null,{"$f":"SUM(M30:OFFSET(M30,0,1000))","v":0},0,0,0,0,0,0,0,0,0]
[null,null,null,null,null,null,null,"D.4.11. Transportavimo sistemos įrenginių ekploatacijos išlaidos",null,null,null,{"$f":"SUM(M31:OFFSET(M31,0,1000))","v":0},0,0,0,0,0,0,0,0,0]
[null,null,null,null,null,null,null,"D.4.12. Apsaugos išlaidos",null,null,null,{"$f":"SUM(M32:OFFSET(M32,0,1000))","v":0},0,{"$f":"1-1","v":0},0,0,0,0,0,0,0]
[null,"7. Norint grįžti į navigacijos puslapį, turėtų būti spaudžiamas mygtukas „Navigacija\". ",null,null,null,null,null,"D.4.13. Valymo išlaidos",null,null,null,{"$f":"SUM(M33:OFFSET(M33,0,1000))","v":0},0,0,0,0,0,0,0,0,0]
[null,null,null,null,null,null,null,"D.4.14. Draudimo išlaidos",null,null,null,{"$f":"SUM(M34:OFFSET(M34,0,1000))","v":0},0,0,0,0,0,0,0,0,0]
[null,"SVARBU: Pilka spalva pažymėti langeliai yra skirti skaičiavimams bei duomenų įvedimui, kurie yra atliekami formulių pagalba ir neturėtų būti keičiami rankiniu būdu.",null,null,null,null,null,"D.4.15. Kitos išlaidos",null,null,null,{"$f":"SUM(M35:OFFSET(M35,0,1000))","v":0},0,0,0,0,0,0,0,0,0]
[null,null,null,null,null,null,null,"D.5. Remonto išlaidos",null,null,null,{"$f":"SUM(M36:OFFSET(M36,0,1000))","v":0},0,0,0,0,0,0,0,0,0]
[null,null,null,null,null,null,null,"D.5.1. Einamojo remonto išlaidos",null,null,null,{"$f":"SUM(M37:OFFSET(M37,0,1000))","v":0},0,0,0,0,0,0,0,0,0]
[null,"Dalis žalia spalva pažymėtų langelių, priklausomai nuo pasirinkimų, tampa pilkais, įstrižine juosta perbrauktais langeliais. Šie langeliai yra neaktualūs.",null,null,null,{"$f":"IFERROR(IF(AND(F39=\"Pradėta\",G40<>\"Ne\"),\"Taip\",\"Ne\"),\"Ne\")","v":"Ne"},null,"D.6. Utilizavimo išlaidos",null,null,null,{"$f":"SUM(M38:OFFSET(M38,0,1000))","v":0},0,0,0,0,0,0,0,0,0]
[null,null,null,null,null,{"$f":"IF(MATCH(\"Grįžti į viršų\",E45:E9550,0),\"Pradėta\",\"Ne\")","v":{"$error":"#N/A"}},null,"D.6.1. Atliekų surinkimo išlaidos",null,null,null,{"$f":"SUM(M39:OFFSET(M39,0,1000))","v":0},0,0,0,0,0,0,0,0,0]
[null,null,null,null,null,{"$f":"IF(COUNTIF(E45:E955,\"Ne\"),\"Ne\",\"Taip\")","v":"Taip"},{"$f":"IFERROR(IF(F40=\"Taip\",\"Taip\",\"Ne\"),\"Taip\")","v":"Taip"},"D.6.2. Perdirbimo išlaidos",null,null,null,{"$f":"SUM(M40:OFFSET(M40,0,1000))","v":0},0,0,0,0,0,0,0,0,0]
[null,null,null,null,null,null,null,"D.6.3. Turto išmontavimo (nugriovimo išlaidos)",null,null,null,{"$f":"SUM(M41:OFFSET(M41,0,1000))","v":0},0,0,0,0,0,0,0,0,0]
[null,null,null,null,null,null,null,"D.7. Kitos išlaidos",null,null,null,{"$f":"SUM(M42:OFFSET(M42,0,1000))","v":0},0,0,0,0,0,0,0,0,0]
[null,null,null,null,null,null,null,"D'. Veiklos išlaidos pagal pildančios institucijos numatytas palaikymo apimtis",null,null,null,{"$f":"SUM(M43:OFFSET(M43,0,1000))","v":0},0,0,0,0,0,0,0,0,0]

{"sheet":"15. Vandentiekio sistema (lauk","index":19,"n_rows":43,"n_cols":21,"rows_kept":43,"cut":false,"hidden":true,"merged":[[39,1,39,4],[32,1,32,4],[33,1,33,4],[34,1,35,4],[36,1,36,4],[37,1,38,4],[23,1,23,4],[24,1,26,4],[27,1,27,4],[28,1,30,4],[31,1,31,4],[11,1,15,4],[16,1,16,4],[17,1,19,4],[20,1,20,4],[21,1,22,4],[3,1,3,4],[4,1,5,4],[6,1,6,4],[7,1,9,4],[10,1,10,4],[7,7,7,10],[8,7,8,10],[9,7,9,10],[1,7,1,10],[2,7,2,10],[3,7,3,10],[4,7,4,10],[5,7,5,10],[41,7,41,10],[42,7,42,10],[0,1,2,4],[14,7,14,10],[15,7,15,10],[16,7,16,10],[17,7,17,10],[18,7,18,10],[19,7,19,10],[37,7,37,10],[10,7,10,10],[35,7,35,10],[11,7,11,10],[12,7,12,10],[0,7,0,10],[6,7,6,10]]}
[null,"15. Vandentiekio sistema (lauko)\n\nPildymo instrukcijos",null,null,null,null,null,"Pastato elemento išlaidų apibendrinimas"]
[null,null,null,null,null,null,null,"Investicijų išlaidos",null,null,null,"Iš viso, EUR",{"$f":"YEAR('Bendrieji įvesties duomenys'!$C$6)+COLUMN(L2)-12","v":2019},{"$f":"YEAR('Bendrieji įvesties duomenys'!$C$6)+COLUMN(M2)-12","v":2020},{"$f":"YEAR('Bendrieji įvesties duomenys'!$C$6)+COLUMN(N2)-12","v":2021},{"$f":"YEAR('Bendrieji įvesties duomenys'!$C$6)+COLUMN(O2)-12","v":2022},{"$f":"YEAR('Bendrieji įvesties duomenys'!$C$6)+COLUMN(P2)-12","v":2023},{"$f":"YEAR('Bendrieji įvesties duomenys'!$C$6)+COLUMN(Q2)-12","v":2024},{"$f":"YEAR('Bendrieji įvesties duomenys'!$C$6)+COLUMN(R2)-12","v":2025},{"$f":"YEAR('Bendrieji įvesties duomenys'!$C$6)+COLUMN(S2)-12","v":2026},{"$f":"YEAR('Bendrieji įvesties duomenys'!$C$6)+COLUMN(T2)-12","v":2027}]
[null,null,null,null,null,null,null,"A. Turto įsigijimo ir kūrimo išlaidos išlaidos",null,null,null,{"$f":"SUM(M3:OFFSET(M3,0,1000))","v":0},{"$f":"1-1","v":0},{"$f":"1-1","v":0},0,0,0,0,0,0,0]
[null,null,null,null,null,null,null,"A.1. Žaliavų, medžiagų, sudedamųjų dalių ir detalių, sunaudotų kuriant ilgalaikį turtą, įsigijimo išlaidos",null,null,null,{"$f":"SUM(M4:OFFSET(M4,0,1000))","v":0},{"$f":"1-1","v":0},0,0,0,0,0,0,0,0]
[null,"1.  Paspaudus žemiau esantį mygtuką „Pridėti“, inicijuojamas duomenų pildymo procesas ir sukuriama duomenų įvesties lentelė.",null,null,null,null,null,"A.2. Statyba",null,null,null,{"$f":"SUM(M5:OFFSET(M5,0,1000))","v":0},0,0,0,0,0,0,0,0,0]
[null,null,null,null,null,null,null,"A.3. Rekonstravimas",null,null,null,{"$f":"SUM(M6:OFFSET(M6,0,1000))","v":0},0,0,0,0,0,0,0,0,0]
[null,null,null,null,null,null,null,"A.4. Kapitalinis remontas",null,null,null,{"$f":"SUM(M7:OFFSET(M7,0,1000))","v":0},0,0,0,0,0,0,0,0,0]
[null,"2. Lentelėje „Pastato elemento fiziniai parametrai ir tarnavimo laikotarpis“, pildytojas turėtų  užpildyti visus žalia spalva pažymėtus E stulpelio laukelius, atsižvelgiant į B stulpelyje pateiktus laukelių aprašymus.",null,null,null,null,null,"A.5. Projektavimo paslaugos",null,null,null,{"$f":"SUM(M8:OFFSET(M8,0,1000))","v":0},0,0,0,0,0,0,0,0,0]
[null,null,null,null,null,null,null,"A.6. Techninės priežiūros paslaugos",null,null,null,{"$f":"SUM(M9:OFFSET(M9,0,1000))","v":0},0,0,0,0,0,0,0,0,0]
[null,null,null,null,null,null,null,"A.7. Kitos su investicijomis į ilgalaikį turtą susijusios paslaugos ir išlaidos",null,null,null,{"$f":"SUM(M10:OFFSET(M10,0,1000))","v":0},0,0,0,0,0,0,0,0,0]
[null,null,null,null,null,null,null,"B. Kitos paslaugos ir išlaidos",null,null,null,{"$f":"SUM(M11:OFFSET(M11,0,1000))","v":0},0,0,0,0,0,0,0,0,0]
[null,"3. Užpildžius lentelę „Pastato elemento fiziniai parametrai ir tarnavimo laikotarpis“, turėtų būti pereita prie „Pastato elemento išlaidų įvestis“ sekcijos. Šioje dalyje pildomos investicijų bei veiklos ir eksploatavimo išlaidos, susijusios su pasirinkta pastato elemento konstrukcija/tipu ar prietaisu/dalimi. Informacija veda į atitinkamus laukelius, nurodant tiek investicijų sumą (I-J stulpeliai), tiek investicijų/išlaidų pasikartojimo periodą (K stulpelis).",null,null,null,null,null,"C. Likutinės vertės pinigų srautas",null,null,null,{"$f":"SUM(M12:OFFSET(M12,0,1000))","v":0},0,0,0,0,0,0,0,0,0]
[null,null,null,null,null,null,null,"Iš viso (A + B)",null,null,null,{"$f":"SUM(M13:OFFSET(M13,0,1000))","v":0},{"$f":"M3+M11","v":0},{"$f":"N3+N11","v":0},0,0,0,0,0,0,0]
[]
[null,null,null,null,null,null,null,"Eksploatavimo ir veiklos išlaidos",null,null,null,"Iš viso, EUR",{"$f":"YEAR('Bendrieji įvesties duomenys'!$C$6)+COLUMN(L15)-12","v":2019},{"$f":"YEAR('Bendrieji įvesties duomenys'!$C$6)+COLUMN(M15)-12","v":2020},{"$f":"YEAR('Bendrieji įvesties duomenys'!$C$6)+COLUMN(N15)-12","v":2021},{"$f":"YEAR('Bendrieji įvesties duomenys'!$C$6)+COLUMN(O15)-12","v":2022},{"$f":"YEAR('Bendrieji įvesties duomenys'!$C$6)+COLUMN(P15)-12","v":2023},{"$f":"YEAR('Bendrieji įvesties duomenys'!$C$6)+COLUMN(Q15)-12","v":2024},{"$f":"YEAR('Bendrieji įvesties duomenys'!$C$6)+COLUMN(R15)-12","v":2025},{"$f":"YEAR('Bendrieji įvesties duomenys'!$C$6)+COLUMN(S15)-12","v":2026},{"$f":"YEAR('Bendrieji įvesties duomenys'!$C$6)+COLUMN(T15)-12","v":2027}]
[null,null,null,null,null,null,null,"D. Veiklos išlaidos laikantis rinkoje taikomų eksploatavimo apimčių",null,null,null,{"$f":"SUM(M16:OFFSET(M16,0,1000))","v":0},{"$f":"1-1","v":0},{"$f":"1-1","v":0},0,0,0,0,0,0,0]
[null,null,null,null,null,null,null,"D. Veiklos išlaidos laikantis pildančios institucijos taikomų eksploatavimo apimčių",null,null,null,{"$f":"SUM(M17:OFFSET(M17,0,1000))","v":0},0,0,0,0,0,0,0,0,0]
[null,"Pastaba: D'. Veiklos išlaidos pagal pildančios institucijos numatytas palaikymo apimtis apskaičiuojamos automatiškai pagal suvestas eksploatavimo ir veiklos išlaidas ir numato būsimas išlaidas kiekvienam periodui.",null,null,null,null,null,"D.1.Žaliavos",null,null,null,{"$f":"SUM(M18:OFFSET(M18,0,1000))","v":0},0,0,0,0,0,0,0,0,0]
[null,null,null,null,null,null,null,"D.2. Darbo užmokesčio išlaidos",null,null,null,{"$f":"SUM(M19:OFFSET(M19,0,1000))","v":0},0,0,0,0,0,0,0,0,0]
[null,null,null,null,null,null,null,"D.4. Infrastruktūros būklės palaikymo (eksploatavimo) išlaidos",null,null,null,{"$f":"SUM(M20:OFFSET(M20,0,1000))","v":0},0,0,0,0,0,0,0,0,0]
[null,null,null,null,null,null,null,"D.4.1. Vėdinimo sistemų įrenginių eksploatacijos išlaidos",null,null,null,{"$f":"SUM(M21:OFFSET(M21,0,1000))","v":0},0,0,0,0,0,0,0,0,0]
[null,"4. Norint pridėti dar vieną su pastato elementu susijusią sąnaudų įvesties lentelę, spaudžiamas mygtukas „Pridėti“ ir kartojami 2-3 žingsniuose aprašyti veiksmai.",null,null,null,null,null,"D.4.2. Šilumos sistemų tinklų palaikymo (eksploatavimo) išlaidos",null,null,null,{"$f":"SUM(M22:OFFSET(M22,0,1000))","v":0},0,0,0,0,0,0,0,0,0]
[null,null,null,null,null,null,null,"D.4.3. Oro kondicionavimo ir šaldymo įrenginių eksploatacijos išlaidos",null,null,null,{"$f":"SUM(M23:OFFSET(M23,0,1000))","v":0},0,0,0,0,0,0,0,0,0]
[null,null,null,null,null,null,null,"D.4.4. Vandentiekio ir nuotekų tinklų įrenginių eksploatacijos išlaidos",null,null,null,{"$f":"SUM(M24:OFFSET(M24,0,1000))","v":0},0,0,0,0,0,0,0,0,0]
[null,"5. Esant įvesties klaidoms ar norint pašalinti perteklinę pastato elemento įvesties lentelę, spaudžiamas mygtukas „Ištrinti“ bei įvedamas lentelės numeris, kuris yra kiekvienos lentelės kairiojo kampo viršuje.",null,null,null,null,null,"D.4.5 Lietaus surinkimo ir drenažo sistemos eksploatacijos išlaidos ",null,null,null,{"$f":"SUM(M25:OFFSET(M25,0,1000))","v":0},0,0,0,0,0,0,0,0,0]
[null,null,null,null,null,null,null,"D.4.6. Elektros tinklų įrenginių ekploatacijos išlaidos",null,null,null,{"$f":"SUM(M26:OFFSET(M26,0,1000))","v":0},0,0,0,0,0,0,0,0,0]
[null,null,null,null,null,null,null,"D.4.7. Dujotekio sistemos įrenginių eksploatacijos išlaidos",null,null,null,{"$f":"SUM(M27:OFFSET(M27,0,1000))","v":0},0,0,0,0,0,0,0,0,0]
[null,null,null,null,null,null,null,"D.4.8. Gaisro gesinimo ir perspėjimo sistemų įrenginių eksploatacijos išlaidos",null,null,null,{"$f":"SUM(M28:OFFSET(M28,0,1000))","v":0},0,0,0,0,0,0,0,0,0]
[null,"6. Informacija, pateikta atskirose pastato elementų įvesties lentelėse, atsispindi apibendrinimo lapuose, kur apskaičiuojama bendroji GCS suma: „Elementų išlaidų apibendrinimas“, „Pastato išlaidų apibendrinimas“",null,null,null,null,null,"D.4.9. Apsaugos sistemos įrenginių ekploatacijos išlaidos",null,null,null,{"$f":"SUM(M29:OFFSET(M29,0,1000))","v":0},0,0,0,0,0,0,0,0,0]
[null,null,null,null,null,null,null,"D.4.10. Telekomunikacijos sistemos įrenginių eksploatacijos išlaidos",null,null,null,{"$f":"SUM(M30:OFFSET(M30,0,1000))","v":0},0,0,0,0,0,0,0,0,0]
[null,null,null,null,null,null,null,"D.4.11. Transportavimo sistemos įrenginių ekploatacijos išlaidos",null,null,null,{"$f":"SUM(M31:OFFSET(M31,0,1000))","v":0},0,0,0,0,0,0,0,0,0]
[null,null,null,null,null,null,null,"D.4.12. Apsaugos išlaidos",null,null,null,{"$f":"SUM(M32:OFFSET(M32,0,1000))","v":0},0,{"$f":"1-1","v":0},0,0,0,0,0,0,0]
[null,"7. Norint grįžti į navigacijos puslapį, turėtų būti spaudžiamas mygtukas „Navigacija\". ",null,null,null,null,null,"D.4.13. Valymo išlaidos",null,null,null,{"$f":"SUM(M33:OFFSET(M33,0,1000))","v":0},0,0,0,0,0,0,0,0,0]
[null,null,null,null,null,null,null,"D.4.14. Draudimo išlaidos",null,null,null,{"$f":"SUM(M34:OFFSET(M34,0,1000))","v":0},0,0,0,0,0,0,0,0,0]
[null,"SVARBU: Pilka spalva pažymėti langeliai yra skirti skaičiavimams bei duomenų įvedimui, kurie yra atliekami formulių pagalba ir neturėtų būti keičiami rankiniu būdu.",null,null,null,null,null,"D.4.15. Kitos išlaidos",null,null,null,{"$f":"SUM(M35:OFFSET(M35,0,1000))","v":0},0,0,0,0,0,0,0,0,0]
[null,null,null,null,null,null,null,"D.5. Remonto išlaidos",null,null,null,{"$f":"SUM(M36:OFFSET(M36,0,1000))","v":0},0,0,0,0,0,0,0,0,0]
[null,null,null,null,null,null,null,"D.5.1. Einamojo remonto išlaidos",null,null,null,{"$f":"SUM(M37:OFFSET(M37,0,1000))","v":0},0,0,0,0,0,0,0,0,0]
[null,"Dalis žalia spalva pažymėtų langelių, priklausomai nuo pasirinkimų, tampa pilkais, įstrižine juosta perbrauktais langeliais. Šie langeliai yra neaktualūs.",null,null,null,{"$f":"IFERROR(IF(AND(F39=\"Pradėta\",G40<>\"Ne\"),\"Taip\",\"Ne\"),\"Ne\")","v":"Ne"},null,"D.6. Utilizavimo išlaidos",null,null,null,{"$f":"SUM(M38:OFFSET(M38,0,1000))","v":0},0,0,0,0,0,0,0,0,0]
[null,null,null,null,null,{"$f":"IF(MATCH(\"Grįžti į viršų\",E45:E9550,0),\"Pradėta\",\"Ne\")","v":{"$error":"#N/A"}},null,"D.6.1. Atliekų surinkimo išlaidos",null,null,null,{"$f":"SUM(M39:OFFSET(M39,0,1000))","v":0},0,0,0,0,0,0,0,0,0]
[null,null,null,null,null,{"$f":"IF(COUNTIF(E45:E955,\"Ne\"),\"Ne\",\"Taip\")","v":"Taip"},{"$f":"IFERROR(IF(F40=\"Taip\",\"Taip\",\"Ne\"),\"Taip\")","v":"Taip"},"D.6.2. Perdirbimo išlaidos",null,null,null,{"$f":"SUM(M40:OFFSET(M40,0,1000))","v":0},0,0,0,0,0,0,0,0,0]
[null,null,null,null,null,null,null,"D.6.3. Turto išmontavimo (nugriovimo išlaidos)",null,null,null,{"$f":"SUM(M41:OFFSET(M41,0,1000))","v":0},0,0,0,0,0,0,0,0,0]
[null,null,null,null,null,null,null,"D.7. Kitos išlaidos",null,null,null,{"$f":"SUM(M42:OFFSET(M42,0,1000))","v":0},0,0,0,0,0,0,0,0,0]
[null,null,null,null,null,null,null,"D'. Veiklos išlaidos pagal pildančios institucijos numatytas palaikymo apimtis",null,null,null,{"$f":"SUM(M43:OFFSET(M43,0,1000))","v":0},0,0,0,0,0,0,0,0,0]

{"sheet":"16. Nuotekų šalinimo sistema","index":20,"n_rows":43,"n_cols":21,"rows_kept":43,"cut":false,"hidden":true,"merged":[[24,1,26,4],[27,1,27,4],[28,1,30,4],[31,1,31,4],[39,1,39,4],[32,1,32,4],[33,1,33,4],[34,1,35,4],[36,1,36,4],[37,1,38,4],[16,1,16,4],[17,1,19,4],[20,1,20,4],[21,1,22,4],[23,1,23,4],[4,1,5,4],[6,1,6,4],[7,1,9,4],[10,1,10,4],[11,1,15,4],[41,7,41,10],[42,7,42,10],[10,7,10,10],[35,7,35,10],[11,7,11,10],[12,7,12,10],[18,7,18,10],[19,7,19,10],[37,7,37,10],[0,1,2,4],[14,7,14,10],[15,7,15,10],[16,7,16,10],[17,7,17,10],[0,7,0,10],[1,7,1,10],[2,7,2,10],[3,7,3,10],[4,7,4,10],[5,7,5,10],[6,7,6,10],[7,7,7,10],[8,7,8,10],[9,7,9,10],[3,1,3,4]]}
[null,"16. Nuotekų šalinimo sistema (vidaus)\n\nPildymo instrukcijos",null,null,null,null,null,"Pastato elemento išlaidų apibendrinimas"]
[null,null,null,null,null,null,null,"Investicijų išlaidos",null,null,null,"Iš viso, EUR",{"$f":"YEAR('Bendrieji įvesties duomenys'!$C$6)+COLUMN(L2)-12","v":2019},{"$f":"YEAR('Bendrieji įvesties duomenys'!$C$6)+COLUMN(M2)-12","v":2020},{"$f":"YEAR('Bendrieji įvesties duomenys'!$C$6)+COLUMN(N2)-12","v":2021},{"$f":"YEAR('Bendrieji įvesties duomenys'!$C$6)+COLUMN(O2)-12","v":2022},{"$f":"YEAR('Bendrieji įvesties duomenys'!$C$6)+COLUMN(P2)-12","v":2023},{"$f":"YEAR('Bendrieji įvesties duomenys'!$C$6)+COLUMN(Q2)-12","v":2024},{"$f":"YEAR('Bendrieji įvesties duomenys'!$C$6)+COLUMN(R2)-12","v":2025},{"$f":"YEAR('Bendrieji įvesties duomenys'!$C$6)+COLUMN(S2)-12","v":2026},{"$f":"YEAR('Bendrieji įvesties duomenys'!$C$6)+COLUMN(T2)-12","v":2027}]
[null,null,null,null,null,null,null,"A. Turto įsigijimo ir kūrimo išlaidos išlaidos",null,null,null,{"$f":"SUM(M3:OFFSET(M3,0,1000))","v":0},{"$f":"OFFSET(M3,46,0)","v":0},0,0,0,0,0,0,0,0]
[null,null,null,null,null,null,null,"A.1. Žaliavų, medžiagų, sudedamųjų dalių ir detalių, sunaudotų kuriant ilgalaikį turtą, įsigijimo išlaidos",null,null,null,{"$f":"SUM(M4:OFFSET(M4,0,1000))","v":0},0,0,0,0,0,0,0,0,0]
[null,"1.  Paspaudus žemiau esantį mygtuką „Pridėti“, inicijuojamas duomenų pildymo procesas ir sukuriama duomenų įvesties lentelė.",null,null,null,null,null,"A.2. Statyba",null,null,null,{"$f":"SUM(M5:OFFSET(M5,0,1000))","v":0},0,0,0,0,0,0,0,0,0]
[null,null,null,null,null,null,null,"A.3. Rekonstravimas",null,null,null,{"$f":"SUM(M6:OFFSET(M6,0,1000))","v":0},0,0,0,0,0,0,0,0,0]
[null,null,null,null,null,null,null,"A.4. Kapitalinis remontas",null,null,null,{"$f":"SUM(M7:OFFSET(M7,0,1000))","v":0},0,0,0,0,0,0,0,0,0]
[null,"2. Lentelėje „Pastato elemento fiziniai parametrai ir tarnavimo laikotarpis“, pildytojas turėtų  užpildyti visus žalia spalva pažymėtus E stulpelio laukelius, atsižvelgiant į B stulpelyje pateiktus laukelių aprašymus.",null,null,null,null,null,"A.5. Projektavimo paslaugos",null,null,null,{"$f":"SUM(M8:OFFSET(M8,0,1000))","v":0},0,0,0,0,0,0,0,0,0]
[null,null,null,null,null,null,null,"A.6. Techninės priežiūros paslaugos",null,null,null,{"$f":"SUM(M9:OFFSET(M9,0,1000))","v":0},0,0,0,0,0,0,0,0,0]
[null,null,null,null,null,null,null,"A.7. Kitos su investicijomis į ilgalaikį turtą susijusios paslaugos ir išlaidos",null,null,null,{"$f":"SUM(M10:OFFSET(M10,0,1000))","v":0},0,0,0,0,0,0,0,0,0]
[null,null,null,null,null,null,null,"B. Kitos paslaugos ir išlaidos",null,null,null,{"$f":"SUM(M11:OFFSET(M11,0,1000))","v":0},0,0,0,0,0,0,0,0,0]
[null,"3. Užpildžius lentelę „Pastato elemento fiziniai parametrai ir tarnavimo laikotarpis“, turėtų būti pereita prie „Pastato elemento išlaidų įvestis“ sekcijos. Šioje dalyje pildomos investicijų bei veiklos ir eksploatavimo išlaidos, susijusios su pasirinkta pastato elemento konstrukcija/tipu ar prietaisu/dalimi. Informacija veda į atitinkamus laukelius, nurodant tiek investicijų sumą (I-J stulpeliai), tiek investicijų/išlaidų pasikartojimo periodą (K stulpelis).",null,null,null,null,null,"C. Likutinės vertės pinigų srautas",null,null,null,{"$f":"SUM(M12:OFFSET(M12,0,1000))","v":0},0,0,0,0,0,0,0,0,0]
[null,null,null,null,null,null,null,"Iš viso (A + B)",null,null,null,{"$f":"SUM(M13:OFFSET(M13,0,1000))","v":0},{"$f":"M3+M11","v":0},{"$f":"N3+N11","v":0},0,0,0,0,0,0,0]
[]
[null,null,null,null,null,null,null,"Eksploatavimo ir veiklos išlaidos",null,null,null,"Iš viso, EUR",{"$f":"YEAR('Bendrieji įvesties duomenys'!$C$6)+COLUMN(L15)-12","v":2019},{"$f":"YEAR('Bendrieji įvesties duomenys'!$C$6)+COLUMN(M15)-12","v":2020},{"$f":"YEAR('Bendrieji įvesties duomenys'!$C$6)+COLUMN(N15)-12","v":2021},{"$f":"YEAR('Bendrieji įvesties duomenys'!$C$6)+COLUMN(O15)-12","v":2022},{"$f":"YEAR('Bendrieji įvesties duomenys'!$C$6)+COLUMN(P15)-12","v":2023},{"$f":"YEAR('Bendrieji įvesties duomenys'!$C$6)+COLUMN(Q15)-12","v":2024},{"$f":"YEAR('Bendrieji įvesties duomenys'!$C$6)+COLUMN(R15)-12","v":2025},{"$f":"YEAR('Bendrieji įvesties duomenys'!$C$6)+COLUMN(S15)-12","v":2026},{"$f":"YEAR('Bendrieji įvesties duomenys'!$C$6)+COLUMN(T15)-12","v":2027}]
[null,null,null,null,null,null,null,"D. Veiklos išlaidos laikantis rinkoje taikomų eksploatavimo apimčių",null,null,null,{"$f":"SUM(M16:OFFSET(M16,0,1000))","v":0},{"$f":"OFFSET(M16,46,0)","v":0},0,0,0,0,0,0,0,0]
[null,null,null,null,null,null,null,"D. Veiklos išlaidos laikantis pildančios institucijos taikomų eksploatavimo apimčių",null,null,null,{"$f":"SUM(M17:OFFSET(M17,0,1000))","v":0},0,0,0,0,0,0,0,0,0]
[null,"Pastaba: D'. Veiklos išlaidos pagal pildančios institucijos numatytas palaikymo apimtis apskaičiuojamos automatiškai pagal suvestas eksploatavimo ir veiklos išlaidas ir numato būsimas išlaidas kiekvienam periodui.",null,null,null,null,null,"D.1.Žaliavos",null,null,null,{"$f":"SUM(M18:OFFSET(M18,0,1000))","v":0},0,0,0,0,0,0,0,0,0]
[null,null,null,null,null,null,null,"D.2. Darbo užmokesčio išlaidos",null,null,null,{"$f":"SUM(M19:OFFSET(M19,0,1000))","v":0},0,0,0,0,0,0,0,0,0]
[null,null,null,null,null,null,null,"D.4. Infrastruktūros būklės palaikymo (eksploatavimo) išlaidos",null,null,null,{"$f":"SUM(M20:OFFSET(M20,0,1000))","v":0},0,0,0,0,0,0,0,0,0]
[null,null,null,null,null,null,null,"D.4.1. Vėdinimo sistemų įrenginių eksploatacijos išlaidos",null,null,null,{"$f":"SUM(M21:OFFSET(M21,0,1000))","v":0},{"$f":"1-1","v":0},{"$f":"1-1","v":0},0,0,0,0,0,0,0]
[null,"4. Norint pridėti dar vieną su pastato elementu susijusią sąnaudų įvesties lentelę, spaudžiamas mygtukas „Pridėti“ ir kartojami 2-3 žingsniuose aprašyti veiksmai.",null,null,null,null,null,"D.4.2. Šilumos sistemų tinklų palaikymo (eksploatavimo) išlaidos",null,null,null,{"$f":"SUM(M22:OFFSET(M22,0,1000))","v":0},0,0,0,0,0,0,0,0,0]
[null,null,null,null,null,null,null,"D.4.3. Oro kondicionavimo ir šaldymo įrenginių eksploatacijos išlaidos",null,null,null,{"$f":"SUM(M23:OFFSET(M23,0,1000))","v":0},0,0,0,0,0,0,0,0,0]
[null,null,null,null,null,null,null,"D.4.4. Vandentiekio ir nuotekų tinklų įrenginių eksploatacijos išlaidos",null,null,null,{"$f":"SUM(M24:OFFSET(M24,0,1000))","v":0},{"$f":"OFFSET(M24,43,0)","v":0},0,0,0,0,0,0,0,0]
[null,"5. Esant įvesties klaidoms ar norint pašalinti perteklinę pastato elemento įvesties lentelę, spaudžiamas mygtukas „Ištrinti“ bei įvedamas lentelės numeris, kuris yra kiekvienos lentelės kairiojo kampo viršuje.",null,null,null,null,null,"D.4.5 Lietaus surinkimo ir drenažo sistemos eksploatacijos išlaidos ",null,null,null,{"$f":"SUM(M25:OFFSET(M25,0,1000))","v":0},0,0,0,0,0,0,0,0,0]
[null,null,null,null,null,null,null,"D.4.6. Elektros tinklų įrenginių ekploatacijos išlaidos",null,null,null,{"$f":"SUM(M26:OFFSET(M26,0,1000))","v":0},0,0,0,0,0,0,0,0,0]
[null,null,null,null,null,null,null,"D.4.7. Dujotekio sistemos įrenginių eksploatacijos išlaidos",null,null,null,{"$f":"SUM(M27:OFFSET(M27,0,1000))","v":0},0,0,0,0,0,0,0,0,0]
[null,null,null,null,null,null,null,"D.4.8. Gaisro gesinimo ir perspėjimo sistemų įrenginių eksploatacijos išlaidos",null,null,null,{"$f":"SUM(M28:OFFSET(M28,0,1000))","v":0},0,0,0,0,0,0,0,0,0]
[null,"6. Informacija, pateikta atskirose pastato elementų įvesties lentelėse, atsispindi apibendrinimo lapuose, kur apskaičiuojama bendroji GCS suma: „Elementų išlaidų apibendrinimas“, „Pastato išlaidų apibendrinimas“",null,null,null,null,null,"D.4.9. Apsaugos sistemos įrenginių ekploatacijos išlaidos",null,null,null,{"$f":"SUM(M29:OFFSET(M29,0,1000))","v":0},0,0,0,0,0,0,0,0,0]
[null,null,null,null,null,null,null,"D.4.10. Telekomunikacijos sistemos įrenginių eksploatacijos išlaidos",null,null,null,{"$f":"SUM(M30:OFFSET(M30,0,1000))","v":0},0,0,0,0,0,0,0,0,0]
[null,null,null,null,null,null,null,"D.4.11. Transportavimo sistemos įrenginių ekploatacijos išlaidos",null,null,null,{"$f":"SUM(M31:OFFSET(M31,0,1000))","v":0},0,0,0,0,0,0,0,0,0]
[null,null,null,null,null,null,null,"D.4.12. Apsaugos išlaidos",null,null,null,{"$f":"SUM(M32:OFFSET(M32,0,1000))","v":0},0,{"$f":"1-1","v":0},0,0,0,0,0,0,0]
[null,"7. Norint grįžti į navigacijos puslapį, turėtų būti spaudžiamas mygtukas „Navigacija\". ",null,null,null,null,null,"D.4.13. Valymo išlaidos",null,null,null,{"$f":"SUM(M33:OFFSET(M33,0,1000))","v":0},0,0,0,0,0,0,0,0,0]
[null,null,null,null,null,null,null,"D.4.14. Draudimo išlaidos",null,null,null,{"$f":"SUM(M34:OFFSET(M34,0,1000))","v":0},0,0,0,0,0,0,0,0,0]
[null,"SVARBU: Pilka spalva pažymėti langeliai yra skirti skaičiavimams bei duomenų įvedimui, kurie yra atliekami formulių pagalba ir neturėtų būti keičiami rankiniu būdu.",null,null,null,null,null,"D.4.15. Kitos išlaidos",null,null,null,{"$f":"SUM(M35:OFFSET(M35,0,1000))","v":0},{"$f":"OFFSET(M35,33,0)","v":0},0,0,0,0,0,0,0,0]
[null,null,null,null,null,null,null,"D.5. Remonto išlaidos",null,null,null,{"$f":"SUM(M36:OFFSET(M36,0,1000))","v":0},0,0,0,0,0,0,0,0,0]
[null,null,null,null,null,null,null,"D.5.1. Einamojo remonto išlaidos",null,null,null,{"$f":"SUM(M37:OFFSET(M37,0,1000))","v":0},0,0,0,0,0,0,0,0,0]
[null,"Dalis žalia spalva pažymėtų langelių, priklausomai nuo pasirinkimų, tampa pilkais, įstrižine juosta perbrauktais langeliais. Šie langeliai yra neaktualūs.",null,null,null,{"$f":"IFERROR(IF(AND(F39=\"Pradėta\",G40<>\"Ne\"),\"Taip\",\"Ne\"),\"Ne\")","v":"Ne"},null,"D.6. Utilizavimo išlaidos",null,null,null,{"$f":"SUM(M38:OFFSET(M38,0,1000))","v":0},0,0,0,0,0,0,0,0,0]
[null,null,null,null,null,{"$f":"IF(MATCH(\"Grįžti į viršų\",E45:E9370,0),\"Pradėta\",\"Ne\")","v":{"$error":"#N/A"}},null,"D.6.1. Atliekų surinkimo išlaidos",null,null,null,{"$f":"SUM(M39:OFFSET(M39,0,1000))","v":0},0,0,0,0,0,0,0,0,0]
[null,null,null,null,null,{"$f":"IF(COUNTIF(E45:E775,\"Ne\"),\"Ne\",\"Taip\")","v":"Taip"},{"$f":"IFERROR(IF(F40=\"Taip\",\"Taip\",\"Ne\"),\"Taip\")","v":"Taip"},"D.6.2. Perdirbimo išlaidos",null,null,null,{"$f":"SUM(M40:OFFSET(M40,0,1000))","v":0},0,0,0,0,0,0,0,0,0]
[null,null,null,null,null,null,null,"D.6.3. Turto išmontavimo (nugriovimo išlaidos)",null,null,null,{"$f":"SUM(M41:OFFSET(M41,0,1000))","v":0},0,0,0,0,0,0,0,0,0]
[null,null,null,null,null,null,null,"D.7. Kitos išlaidos",null,null,null,{"$f":"SUM(M42:OFFSET(M42,0,1000))","v":0},0,0,0,0,0,0,0,0,0]
[null,null,null,null,null,null,null,"D'. Veiklos išlaidos pagal pildančios institucijos numatytas palaikymo apimtis",null,null,null,{"$f":"SUM(M43:OFFSET(M43,0,1000))","v":0},0,0,0,0,0,0,0,0,0]

{"sheet":"17. Nuotekų šalinimo sistema","index":21,"n_rows":43,"n_cols":21,"rows_kept":43,"cut":false,"hidden":true,"merged":[[39,1,39,4],[32,1,32,4],[33,1,33,4],[34,1,35,4],[36,1,36,4],[37,1,38,4],[23,1,23,4],[24,1,26,4],[27,1,27,4],[28,1,30,4],[31,1,31,4],[11,1,15,4],[16,1,16,4],[17,1,19,4],[20,1,20,4],[21,1,22,4],[3,1,3,4],[4,1,5,4],[6,1,6,4],[7,1,9,4],[10,1,10,4],[7,7,7,10],[8,7,8,10],[9,7,9,10],[1,7,1,10],[2,7,2,10],[3,7,3,10],[4,7,4,10],[5,7,5,10],[41,7,41,10],[42,7,42,10],[0,1,2,4],[14,7,14,10],[15,7,15,10],[16,7,16,10],[17,7,17,10],[18,7,18,10],[19,7,19,10],[37,7,37,10],[10,7,10,10],[35,7,35,10],[11,7,11,10],[12,7,12,10],[0,7,0,10],[6,7,6,10]]}
[null,"17. Nuotekų šalinimo sistema (lauko)\n\nPildymo instrukcijos",null,null,null,null,null,"Pastato elemento išlaidų apibendrinimas"]
[null,null,null,null,null,null,null,"Investicijų išlaidos",null,null,null,"Iš viso, EUR",{"$f":"YEAR('Bendrieji įvesties duomenys'!$C$6)+COLUMN(L2)-12","v":2019},{"$f":"YEAR('Bendrieji įvesties duomenys'!$C$6)+COLUMN(M2)-12","v":2020},{"$f":"YEAR('Bendrieji įvesties duomenys'!$C$6)+COLUMN(N2)-12","v":2021},{"$f":"YEAR('Bendrieji įvesties duomenys'!$C$6)+COLUMN(O2)-12","v":2022},{"$f":"YEAR('Bendrieji įvesties duomenys'!$C$6)+COLUMN(P2)-12","v":2023},{"$f":"YEAR('Bendrieji įvesties duomenys'!$C$6)+COLUMN(Q2)-12","v":2024},{"$f":"YEAR('Bendrieji įvesties duomenys'!$C$6)+COLUMN(R2)-12","v":2025},{"$f":"YEAR('Bendrieji įvesties duomenys'!$C$6)+COLUMN(S2)-12","v":2026},{"$f":"YEAR('Bendrieji įvesties duomenys'!$C$6)+COLUMN(T2)-12","v":2027}]
[null,null,null,null,null,null,null,"A. Turto įsigijimo ir kūrimo išlaidos išlaidos",null,null,null,{"$f":"SUM(M3:OFFSET(M3,0,1000))","v":0},{"$f":"OFFSET(M3,46,0)","v":0},0,0,0,0,0,0,0,0]
[null,null,null,null,null,null,null,"A.1. Žaliavų, medžiagų, sudedamųjų dalių ir detalių, sunaudotų kuriant ilgalaikį turtą, įsigijimo išlaidos",null,null,null,{"$f":"SUM(M4:OFFSET(M4,0,1000))","v":0},0,0,0,0,0,0,0,0,0]
[null,"1.  Paspaudus žemiau esantį mygtuką „Pridėti“, inicijuojamas duomenų pildymo procesas ir sukuriama duomenų įvesties lentelė.",null,null,null,null,null,"A.2. Statyba",null,null,null,{"$f":"SUM(M5:OFFSET(M5,0,1000))","v":0},0,0,0,0,0,0,0,0,0]
[null,null,null,null,null,null,null,"A.3. Rekonstravimas",null,null,null,{"$f":"SUM(M6:OFFSET(M6,0,1000))","v":0},0,0,0,0,0,0,0,0,0]
[null,null,null,null,null,null,null,"A.4. Kapitalinis remontas",null,null,null,{"$f":"SUM(M7:OFFSET(M7,0,1000))","v":0},0,0,0,0,0,0,0,0,0]
[null,"2. Lentelėje „Pastato elemento fiziniai parametrai ir tarnavimo laikotarpis“, pildytojas turėtų  užpildyti visus žalia spalva pažymėtus E stulpelio laukelius, atsižvelgiant į B stulpelyje pateiktus laukelių aprašymus.",null,null,null,null,null,"A.5. Projektavimo paslaugos",null,null,null,{"$f":"SUM(M8:OFFSET(M8,0,1000))","v":0},0,0,0,0,0,0,0,0,0]
[null,null,null,null,null,null,null,"A.6. Techninės priežiūros paslaugos",null,null,null,{"$f":"SUM(M9:OFFSET(M9,0,1000))","v":0},0,0,0,0,0,0,0,0,0]
[null,null,null,null,null,null,null,"A.7. Kitos su investicijomis į ilgalaikį turtą susijusios paslaugos ir išlaidos",null,null,null,{"$f":"SUM(M10:OFFSET(M10,0,1000))","v":0},0,0,0,0,0,0,0,0,0]
[null,null,null,null,null,null,null,"B. Kitos paslaugos ir išlaidos",null,null,null,{"$f":"SUM(M11:OFFSET(M11,0,1000))","v":0},0,0,0,0,0,0,0,0,0]
[null,"3. Užpildžius lentelę „Pastato elemento fiziniai parametrai ir tarnavimo laikotarpis“, turėtų būti pereita prie „Pastato elemento išlaidų įvestis“ sekcijos. Šioje dalyje pildomos investicijų bei veiklos ir eksploatavimo išlaidos, susijusios su pasirinkta pastato elemento konstrukcija/tipu ar prietaisu/dalimi. Informacija veda į atitinkamus laukelius, nurodant tiek investicijų sumą (I-J stulpeliai), tiek investicijų/išlaidų pasikartojimo periodą (K stulpelis).",null,null,null,null,null,"C. Likutinės vertės pinigų srautas",null,null,null,{"$f":"SUM(M12:OFFSET(M12,0,1000))","v":0},0,0,0,0,0,0,0,0,0]
[null,null,null,null,null,null,null,"Iš viso (A + B)",null,null,null,{"$f":"SUM(M13:OFFSET(M13,0,1000))","v":0},{"$f":"M3+M11","v":0},{"$f":"N3+N11","v":0},0,0,0,0,0,0,0]
[]
[null,null,null,null,null,null,null,"Eksploatavimo ir veiklos išlaidos",null,null,null,"Iš viso, EUR",{"$f":"YEAR('Bendrieji įvesties duomenys'!$C$6)+COLUMN(L15)-12","v":2019},{"$f":"YEAR('Bendrieji įvesties duomenys'!$C$6)+COLUMN(M15)-12","v":2020},{"$f":"YEAR('Bendrieji įvesties duomenys'!$C$6)+COLUMN(N15)-12","v":2021},{"$f":"YEAR('Bendrieji įvesties duomenys'!$C$6)+COLUMN(O15)-12","v":2022},{"$f":"YEAR('Bendrieji įvesties duomenys'!$C$6)+COLUMN(P15)-12","v":2023},{"$f":"YEAR('Bendrieji įvesties duomenys'!$C$6)+COLUMN(Q15)-12","v":2024},{"$f":"YEAR('Bendrieji įvesties duomenys'!$C$6)+COLUMN(R15)-12","v":2025},{"$f":"YEAR('Bendrieji įvesties duomenys'!$C$6)+COLUMN(S15)-12","v":2026},{"$f":"YEAR('Bendrieji įvesties duomenys'!$C$6)+COLUMN(T15)-12","v":2027}]
[null,null,null,null,null,null,null,"D. Veiklos išlaidos laikantis rinkoje taikomų eksploatavimo apimčių",null,null,null,{"$f":"SUM(M16:OFFSET(M16,0,1000))","v":0},{"$f":"OFFSET(M16,46,0)","v":0},0,0,0,0,0,0,0,0]
[null,null,null,null,null,null,null,"D. Veiklos išlaidos laikantis pildančios institucijos taikomų eksploatavimo apimčių",null,null,null,{"$f":"SUM(M17:OFFSET(M17,0,1000))","v":0},0,0,0,0,0,0,0,0,0]
[null,"Pastaba: D'. Veiklos išlaidos pagal pildančios institucijos numatytas palaikymo apimtis apskaičiuojamos automatiškai pagal suvestas eksploatavimo ir veiklos išlaidas ir numato būsimas išlaidas kiekvienam periodui.",null,null,null,null,null,"D.1.Žaliavos",null,null,null,{"$f":"SUM(M18:OFFSET(M18,0,1000))","v":0},0,0,0,0,0,0,0,0,0]
[null,null,null,null,null,null,null,"D.2. Darbo užmokesčio išlaidos",null,null,null,{"$f":"SUM(M19:OFFSET(M19,0,1000))","v":0},0,0,0,0,0,0,0,0,0]
[null,null,null,null,null,null,null,"D.4. Infrastruktūros būklės palaikymo (eksploatavimo) išlaidos",null,null,null,{"$f":"SUM(M20:OFFSET(M20,0,1000))","v":0},0,0,0,0,0,0,0,0,0]
[null,null,null,null,null,null,null,"D.4.1. Vėdinimo sistemų įrenginių eksploatacijos išlaidos",null,null,null,{"$f":"SUM(M21:OFFSET(M21,0,1000))","v":0},{"$f":"1-1","v":0},{"$f":"1-1","v":0},0,0,0,0,0,0,0]
[null,"4. Norint pridėti dar vieną su pastato elementu susijusią sąnaudų įvesties lentelę, spaudžiamas mygtukas „Pridėti“ ir kartojami 2-3 žingsniuose aprašyti veiksmai.",null,null,null,null,null,"D.4.2. Šilumos sistemų tinklų palaikymo (eksploatavimo) išlaidos",null,null,null,{"$f":"SUM(M22:OFFSET(M22,0,1000))","v":0},0,0,0,0,0,0,0,0,0]
[null,null,null,null,null,null,null,"D.4.3. Oro kondicionavimo ir šaldymo įrenginių eksploatacijos išlaidos",null,null,null,{"$f":"SUM(M23:OFFSET(M23,0,1000))","v":0},0,0,0,0,0,0,0,0,0]
[null,null,null,null,null,null,null,"D.4.4. Vandentiekio ir nuotekų tinklų įrenginių eksploatacijos išlaidos",null,null,null,{"$f":"SUM(M24:OFFSET(M24,0,1000))","v":0},{"$f":"OFFSET(M24,43,0)","v":0},0,0,0,0,0,0,0,0]
[null,"5. Esant įvesties klaidoms ar norint pašalinti perteklinę pastato elemento įvesties lentelę, spaudžiamas mygtukas „Ištrinti“ bei įvedamas lentelės numeris, kuris yra kiekvienos lentelės kairiojo kampo viršuje.",null,null,null,null,null,"D.4.5 Lietaus surinkimo ir drenažo sistemos eksploatacijos išlaidos ",null,null,null,{"$f":"SUM(M25:OFFSET(M25,0,1000))","v":0},0,0,0,0,0,0,0,0,0]
[null,null,null,null,null,null,null,"D.4.6. Elektros tinklų įrenginių ekploatacijos išlaidos",null,null,null,{"$f":"SUM(M26:OFFSET(M26,0,1000))","v":0},0,0,0,0,0,0,0,0,0]
[null,null,null,null,null,null,null,"D.4.7. Dujotekio sistemos įrenginių eksploatacijos išlaidos",null,null,null,{"$f":"SUM(M27:OFFSET(M27,0,1000))","v":0},0,0,0,0,0,0,0,0,0]
[null,null,null,null,null,null,null,"D.4.8. Gaisro gesinimo ir perspėjimo sistemų įrenginių eksploatacijos išlaidos",null,null,null,{"$f":"SUM(M28:OFFSET(M28,0,1000))","v":0},0,0,0,0,0,0,0,0,0]
[null,"6. Informacija, pateikta atskirose pastato elementų įvesties lentelėse, atsispindi apibendrinimo lapuose, kur apskaičiuojama bendroji GCS suma: „Elementų išlaidų apibendrinimas“, „Pastato išlaidų apibendrinimas“",null,null,null,null,null,"D.4.9. Apsaugos sistemos įrenginių ekploatacijos išlaidos",null,null,null,{"$f":"SUM(M29:OFFSET(M29,0,1000))","v":0},0,0,0,0,0,0,0,0,0]
[null,null,null,null,null,null,null,"D.4.10. Telekomunikacijos sistemos įrenginių eksploatacijos išlaidos",null,null,null,{"$f":"SUM(M30:OFFSET(M30,0,1000))","v":0},0,0,0,0,0,0,0,0,0]
[null,null,null,null,null,null,null,"D.4.11. Transportavimo sistemos įrenginių ekploatacijos išlaidos",null,null,null,{"$f":"SUM(M31:OFFSET(M31,0,1000))","v":0},0,0,0,0,0,0,0,0,0]
[null,null,null,null,null,null,null,"D.4.12. Apsaugos išlaidos",null,null,null,{"$f":"SUM(M32:OFFSET(M32,0,1000))","v":0},0,{"$f":"1-1","v":0},0,0,0,0,0,0,0]
[null,"7. Norint grįžti į navigacijos puslapį, turėtų būti spaudžiamas mygtukas „Navigacija\". ",null,null,null,null,null,"D.4.13. Valymo išlaidos",null,null,null,{"$f":"SUM(M33:OFFSET(M33,0,1000))","v":0},0,0,0,0,0,0,0,0,0]
[null,null,null,null,null,null,null,"D.4.14. Draudimo išlaidos",null,null,null,{"$f":"SUM(M34:OFFSET(M34,0,1000))","v":0},0,0,0,0,0,0,0,0,0]
[null,"SVARBU: Pilka spalva pažymėti langeliai yra skirti skaičiavimams bei duomenų įvedimui, kurie yra atliekami formulių pagalba ir neturėtų būti keičiami rankiniu būdu.",null,null,null,null,null,"D.4.15. Kitos išlaidos",null,null,null,{"$f":"SUM(M35:OFFSET(M35,0,1000))","v":0},{"$f":"OFFSET(M35,33,0)","v":0},0,0,0,0,0,0,0,0]
[null,null,null,null,null,null,null,"D.5. Remonto išlaidos",null,null,null,{"$f":"SUM(M36:OFFSET(M36,0,1000))","v":0},0,0,0,0,0,0,0,0,0]
[null,null,null,null,null,null,null,"D.5.1. Einamojo remonto išlaidos",null,null,null,{"$f":"SUM(M37:OFFSET(M37,0,1000))","v":0},0,0,0,0,0,0,0,0,0]
[null,"Dalis žalia spalva pažymėtų langelių, priklausomai nuo pasirinkimų, tampa pilkais, įstrižine juosta perbrauktais langeliais. Šie langeliai yra neaktualūs.",null,null,null,{"$f":"IFERROR(IF(AND(F39=\"Pradėta\",G40<>\"Ne\"),\"Taip\",\"Ne\"),\"Ne\")","v":"Ne"},null,"D.6. Utilizavimo išlaidos",null,null,null,{"$f":"SUM(M38:OFFSET(M38,0,1000))","v":0},0,0,0,0,0,0,0,0,0]
[null,null,null,null,null,{"$f":"IF(MATCH(\"Grįžti į viršų\",E45:E9505,0),\"Pradėta\",\"Ne\")","v":{"$error":"#N/A"}},null,"D.6.1. Atliekų surinkimo išlaidos",null,null,null,{"$f":"SUM(M39:OFFSET(M39,0,1000))","v":0},0,0,0,0,0,0,0,0,0]
[null,null,null,null,null,{"$f":"IF(COUNTIF(E45:E910,\"Ne\"),\"Ne\",\"Taip\")","v":"Taip"},{"$f":"IFERROR(IF(F40=\"Taip\",\"Taip\",\"Ne\"),\"Taip\")","v":"Taip"},"D.6.2. Perdirbimo išlaidos",null,null,null,{"$f":"SUM(M40:OFFSET(M40,0,1000))","v":0},0,0,0,0,0,0,0,0,0]
[null,null,null,null,null,null,null,"D.6.3. Turto išmontavimo (nugriovimo išlaidos)",null,null,null,{"$f":"SUM(M41:OFFSET(M41,0,1000))","v":0},0,0,0,0,0,0,0,0,0]
[null,null,null,null,null,null,null,"D.7. Kitos išlaidos",null,null,null,{"$f":"SUM(M42:OFFSET(M42,0,1000))","v":0},0,0,0,0,0,0,0,0,0]
[null,null,null,null,null,null,null,"D'. Veiklos išlaidos pagal pildančios institucijos numatytas palaikymo apimtis",null,null,null,{"$f":"SUM(M43:OFFSET(M43,0,1000))","v":0},0,0,0,0,0,0,0,0,0]

{"sheet":"18. Elektros instaliacija (vid","index":22,"n_rows":43,"n_cols":21,"rows_kept":43,"cut":false,"hidden":true,"merged":[[39,1,39,4],[32,1,32,4],[33,1,33,4],[34,1,35,4],[36,1,36,4],[37,1,38,4],[23,1,23,4],[24,1,26,4],[27,1,27,4],[28,1,30,4],[31,1,31,4],[11,1,15,4],[16,1,16,4],[17,1,19,4],[20,1,20,4],[21,1,22,4],[3,1,3,4],[4,1,5,4],[6,1,6,4],[7,1,9,4],[10,1,10,4],[7,7,7,10],[8,7,8,10],[9,7,9,10],[1,7,1,10],[2,7,2,10],[3,7,3,10],[4,7,4,10],[5,7,5,10],[41,7,41,10],[42,7,42,10],[0,1,2,4],[14,7,14,10],[15,7,15,10],[16,7,16,10],[17,7,17,10],[18,7,18,10],[19,7,19,10],[37,7,37,10],[10,7,10,10],[35,7,35,10],[11,7,11,10],[12,7,12,10],[0,7,0,10],[6,7,6,10]]}
[null,"18. Elektros instaliacija (vidaus)\n\nPildymo instrukcijos",null,null,null,null,null,"Pastato elemento išlaidų apibendrinimas"]
[null,null,null,null,null,null,null,"Investicijų išlaidos",null,null,null,"Iš viso, EUR",{"$f":"YEAR('Bendrieji įvesties duomenys'!$C$6)+COLUMN(L2)-12","v":2019},{"$f":"YEAR('Bendrieji įvesties duomenys'!$C$6)+COLUMN(M2)-12","v":2020},{"$f":"YEAR('Bendrieji įvesties duomenys'!$C$6)+COLUMN(N2)-12","v":2021},{"$f":"YEAR('Bendrieji įvesties duomenys'!$C$6)+COLUMN(O2)-12","v":2022},{"$f":"YEAR('Bendrieji įvesties duomenys'!$C$6)+COLUMN(P2)-12","v":2023},{"$f":"YEAR('Bendrieji įvesties duomenys'!$C$6)+COLUMN(Q2)-12","v":2024},{"$f":"YEAR('Bendrieji įvesties duomenys'!$C$6)+COLUMN(R2)-12","v":2025},{"$f":"YEAR('Bendrieji įvesties duomenys'!$C$6)+COLUMN(S2)-12","v":2026},{"$f":"YEAR('Bendrieji įvesties duomenys'!$C$6)+COLUMN(T2)-12","v":2027}]
[null,null,null,null,null,null,null,"A. Turto įsigijimo ir kūrimo išlaidos išlaidos",null,null,null,{"$f":"SUM(M3:OFFSET(M3,0,1000))","v":0},{"$f":"OFFSET(M3,46,0)","v":0},0,0,0,0,0,0,0,0]
[null,null,null,null,null,null,null,"A.1. Žaliavų, medžiagų, sudedamųjų dalių ir detalių, sunaudotų kuriant ilgalaikį turtą, įsigijimo išlaidos",null,null,null,{"$f":"SUM(M4:OFFSET(M4,0,1000))","v":0},0,0,0,0,0,0,0,0,0]
[null,"1.  Paspaudus žemiau esantį mygtuką „Pridėti“, inicijuojamas duomenų pildymo procesas ir sukuriama duomenų įvesties lentelė.",null,null,null,null,null,"A.2. Statyba",null,null,null,{"$f":"SUM(M5:OFFSET(M5,0,1000))","v":0},0,0,0,0,0,0,0,0,0]
[null,null,null,null,null,null,null,"A.3. Rekonstravimas",null,null,null,{"$f":"SUM(M6:OFFSET(M6,0,1000))","v":0},0,0,0,0,0,0,0,0,0]
[null,null,null,null,null,null,null,"A.4. Kapitalinis remontas",null,null,null,{"$f":"SUM(M7:OFFSET(M7,0,1000))","v":0},0,0,0,0,0,0,0,0,0]
[null,"2. Lentelėje „Pastato elemento fiziniai parametrai ir tarnavimo laikotarpis“, pildytojas turėtų  užpildyti visus žalia spalva pažymėtus E stulpelio laukelius, atsižvelgiant į B stulpelyje pateiktus laukelių aprašymus.",null,null,null,null,null,"A.5. Projektavimo paslaugos",null,null,null,{"$f":"SUM(M8:OFFSET(M8,0,1000))","v":0},0,0,0,0,0,0,0,0,0]
[null,null,null,null,null,null,null,"A.6. Techninės priežiūros paslaugos",null,null,null,{"$f":"SUM(M9:OFFSET(M9,0,1000))","v":0},0,0,0,0,0,0,0,0,0]
[null,null,null,null,null,null,null,"A.7. Kitos su investicijomis į ilgalaikį turtą susijusios paslaugos ir išlaidos",null,null,null,{"$f":"SUM(M10:OFFSET(M10,0,1000))","v":0},0,0,0,0,0,0,0,0,0]
[null,null,null,null,null,null,null,"B. Kitos paslaugos ir išlaidos",null,null,null,{"$f":"SUM(M11:OFFSET(M11,0,1000))","v":0},0,0,0,0,0,0,0,0,0]
[null,"3. Užpildžius lentelę „Pastato elemento fiziniai parametrai ir tarnavimo laikotarpis“, turėtų būti pereita prie „Pastato elemento išlaidų įvestis“ sekcijos. Šioje dalyje pildomos investicijų bei veiklos ir eksploatavimo išlaidos, susijusios su pasirinkta pastato elemento konstrukcija/tipu ar prietaisu/dalimi. Informacija veda į atitinkamus laukelius, nurodant tiek investicijų sumą (I-J stulpeliai), tiek investicijų/išlaidų pasikartojimo periodą (K stulpelis).",null,null,null,null,null,"C. Likutinės vertės pinigų srautas",null,null,null,{"$f":"SUM(M12:OFFSET(M12,0,1000))","v":0},0,0,0,0,0,0,0,0,0]
[null,null,null,null,null,null,null,"Iš viso (A + B)",null,null,null,{"$f":"SUM(M13:OFFSET(M13,0,1000))","v":0},{"$f":"M3+M11","v":0},{"$f":"N3+N11","v":0},0,0,0,0,0,0,0]
[]
[null,null,null,null,null,null,null,"Eksploatavimo ir veiklos išlaidos",null,null,null,"Iš viso, EUR",{"$f":"YEAR('Bendrieji įvesties duomenys'!$C$6)+COLUMN(L15)-12","v":2019},{"$f":"YEAR('Bendrieji įvesties duomenys'!$C$6)+COLUMN(M15)-12","v":2020},{"$f":"YEAR('Bendrieji įvesties duomenys'!$C$6)+COLUMN(N15)-12","v":2021},{"$f":"YEAR('Bendrieji įvesties duomenys'!$C$6)+COLUMN(O15)-12","v":2022},{"$f":"YEAR('Bendrieji įvesties duomenys'!$C$6)+COLUMN(P15)-12","v":2023},{"$f":"YEAR('Bendrieji įvesties duomenys'!$C$6)+COLUMN(Q15)-12","v":2024},{"$f":"YEAR('Bendrieji įvesties duomenys'!$C$6)+COLUMN(R15)-12","v":2025},{"$f":"YEAR('Bendrieji įvesties duomenys'!$C$6)+COLUMN(S15)-12","v":2026},{"$f":"YEAR('Bendrieji įvesties duomenys'!$C$6)+COLUMN(T15)-12","v":2027}]
[null,null,null,null,null,null,null,"D. Veiklos išlaidos laikantis rinkoje taikomų eksploatavimo apimčių",null,null,null,{"$f":"SUM(M16:OFFSET(M16,0,1000))","v":0},{"$f":"OFFSET(M16,46,0)","v":0},0,0,0,0,0,0,0,0]
[null,null,null,null,null,null,null,"D. Veiklos išlaidos laikantis pildančios institucijos taikomų eksploatavimo apimčių",null,null,null,{"$f":"SUM(M17:OFFSET(M17,0,1000))","v":0},0,0,0,0,0,0,0,0,0]
[null,"Pastaba: D'. Veiklos išlaidos pagal pildančios institucijos numatytas palaikymo apimtis apskaičiuojamos automatiškai pagal suvestas eksploatavimo ir veiklos išlaidas ir numato būsimas išlaidas kiekvienam periodui.",null,null,null,null,null,"D.1.Žaliavos",null,null,null,{"$f":"SUM(M18:OFFSET(M18,0,1000))","v":0},0,0,0,0,0,0,0,0,0]
[null,null,null,null,null,null,null,"D.2. Darbo užmokesčio išlaidos",null,null,null,{"$f":"SUM(M19:OFFSET(M19,0,1000))","v":0},0,0,0,0,0,0,0,0,0]
[null,null,null,null,null,null,null,"D.4. Infrastruktūros būklės palaikymo (eksploatavimo) išlaidos",null,null,null,{"$f":"SUM(M20:OFFSET(M20,0,1000))","v":0},0,0,0,0,0,0,0,0,0]
[null,null,null,null,null,null,null,"D.4.1. Vėdinimo sistemų įrenginių eksploatacijos išlaidos",null,null,null,{"$f":"SUM(M21:OFFSET(M21,0,1000))","v":0},{"$f":"1-1","v":0},{"$f":"1-1","v":0},0,0,0,0,0,0,0]
[null,"4. Norint pridėti dar vieną su pastato elementu susijusią sąnaudų įvesties lentelę, spaudžiamas mygtukas „Pridėti“ ir kartojami 2-3 žingsniuose aprašyti veiksmai.",null,null,null,null,null,"D.4.2. Šilumos sistemų tinklų palaikymo (eksploatavimo) išlaidos",null,null,null,{"$f":"SUM(M22:OFFSET(M22,0,1000))","v":0},{"$f":"1-1","v":0},0,0,0,0,0,0,0,0]
[null,null,null,null,null,null,null,"D.4.3. Oro kondicionavimo ir šaldymo įrenginių eksploatacijos išlaidos",null,null,null,{"$f":"SUM(M23:OFFSET(M23,0,1000))","v":0},{"$f":"1-1","v":0},0,0,0,0,0,0,0,0]
[null,null,null,null,null,null,null,"D.4.4. Vandentiekio ir nuotekų tinklų įrenginių eksploatacijos išlaidos",null,null,null,{"$f":"SUM(M24:OFFSET(M24,0,1000))","v":0},{"$f":"1-1","v":0},0,0,0,0,0,0,0,0]
[null,"5. Esant įvesties klaidoms ar norint pašalinti perteklinę pastato elemento įvesties lentelę, spaudžiamas mygtukas „Ištrinti“ bei įvedamas lentelės numeris, kuris yra kiekvienos lentelės kairiojo kampo viršuje.",null,null,null,null,null,"D.4.5 Lietaus surinkimo ir drenažo sistemos eksploatacijos išlaidos ",null,null,null,{"$f":"SUM(M25:OFFSET(M25,0,1000))","v":0},{"$f":"1-1","v":0},0,0,0,0,0,0,0,0]
[null,null,null,null,null,null,null,"D.4.6. Elektros tinklų įrenginių ekploatacijos išlaidos",null,null,null,{"$f":"SUM(M26:OFFSET(M26,0,1000))","v":0},{"$f":"OFFSET(M26,41,0)","v":0},0,0,0,0,0,0,0,0]
[null,null,null,null,null,null,null,"D.4.7. Dujotekio sistemos įrenginių eksploatacijos išlaidos",null,null,null,{"$f":"SUM(M27:OFFSET(M27,0,1000))","v":0},{"$f":"1-1","v":0},0,0,0,0,0,0,0,0]
[null,null,null,null,null,null,null,"D.4.8. Gaisro gesinimo ir perspėjimo sistemų įrenginių eksploatacijos išlaidos",null,null,null,{"$f":"SUM(M28:OFFSET(M28,0,1000))","v":0},0,0,0,0,0,0,0,0,0]
[null,"6. Informacija, pateikta atskirose pastato elementų įvesties lentelėse, atsispindi apibendrinimo lapuose, kur apskaičiuojama bendroji GCS suma: „Elementų išlaidų apibendrinimas“, „Pastato išlaidų apibendrinimas“",null,null,null,null,null,"D.4.9. Apsaugos sistemos įrenginių ekploatacijos išlaidos",null,null,null,{"$f":"SUM(M29:OFFSET(M29,0,1000))","v":0},0,0,0,0,0,0,0,0,0]
[null,null,null,null,null,null,null,"D.4.10. Telekomunikacijos sistemos įrenginių eksploatacijos išlaidos",null,null,null,{"$f":"SUM(M30:OFFSET(M30,0,1000))","v":0},0,0,0,0,0,0,0,0,0]
[null,null,null,null,null,null,null,"D.4.11. Transportavimo sistemos įrenginių ekploatacijos išlaidos",null,null,null,{"$f":"SUM(M31:OFFSET(M31,0,1000))","v":0},0,0,0,0,0,0,0,0,0]
[null,null,null,null,null,null,null,"D.4.12. Apsaugos išlaidos",null,null,null,{"$f":"SUM(M32:OFFSET(M32,0,1000))","v":0},0,{"$f":"1-1","v":0},0,0,0,0,0,0,0]
[null,"7. Norint grįžti į navigacijos puslapį, turėtų būti spaudžiamas mygtukas „Navigacija\". ",null,null,null,null,null,"D.4.13. Valymo išlaidos",null,null,null,{"$f":"SUM(M33:OFFSET(M33,0,1000))","v":0},0,0,0,0,0,0,0,0,0]
[null,null,null,null,null,null,null,"D.4.14. Draudimo išlaidos",null,null,null,{"$f":"SUM(M34:OFFSET(M34,0,1000))","v":0},0,0,0,0,0,0,0,0,0]
[null,"SVARBU: Pilka spalva pažymėti langeliai yra skirti skaičiavimams bei duomenų įvedimui, kurie yra atliekami formulių pagalba ir neturėtų būti keičiami rankiniu būdu.",null,null,null,null,null,"D.4.15. Kitos išlaidos",null,null,null,{"$f":"SUM(M35:OFFSET(M35,0,1000))","v":0},{"$f":"OFFSET(M35,33,0)","v":0},0,0,0,0,0,0,0,0]
[null,null,null,null,null,null,null,"D.5. Remonto išlaidos",null,null,null,{"$f":"SUM(M36:OFFSET(M36,0,1000))","v":0},0,0,0,0,0,0,0,0,0]
[null,null,null,null,null,null,null,"D.5.1. Einamojo remonto išlaidos",null,null,null,{"$f":"SUM(M37:OFFSET(M37,0,1000))","v":0},0,0,0,0,0,0,0,0,0]
[null,"Dalis žalia spalva pažymėtų langelių, priklausomai nuo pasirinkimų, tampa pilkais, įstrižine juosta perbrauktais langeliais. Šie langeliai yra neaktualūs.",null,null,null,{"$f":"IFERROR(IF(AND(F39=\"Pradėta\",G40<>\"Ne\"),\"Taip\",\"Ne\"),\"Ne\")","v":"Ne"},null,"D.6. Utilizavimo išlaidos",null,null,null,{"$f":"SUM(M38:OFFSET(M38,0,1000))","v":0},0,0,0,0,0,0,0,0,0]
[null,null,null,null,null,{"$f":"IF(MATCH(\"Grįžti į viršų\",E45:E9550,0),\"Pradėta\",\"Ne\")","v":{"$error":"#N/A"}},null,"D.6.1. Atliekų surinkimo išlaidos",null,null,null,{"$f":"SUM(M39:OFFSET(M39,0,1000))","v":0},0,0,0,0,0,0,0,0,0]
[null,null,null,null,null,{"$f":"IF(COUNTIF(E45:E955,\"Ne\"),\"Ne\",\"Taip\")","v":"Taip"},{"$f":"IFERROR(IF(F40=\"Taip\",\"Taip\",\"Ne\"),\"Taip\")","v":"Taip"},"D.6.2. Perdirbimo išlaidos",null,null,null,{"$f":"SUM(M40:OFFSET(M40,0,1000))","v":0},0,0,0,0,0,0,0,0,0]
[null,null,null,null,null,null,null,"D.6.3. Turto išmontavimo (nugriovimo išlaidos)",null,null,null,{"$f":"SUM(M41:OFFSET(M41,0,1000))","v":0},0,0,0,0,0,0,0,0,0]
[null,null,null,null,null,null,null,"D.7. Kitos išlaidos",null,null,null,{"$f":"SUM(M42:OFFSET(M42,0,1000))","v":0},0,0,0,0,0,0,0,0,0]
[null,null,null,null,null,null,null,"D'. Veiklos išlaidos pagal pildančios institucijos numatytas palaikymo apimtis",null,null,null,{"$f":"SUM(M43:OFFSET(M43,0,1000))","v":0},0,0,0,0,0,0,0,0,0]

{"sheet":"19. Elektros instaliacija (lau","index":23,"n_rows":43,"n_cols":21,"rows_kept":43,"cut":false,"hidden":true,"merged":[[39,1,39,4],[32,1,32,4],[33,1,33,4],[34,1,35,4],[36,1,36,4],[37,1,38,4],[23,1,23,4],[24,1,26,4],[27,1,27,4],[28,1,30,4],[31,1,31,4],[11,1,15,4],[16,1,16,4],[17,1,19,4],[20,1,20,4],[21,1,22,4],[3,1,3,4],[4,1,5,4],[6,1,6,4],[7,1,9,4],[10,1,10,4],[7,7,7,10],[8,7,8,10],[9,7,9,10],[1,7,1,10],[2,7,2,10],[3,7,3,10],[4,7,4,10],[5,7,5,10],[41,7,41,10],[42,7,42,10],[0,1,2,4],[14,7,14,10],[15,7,15,10],[16,7,16,10],[17,7,17,10],[18,7,18,10],[19,7,19,10],[37,7,37,10],[10,7,10,10],[35,7,35,10],[11,7,11,10],[12,7,12,10],[0,7,0,10],[6,7,6,10]]}
[null,"19. Elektros instaliacija (lauko)\n\nPildymo instrukcijos",null,null,null,null,null,"Pastato elemento išlaidų apibendrinimas"]
[null,null,null,null,null,null,null,"Investicijų išlaidos",null,null,null,"Iš viso, EUR",{"$f":"YEAR('Bendrieji įvesties duomenys'!$C$6)+COLUMN(L2)-12","v":2019},{"$f":"YEAR('Bendrieji įvesties duomenys'!$C$6)+COLUMN(M2)-12","v":2020},{"$f":"YEAR('Bendrieji įvesties duomenys'!$C$6)+COLUMN(N2)-12","v":2021},{"$f":"YEAR('Bendrieji įvesties duomenys'!$C$6)+COLUMN(O2)-12","v":2022},{"$f":"YEAR('Bendrieji įvesties duomenys'!$C$6)+COLUMN(P2)-12","v":2023},{"$f":"YEAR('Bendrieji įvesties duomenys'!$C$6)+COLUMN(Q2)-12","v":2024},{"$f":"YEAR('Bendrieji įvesties duomenys'!$C$6)+COLUMN(R2)-12","v":2025},{"$f":"YEAR('Bendrieji įvesties duomenys'!$C$6)+COLUMN(S2)-12","v":2026},{"$f":"YEAR('Bendrieji įvesties duomenys'!$C$6)+COLUMN(T2)-12","v":2027}]
[null,null,null,null,null,null,null,"A. Turto įsigijimo ir kūrimo išlaidos išlaidos",null,null,null,{"$f":"SUM(M3:OFFSET(M3,0,1000))","v":0},{"$f":"1-1","v":0},{"$f":"1-1","v":0},0,0,0,0,0,0,0]
[null,null,null,null,null,null,null,"A.1. Žaliavų, medžiagų, sudedamųjų dalių ir detalių, sunaudotų kuriant ilgalaikį turtą, įsigijimo išlaidos",null,null,null,{"$f":"SUM(M4:OFFSET(M4,0,1000))","v":0},{"$f":"1-1","v":0},0,0,0,0,0,0,0,0]
[null,"1.  Paspaudus žemiau esantį mygtuką „Pridėti“, inicijuojamas duomenų pildymo procesas ir sukuriama duomenų įvesties lentelė.",null,null,null,null,null,"A.2. Statyba",null,null,null,{"$f":"SUM(M5:OFFSET(M5,0,1000))","v":0},0,0,0,0,0,0,0,0,0]
[null,null,null,null,null,null,null,"A.3. Rekonstravimas",null,null,null,{"$f":"SUM(M6:OFFSET(M6,0,1000))","v":0},0,0,0,0,0,0,0,0,0]
[null,null,null,null,null,null,null,"A.4. Kapitalinis remontas",null,null,null,{"$f":"SUM(M7:OFFSET(M7,0,1000))","v":0},0,0,0,0,0,0,0,0,0]
[null,"2. Lentelėje „Pastato elemento fiziniai parametrai ir tarnavimo laikotarpis“, pildytojas turėtų  užpildyti visus žalia spalva pažymėtus E stulpelio laukelius, atsižvelgiant į B stulpelyje pateiktus laukelių aprašymus.",null,null,null,null,null,"A.5. Projektavimo paslaugos",null,null,null,{"$f":"SUM(M8:OFFSET(M8,0,1000))","v":0},0,0,0,0,0,0,0,0,0]
[null,null,null,null,null,null,null,"A.6. Techninės priežiūros paslaugos",null,null,null,{"$f":"SUM(M9:OFFSET(M9,0,1000))","v":0},0,0,0,0,0,0,0,0,0]
[null,null,null,null,null,null,null,"A.7. Kitos su investicijomis į ilgalaikį turtą susijusios paslaugos ir išlaidos",null,null,null,{"$f":"SUM(M10:OFFSET(M10,0,1000))","v":0},0,0,0,0,0,0,0,0,0]
[null,null,null,null,null,null,null,"B. Kitos paslaugos ir išlaidos",null,null,null,{"$f":"SUM(M11:OFFSET(M11,0,1000))","v":0},0,0,0,0,0,0,0,0,0]
[null,"3. Užpildžius lentelę „Pastato elemento fiziniai parametrai ir tarnavimo laikotarpis“, turėtų būti pereita prie „Pastato elemento išlaidų įvestis“ sekcijos. Šioje dalyje pildomos investicijų bei veiklos ir eksploatavimo išlaidos, susijusios su pasirinkta pastato elemento konstrukcija/tipu ar prietaisu/dalimi. Informacija veda į atitinkamus laukelius, nurodant tiek investicijų sumą (I-J stulpeliai), tiek investicijų/išlaidų pasikartojimo periodą (K stulpelis).",null,null,null,null,null,"C. Likutinės vertės pinigų srautas",null,null,null,{"$f":"SUM(M12:OFFSET(M12,0,1000))","v":0},0,0,0,0,0,0,0,0,0]
[null,null,null,null,null,null,null,"Iš viso (A + B)",null,null,null,{"$f":"SUM(M13:OFFSET(M13,0,1000))","v":0},{"$f":"M3+M11","v":0},{"$f":"N3+N11","v":0},0,0,0,0,0,0,0]
[]
[null,null,null,null,null,null,null,"Eksploatavimo ir veiklos išlaidos",null,null,null,"Iš viso, EUR",{"$f":"YEAR('Bendrieji įvesties duomenys'!$C$6)+COLUMN(L15)-12","v":2019},{"$f":"YEAR('Bendrieji įvesties duomenys'!$C$6)+COLUMN(M15)-12","v":2020},{"$f":"YEAR('Bendrieji įvesties duomenys'!$C$6)+COLUMN(N15)-12","v":2021},{"$f":"YEAR('Bendrieji įvesties duomenys'!$C$6)+COLUMN(O15)-12","v":2022},{"$f":"YEAR('Bendrieji įvesties duomenys'!$C$6)+COLUMN(P15)-12","v":2023},{"$f":"YEAR('Bendrieji įvesties duomenys'!$C$6)+COLUMN(Q15)-12","v":2024},{"$f":"YEAR('Bendrieji įvesties duomenys'!$C$6)+COLUMN(R15)-12","v":2025},{"$f":"YEAR('Bendrieji įvesties duomenys'!$C$6)+COLUMN(S15)-12","v":2026},{"$f":"YEAR('Bendrieji įvesties duomenys'!$C$6)+COLUMN(T15)-12","v":2027}]
[null,null,null,null,null,null,null,"D. Veiklos išlaidos laikantis rinkoje taikomų eksploatavimo apimčių",null,null,null,{"$f":"SUM(M16:OFFSET(M16,0,1000))","v":0},{"$f":"1-1","v":0},{"$f":"1-1","v":0},0,0,0,0,0,0,0]
[null,null,null,null,null,null,null,"D. Veiklos išlaidos laikantis pildančios institucijos taikomų eksploatavimo apimčių",null,null,null,{"$f":"SUM(M17:OFFSET(M17,0,1000))","v":0},0,0,0,0,0,0,0,0,0]
[null,"Pastaba: D'. Veiklos išlaidos pagal pildančios institucijos numatytas palaikymo apimtis apskaičiuojamos automatiškai pagal suvestas eksploatavimo ir veiklos išlaidas ir numato būsimas išlaidas kiekvienam periodui.",null,null,null,null,null,"D.1.Žaliavos",null,null,null,{"$f":"SUM(M18:OFFSET(M18,0,1000))","v":0},0,0,0,0,0,0,0,0,0]
[null,null,null,null,null,null,null,"D.2. Darbo užmokesčio išlaidos",null,null,null,{"$f":"SUM(M19:OFFSET(M19,0,1000))","v":0},0,0,0,0,0,0,0,0,0]
[null,null,null,null,null,null,null,"D.4. Infrastruktūros būklės palaikymo (eksploatavimo) išlaidos",null,null,null,{"$f":"SUM(M20:OFFSET(M20,0,1000))","v":0},0,0,0,0,0,0,0,0,0]
[null,null,null,null,null,null,null,"D.4.1. Vėdinimo sistemų įrenginių eksploatacijos išlaidos",null,null,null,{"$f":"SUM(M21:OFFSET(M21,0,1000))","v":0},0,0,0,0,0,0,0,0,0]
[null,"4. Norint pridėti dar vieną su pastato elementu susijusią sąnaudų įvesties lentelę, spaudžiamas mygtukas „Pridėti“ ir kartojami 2-3 žingsniuose aprašyti veiksmai.",null,null,null,null,null,"D.4.2. Šilumos sistemų tinklų palaikymo (eksploatavimo) išlaidos",null,null,null,{"$f":"SUM(M22:OFFSET(M22,0,1000))","v":0},0,0,0,0,0,0,0,0,0]
[null,null,null,null,null,null,null,"D.4.3. Oro kondicionavimo ir šaldymo įrenginių eksploatacijos išlaidos",null,null,null,{"$f":"SUM(M23:OFFSET(M23,0,1000))","v":0},0,0,0,0,0,0,0,0,0]
[null,null,null,null,null,null,null,"D.4.4. Vandentiekio ir nuotekų tinklų įrenginių eksploatacijos išlaidos",null,null,null,{"$f":"SUM(M24:OFFSET(M24,0,1000))","v":0},0,0,0,0,0,0,0,0,0]
[null,"5. Esant įvesties klaidoms ar norint pašalinti perteklinę pastato elemento įvesties lentelę, spaudžiamas mygtukas „Ištrinti“ bei įvedamas lentelės numeris, kuris yra kiekvienos lentelės kairiojo kampo viršuje.",null,null,null,null,null,"D.4.5 Lietaus surinkimo ir drenažo sistemos eksploatacijos išlaidos ",null,null,null,{"$f":"SUM(M25:OFFSET(M25,0,1000))","v":0},0,0,0,0,0,0,0,0,0]
[null,null,null,null,null,null,null,"D.4.6. Elektros tinklų įrenginių ekploatacijos išlaidos",null,null,null,{"$f":"SUM(M26:OFFSET(M26,0,1000))","v":0},0,0,0,0,0,0,0,0,0]
[null,null,null,null,null,null,null,"D.4.7. Dujotekio sistemos įrenginių eksploatacijos išlaidos",null,null,null,{"$f":"SUM(M27:OFFSET(M27,0,1000))","v":0},0,0,0,0,0,0,0,0,0]
[null,null,null,null,null,null,null,"D.4.8. Gaisro gesinimo ir perspėjimo sistemų įrenginių eksploatacijos išlaidos",null,null,null,{"$f":"SUM(M28:OFFSET(M28,0,1000))","v":0},0,0,0,0,0,0,0,0,0]
[null,"6. Informacija, pateikta atskirose pastato elementų įvesties lentelėse, atsispindi apibendrinimo lapuose, kur apskaičiuojama bendroji GCS suma: „Elementų išlaidų apibendrinimas“, „Pastato išlaidų apibendrinimas“",null,null,null,null,null,"D.4.9. Apsaugos sistemos įrenginių ekploatacijos išlaidos",null,null,null,{"$f":"SUM(M29:OFFSET(M29,0,1000))","v":0},0,0,0,0,0,0,0,0,0]
[null,null,null,null,null,null,null,"D.4.10. Telekomunikacijos sistemos įrenginių eksploatacijos išlaidos",null,null,null,{"$f":"SUM(M30:OFFSET(M30,0,1000))","v":0},0,0,0,0,0,0,0,0,0]
[null,null,null,null,null,null,null,"D.4.11. Transportavimo sistemos įrenginių ekploatacijos išlaidos",null,null,null,{"$f":"SUM(M31:OFFSET(M31,0,1000))","v":0},0,0,0,0,0,0,0,0,0]
[null,null,null,null,null,null,null,"D.4.12. Apsaugos išlaidos",null,null,null,{"$f":"SUM(M32:OFFSET(M32,0,1000))","v":0},0,{"$f":"1-1","v":0},0,0,0,0,0,0,0]
[null,"7. Norint grįžti į navigacijos puslapį, turėtų būti spaudžiamas mygtukas „Navigacija\". ",null,null,null,null,null,"D.4.13. Valymo išlaidos",null,null,null,{"$f":"SUM(M33:OFFSET(M33,0,1000))","v":0},0,0,0,0,0,0,0,0,0]
[null,null,null,null,null,null,null,"D.4.14. Draudimo išlaidos",null,null,null,{"$f":"SUM(M34:OFFSET(M34,0,1000))","v":0},0,0,0,0,0,0,0,0,0]
[null,"SVARBU: Pilka spalva pažymėti langeliai yra skirti skaičiavimams bei duomenų įvedimui, kurie yra atliekami formulių pagalba ir neturėtų būti keičiami rankiniu būdu.",null,null,null,null,null,"D.4.15. Kitos išlaidos",null,null,null,{"$f":"SUM(M35:OFFSET(M35,0,1000))","v":0},0,0,0,0,0,0,0,0,0]
[null,null,null,null,null,null,null,"D.5. Remonto išlaidos",null,null,null,{"$f":"SUM(M36:OFFSET(M36,0,1000))","v":0},0,0,0,0,0,0,0,0,0]
[null,null,null,null,null,null,null,"D.5.1. Einamojo remonto išlaidos",null,null,null,{"$f":"SUM(M37:OFFSET(M37,0,1000))","v":0},0,0,0,0,0,0,0,0,0]
[null,"Dalis žalia spalva pažymėtų langelių, priklausomai nuo pasirinkimų, tampa pilkais, įstrižine juosta perbrauktais langeliais. Šie langeliai yra neaktualūs.",null,null,null,{"$f":"IFERROR(IF(AND(F39=\"Pradėta\",G40<>\"Ne\"),\"Taip\",\"Ne\"),\"Ne\")","v":"Ne"},null,"D.6. Utilizavimo išlaidos",null,null,null,{"$f":"SUM(M38:OFFSET(M38,0,1000))","v":0},0,0,0,0,0,0,0,0,0]
[null,null,null,null,null,{"$f":"IF(MATCH(\"Grįžti į viršų\",E45:E9550,0),\"Pradėta\",\"Ne\")","v":{"$error":"#N/A"}},null,"D.6.1. Atliekų surinkimo išlaidos",null,null,null,{"$f":"SUM(M39:OFFSET(M39,0,1000))","v":0},0,0,0,0,0,0,0,0,0]
[null,null,null,null,null,{"$f":"IF(COUNTIF(E45:E955,\"Ne\"),\"Ne\",\"Taip\")","v":"Taip"},{"$f":"IFERROR(IF(F40=\"Taip\",\"Taip\",\"Ne\"),\"Taip\")","v":"Taip"},"D.6.2. Perdirbimo išlaidos",null,null,null,{"$f":"SUM(M40:OFFSET(M40,0,1000))","v":0},0,0,0,0,0,0,0,0,0]
[null,null,null,null,null,null,null,"D.6.3. Turto išmontavimo (nugriovimo išlaidos)",null,null,null,{"$f":"SUM(M41:OFFSET(M41,0,1000))","v":0},0,0,0,0,0,0,0,0,0]
[null,null,null,null,null,null,null,"D.7. Kitos išlaidos",null,null,null,{"$f":"SUM(M42:OFFSET(M42,0,1000))","v":0},0,0,0,0,0,0,0,0,0]
[null,null,null,null,null,null,null,"D'. Veiklos išlaidos pagal pildančios institucijos numatytas palaikymo apimtis",null,null,null,{"$f":"SUM(M43:OFFSET(M43,0,1000))","v":0},0,0,0,0,0,0,0,0,0]

{"sheet":"20. Dujos","index":24,"n_rows":43,"n_cols":21,"rows_kept":43,"cut":false,"hidden":true,"merged":[[39,1,39,4],[32,1,32,4],[33,1,33,4],[34,1,35,4],[36,1,36,4],[37,1,38,4],[23,1,23,4],[24,1,26,4],[27,1,27,4],[28,1,30,4],[31,1,31,4],[11,1,15,4],[16,1,16,4],[17,1,19,4],[20,1,20,4],[21,1,22,4],[3,1,3,4],[4,1,5,4],[6,1,6,4],[7,1,9,4],[10,1,10,4],[7,7,7,10],[8,7,8,10],[9,7,9,10],[1,7,1,10],[2,7,2,10],[3,7,3,10],[4,7,4,10],[5,7,5,10],[41,7,41,10],[42,7,42,10],[0,1,2,4],[14,7,14,10],[15,7,15,10],[16,7,16,10],[17,7,17,10],[18,7,18,10],[19,7,19,10],[37,7,37,10],[10,7,10,10],[35,7,35,10],[11,7,11,10],[12,7,12,10],[0,7,0,10],[6,7,6,10]]}
[null,"20. Dujos\n\nPildymo instrukcijos",null,null,null,null,null,"Pastato elemento išlaidų apibendrinimas"]
[null,null,null,null,null,null,null,"Investicijų išlaidos",null,null,null,"Iš viso, EUR",{"$f":"YEAR('Bendrieji įvesties duomenys'!$C$6)+COLUMN(L2)-12","v":2019},{"$f":"YEAR('Bendrieji įvesties duomenys'!$C$6)+COLUMN(M2)-12","v":2020},{"$f":"YEAR('Bendrieji įvesties duomenys'!$C$6)+COLUMN(N2)-12","v":2021},{"$f":"YEAR('Bendrieji įvesties duomenys'!$C$6)+COLUMN(O2)-12","v":2022},{"$f":"YEAR('Bendrieji įvesties duomenys'!$C$6)+COLUMN(P2)-12","v":2023},{"$f":"YEAR('Bendrieji įvesties duomenys'!$C$6)+COLUMN(Q2)-12","v":2024},{"$f":"YEAR('Bendrieji įvesties duomenys'!$C$6)+COLUMN(R2)-12","v":2025},{"$f":"YEAR('Bendrieji įvesties duomenys'!$C$6)+COLUMN(S2)-12","v":2026},{"$f":"YEAR('Bendrieji įvesties duomenys'!$C$6)+COLUMN(T2)-12","v":2027}]
[null,null,null,null,null,null,null,"A. Turto įsigijimo ir kūrimo išlaidos išlaidos",null,null,null,{"$f":"SUM(M3:OFFSET(M3,0,1000))","v":0},{"$f":"1-1","v":0},{"$f":"1-1","v":0},0,0,0,0,0,0,0]
[null,null,null,null,null,null,null,"A.1. Žaliavų, medžiagų, sudedamųjų dalių ir detalių, sunaudotų kuriant ilgalaikį turtą, įsigijimo išlaidos",null,null,null,{"$f":"SUM(M4:OFFSET(M4,0,1000))","v":0},{"$f":"1-1","v":0},0,0,0,0,0,0,0,0]
[null,"1.  Paspaudus žemiau esantį mygtuką „Pridėti“, inicijuojamas duomenų pildymo procesas ir sukuriama duomenų įvesties lentelė.",null,null,null,null,null,"A.2. Statyba",null,null,null,{"$f":"SUM(M5:OFFSET(M5,0,1000))","v":0},0,0,0,0,0,0,0,0,0]
[null,null,null,null,null,null,null,"A.3. Rekonstravimas",null,null,null,{"$f":"SUM(M6:OFFSET(M6,0,1000))","v":0},0,0,0,0,0,0,0,0,0]
[null,null,null,null,null,null,null,"A.4. Kapitalinis remontas",null,null,null,{"$f":"SUM(M7:OFFSET(M7,0,1000))","v":0},0,0,0,0,0,0,0,0,0]
[null,"2. Lentelėje „Pastato elemento fiziniai parametrai ir tarnavimo laikotarpis“, pildytojas turėtų  užpildyti visus žalia spalva pažymėtus E stulpelio laukelius, atsižvelgiant į B stulpelyje pateiktus laukelių aprašymus.",null,null,null,null,null,"A.5. Projektavimo paslaugos",null,null,null,{"$f":"SUM(M8:OFFSET(M8,0,1000))","v":0},0,0,0,0,0,0,0,0,0]
[null,null,null,null,null,null,null,"A.6. Techninės priežiūros paslaugos",null,null,null,{"$f":"SUM(M9:OFFSET(M9,0,1000))","v":0},0,0,0,0,0,0,0,0,0]
[null,null,null,null,null,null,null,"A.7. Kitos su investicijomis į ilgalaikį turtą susijusios paslaugos ir išlaidos",null,null,null,{"$f":"SUM(M10:OFFSET(M10,0,1000))","v":0},0,0,0,0,0,0,0,0,0]
[null,null,null,null,null,null,null,"B. Kitos paslaugos ir išlaidos",null,null,null,{"$f":"SUM(M11:OFFSET(M11,0,1000))","v":0},0,0,0,0,0,0,0,0,0]
[null,"3. Užpildžius lentelę „Pastato elemento fiziniai parametrai ir tarnavimo laikotarpis“, turėtų būti pereita prie „Pastato elemento išlaidų įvestis“ sekcijos. Šioje dalyje pildomos investicijų bei veiklos ir eksploatavimo išlaidos, susijusios su pasirinkta pastato elemento konstrukcija/tipu ar prietaisu/dalimi. Informacija veda į atitinkamus laukelius, nurodant tiek investicijų sumą (I-J stulpeliai), tiek investicijų/išlaidų pasikartojimo periodą (K stulpelis).",null,null,null,null,null,"C. Likutinės vertės pinigų srautas",null,null,null,{"$f":"SUM(M12:OFFSET(M12,0,1000))","v":0},0,0,0,0,0,0,0,0,0]
[null,null,null,null,null,null,null,"Iš viso (A + B)",null,null,null,{"$f":"SUM(M13:OFFSET(M13,0,1000))","v":0},{"$f":"M3+M11","v":0},{"$f":"N3+N11","v":0},0,0,0,0,0,0,0]
[]
[null,null,null,null,null,null,null,"Eksploatavimo ir veiklos išlaidos",null,null,null,"Iš viso, EUR",{"$f":"YEAR('Bendrieji įvesties duomenys'!$C$6)+COLUMN(L15)-12","v":2019},{"$f":"YEAR('Bendrieji įvesties duomenys'!$C$6)+COLUMN(M15)-12","v":2020},{"$f":"YEAR('Bendrieji įvesties duomenys'!$C$6)+COLUMN(N15)-12","v":2021},{"$f":"YEAR('Bendrieji įvesties duomenys'!$C$6)+COLUMN(O15)-12","v":2022},{"$f":"YEAR('Bendrieji įvesties duomenys'!$C$6)+COLUMN(P15)-12","v":2023},{"$f":"YEAR('Bendrieji įvesties duomenys'!$C$6)+COLUMN(Q15)-12","v":2024},{"$f":"YEAR('Bendrieji įvesties duomenys'!$C$6)+COLUMN(R15)-12","v":2025},{"$f":"YEAR('Bendrieji įvesties duomenys'!$C$6)+COLUMN(S15)-12","v":2026},{"$f":"YEAR('Bendrieji įvesties duomenys'!$C$6)+COLUMN(T15)-12","v":2027}]
[null,null,null,null,null,null,null,"D. Veiklos išlaidos laikantis rinkoje taikomų eksploatavimo apimčių",null,null,null,{"$f":"SUM(M16:OFFSET(M16,0,1000))","v":0},{"$f":"1-1","v":0},{"$f":"1-1","v":0},0,0,0,0,0,0,0]
[null,null,null,null,null,null,null,"D. Veiklos išlaidos laikantis pildančios institucijos taikomų eksploatavimo apimčių",null,null,null,{"$f":"SUM(M17:OFFSET(M17,0,1000))","v":0},0,0,0,0,0,0,0,0,0]
[null,"Pastaba: D'. Veiklos išlaidos pagal pildančios institucijos numatytas palaikymo apimtis apskaičiuojamos automatiškai pagal suvestas eksploatavimo ir veiklos išlaidas ir numato būsimas išlaidas kiekvienam periodui.",null,null,null,null,null,"D.1.Žaliavos",null,null,null,{"$f":"SUM(M18:OFFSET(M18,0,1000))","v":0},0,0,0,0,0,0,0,0,0]
[null,null,null,null,null,null,null,"D.2. Darbo užmokesčio išlaidos",null,null,null,{"$f":"SUM(M19:OFFSET(M19,0,1000))","v":0},0,0,0,0,0,0,0,0,0]
[null,null,null,null,null,null,null,"D.4. Infrastruktūros būklės palaikymo (eksploatavimo) išlaidos",null,null,null,{"$f":"SUM(M20:OFFSET(M20,0,1000))","v":0},0,0,0,0,0,0,0,0,0]
[null,null,null,null,null,null,null,"D.4.1. Vėdinimo sistemų įrenginių eksploatacijos išlaidos",null,null,null,{"$f":"SUM(M21:OFFSET(M21,0,1000))","v":0},0,0,0,0,0,0,0,0,0]
[null,"4. Norint pridėti dar vieną su pastato elementu susijusią sąnaudų įvesties lentelę, spaudžiamas mygtukas „Pridėti“ ir kartojami 2-3 žingsniuose aprašyti veiksmai.",null,null,null,null,null,"D.4.2. Šilumos sistemų tinklų palaikymo (eksploatavimo) išlaidos",null,null,null,{"$f":"SUM(M22:OFFSET(M22,0,1000))","v":0},0,0,0,0,0,0,0,0,0]
[null,null,null,null,null,null,null,"D.4.3. Oro kondicionavimo ir šaldymo įrenginių eksploatacijos išlaidos",null,null,null,{"$f":"SUM(M23:OFFSET(M23,0,1000))","v":0},0,0,0,0,0,0,0,0,0]
[null,null,null,null,null,null,null,"D.4.4. Vandentiekio ir nuotekų tinklų įrenginių eksploatacijos išlaidos",null,null,null,{"$f":"SUM(M24:OFFSET(M24,0,1000))","v":0},0,0,0,0,0,0,0,0,0]
[null,"5. Esant įvesties klaidoms ar norint pašalinti perteklinę pastato elemento įvesties lentelę, spaudžiamas mygtukas „Ištrinti“ bei įvedamas lentelės numeris, kuris yra kiekvienos lentelės kairiojo kampo viršuje.",null,null,null,null,null,"D.4.5 Lietaus surinkimo ir drenažo sistemos eksploatacijos išlaidos ",null,null,null,{"$f":"SUM(M25:OFFSET(M25,0,1000))","v":0},0,0,0,0,0,0,0,0,0]
[null,null,null,null,null,null,null,"D.4.6. Elektros tinklų įrenginių ekploatacijos išlaidos",null,null,null,{"$f":"SUM(M26:OFFSET(M26,0,1000))","v":0},0,0,0,0,0,0,0,0,0]
[null,null,null,null,null,null,null,"D.4.7. Dujotekio sistemos įrenginių eksploatacijos išlaidos",null,null,null,{"$f":"SUM(M27:OFFSET(M27,0,1000))","v":0},0,0,0,0,0,0,0,0,0]
[null,null,null,null,null,null,null,"D.4.8. Gaisro gesinimo ir perspėjimo sistemų įrenginių eksploatacijos išlaidos",null,null,null,{"$f":"SUM(M28:OFFSET(M28,0,1000))","v":0},0,0,0,0,0,0,0,0,0]
[null,"6. Informacija, pateikta atskirose pastato elementų įvesties lentelėse, atsispindi apibendrinimo lapuose, kur apskaičiuojama bendroji GCS suma: „Elementų išlaidų apibendrinimas“, „Pastato išlaidų apibendrinimas“",null,null,null,null,null,"D.4.9. Apsaugos sistemos įrenginių ekploatacijos išlaidos",null,null,null,{"$f":"SUM(M29:OFFSET(M29,0,1000))","v":0},0,0,0,0,0,0,0,0,0]
[null,null,null,null,null,null,null,"D.4.10. Telekomunikacijos sistemos įrenginių eksploatacijos išlaidos",null,null,null,{"$f":"SUM(M30:OFFSET(M30,0,1000))","v":0},0,0,0,0,0,0,0,0,0]
[null,null,null,null,null,null,null,"D.4.11. Transportavimo sistemos įrenginių ekploatacijos išlaidos",null,null,null,{"$f":"SUM(M31:OFFSET(M31,0,1000))","v":0},0,0,0,0,0,0,0,0,0]
[null,null,null,null,null,null,null,"D.4.12. Apsaugos išlaidos",null,null,null,{"$f":"SUM(M32:OFFSET(M32,0,1000))","v":0},0,{"$f":"1-1","v":0},0,0,0,0,0,0,0]
[null,"7. Norint grįžti į navigacijos puslapį, turėtų būti spaudžiamas mygtukas „Navigacija\". ",null,null,null,null,null,"D.4.13. Valymo išlaidos",null,null,null,{"$f":"SUM(M33:OFFSET(M33,0,1000))","v":0},0,0,0,0,0,0,0,0,0]
[null,null,null,null,null,null,null,"D.4.14. Draudimo išlaidos",null,null,null,{"$f":"SUM(M34:OFFSET(M34,0,1000))","v":0},0,0,0,0,0,0,0,0,0]
[null,"SVARBU: Pilka spalva pažymėti langeliai yra skirti skaičiavimams bei duomenų įvedimui, kurie yra atliekami formulių pagalba ir neturėtų būti keičiami rankiniu būdu.",null,null,null,null,null,"D.4.15. Kitos išlaidos",null,null,null,{"$f":"SUM(M35:OFFSET(M35,0,1000))","v":0},0,0,0,0,0,0,0,0,0]
[null,null,null,null,null,null,null,"D.5. Remonto išlaidos",null,null,null,{"$f":"SUM(M36:OFFSET(M36,0,1000))","v":0},0,0,0,0,0,0,0,0,0]
[null,null,null,null,null,null,null,"D.5.1. Einamojo remonto išlaidos",null,null,null,{"$f":"SUM(M37:OFFSET(M37,0,1000))","v":0},0,0,0,0,0,0,0,0,0]
[null,"Dalis žalia spalva pažymėtų langelių, priklausomai nuo pasirinkimų, tampa pilkais, įstrižine juosta perbrauktais langeliais. Šie langeliai yra neaktualūs.",null,null,null,{"$f":"IFERROR(IF(AND(F39=\"Pradėta\",G40<>\"Ne\"),\"Taip\",\"Ne\"),\"Ne\")","v":"Ne"},null,"D.6. Utilizavimo išlaidos",null,null,null,{"$f":"SUM(M38:OFFSET(M38,0,1000))","v":0},0,0,0,0,0,0,0,0,0]
[null,null,null,null,null,{"$f":"IF(MATCH(\"Grįžti į viršų\",E45:E9550,0),\"Pradėta\",\"Ne\")","v":{"$error":"#N/A"}},null,"D.6.1. Atliekų surinkimo išlaidos",null,null,null,{"$f":"SUM(M39:OFFSET(M39,0,1000))","v":0},0,0,0,0,0,0,0,0,0]
[null,null,null,null,null,{"$f":"IF(COUNTIF(E45:E955,\"Ne\"),\"Ne\",\"Taip\")","v":"Taip"},{"$f":"IFERROR(IF(F40=\"Taip\",\"Taip\",\"Ne\"),\"Taip\")","v":"Taip"},"D.6.2. Perdirbimo išlaidos",null,null,null,{"$f":"SUM(M40:OFFSET(M40,0,1000))","v":0},0,0,0,0,0,0,0,0,0]
[null,null,null,null,null,null,null,"D.6.3. Turto išmontavimo (nugriovimo išlaidos)",null,null,null,{"$f":"SUM(M41:OFFSET(M41,0,1000))","v":0},0,0,0,0,0,0,0,0,0]
[null,null,null,null,null,null,null,"D.7. Kitos išlaidos",null,null,null,{"$f":"SUM(M42:OFFSET(M42,0,1000))","v":0},0,0,0,0,0,0,0,0,0]
[null,null,null,null,null,null,null,"D'. Veiklos išlaidos pagal pildančios institucijos numatytas palaikymo apimtis",null,null,null,{"$f":"SUM(M43:OFFSET(M43,0,1000))","v":0},0,0,0,0,0,0,0,0,0]

{"sheet":"21. Apsaugos sistema","index":25,"n_rows":43,"n_cols":21,"rows_kept":43,"cut":false,"hidden":true,"merged":[[39,1,39,4],[32,1,32,4],[33,1,33,4],[34,1,35,4],[36,1,36,4],[37,1,38,4],[23,1,23,4],[24,1,26,4],[27,1,27,4],[28,1,30,4],[31,1,31,4],[11,1,15,4],[16,1,16,4],[17,1,19,4],[20,1,20,4],[21,1,22,4],[3,1,3,4],[4,1,5,4],[6,1,6,4],[7,1,9,4],[10,1,10,4],[7,7,7,10],[8,7,8,10],[9,7,9,10],[1,7,1,10],[2,7,2,10],[3,7,3,10],[4,7,4,10],[5,7,5,10],[41,7,41,10],[42,7,42,10],[0,1,2,4],[14,7,14,10],[15,7,15,10],[16,7,16,10],[17,7,17,10],[18,7,18,10],[19,7,19,10],[37,7,37,10],[10,7,10,10],[35,7,35,10],[11,7,11,10],[12,7,12,10],[0,7,0,10],[6,7,6,10]]}
[null,"21. Apsaugos sistema\n\nPildymo instrukcijos",null,null,null,null,null,"Pastato elemento išlaidų apibendrinimas"]
[null,null,null,null,null,null,null,"Investicijų išlaidos",null,null,null,"Iš viso, EUR",{"$f":"YEAR('Bendrieji įvesties duomenys'!$C$6)+COLUMN(L2)-12","v":2019},{"$f":"YEAR('Bendrieji įvesties duomenys'!$C$6)+COLUMN(M2)-12","v":2020},{"$f":"YEAR('Bendrieji įvesties duomenys'!$C$6)+COLUMN(N2)-12","v":2021},{"$f":"YEAR('Bendrieji įvesties duomenys'!$C$6)+COLUMN(O2)-12","v":2022},{"$f":"YEAR('Bendrieji įvesties duomenys'!$C$6)+COLUMN(P2)-12","v":2023},{"$f":"YEAR('Bendrieji įvesties duomenys'!$C$6)+COLUMN(Q2)-12","v":2024},{"$f":"YEAR('Bendrieji įvesties duomenys'!$C$6)+COLUMN(R2)-12","v":2025},{"$f":"YEAR('Bendrieji įvesties duomenys'!$C$6)+COLUMN(S2)-12","v":2026},{"$f":"YEAR('Bendrieji įvesties duomenys'!$C$6)+COLUMN(T2)-12","v":2027}]
[null,null,null,null,null,null,null,"A. Turto įsigijimo ir kūrimo išlaidos išlaidos",null,null,null,{"$f":"SUM(M3:OFFSET(M3,0,1000))","v":0},{"$f":"OFFSET(M3,46,0)","v":0},0,0,0,0,0,0,0,0]
[null,null,null,null,null,null,null,"A.1. Žaliavų, medžiagų, sudedamųjų dalių ir detalių, sunaudotų kuriant ilgalaikį turtą, įsigijimo išlaidos",null,null,null,{"$f":"SUM(M4:OFFSET(M4,0,1000))","v":0},0,0,0,0,0,0,0,0,0]
[null,"1.  Paspaudus žemiau esantį mygtuką „Pridėti“, inicijuojamas duomenų pildymo procesas ir sukuriama duomenų įvesties lentelė.",null,null,null,null,null,"A.2. Statyba",null,null,null,{"$f":"SUM(M5:OFFSET(M5,0,1000))","v":0},0,0,0,0,0,0,0,0,0]
[null,null,null,null,null,null,null,"A.3. Rekonstravimas",null,null,null,{"$f":"SUM(M6:OFFSET(M6,0,1000))","v":0},0,0,0,0,0,0,0,0,0]
[null,null,null,null,null,null,null,"A.4. Kapitalinis remontas",null,null,null,{"$f":"SUM(M7:OFFSET(M7,0,1000))","v":0},0,0,0,0,0,0,0,0,0]
[null,"2. Lentelėje „Pastato elemento fiziniai parametrai ir tarnavimo laikotarpis“, pildytojas turėtų  užpildyti visus žalia spalva pažymėtus E stulpelio laukelius, atsižvelgiant į B stulpelyje pateiktus laukelių aprašymus.",null,null,null,null,null,"A.5. Projektavimo paslaugos",null,null,null,{"$f":"SUM(M8:OFFSET(M8,0,1000))","v":0},0,0,0,0,0,0,0,0,0]
[null,null,null,null,null,null,null,"A.6. Techninės priežiūros paslaugos",null,null,null,{"$f":"SUM(M9:OFFSET(M9,0,1000))","v":0},0,0,0,0,0,0,0,0,0]
[null,null,null,null,null,null,null,"A.7. Kitos su investicijomis į ilgalaikį turtą susijusios paslaugos ir išlaidos",null,null,null,{"$f":"SUM(M10:OFFSET(M10,0,1000))","v":0},0,0,0,0,0,0,0,0,0]
[null,null,null,null,null,null,null,"B. Kitos paslaugos ir išlaidos",null,null,null,{"$f":"SUM(M11:OFFSET(M11,0,1000))","v":0},0,0,0,0,0,0,0,0,0]
[null,"3. Užpildžius lentelę „Pastato elemento fiziniai parametrai ir tarnavimo laikotarpis“, turėtų būti pereita prie „Pastato elemento išlaidų įvestis“ sekcijos. Šioje dalyje pildomos investicijų bei veiklos ir eksploatavimo išlaidos, susijusios su pasirinkta pastato elemento konstrukcija/tipu ar prietaisu/dalimi. Informacija veda į atitinkamus laukelius, nurodant tiek investicijų sumą (I-J stulpeliai), tiek investicijų/išlaidų pasikartojimo periodą (K stulpelis).",null,null,null,null,null,"C. Likutinės vertės pinigų srautas",null,null,null,{"$f":"SUM(M12:OFFSET(M12,0,1000))","v":0},0,0,0,0,0,0,0,0,0]
[null,null,null,null,null,null,null,"Iš viso (A + B)",null,null,null,{"$f":"SUM(M13:OFFSET(M13,0,1000))","v":0},{"$f":"M3+M11","v":0},{"$f":"N3+N11","v":0},0,0,0,0,0,0,0]
[]
[null,null,null,null,null,null,null,"Eksploatavimo ir veiklos išlaidos",null,null,null,"Iš viso, EUR",{"$f":"YEAR('Bendrieji įvesties duomenys'!$C$6)+COLUMN(L15)-12","v":2019},{"$f":"YEAR('Bendrieji įvesties duomenys'!$C$6)+COLUMN(M15)-12","v":2020},{"$f":"YEAR('Bendrieji įvesties duomenys'!$C$6)+COLUMN(N15)-12","v":2021},{"$f":"YEAR('Bendrieji įvesties duomenys'!$C$6)+COLUMN(O15)-12","v":2022},{"$f":"YEAR('Bendrieji įvesties duomenys'!$C$6)+COLUMN(P15)-12","v":2023},{"$f":"YEAR('Bendrieji įvesties duomenys'!$C$6)+COLUMN(Q15)-12","v":2024},{"$f":"YEAR('Bendrieji įvesties duomenys'!$C$6)+COLUMN(R15)-12","v":2025},{"$f":"YEAR('Bendrieji įvesties duomenys'!$C$6)+COLUMN(S15)-12","v":2026},{"$f":"YEAR('Bendrieji įvesties duomenys'!$C$6)+COLUMN(T15)-12","v":2027}]
[null,null,null,null,null,null,null,"D. Veiklos išlaidos laikantis rinkoje taikomų eksploatavimo apimčių",null,null,null,{"$f":"SUM(M16:OFFSET(M16,0,1000))","v":0},{"$f":"OFFSET(M16,46,0)","v":0},0,0,0,0,0,0,0,0]
[null,null,null,null,null,null,null,"D. Veiklos išlaidos laikantis pildančios institucijos taikomų eksploatavimo apimčių",null,null,null,{"$f":"SUM(M17:OFFSET(M17,0,1000))","v":0},0,0,0,0,0,0,0,0,0]
[null,"Pastaba: D'. Veiklos išlaidos pagal pildančios institucijos numatytas palaikymo apimtis apskaičiuojamos automatiškai pagal suvestas eksploatavimo ir veiklos išlaidas ir numato būsimas išlaidas kiekvienam periodui.",null,null,null,null,null,"D.1.Žaliavos",null,null,null,{"$f":"SUM(M18:OFFSET(M18,0,1000))","v":0},0,0,0,0,0,0,0,0,0]
[null,null,null,null,null,null,null,"D.2. Darbo užmokesčio išlaidos",null,null,null,{"$f":"SUM(M19:OFFSET(M19,0,1000))","v":0},0,0,0,0,0,0,0,0,0]
[null,null,null,null,null,null,null,"D.4. Infrastruktūros būklės palaikymo (eksploatavimo) išlaidos",null,null,null,{"$f":"SUM(M20:OFFSET(M20,0,1000))","v":0},0,0,0,0,0,0,0,0,0]
[null,null,null,null,null,null,null,"D.4.1. Vėdinimo sistemų įrenginių eksploatacijos išlaidos",null,null,null,{"$f":"SUM(M21:OFFSET(M21,0,1000))","v":0},{"$f":"1-1","v":0},{"$f":"1-1","v":0},0,0,0,0,0,0,0]
[null,"4. Norint pridėti dar vieną su pastato elementu susijusią sąnaudų įvesties lentelę, spaudžiamas mygtukas „Pridėti“ ir kartojami 2-3 žingsniuose aprašyti veiksmai.",null,null,null,null,null,"D.4.2. Šilumos sistemų tinklų palaikymo (eksploatavimo) išlaidos",null,null,null,{"$f":"SUM(M22:OFFSET(M22,0,1000))","v":0},0,0,0,0,0,0,0,0,0]
[null,null,null,null,null,null,null,"D.4.3. Oro kondicionavimo ir šaldymo įrenginių eksploatacijos išlaidos",null,null,null,{"$f":"SUM(M23:OFFSET(M23,0,1000))","v":0},0,0,0,0,0,0,0,0,0]
[null,null,null,null,null,null,null,"D.4.4. Vandentiekio ir nuotekų tinklų įrenginių eksploatacijos išlaidos",null,null,null,{"$f":"SUM(M24:OFFSET(M24,0,1000))","v":0},0,0,0,0,0,0,0,0,0]
[null,"5. Esant įvesties klaidoms ar norint pašalinti perteklinę pastato elemento įvesties lentelę, spaudžiamas mygtukas „Ištrinti“ bei įvedamas lentelės numeris, kuris yra kiekvienos lentelės kairiojo kampo viršuje.",null,null,null,null,null,"D.4.5 Lietaus surinkimo ir drenažo sistemos eksploatacijos išlaidos ",null,null,null,{"$f":"SUM(M25:OFFSET(M25,0,1000))","v":0},0,0,0,0,0,0,0,0,0]
[null,null,null,null,null,null,null,"D.4.6. Elektros tinklų įrenginių ekploatacijos išlaidos",null,null,null,{"$f":"SUM(M26:OFFSET(M26,0,1000))","v":0},0,0,0,0,0,0,0,0,0]
[null,null,null,null,null,null,null,"D.4.7. Dujotekio sistemos įrenginių eksploatacijos išlaidos",null,null,null,{"$f":"SUM(M27:OFFSET(M27,0,1000))","v":0},0,0,0,0,0,0,0,0,0]
[null,null,null,null,null,null,null,"D.4.8. Gaisro gesinimo ir perspėjimo sistemų įrenginių eksploatacijos išlaidos",null,null,null,{"$f":"SUM(M28:OFFSET(M28,0,1000))","v":0},0,0,0,0,0,0,0,0,0]
[null,"6. Informacija, pateikta atskirose pastato elementų įvesties lentelėse, atsispindi apibendrinimo lapuose, kur apskaičiuojama bendroji GCS suma: „Elementų išlaidų apibendrinimas“, „Pastato išlaidų apibendrinimas“",null,null,null,null,null,"D.4.9. Apsaugos sistemos įrenginių ekploatacijos išlaidos",null,null,null,{"$f":"SUM(M29:OFFSET(M29,0,1000))","v":0},{"$f":"OFFSET(M29,38,0)","v":0},0,0,0,0,0,0,0,0]
[null,null,null,null,null,null,null,"D.4.10. Telekomunikacijos sistemos įrenginių eksploatacijos išlaidos",null,null,null,{"$f":"SUM(M30:OFFSET(M30,0,1000))","v":0},{"$f":"1-1","v":0},0,0,0,0,0,0,0,0]
[null,null,null,null,null,null,null,"D.4.11. Transportavimo sistemos įrenginių ekploatacijos išlaidos",null,null,null,{"$f":"SUM(M31:OFFSET(M31,0,1000))","v":0},{"$f":"1-1","v":0},0,0,0,0,0,0,0,0]
[null,null,null,null,null,null,null,"D.4.12. Apsaugos išlaidos",null,null,null,{"$f":"SUM(M32:OFFSET(M32,0,1000))","v":0},{"$f":"1-1","v":0},{"$f":"1-1","v":0},0,0,0,0,0,0,0]
[null,"7. Norint grįžti į navigacijos puslapį, turėtų būti spaudžiamas mygtukas „Navigacija\". ",null,null,null,null,null,"D.4.13. Valymo išlaidos",null,null,null,{"$f":"SUM(M33:OFFSET(M33,0,1000))","v":0},{"$f":"1-1","v":0},0,0,0,0,0,0,0,0]
[null,null,null,null,null,null,null,"D.4.14. Draudimo išlaidos",null,null,null,{"$f":"SUM(M34:OFFSET(M34,0,1000))","v":0},{"$f":"1-1","v":0},0,0,0,0,0,0,0,0]
[null,"SVARBU: Pilka spalva pažymėti langeliai yra skirti skaičiavimams bei duomenų įvedimui, kurie yra atliekami formulių pagalba ir neturėtų būti keičiami rankiniu būdu.",null,null,null,null,null,"D.4.15. Kitos išlaidos",null,null,null,{"$f":"SUM(M35:OFFSET(M35,0,1000))","v":0},{"$f":"OFFSET(M35,33,0)","v":0},0,0,0,0,0,0,0,0]
[null,null,null,null,null,null,null,"D.5. Remonto išlaidos",null,null,null,{"$f":"SUM(M36:OFFSET(M36,0,1000))","v":0},0,0,0,0,0,0,0,0,0]
[null,null,null,null,null,null,null,"D.5.1. Einamojo remonto išlaidos",null,null,null,{"$f":"SUM(M37:OFFSET(M37,0,1000))","v":0},0,0,0,0,0,0,0,0,0]
[null,"Dalis žalia spalva pažymėtų langelių, priklausomai nuo pasirinkimų, tampa pilkais, įstrižine juosta perbrauktais langeliais. Šie langeliai yra neaktualūs.",null,null,null,{"$f":"IFERROR(IF(AND(F39=\"Pradėta\",G40<>\"Ne\"),\"Taip\",\"Ne\"),\"Ne\")","v":"Ne"},null,"D.6. Utilizavimo išlaidos",null,null,null,{"$f":"SUM(M38:OFFSET(M38,0,1000))","v":0},0,0,0,0,0,0,0,0,0]
[null,null,null,null,null,{"$f":"IF(MATCH(\"Grįžti į viršų\",E45:E9550,0),\"Pradėta\",\"Ne\")","v":{"$error":"#N/A"}},null,"D.6.1. Atliekų surinkimo išlaidos",null,null,null,{"$f":"SUM(M39:OFFSET(M39,0,1000))","v":0},0,0,0,0,0,0,0,0,0]
[null,null,null,null,null,{"$f":"IF(COUNTIF(E45:E955,\"Ne\"),\"Ne\",\"Taip\")","v":"Taip"},{"$f":"IFERROR(IF(F40=\"Taip\",\"Taip\",\"Ne\"),\"Taip\")","v":"Taip"},"D.6.2. Perdirbimo išlaidos",null,null,null,{"$f":"SUM(M40:OFFSET(M40,0,1000))","v":0},0,0,0,0,0,0,0,0,0]
[null,null,null,null,null,null,null,"D.6.3. Turto išmontavimo (nugriovimo išlaidos)",null,null,null,{"$f":"SUM(M41:OFFSET(M41,0,1000))","v":0},0,0,0,0,0,0,0,0,0]
[null,null,null,null,null,null,null,"D.7. Kitos išlaidos",null,null,null,{"$f":"SUM(M42:OFFSET(M42,0,1000))","v":0},0,0,0,0,0,0,0,0,0]
[null,null,null,null,null,null,null,"D'. Veiklos išlaidos pagal pildančios institucijos numatytas palaikymo apimtis",null,null,null,{"$f":"SUM(M43:OFFSET(M43,0,1000))","v":0},0,0,0,0,0,0,0,0,0]

{"sheet":"22. Telekomunikacijos","index":26,"n_rows":43,"n_cols":21,"rows_kept":43,"cut":false,"hidden":true,"merged":[[39,1,39,4],[32,1,32,4],[33,1,33,4],[34,1,35,4],[36,1,36,4],[37,1,38,4],[23,1,23,4],[24,1,26,4],[27,1,27,4],[28,1,30,4],[31,1,31,4],[11,1,15,4],[16,1,16,4],[17,1,19,4],[20,1,20,4],[21,1,22,4],[3,1,3,4],[4,1,5,4],[6,1,6,4],[7,1,9,4],[10,1,10,4],[7,7,7,10],[8,7,8,10],[9,7,9,10],[1,7,1,10],[2,7,2,10],[3,7,3,10],[4,7,4,10],[5,7,5,10],[41,7,41,10],[42,7,42,10],[0,1,2,4],[14,7,14,10],[15,7,15,10],[16,7,16,10],[17,7,17,10],[18,7,18,10],[19,7,19,10],[37,7,37,10],[10,7,10,10],[35,7,35,10],[11,7,11,10],[12,7,12,10],[0,7,0,10],[6,7,6,10]]}
[null,"22. Telekomunikacijos\n\nPildymo instrukcijos",null,null,null,null,null,"Pastato elemento išlaidų apibendrinimas"]
[null,null,null,null,null,null,null,"Investicijų išlaidos",null,null,null,"Iš viso, EUR",{"$f":"YEAR('Bendrieji įvesties duomenys'!$C$6)+COLUMN(L2)-12","v":2019},{"$f":"YEAR('Bendrieji įvesties duomenys'!$C$6)+COLUMN(M2)-12","v":2020},{"$f":"YEAR('Bendrieji įvesties duomenys'!$C$6)+COLUMN(N2)-12","v":2021},{"$f":"YEAR('Bendrieji įvesties duomenys'!$C$6)+COLUMN(O2)-12","v":2022},{"$f":"YEAR('Bendrieji įvesties duomenys'!$C$6)+COLUMN(P2)-12","v":2023},{"$f":"YEAR('Bendrieji įvesties duomenys'!$C$6)+COLUMN(Q2)-12","v":2024},{"$f":"YEAR('Bendrieji įvesties duomenys'!$C$6)+COLUMN(R2)-12","v":2025},{"$f":"YEAR('Bendrieji įvesties duomenys'!$C$6)+COLUMN(S2)-12","v":2026},{"$f":"YEAR('Bendrieji įvesties duomenys'!$C$6)+COLUMN(T2)-12","v":2027}]
[null,null,null,null,null,null,null,"A. Turto įsigijimo ir kūrimo išlaidos išlaidos",null,null,null,{"$f":"SUM(M3:OFFSET(M3,0,1000))","v":0},{"$f":"OFFSET(M3,46,0)","v":0},0,0,0,0,0,0,0,0]
[null,null,null,null,null,null,null,"A.1. Žaliavų, medžiagų, sudedamųjų dalių ir detalių, sunaudotų kuriant ilgalaikį turtą, įsigijimo išlaidos",null,null,null,{"$f":"SUM(M4:OFFSET(M4,0,1000))","v":0},0,0,0,0,0,0,0,0,0]
[null,"1.  Paspaudus žemiau esantį mygtuką „Pridėti“, inicijuojamas duomenų pildymo procesas ir sukuriama duomenų įvesties lentelė.",null,null,null,null,null,"A.2. Statyba",null,null,null,{"$f":"SUM(M5:OFFSET(M5,0,1000))","v":0},0,0,0,0,0,0,0,0,0]
[null,null,null,null,null,null,null,"A.3. Rekonstravimas",null,null,null,{"$f":"SUM(M6:OFFSET(M6,0,1000))","v":0},0,0,0,0,0,0,0,0,0]
[null,null,null,null,null,null,null,"A.4. Kapitalinis remontas",null,null,null,{"$f":"SUM(M7:OFFSET(M7,0,1000))","v":0},0,0,0,0,0,0,0,0,0]
[null,"2. Lentelėje „Pastato elemento fiziniai parametrai ir tarnavimo laikotarpis“, pildytojas turėtų  užpildyti visus žalia spalva pažymėtus E stulpelio laukelius, atsižvelgiant į B stulpelyje pateiktus laukelių aprašymus.",null,null,null,null,null,"A.5. Projektavimo paslaugos",null,null,null,{"$f":"SUM(M8:OFFSET(M8,0,1000))","v":0},0,0,0,0,0,0,0,0,0]
[null,null,null,null,null,null,null,"A.6. Techninės priežiūros paslaugos",null,null,null,{"$f":"SUM(M9:OFFSET(M9,0,1000))","v":0},0,0,0,0,0,0,0,0,0]
[null,null,null,null,null,null,null,"A.7. Kitos su investicijomis į ilgalaikį turtą susijusios paslaugos ir išlaidos",null,null,null,{"$f":"SUM(M10:OFFSET(M10,0,1000))","v":0},0,0,0,0,0,0,0,0,0]
[null,null,null,null,null,null,null,"B. Kitos paslaugos ir išlaidos",null,null,null,{"$f":"SUM(M11:OFFSET(M11,0,1000))","v":0},0,0,0,0,0,0,0,0,0]
[null,"3. Užpildžius lentelę „Pastato elemento fiziniai parametrai ir tarnavimo laikotarpis“, turėtų būti pereita prie „Pastato elemento išlaidų įvestis“ sekcijos. Šioje dalyje pildomos investicijų bei veiklos ir eksploatavimo išlaidos, susijusios su pasirinkta pastato elemento konstrukcija/tipu ar prietaisu/dalimi. Informacija veda į atitinkamus laukelius, nurodant tiek investicijų sumą (I-J stulpeliai), tiek investicijų/išlaidų pasikartojimo periodą (K stulpelis).",null,null,null,null,null,"C. Likutinės vertės pinigų srautas",null,null,null,{"$f":"SUM(M12:OFFSET(M12,0,1000))","v":0},0,0,0,0,0,0,0,0,0]
[null,null,null,null,null,null,null,"Iš viso (A + B)",null,null,null,{"$f":"SUM(M13:OFFSET(M13,0,1000))","v":0},{"$f":"M3+M11","v":0},{"$f":"N3+N11","v":0},0,0,0,0,0,0,0]
[]
[null,null,null,null,null,null,null,"Eksploatavimo ir veiklos išlaidos",null,null,null,"Iš viso, EUR",{"$f":"YEAR('Bendrieji įvesties duomenys'!$C$6)+COLUMN(L15)-12","v":2019},{"$f":"YEAR('Bendrieji įvesties duomenys'!$C$6)+COLUMN(M15)-12","v":2020},{"$f":"YEAR('Bendrieji įvesties duomenys'!$C$6)+COLUMN(N15)-12","v":2021},{"$f":"YEAR('Bendrieji įvesties duomenys'!$C$6)+COLUMN(O15)-12","v":2022},{"$f":"YEAR('Bendrieji įvesties duomenys'!$C$6)+COLUMN(P15)-12","v":2023},{"$f":"YEAR('Bendrieji įvesties duomenys'!$C$6)+COLUMN(Q15)-12","v":2024},{"$f":"YEAR('Bendrieji įvesties duomenys'!$C$6)+COLUMN(R15)-12","v":2025},{"$f":"YEAR('Bendrieji įvesties duomenys'!$C$6)+COLUMN(S15)-12","v":2026},{"$f":"YEAR('Bendrieji įvesties duomenys'!$C$6)+COLUMN(T15)-12","v":2027}]
[null,null,null,null,null,null,null,"D. Veiklos išlaidos laikantis rinkoje taikomų eksploatavimo apimčių",null,null,null,{"$f":"SUM(M16:OFFSET(M16,0,1000))","v":0},{"$f":"OFFSET(M16,46,0)","v":0},0,0,0,0,0,0,0,0]
[null,null,null,null,null,null,null,"D. Veiklos išlaidos laikantis pildančios institucijos taikomų eksploatavimo apimčių",null,null,null,{"$f":"SUM(M17:OFFSET(M17,0,1000))","v":0},0,0,0,0,0,0,0,0,0]
[null,"Pastaba: D'. Veiklos išlaidos pagal pildančios institucijos numatytas palaikymo apimtis apskaičiuojamos automatiškai pagal suvestas eksploatavimo ir veiklos išlaidas ir numato būsimas išlaidas kiekvienam periodui.",null,null,null,null,null,"D.1.Žaliavos",null,null,null,{"$f":"SUM(M18:OFFSET(M18,0,1000))","v":0},0,0,0,0,0,0,0,0,0]
[null,null,null,null,null,null,null,"D.2. Darbo užmokesčio išlaidos",null,null,null,{"$f":"SUM(M19:OFFSET(M19,0,1000))","v":0},0,0,0,0,0,0,0,0,0]
[null,null,null,null,null,null,null,"D.4. Infrastruktūros būklės palaikymo (eksploatavimo) išlaidos",null,null,null,{"$f":"SUM(M20:OFFSET(M20,0,1000))","v":0},0,0,0,0,0,0,0,0,0]
[null,null,null,null,null,null,null,"D.4.1. Vėdinimo sistemų įrenginių eksploatacijos išlaidos",null,null,null,{"$f":"SUM(M21:OFFSET(M21,0,1000))","v":0},{"$f":"1-1","v":0},{"$f":"1-1","v":0},0,0,0,0,0,0,0]
[null,"4. Norint pridėti dar vieną su pastato elementu susijusią sąnaudų įvesties lentelę, spaudžiamas mygtukas „Pridėti“ ir kartojami 2-3 žingsniuose aprašyti veiksmai.",null,null,null,null,null,"D.4.2. Šilumos sistemų tinklų palaikymo (eksploatavimo) išlaidos",null,null,null,{"$f":"SUM(M22:OFFSET(M22,0,1000))","v":0},0,0,0,0,0,0,0,0,0]
[null,null,null,null,null,null,null,"D.4.3. Oro kondicionavimo ir šaldymo įrenginių eksploatacijos išlaidos",null,null,null,{"$f":"SUM(M23:OFFSET(M23,0,1000))","v":0},0,0,0,0,0,0,0,0,0]
[null,null,null,null,null,null,null,"D.4.4. Vandentiekio ir nuotekų tinklų įrenginių eksploatacijos išlaidos",null,null,null,{"$f":"SUM(M24:OFFSET(M24,0,1000))","v":0},0,0,0,0,0,0,0,0,0]
[null,"5. Esant įvesties klaidoms ar norint pašalinti perteklinę pastato elemento įvesties lentelę, spaudžiamas mygtukas „Ištrinti“ bei įvedamas lentelės numeris, kuris yra kiekvienos lentelės kairiojo kampo viršuje.",null,null,null,null,null,"D.4.5 Lietaus surinkimo ir drenažo sistemos eksploatacijos išlaidos ",null,null,null,{"$f":"SUM(M25:OFFSET(M25,0,1000))","v":0},0,0,0,0,0,0,0,0,0]
[null,null,null,null,null,null,null,"D.4.6. Elektros tinklų įrenginių ekploatacijos išlaidos",null,null,null,{"$f":"SUM(M26:OFFSET(M26,0,1000))","v":0},0,0,0,0,0,0,0,0,0]
[null,null,null,null,null,null,null,"D.4.7. Dujotekio sistemos įrenginių eksploatacijos išlaidos",null,null,null,{"$f":"SUM(M27:OFFSET(M27,0,1000))","v":0},0,0,0,0,0,0,0,0,0]
[null,null,null,null,null,null,null,"D.4.8. Gaisro gesinimo ir perspėjimo sistemų įrenginių eksploatacijos išlaidos",null,null,null,{"$f":"SUM(M28:OFFSET(M28,0,1000))","v":0},0,0,0,0,0,0,0,0,0]
[null,"6. Informacija, pateikta atskirose pastato elementų įvesties lentelėse, atsispindi apibendrinimo lapuose, kur apskaičiuojama bendroji GCS suma: „Elementų išlaidų apibendrinimas“, „Pastato išlaidų apibendrinimas“",null,null,null,null,null,"D.4.9. Apsaugos sistemos įrenginių ekploatacijos išlaidos",null,null,null,{"$f":"SUM(M29:OFFSET(M29,0,1000))","v":0},0,0,0,0,0,0,0,0,0]
[null,null,null,null,null,null,null,"D.4.10. Telekomunikacijos sistemos įrenginių eksploatacijos išlaidos",null,null,null,{"$f":"SUM(M30:OFFSET(M30,0,1000))","v":0},{"$f":"OFFSET(M30,37,0)","v":0},0,0,0,0,0,0,0,0]
[null,null,null,null,null,null,null,"D.4.11. Transportavimo sistemos įrenginių ekploatacijos išlaidos",null,null,null,{"$f":"SUM(M31:OFFSET(M31,0,1000))","v":0},{"$f":"1-1","v":0},0,0,0,0,0,0,0,0]
[null,null,null,null,null,null,null,"D.4.12. Apsaugos išlaidos",null,null,null,{"$f":"SUM(M32:OFFSET(M32,0,1000))","v":0},{"$f":"1-1","v":0},{"$f":"1-1","v":0},0,0,0,0,0,0,0]
[null,"7. Norint grįžti į navigacijos puslapį, turėtų būti spaudžiamas mygtukas „Navigacija\". ",null,null,null,null,null,"D.4.13. Valymo išlaidos",null,null,null,{"$f":"SUM(M33:OFFSET(M33,0,1000))","v":0},{"$f":"1-1","v":0},0,0,0,0,0,0,0,0]
[null,null,null,null,null,null,null,"D.4.14. Draudimo išlaidos",null,null,null,{"$f":"SUM(M34:OFFSET(M34,0,1000))","v":0},{"$f":"1-1","v":0},0,0,0,0,0,0,0,0]
[null,"SVARBU: Pilka spalva pažymėti langeliai yra skirti skaičiavimams bei duomenų įvedimui, kurie yra atliekami formulių pagalba ir neturėtų būti keičiami rankiniu būdu.",null,null,null,null,null,"D.4.15. Kitos išlaidos",null,null,null,{"$f":"SUM(M35:OFFSET(M35,0,1000))","v":0},{"$f":"OFFSET(M35,33,0)","v":0},0,0,0,0,0,0,0,0]
[null,null,null,null,null,null,null,"D.5. Remonto išlaidos",null,null,null,{"$f":"SUM(M36:OFFSET(M36,0,1000))","v":0},0,0,0,0,0,0,0,0,0]
[null,null,null,null,null,null,null,"D.5.1. Einamojo remonto išlaidos",null,null,null,{"$f":"SUM(M37:OFFSET(M37,0,1000))","v":0},0,0,0,0,0,0,0,0,0]
[null,"Dalis žalia spalva pažymėtų langelių, priklausomai nuo pasirinkimų, tampa pilkais, įstrižine juosta perbrauktais langeliais. Šie langeliai yra neaktualūs.",null,null,null,{"$f":"IFERROR(IF(AND(F39=\"Pradėta\",G40<>\"Ne\"),\"Taip\",\"Ne\"),\"Ne\")","v":"Ne"},null,"D.6. Utilizavimo išlaidos",null,null,null,{"$f":"SUM(M38:OFFSET(M38,0,1000))","v":0},0,0,0,0,0,0,0,0,0]
[null,null,null,null,null,{"$f":"IF(MATCH(\"Grįžti į viršų\",E45:E9550,0),\"Pradėta\",\"Ne\")","v":{"$error":"#N/A"}},null,"D.6.1. Atliekų surinkimo išlaidos",null,null,null,{"$f":"SUM(M39:OFFSET(M39,0,1000))","v":0},0,0,0,0,0,0,0,0,0]
[null,null,null,null,null,{"$f":"IF(COUNTIF(E45:E955,\"Ne\"),\"Ne\",\"Taip\")","v":"Taip"},{"$f":"IFERROR(IF(F40=\"Taip\",\"Taip\",\"Ne\"),\"Taip\")","v":"Taip"},"D.6.2. Perdirbimo išlaidos",null,null,null,{"$f":"SUM(M40:OFFSET(M40,0,1000))","v":0},0,0,0,0,0,0,0,0,0]
[null,null,null,null,null,null,null,"D.6.3. Turto išmontavimo (nugriovimo išlaidos)",null,null,null,{"$f":"SUM(M41:OFFSET(M41,0,1000))","v":0},0,0,0,0,0,0,0,0,0]
[null,null,null,null,null,null,null,"D.7. Kitos išlaidos",null,null,null,{"$f":"SUM(M42:OFFSET(M42,0,1000))","v":0},0,0,0,0,0,0,0,0,0]
[null,null,null,null,null,null,null,"D'. Veiklos išlaidos pagal pildančios institucijos numatytas palaikymo apimtis",null,null,null,{"$f":"SUM(M43:OFFSET(M43,0,1000))","v":0},0,0,0,0,0,0,0,0,0]

{"sheet":"23. Gaisro gesinimo sistema","index":27,"n_rows":43,"n_cols":21,"rows_kept":43,"cut":false,"hidden":true,"merged":[[39,1,39,4],[32,1,32,4],[33,1,33,4],[34,1,35,4],[36,1,36,4],[37,1,38,4],[23,1,23,4],[24,1,26,4],[27,1,27,4],[28,1,30,4],[31,1,31,4],[11,1,15,4],[16,1,16,4],[17,1,19,4],[20,1,20,4],[21,1,22,4],[3,1,3,4],[4,1,5,4],[6,1,6,4],[7,1,9,4],[10,1,10,4],[7,7,7,10],[8,7,8,10],[9,7,9,10],[1,7,1,10],[2,7,2,10],[3,7,3,10],[4,7,4,10],[5,7,5,10],[41,7,41,10],[42,7,42,10],[0,1,2,4],[14,7,14,10],[15,7,15,10],[16,7,16,10],[17,7,17,10],[18,7,18,10],[19,7,19,10],[37,7,37,10],[35,7,35,10],[11,7,11,10],[12,7,12,10],[10,7,10,10],[0,7,0,10],[6,7,6,10]]}
[null,"23. Gaisro gesininimo sistema\n\nPildymo instrukcijos",null,null,null,null,null,"Pastato elemento išlaidų apibendrinimas"]
[null,null,null,null,null,null,null,"Investicijų išlaidos",null,null,null,"Iš viso, EUR",{"$f":"YEAR('Bendrieji įvesties duomenys'!$C$6)+COLUMN(L2)-12","v":2019},{"$f":"YEAR('Bendrieji įvesties duomenys'!$C$6)+COLUMN(M2)-12","v":2020},{"$f":"YEAR('Bendrieji įvesties duomenys'!$C$6)+COLUMN(N2)-12","v":2021},{"$f":"YEAR('Bendrieji įvesties duomenys'!$C$6)+COLUMN(O2)-12","v":2022},{"$f":"YEAR('Bendrieji įvesties duomenys'!$C$6)+COLUMN(P2)-12","v":2023},{"$f":"YEAR('Bendrieji įvesties duomenys'!$C$6)+COLUMN(Q2)-12","v":2024},{"$f":"YEAR('Bendrieji įvesties duomenys'!$C$6)+COLUMN(R2)-12","v":2025},{"$f":"YEAR('Bendrieji įvesties duomenys'!$C$6)+COLUMN(S2)-12","v":2026},{"$f":"YEAR('Bendrieji įvesties duomenys'!$C$6)+COLUMN(T2)-12","v":2027}]
[null,null,null,null,null,null,null,"A. Turto įsigijimo ir kūrimo išlaidos išlaidos",null,null,null,{"$f":"SUM(M3:OFFSET(M3,0,1000))","v":0},{"$f":"OFFSET(M3,46,0)","v":0},0,0,0,0,0,0,0,0]
[null,null,null,null,null,null,null,"A.1. Žaliavų, medžiagų, sudedamųjų dalių ir detalių, sunaudotų kuriant ilgalaikį turtą, įsigijimo išlaidos",null,null,null,{"$f":"SUM(M4:OFFSET(M4,0,1000))","v":0},0,0,0,0,0,0,0,0,0]
[null,"1.  Paspaudus žemiau esantį mygtuką „Pridėti“, inicijuojamas duomenų pildymo procesas ir sukuriama duomenų įvesties lentelė.",null,null,null,null,null,"A.2. Statyba",null,null,null,{"$f":"SUM(M5:OFFSET(M5,0,1000))","v":0},0,0,0,0,0,0,0,0,0]
[null,null,null,null,null,null,null,"A.3. Rekonstravimas",null,null,null,{"$f":"SUM(M6:OFFSET(M6,0,1000))","v":0},0,0,0,0,0,0,0,0,0]
[null,null,null,null,null,null,null,"A.4. Kapitalinis remontas",null,null,null,{"$f":"SUM(M7:OFFSET(M7,0,1000))","v":0},0,0,0,0,0,0,0,0,0]
[null,"2. Lentelėje „Pastato elemento fiziniai parametrai ir tarnavimo laikotarpis“, pildytojas turėtų  užpildyti visus žalia spalva pažymėtus E stulpelio laukelius, atsižvelgiant į B stulpelyje pateiktus laukelių aprašymus.",null,null,null,null,null,"A.5. Projektavimo paslaugos",null,null,null,{"$f":"SUM(M8:OFFSET(M8,0,1000))","v":0},0,0,0,0,0,0,0,0,0]
[null,null,null,null,null,null,null,"A.6. Techninės priežiūros paslaugos",null,null,null,{"$f":"SUM(M9:OFFSET(M9,0,1000))","v":0},0,0,0,0,0,0,0,0,0]
[null,null,null,null,null,null,null,"A.7. Kitos su investicijomis į ilgalaikį turtą susijusios paslaugos ir išlaidos",null,null,null,{"$f":"SUM(M10:OFFSET(M10,0,1000))","v":0},0,0,0,0,0,0,0,0,0]
[null,null,null,null,null,null,null,"B. Kitos paslaugos ir išlaidos",null,null,null,{"$f":"SUM(M11:OFFSET(M11,0,1000))","v":0},0,0,0,0,0,0,0,0,0]
[null,"3. Užpildžius lentelę „Pastato elemento fiziniai parametrai ir tarnavimo laikotarpis“, turėtų būti pereita prie „Pastato elemento išlaidų įvestis“ sekcijos. Šioje dalyje pildomos investicijų bei veiklos ir eksploatavimo išlaidos, susijusios su pasirinkta pastato elemento konstrukcija/tipu ar prietaisu/dalimi. Informacija veda į atitinkamus laukelius, nurodant tiek investicijų sumą (I-J stulpeliai), tiek investicijų/išlaidų pasikartojimo periodą (K stulpelis).",null,null,null,null,null,"C. Likutinės vertės pinigų srautas",null,null,null,{"$f":"SUM(M12:OFFSET(M12,0,1000))","v":0},0,0,0,0,0,0,0,0,0]
[null,null,null,null,null,null,null,"Iš viso (A + B)",null,null,null,{"$f":"SUM(M13:OFFSET(M13,0,1000))","v":0},{"$f":"M3+M11","v":0},{"$f":"N3+N11","v":0},0,0,0,0,0,0,0]
[]
[null,null,null,null,null,null,null,"Eksploatavimo ir veiklos išlaidos",null,null,null,"Iš viso, EUR",{"$f":"YEAR('Bendrieji įvesties duomenys'!$C$6)+COLUMN(L15)-12","v":2019},{"$f":"YEAR('Bendrieji įvesties duomenys'!$C$6)+COLUMN(M15)-12","v":2020},{"$f":"YEAR('Bendrieji įvesties duomenys'!$C$6)+COLUMN(N15)-12","v":2021},{"$f":"YEAR('Bendrieji įvesties duomenys'!$C$6)+COLUMN(O15)-12","v":2022},{"$f":"YEAR('Bendrieji įvesties duomenys'!$C$6)+COLUMN(P15)-12","v":2023},{"$f":"YEAR('Bendrieji įvesties duomenys'!$C$6)+COLUMN(Q15)-12","v":2024},{"$f":"YEAR('Bendrieji įvesties duomenys'!$C$6)+COLUMN(R15)-12","v":2025},{"$f":"YEAR('Bendrieji įvesties duomenys'!$C$6)+COLUMN(S15)-12","v":2026},{"$f":"YEAR('Bendrieji įvesties duomenys'!$C$6)+COLUMN(T15)-12","v":2027}]
[null,null,null,null,null,null,null,"D. Veiklos išlaidos laikantis rinkoje taikomų eksploatavimo apimčių",null,null,null,{"$f":"SUM(M16:OFFSET(M16,0,1000))","v":0},{"$f":"OFFSET(M16,46,0)","v":0},0,0,0,0,0,0,0,0]
[null,null,null,null,null,null,null,"D. Veiklos išlaidos laikantis pildančios institucijos taikomų eksploatavimo apimčių",null,null,null,{"$f":"SUM(M17:OFFSET(M17,0,1000))","v":0},0,0,0,0,0,0,0,0,0]
[null,"Pastaba: D'. Veiklos išlaidos pagal pildančios institucijos numatytas palaikymo apimtis apskaičiuojamos automatiškai pagal suvestas eksploatavimo ir veiklos išlaidas ir numato būsimas išlaidas kiekvienam periodui.",null,null,null,null,null,"D.1.Žaliavos",null,null,null,{"$f":"SUM(M18:OFFSET(M18,0,1000))","v":0},0,0,0,0,0,0,0,0,0]
[null,null,null,null,null,null,null,"D.2. Darbo užmokesčio išlaidos",null,null,null,{"$f":"SUM(M19:OFFSET(M19,0,1000))","v":0},0,0,0,0,0,0,0,0,0]
[null,null,null,null,null,null,null,"D.4. Infrastruktūros būklės palaikymo (eksploatavimo) išlaidos",null,null,null,{"$f":"SUM(M20:OFFSET(M20,0,1000))","v":0},0,0,0,0,0,0,0,0,0]
[null,null,null,null,null,null,null,"D.4.1. Vėdinimo sistemų įrenginių eksploatacijos išlaidos",null,null,null,{"$f":"SUM(M21:OFFSET(M21,0,1000))","v":0},{"$f":"1-1","v":0},{"$f":"1-1","v":0},0,0,0,0,0,0,0]
[null,"4. Norint pridėti dar vieną su pastato elementu susijusią sąnaudų įvesties lentelę, spaudžiamas mygtukas „Pridėti“ ir kartojami 2-3 žingsniuose aprašyti veiksmai.",null,null,null,null,null,"D.4.2. Šilumos sistemų tinklų palaikymo (eksploatavimo) išlaidos",null,null,null,{"$f":"SUM(M22:OFFSET(M22,0,1000))","v":0},0,0,0,0,0,0,0,0,0]
[null,null,null,null,null,null,null,"D.4.3. Oro kondicionavimo ir šaldymo įrenginių eksploatacijos išlaidos",null,null,null,{"$f":"SUM(M23:OFFSET(M23,0,1000))","v":0},0,0,0,0,0,0,0,0,0]
[null,null,null,null,null,null,null,"D.4.4. Vandentiekio ir nuotekų tinklų įrenginių eksploatacijos išlaidos",null,null,null,{"$f":"SUM(M24:OFFSET(M24,0,1000))","v":0},0,0,0,0,0,0,0,0,0]
[null,"5. Esant įvesties klaidoms ar norint pašalinti perteklinę pastato elemento įvesties lentelę, spaudžiamas mygtukas „Ištrinti“ bei įvedamas lentelės numeris, kuris yra kiekvienos lentelės kairiojo kampo viršuje.",null,null,null,null,null,"D.4.5 Lietaus surinkimo ir drenažo sistemos eksploatacijos išlaidos ",null,null,null,{"$f":"SUM(M25:OFFSET(M25,0,1000))","v":0},0,0,0,0,0,0,0,0,0]
[null,null,null,null,null,null,null,"D.4.6. Elektros tinklų įrenginių ekploatacijos išlaidos",null,null,null,{"$f":"SUM(M26:OFFSET(M26,0,1000))","v":0},0,0,0,0,0,0,0,0,0]
[null,null,null,null,null,null,null,"D.4.7. Dujotekio sistemos įrenginių eksploatacijos išlaidos",null,null,null,{"$f":"SUM(M27:OFFSET(M27,0,1000))","v":0},0,0,0,0,0,0,0,0,0]
[null,null,null,null,null,null,null,"D.4.8. Gaisro gesinimo ir perspėjimo sistemų įrenginių eksploatacijos išlaidos",null,null,null,{"$f":"SUM(M28:OFFSET(M28,0,1000))","v":0},{"$f":"OFFSET(M28,39,0)","v":0},0,0,0,0,0,0,0,0]
[null,"6. Informacija, pateikta atskirose pastato elementų įvesties lentelėse, atsispindi apibendrinimo lapuose, kur apskaičiuojama bendroji GCS suma: „Elementų išlaidų apibendrinimas“, „Pastato išlaidų apibendrinimas“",null,null,null,null,null,"D.4.9. Apsaugos sistemos įrenginių ekploatacijos išlaidos",null,null,null,{"$f":"SUM(M29:OFFSET(M29,0,1000))","v":0},{"$f":"1-1","v":0},0,0,0,0,0,0,0,0]
[null,null,null,null,null,null,null,"D.4.10. Telekomunikacijos sistemos įrenginių eksploatacijos išlaidos",null,null,null,{"$f":"SUM(M30:OFFSET(M30,0,1000))","v":0},0,0,0,0,0,0,0,0,0]
[null,null,null,null,null,null,null,"D.4.11. Transportavimo sistemos įrenginių ekploatacijos išlaidos",null,null,null,{"$f":"SUM(M31:OFFSET(M31,0,1000))","v":0},0,0,0,0,0,0,0,0,0]
[null,null,null,null,null,null,null,"D.4.12. Apsaugos išlaidos",null,null,null,{"$f":"SUM(M32:OFFSET(M32,0,1000))","v":0},0,{"$f":"1-1","v":0},0,0,0,0,0,0,0]
[null,"7. Norint grįžti į navigacijos puslapį, turėtų būti spaudžiamas mygtukas „Navigacija\". ",null,null,null,null,null,"D.4.13. Valymo išlaidos",null,null,null,{"$f":"SUM(M33:OFFSET(M33,0,1000))","v":0},0,0,0,0,0,0,0,0,0]
[null,null,null,null,null,null,null,"D.4.14. Draudimo išlaidos",null,null,null,{"$f":"SUM(M34:OFFSET(M34,0,1000))","v":0},0,0,0,0,0,0,0,0,0]
[null,"SVARBU: Pilka spalva pažymėti langeliai yra skirti skaičiavimams bei duomenų įvedimui, kurie yra atliekami formulių pagalba ir neturėtų būti keičiami rankiniu būdu.",null,null,null,null,null,"D.4.15. Kitos išlaidos",null,null,null,{"$f":"SUM(M35:OFFSET(M35,0,1000))","v":0},{"$f":"OFFSET(M35,33,0)","v":0},0,0,0,0,0,0,0,0]
[null,null,null,null,null,null,null,"D.5. Remonto išlaidos",null,null,null,{"$f":"SUM(M36:OFFSET(M36,0,1000))","v":0},0,0,0,0,0,0,0,0,0]
[null,null,null,null,null,null,null,"D.5.1. Einamojo remonto išlaidos",null,null,null,{"$f":"SUM(M37:OFFSET(M37,0,1000))","v":0},0,0,0,0,0,0,0,0,0]
[null,"Dalis žalia spalva pažymėtų langelių, priklausomai nuo pasirinkimų, tampa pilkais, įstrižine juosta perbrauktais langeliais. Šie langeliai yra neaktualūs.",null,null,null,{"$f":"IFERROR(IF(AND(F39=\"Pradėta\",G40<>\"Ne\"),\"Taip\",\"Ne\"),\"Ne\")","v":"Ne"},null,"D.6. Utilizavimo išlaidos",null,null,null,{"$f":"SUM(M38:OFFSET(M38,0,1000))","v":0},0,0,0,0,0,0,0,0,0]
[null,null,null,null,null,{"$f":"IF(MATCH(\"Grįžti į viršų\",E45:E9280,0),\"Pradėta\",\"Ne\")","v":{"$error":"#N/A"}},null,"D.6.1. Atliekų surinkimo išlaidos",null,null,null,{"$f":"SUM(M39:OFFSET(M39,0,1000))","v":0},0,0,0,0,0,0,0,0,0]
[null,null,null,null,null,{"$f":"IF(COUNTIF(E45:E685,\"Ne\"),\"Ne\",\"Taip\")","v":"Taip"},{"$f":"IFERROR(IF(F40=\"Taip\",\"Taip\",\"Ne\"),\"Taip\")","v":"Taip"},"D.6.2. Perdirbimo išlaidos",null,null,null,{"$f":"SUM(M40:OFFSET(M40,0,1000))","v":0},0,0,0,0,0,0,0,0,0]
[null,null,null,null,null,null,null,"D.6.3. Turto išmontavimo (nugriovimo išlaidos)",null,null,null,{"$f":"SUM(M41:OFFSET(M41,0,1000))","v":0},0,0,0,0,0,0,0,0,0]
[null,null,null,null,null,null,null,"D.7. Kitos išlaidos",null,null,null,{"$f":"SUM(M42:OFFSET(M42,0,1000))","v":0},0,0,0,0,0,0,0,0,0]
[null,null,null,null,null,null,null,"D'. Veiklos išlaidos pagal pildančios institucijos numatytas palaikymo apimtis",null,null,null,{"$f":"SUM(M43:OFFSET(M43,0,1000))","v":0},0,0,0,0,0,0,0,0,0]

{"sheet":"24. Transportavimo sistema","index":28,"n_rows":43,"n_cols":21,"rows_kept":43,"cut":false,"hidden":true,"merged":[[36,1,36,4],[37,1,38,4],[39,1,39,4],[28,1,30,4],[31,1,31,4],[32,1,32,4],[33,1,33,4],[34,1,35,4],[20,1,20,4],[21,1,22,4],[23,1,23,4],[24,1,26,4],[27,1,27,4],[0,1,2,4],[0,7,0,10],[1,7,1,10],[2,7,2,10],[10,7,10,10],[3,7,3,10],[4,7,4,10],[5,7,5,10],[6,7,6,10],[7,7,7,10],[8,7,8,10],[9,7,9,10],[4,1,5,4],[6,1,6,4],[7,1,9,4],[10,1,10,4],[11,7,11,10],[17,7,17,10],[3,1,3,4],[42,7,42,10],[41,7,41,10],[15,7,15,10],[12,7,12,10],[14,7,14,10],[16,7,16,10],[18,7,18,10],[19,7,19,10],[35,7,35,10],[37,7,37,10],[11,1,15,4],[16,1,16,4],[17,1,19,4]]}
[null,"24. Transportavimo sistema\n\nPildymo instrukcijos",null,null,null,null,null,"Pastato elemento išlaidų apibendrinimas"]
[null,null,null,null,null,null,null,"Investicijų išlaidos",null,null,null,"Iš viso, EUR",{"$f":"YEAR('Bendrieji įvesties duomenys'!$C$6)+COLUMN(L2)-12","v":2019},{"$f":"YEAR('Bendrieji įvesties duomenys'!$C$6)+COLUMN(M2)-12","v":2020},{"$f":"YEAR('Bendrieji įvesties duomenys'!$C$6)+COLUMN(N2)-12","v":2021},{"$f":"YEAR('Bendrieji įvesties duomenys'!$C$6)+COLUMN(O2)-12","v":2022},{"$f":"YEAR('Bendrieji įvesties duomenys'!$C$6)+COLUMN(P2)-12","v":2023},{"$f":"YEAR('Bendrieji įvesties duomenys'!$C$6)+COLUMN(Q2)-12","v":2024},{"$f":"YEAR('Bendrieji įvesties duomenys'!$C$6)+COLUMN(R2)-12","v":2025},{"$f":"YEAR('Bendrieji įvesties duomenys'!$C$6)+COLUMN(S2)-12","v":2026},{"$f":"YEAR('Bendrieji įvesties duomenys'!$C$6)+COLUMN(T2)-12","v":2027}]
[null,null,null,null,null,null,null,"A. Turto įsigijimo ir kūrimo išlaidos išlaidos",null,null,null,{"$f":"SUM(M3:OFFSET(M3,0,1000))","v":0},{"$f":"1-1","v":0},{"$f":"1-1","v":0},0,0,0,0,0,0,0]
[null,null,null,null,null,null,null,"A.1. Žaliavų, medžiagų, sudedamųjų dalių ir detalių, sunaudotų kuriant ilgalaikį turtą, įsigijimo išlaidos",null,null,null,{"$f":"SUM(M4:OFFSET(M4,0,1000))","v":0},{"$f":"1-1","v":0},0,0,0,0,0,0,0,0]
[null,"1.  Paspaudus žemiau esantį mygtuką „Pridėti“, inicijuojamas duomenų pildymo procesas ir sukuriama duomenų įvesties lentelė.",null,null,null,null,null,"A.2. Statyba",null,null,null,{"$f":"SUM(M5:OFFSET(M5,0,1000))","v":0},0,0,0,0,0,0,0,0,0]
[null,null,null,null,null,null,null,"A.3. Rekonstravimas",null,null,null,{"$f":"SUM(M6:OFFSET(M6,0,1000))","v":0},0,0,0,0,0,0,0,0,0]
[null,null,null,null,null,null,null,"A.4. Kapitalinis remontas",null,null,null,{"$f":"SUM(M7:OFFSET(M7,0,1000))","v":0},0,0,0,0,0,0,0,0,0]
[null,"2. Lentelėje „Pastato elemento fiziniai parametrai ir tarnavimo laikotarpis“, pildytojas turėtų  užpildyti visus žalia spalva pažymėtus E stulpelio laukelius, atsižvelgiant į B stulpelyje pateiktus laukelių aprašymus.",null,null,null,null,null,"A.5. Projektavimo paslaugos",null,null,null,{"$f":"SUM(M8:OFFSET(M8,0,1000))","v":0},0,0,0,0,0,0,0,0,0]
[null,null,null,null,null,null,null,"A.6. Techninės priežiūros paslaugos",null,null,null,{"$f":"SUM(M9:OFFSET(M9,0,1000))","v":0},0,0,0,0,0,0,0,0,0]
[null,null,null,null,null,null,null,"A.7. Kitos su investicijomis į ilgalaikį turtą susijusios paslaugos ir išlaidos",null,null,null,{"$f":"SUM(M10:OFFSET(M10,0,1000))","v":0},0,0,0,0,0,0,0,0,0]
[null,null,null,null,null,null,null,"B. Kitos paslaugos ir išlaidos",null,null,null,{"$f":"SUM(M11:OFFSET(M11,0,1000))","v":0},0,0,0,0,0,0,0,0,0]
[null,"3. Užpildžius lentelę „Pastato elemento fiziniai parametrai ir tarnavimo laikotarpis“, turėtų būti pereita prie „Pastato elemento išlaidų įvestis“ sekcijos. Šioje dalyje pildomos investicijų bei veiklos ir eksploatavimo išlaidos, susijusios su pasirinkta pastato elemento konstrukcija/tipu ar prietaisu/dalimi. Informacija veda į atitinkamus laukelius, nurodant tiek investicijų sumą (I-J stulpeliai), tiek investicijų/išlaidų pasikartojimo periodą (K stulpelis).",null,null,null,null,null,"C. Likutinės vertės pinigų srautas",null,null,null,{"$f":"SUM(M12:OFFSET(M12,0,1000))","v":0},0,0,0,0,0,0,0,0,0]
[null,null,null,null,null,null,null,"Iš viso (A + B)",null,null,null,{"$f":"SUM(M13:OFFSET(M13,0,1000))","v":0},{"$f":"M3+M11","v":0},{"$f":"N3+N11","v":0},0,0,0,0,0,0,0]
[]
[null,null,null,null,null,null,null,"Eksploatavimo ir veiklos išlaidos",null,null,null,"Iš viso, EUR",{"$f":"YEAR('Bendrieji įvesties duomenys'!$C$6)+COLUMN(L15)-12","v":2019},{"$f":"YEAR('Bendrieji įvesties duomenys'!$C$6)+COLUMN(M15)-12","v":2020},{"$f":"YEAR('Bendrieji įvesties duomenys'!$C$6)+COLUMN(N15)-12","v":2021},{"$f":"YEAR('Bendrieji įvesties duomenys'!$C$6)+COLUMN(O15)-12","v":2022},{"$f":"YEAR('Bendrieji įvesties duomenys'!$C$6)+COLUMN(P15)-12","v":2023},{"$f":"YEAR('Bendrieji įvesties duomenys'!$C$6)+COLUMN(Q15)-12","v":2024},{"$f":"YEAR('Bendrieji įvesties duomenys'!$C$6)+COLUMN(R15)-12","v":2025},{"$f":"YEAR('Bendrieji įvesties duomenys'!$C$6)+COLUMN(S15)-12","v":2026},{"$f":"YEAR('Bendrieji įvesties duomenys'!$C$6)+COLUMN(T15)-12","v":2027}]
[null,null,null,null,null,null,null,"D. Veiklos išlaidos laikantis rinkoje taikomų eksploatavimo apimčių",null,null,null,{"$f":"SUM(M16:OFFSET(M16,0,1000))","v":0},{"$f":"1-1","v":0},{"$f":"1-1","v":0},0,0,0,0,0,0,0]
[null,null,null,null,null,null,null,"D. Veiklos išlaidos laikantis pildančios institucijos taikomų eksploatavimo apimčių",null,null,null,{"$f":"SUM(M17:OFFSET(M17,0,1000))","v":0},0,0,0,0,0,0,0,0,0]
[null,"Pastaba: D'. Veiklos išlaidos pagal pildančios institucijos numatytas palaikymo apimtis apskaičiuojamos automatiškai pagal suvestas eksploatavimo ir veiklos išlaidas ir numato būsimas išlaidas kiekvienam periodui.",null,null,null,null,null,"D.1.Žaliavos",null,null,null,{"$f":"SUM(M18:OFFSET(M18,0,1000))","v":0},0,0,0,0,0,0,0,0,0]
[null,null,null,null,null,null,null,"D.2. Darbo užmokesčio išlaidos",null,null,null,{"$f":"SUM(M19:OFFSET(M19,0,1000))","v":0},0,0,0,0,0,0,0,0,0]
[null,null,null,null,null,null,null,"D.4. Infrastruktūros būklės palaikymo (eksploatavimo) išlaidos",null,null,null,{"$f":"SUM(M20:OFFSET(M20,0,1000))","v":0},0,0,0,0,0,0,0,0,0]
[null,null,null,null,null,null,null,"D.4.1. Vėdinimo sistemų įrenginių eksploatacijos išlaidos",null,null,null,{"$f":"SUM(M21:OFFSET(M21,0,1000))","v":0},0,0,0,0,0,0,0,0,0]
[null,"4. Norint pridėti dar vieną su pastato elementu susijusią sąnaudų įvesties lentelę, spaudžiamas mygtukas „Pridėti“ ir kartojami 2-3 žingsniuose aprašyti veiksmai.",null,null,null,null,null,"D.4.2. Šilumos sistemų tinklų palaikymo (eksploatavimo) išlaidos",null,null,null,{"$f":"SUM(M22:OFFSET(M22,0,1000))","v":0},0,0,0,0,0,0,0,0,0]
[null,null,null,null,null,null,null,"D.4.3. Oro kondicionavimo ir šaldymo įrenginių eksploatacijos išlaidos",null,null,null,{"$f":"SUM(M23:OFFSET(M23,0,1000))","v":0},0,0,0,0,0,0,0,0,0]
[null,null,null,null,null,null,null,"D.4.4. Vandentiekio ir nuotekų tinklų įrenginių eksploatacijos išlaidos",null,null,null,{"$f":"SUM(M24:OFFSET(M24,0,1000))","v":0},0,0,0,0,0,0,0,0,0]
[null,"5. Esant įvesties klaidoms ar norint pašalinti perteklinę pastato elemento įvesties lentelę, spaudžiamas mygtukas „Ištrinti“ bei įvedamas lentelės numeris, kuris yra kiekvienos lentelės kairiojo kampo viršuje.",null,null,null,null,null,"D.4.5 Lietaus surinkimo ir drenažo sistemos eksploatacijos išlaidos ",null,null,null,{"$f":"SUM(M25:OFFSET(M25,0,1000))","v":0},0,0,0,0,0,0,0,0,0]
[null,null,null,null,null,null,null,"D.4.6. Elektros tinklų įrenginių ekploatacijos išlaidos",null,null,null,{"$f":"SUM(M26:OFFSET(M26,0,1000))","v":0},0,0,0,0,0,0,0,0,0]
[null,null,null,null,null,null,null,"D.4.7. Dujotekio sistemos įrenginių eksploatacijos išlaidos",null,null,null,{"$f":"SUM(M27:OFFSET(M27,0,1000))","v":0},0,0,0,0,0,0,0,0,0]
[null,null,null,null,null,null,null,"D.4.8. Gaisro gesinimo ir perspėjimo sistemų įrenginių eksploatacijos išlaidos",null,null,null,{"$f":"SUM(M28:OFFSET(M28,0,1000))","v":0},0,0,0,0,0,0,0,0,0]
[null,"6. Informacija, pateikta atskirose pastato elementų įvesties lentelėse, atsispindi apibendrinimo lapuose, kur apskaičiuojama bendroji GCS suma: „Elementų išlaidų apibendrinimas“, „Pastato išlaidų apibendrinimas“",null,null,null,null,null,"D.4.9. Apsaugos sistemos įrenginių ekploatacijos išlaidos",null,null,null,{"$f":"SUM(M29:OFFSET(M29,0,1000))","v":0},0,0,0,0,0,0,0,0,0]
[null,null,null,null,null,null,null,"D.4.10. Telekomunikacijos sistemos įrenginių eksploatacijos išlaidos",null,null,null,{"$f":"SUM(M30:OFFSET(M30,0,1000))","v":0},0,0,0,0,0,0,0,0,0]
[null,null,null,null,null,null,null,"D.4.11. Transportavimo sistemos įrenginių ekploatacijos išlaidos",null,null,null,{"$f":"SUM(M31:OFFSET(M31,0,1000))","v":0},0,0,0,0,0,0,0,0,0]
[null,null,null,null,null,null,null,"D.4.12. Apsaugos išlaidos",null,null,null,{"$f":"SUM(M32:OFFSET(M32,0,1000))","v":0},0,{"$f":"1-1","v":0},0,0,0,0,0,0,0]
[null,"7. Norint grįžti į navigacijos puslapį, turėtų būti spaudžiamas mygtukas „Navigacija\". ",null,null,null,null,null,"D.4.13. Valymo išlaidos",null,null,null,{"$f":"SUM(M33:OFFSET(M33,0,1000))","v":0},0,0,0,0,0,0,0,0,0]
[null,null,null,null,null,null,null,"D.4.14. Draudimo išlaidos",null,null,null,{"$f":"SUM(M34:OFFSET(M34,0,1000))","v":0},0,0,0,0,0,0,0,0,0]
[null,"SVARBU: Pilka spalva pažymėti langeliai yra skirti skaičiavimams bei duomenų įvedimui, kurie yra atliekami formulių pagalba ir neturėtų būti keičiami rankiniu būdu.",null,null,null,null,null,"D.4.15. Kitos išlaidos",null,null,null,{"$f":"SUM(M35:OFFSET(M35,0,1000))","v":0},0,0,0,0,0,0,0,0,0]
[null,null,null,null,null,null,null,"D.5. Remonto išlaidos",null,null,null,{"$f":"SUM(M36:OFFSET(M36,0,1000))","v":0},0,0,0,0,0,0,0,0,0]
[null,null,null,null,null,null,null,"D.5.1. Einamojo remonto išlaidos",null,null,null,{"$f":"SUM(M37:OFFSET(M37,0,1000))","v":0},0,0,0,0,0,0,0,0,0]
[null,"Dalis žalia spalva pažymėtų langelių, priklausomai nuo pasirinkimų, tampa pilkais, įstrižine juosta perbrauktais langeliais. Šie langeliai yra neaktualūs.",null,null,null,{"$f":"IFERROR(IF(AND(F39=\"Pradėta\",G40<>\"Ne\"),\"Taip\",\"Ne\"),\"Ne\")","v":"Ne"},null,"D.6. Utilizavimo išlaidos",null,null,null,{"$f":"SUM(M38:OFFSET(M38,0,1000))","v":0},0,0,0,0,0,0,0,0,0]
[null,null,null,null,null,{"$f":"IF(MATCH(\"Grįžti į viršų\",E45:E9550,0),\"Pradėta\",\"Ne\")","v":{"$error":"#N/A"}},null,"D.6.1. Atliekų surinkimo išlaidos",null,null,null,{"$f":"SUM(M39:OFFSET(M39,0,1000))","v":0},0,0,0,0,0,0,0,0,0]
[null,null,null,null,null,{"$f":"IF(COUNTIF(E45:E955,\"Ne\"),\"Ne\",\"Taip\")","v":"Taip"},{"$f":"IFERROR(IF(F40=\"Taip\",\"Taip\",\"Ne\"),\"Taip\")","v":"Taip"},"D.6.2. Perdirbimo išlaidos",null,null,null,{"$f":"SUM(M40:OFFSET(M40,0,1000))","v":0},0,0,0,0,0,0,0,0,0]
[null,null,null,null,null,null,null,"D.6.3. Turto išmontavimo (nugriovimo išlaidos)",null,null,null,{"$f":"SUM(M41:OFFSET(M41,0,1000))","v":0},0,0,0,0,0,0,0,0,0]
[null,null,null,null,null,null,null,"D.7. Kitos išlaidos",null,null,null,{"$f":"SUM(M42:OFFSET(M42,0,1000))","v":0},0,0,0,0,0,0,0,0,0]
[null,null,null,null,null,null,null,"D'. Veiklos išlaidos pagal pildančios institucijos numatytas palaikymo apimtis",null,null,null,{"$f":"SUM(M43:OFFSET(M43,0,1000))","v":0},0,0,0,0,0,0,0,0,0]

{"sheet":"25. Lietaus surinkimo sistema","index":29,"n_rows":43,"n_cols":21,"rows_kept":43,"cut":false,"hidden":true,"merged":[[36,1,36,4],[37,1,38,4],[39,1,39,4],[27,1,27,4],[28,1,30,4],[31,1,31,4],[32,1,32,4],[33,1,33,4],[20,1,20,4],[21,1,22,4],[23,1,23,4],[24,1,26,4],[34,1,35,4],[18,7,18,10],[19,7,19,10],[37,7,37,10],[3,1,3,4],[4,1,5,4],[6,1,6,4],[7,1,9,4],[10,1,10,4],[11,1,15,4],[16,1,16,4],[10,7,10,10],[3,7,3,10],[4,7,4,10],[5,7,5,10],[17,7,17,10],[17,1,19,4],[0,1,2,4],[0,7,0,10],[1,7,1,10],[2,7,2,10],[42,7,42,10],[35,7,35,10],[11,7,11,10],[12,7,12,10],[6,7,6,10],[7,7,7,10],[8,7,8,10],[9,7,9,10],[41,7,41,10],[14,7,14,10],[15,7,15,10],[16,7,16,10]]}
[null,"25. Lietaus surinkimo sistema\n\nPildymo instrukcijos",null,null,null,null,null,"Pastato elemento išlaidų apibendrinimas"]
[null,null,null,null,null,null,null,"Investicijų išlaidos",null,null,null,"Iš viso, EUR",{"$f":"YEAR('Bendrieji įvesties duomenys'!$C$6)+COLUMN(L2)-12","v":2019},{"$f":"YEAR('Bendrieji įvesties duomenys'!$C$6)+COLUMN(M2)-12","v":2020},{"$f":"YEAR('Bendrieji įvesties duomenys'!$C$6)+COLUMN(N2)-12","v":2021},{"$f":"YEAR('Bendrieji įvesties duomenys'!$C$6)+COLUMN(O2)-12","v":2022},{"$f":"YEAR('Bendrieji įvesties duomenys'!$C$6)+COLUMN(P2)-12","v":2023},{"$f":"YEAR('Bendrieji įvesties duomenys'!$C$6)+COLUMN(Q2)-12","v":2024},{"$f":"YEAR('Bendrieji įvesties duomenys'!$C$6)+COLUMN(R2)-12","v":2025},{"$f":"YEAR('Bendrieji įvesties duomenys'!$C$6)+COLUMN(S2)-12","v":2026},{"$f":"YEAR('Bendrieji įvesties duomenys'!$C$6)+COLUMN(T2)-12","v":2027}]
[null,null,null,null,null,null,null,"A. Turto įsigijimo ir kūrimo išlaidos išlaidos",null,null,null,{"$f":"SUM(M3:OFFSET(M3,0,1000))","v":0},{"$f":"OFFSET(M3,46,0)","v":0},0,0,0,0,0,0,0,0]
[null,null,null,null,null,null,null,"A.1. Žaliavų, medžiagų, sudedamųjų dalių ir detalių, sunaudotų kuriant ilgalaikį turtą, įsigijimo išlaidos",null,null,null,{"$f":"SUM(M4:OFFSET(M4,0,1000))","v":0},0,0,0,0,0,0,0,0,0]
[null,"1.  Paspaudus žemiau esantį mygtuką „Pridėti“, inicijuojamas duomenų pildymo procesas ir sukuriama duomenų įvesties lentelė.",null,null,null,null,null,"A.2. Statyba",null,null,null,{"$f":"SUM(M5:OFFSET(M5,0,1000))","v":0},0,0,0,0,0,0,0,0,0]
[null,null,null,null,null,null,null,"A.3. Rekonstravimas",null,null,null,{"$f":"SUM(M6:OFFSET(M6,0,1000))","v":0},0,0,0,0,0,0,0,0,0]
[null,null,null,null,null,null,null,"A.4. Kapitalinis remontas",null,null,null,{"$f":"SUM(M7:OFFSET(M7,0,1000))","v":0},0,0,0,0,0,0,0,0,0]
[null,"2. Lentelėje „Pastato elemento fiziniai parametrai ir tarnavimo laikotarpis“, pildytojas turėtų  užpildyti visus žalia spalva pažymėtus E stulpelio laukelius, atsižvelgiant į B stulpelyje pateiktus laukelių aprašymus.",null,null,null,null,null,"A.5. Projektavimo paslaugos",null,null,null,{"$f":"SUM(M8:OFFSET(M8,0,1000))","v":0},0,0,0,0,0,0,0,0,0]
[null,null,null,null,null,null,null,"A.6. Techninės priežiūros paslaugos",null,null,null,{"$f":"SUM(M9:OFFSET(M9,0,1000))","v":0},0,0,0,0,0,0,0,0,0]
[null,null,null,null,null,null,null,"A.7. Kitos su investicijomis į ilgalaikį turtą susijusios paslaugos ir išlaidos",null,null,null,{"$f":"SUM(M10:OFFSET(M10,0,1000))","v":0},0,0,0,0,0,0,0,0,0]
[null,null,null,null,null,null,null,"B. Kitos paslaugos ir išlaidos",null,null,null,{"$f":"SUM(M11:OFFSET(M11,0,1000))","v":0},0,0,0,0,0,0,0,0,0]
[null,"3. Užpildžius lentelę „Pastato elemento fiziniai parametrai ir tarnavimo laikotarpis“, turėtų būti pereita prie „Pastato elemento išlaidų įvestis“ sekcijos. Šioje dalyje pildomos investicijų bei veiklos ir eksploatavimo išlaidos, susijusios su pasirinkta pastato elemento konstrukcija/tipu ar prietaisu/dalimi. Informacija veda į atitinkamus laukelius, nurodant tiek investicijų sumą (I-J stulpeliai), tiek investicijų/išlaidų pasikartojimo periodą (K stulpelis).",null,null,null,null,null,"C. Likutinės vertės pinigų srautas",null,null,null,{"$f":"SUM(M12:OFFSET(M12,0,1000))","v":0},0,0,0,0,0,0,0,0,0]
[null,null,null,null,null,null,null,"Iš viso (A + B)",null,null,null,{"$f":"SUM(M13:OFFSET(M13,0,1000))","v":0},{"$f":"M3+M11","v":0},{"$f":"N3+N11","v":0},0,0,0,0,0,0,0]
[]
[null,null,null,null,null,null,null,"Eksploatavimo ir veiklos išlaidos",null,null,null,"Iš viso, EUR",{"$f":"YEAR('Bendrieji įvesties duomenys'!$C$6)+COLUMN(L15)-12","v":2019},{"$f":"YEAR('Bendrieji įvesties duomenys'!$C$6)+COLUMN(M15)-12","v":2020},{"$f":"YEAR('Bendrieji įvesties duomenys'!$C$6)+COLUMN(N15)-12","v":2021},{"$f":"YEAR('Bendrieji įvesties duomenys'!$C$6)+COLUMN(O15)-12","v":2022},{"$f":"YEAR('Bendrieji įvesties duomenys'!$C$6)+COLUMN(P15)-12","v":2023},{"$f":"YEAR('Bendrieji įvesties duomenys'!$C$6)+COLUMN(Q15)-12","v":2024},{"$f":"YEAR('Bendrieji įvesties duomenys'!$C$6)+COLUMN(R15)-12","v":2025},{"$f":"YEAR('Bendrieji įvesties duomenys'!$C$6)+COLUMN(S15)-12","v":2026},{"$f":"YEAR('Bendrieji įvesties duomenys'!$C$6)+COLUMN(T15)-12","v":2027}]
[null,null,null,null,null,null,null,"D. Veiklos išlaidos laikantis rinkoje taikomų eksploatavimo apimčių",null,null,null,{"$f":"SUM(M16:OFFSET(M16,0,1000))","v":0},{"$f":"OFFSET(M16,46,0)","v":0},0,0,0,0,0,0,0,0]
[null,null,null,null,null,null,null,"D. Veiklos išlaidos laikantis pildančios institucijos taikomų eksploatavimo apimčių",null,null,null,{"$f":"SUM(M17:OFFSET(M17,0,1000))","v":0},0,0,0,0,0,0,0,0,0]
[null,"Pastaba: D'. Veiklos išlaidos pagal pildančios institucijos numatytas palaikymo apimtis apskaičiuojamos automatiškai pagal suvestas eksploatavimo ir veiklos išlaidas ir numato būsimas išlaidas kiekvienam periodui.",null,null,null,null,null,"D.1.Žaliavos",null,null,null,{"$f":"SUM(M18:OFFSET(M18,0,1000))","v":0},0,0,0,0,0,0,0,0,0]
[null,null,null,null,null,null,null,"D.2. Darbo užmokesčio išlaidos",null,null,null,{"$f":"SUM(M19:OFFSET(M19,0,1000))","v":0},0,0,0,0,0,0,0,0,0]
[null,null,null,null,null,null,null,"D.4. Infrastruktūros būklės palaikymo (eksploatavimo) išlaidos",null,null,null,{"$f":"SUM(M20:OFFSET(M20,0,1000))","v":0},0,0,0,0,0,0,0,0,0]
[null,null,null,null,null,null,null,"D.4.1. Vėdinimo sistemų įrenginių eksploatacijos išlaidos",null,null,null,{"$f":"SUM(M21:OFFSET(M21,0,1000))","v":0},{"$f":"1-1","v":0},{"$f":"1-1","v":0},0,0,0,0,0,0,0]
[null,"4. Norint pridėti dar vieną su pastato elementu susijusią sąnaudų įvesties lentelę, spaudžiamas mygtukas „Pridėti“ ir kartojami 2-3 žingsniuose aprašyti veiksmai.",null,null,null,null,null,"D.4.2. Šilumos sistemų tinklų palaikymo (eksploatavimo) išlaidos",null,null,null,{"$f":"SUM(M22:OFFSET(M22,0,1000))","v":0},{"$f":"1-1","v":0},0,0,0,0,0,0,0,0]
[null,null,null,null,null,null,null,"D.4.3. Oro kondicionavimo ir šaldymo įrenginių eksploatacijos išlaidos",null,null,null,{"$f":"SUM(M23:OFFSET(M23,0,1000))","v":0},{"$f":"1-1","v":0},0,0,0,0,0,0,0,0]
[null,null,null,null,null,null,null,"D.4.4. Vandentiekio ir nuotekų tinklų įrenginių eksploatacijos išlaidos",null,null,null,{"$f":"SUM(M24:OFFSET(M24,0,1000))","v":0},{"$f":"1-1","v":0},0,0,0,0,0,0,0,0]
[null,"5. Esant įvesties klaidoms ar norint pašalinti perteklinę pastato elemento įvesties lentelę, spaudžiamas mygtukas „Ištrinti“ bei įvedamas lentelės numeris, kuris yra kiekvienos lentelės kairiojo kampo viršuje.",null,null,null,null,null,"D.4.5 Lietaus surinkimo ir drenažo sistemos eksploatacijos išlaidos ",null,null,null,{"$f":"SUM(M25:OFFSET(M25,0,1000))","v":0},{"$f":"OFFSET(M25,42,0)","v":0},0,0,0,0,0,0,0,0]
[null,null,null,null,null,null,null,"D.4.6. Elektros tinklų įrenginių ekploatacijos išlaidos",null,null,null,{"$f":"SUM(M26:OFFSET(M26,0,1000))","v":0},{"$f":"1-1","v":0},0,0,0,0,0,0,0,0]
[null,null,null,null,null,null,null,"D.4.7. Dujotekio sistemos įrenginių eksploatacijos išlaidos",null,null,null,{"$f":"SUM(M27:OFFSET(M27,0,1000))","v":0},0,0,0,0,0,0,0,0,0]
[null,null,null,null,null,null,null,"D.4.8. Gaisro gesinimo ir perspėjimo sistemų įrenginių eksploatacijos išlaidos",null,null,null,{"$f":"SUM(M28:OFFSET(M28,0,1000))","v":0},0,0,0,0,0,0,0,0,0]
[null,"6. Informacija, pateikta atskirose pastato elementų įvesties lentelėse, atsispindi apibendrinimo lapuose, kur apskaičiuojama bendroji GCS suma: „Elementų išlaidų apibendrinimas“, „Pastato išlaidų apibendrinimas“",null,null,null,null,null,"D.4.9. Apsaugos sistemos įrenginių ekploatacijos išlaidos",null,null,null,{"$f":"SUM(M29:OFFSET(M29,0,1000))","v":0},0,0,0,0,0,0,0,0,0]
[null,null,null,null,null,null,null,"D.4.10. Telekomunikacijos sistemos įrenginių eksploatacijos išlaidos",null,null,null,{"$f":"SUM(M30:OFFSET(M30,0,1000))","v":0},0,0,0,0,0,0,0,0,0]
[null,null,null,null,null,null,null,"D.4.11. Transportavimo sistemos įrenginių ekploatacijos išlaidos",null,null,null,{"$f":"SUM(M31:OFFSET(M31,0,1000))","v":0},0,0,0,0,0,0,0,0,0]
[null,null,null,null,null,null,null,"D.4.12. Apsaugos išlaidos",null,null,null,{"$f":"SUM(M32:OFFSET(M32,0,1000))","v":0},0,{"$f":"1-1","v":0},0,0,0,0,0,0,0]
[null,"7. Norint grįžti į navigacijos puslapį, turėtų būti spaudžiamas mygtukas „Navigacija\". ",null,null,null,null,null,"D.4.13. Valymo išlaidos",null,null,null,{"$f":"SUM(M33:OFFSET(M33,0,1000))","v":0},0,0,0,0,0,0,0,0,0]
[null,null,null,null,null,null,null,"D.4.14. Draudimo išlaidos",null,null,null,{"$f":"SUM(M34:OFFSET(M34,0,1000))","v":0},0,0,0,0,0,0,0,0,0]
[null,"SVARBU: Pilka spalva pažymėti langeliai yra skirti skaičiavimams bei duomenų įvedimui, kurie yra atliekami formulių pagalba ir neturėtų būti keičiami rankiniu būdu.",null,null,null,null,null,"D.4.15. Kitos išlaidos",null,null,null,{"$f":"SUM(M35:OFFSET(M35,0,1000))","v":0},{"$f":"OFFSET(M35,33,0)","v":0},0,0,0,0,0,0,0,0]
[null,null,null,null,null,null,null,"D.5. Remonto išlaidos",null,null,null,{"$f":"SUM(M36:OFFSET(M36,0,1000))","v":0},0,0,0,0,0,0,0,0,0]
[null,null,null,null,null,null,null,"D.5.1. Einamojo remonto išlaidos",null,null,null,{"$f":"SUM(M37:OFFSET(M37,0,1000))","v":0},0,0,0,0,0,0,0,0,0]
[null,"Dalis žalia spalva pažymėtų langelių, priklausomai nuo pasirinkimų, tampa pilkais, įstrižine juosta perbrauktais langeliais. Šie langeliai yra neaktualūs.",null,null,null,{"$f":"IFERROR(IF(AND(F39=\"Pradėta\",G40<>\"Ne\"),\"Taip\",\"Ne\"),\"Ne\")","v":"Ne"},null,"D.6. Utilizavimo išlaidos",null,null,null,{"$f":"SUM(M38:OFFSET(M38,0,1000))","v":0},0,0,0,0,0,0,0,0,0]
[null,null,null,null,null,{"$f":"IF(MATCH(\"Grįžti į viršų\",E45:E9505,0),\"Pradėta\",\"Ne\")","v":{"$error":"#N/A"}},null,"D.6.1. Atliekų surinkimo išlaidos",null,null,null,{"$f":"SUM(M39:OFFSET(M39,0,1000))","v":0},0,0,0,0,0,0,0,0,0]
[null,null,null,null,null,{"$f":"IF(COUNTIF(E45:E910,\"Ne\"),\"Ne\",\"Taip\")","v":"Taip"},{"$f":"IFERROR(IF(F40=\"Taip\",\"Taip\",\"Ne\"),\"Taip\")","v":"Taip"},"D.6.2. Perdirbimo išlaidos",null,null,null,{"$f":"SUM(M40:OFFSET(M40,0,1000))","v":0},0,0,0,0,0,0,0,0,0]
[null,null,null,null,null,null,null,"D.6.3. Turto išmontavimo (nugriovimo išlaidos)",null,null,null,{"$f":"SUM(M41:OFFSET(M41,0,1000))","v":0},0,0,0,0,0,0,0,0,0]
[null,null,null,null,null,null,null,"D.7. Kitos išlaidos",null,null,null,{"$f":"SUM(M42:OFFSET(M42,0,1000))","v":0},0,0,0,0,0,0,0,0,0]
[null,null,null,null,null,null,null,"D'. Veiklos išlaidos pagal pildančios institucijos numatytas palaikymo apimtis",null,null,null,{"$f":"SUM(M43:OFFSET(M43,0,1000))","v":0},0,0,0,0,0,0,0,0,0]

{"sheet":"Elementų tarnavimo trukmė","index":30,"n_rows":2697,"n_cols":25,"rows_kept":2697,"cut":false,"hidden":false,"merged":[[1,1,1,2],[1,4,1,5]]}
[]
[null,"Naudingas tarnavimo laikotarpis",null,null,"Nenaudingas tarnavimo laikotarpis",null,null,"Naudingo tarnavimo laikotarpio pabaigos metai "]
[]
[]
[]
["Pastato paskirtis","Pastato elementas","%","Konstrukcija / tipas","Dalis / prietaisai","Medžiaga","Konstrukcijos / tipo arba dalies / prietaiso pilno atnaujinimo data (jei toks atnaujinimas buvo atliktas)","Investavimo tikslas","Pastato elemento atnaujinama dalis, %","Pastato elemento nenaujinama dalis, %","Konstrukcijos / tipo arba dalies / prietaiso tarnavimo laikotarpio pabaiga","Dalies / prietaiso / medžiagos naudingo tarnavimo laikotarpis, metų skaičius","Jeigu aktualus, netinkamas palaikymo lygis (%)","Perskaičiuotas naudingo tarnavimo laikotarpis","Skaičiavimuose naudojamas naudingo tarnavimo laikotarpis",null,{"$f":"YEAR('Bendrieji įvesties duomenys'!$C$6)+COLUMN(O6)-15","v":2019},{"$f":"YEAR('Bendrieji įvesties duomenys'!$C$6)+COLUMN(P6)-15","v":2020},{"$f":"YEAR('Bendrieji įvesties duomenys'!$C$6)+COLUMN(Q6)-15","v":2021},{"$f":"YEAR('Bendrieji įvesties duomenys'!$C$6)+COLUMN(R6)-15","v":2022},{"$f":"YEAR('Bendrieji įvesties duomenys'!$C$6)+COLUMN(S6)-15","v":2023},{"$f":"YEAR('Bendrieji įvesties duomenys'!$C$6)+COLUMN(T6)-15","v":2024},{"$f":"YEAR('Bendrieji įvesties duomenys'!$C$6)+COLUMN(U6)-15","v":2025},{"$f":"YEAR('Bendrieji įvesties duomenys'!$C$6)+COLUMN(V6)-15","v":2026},{"$f":"YEAR('Bendrieji įvesties duomenys'!$C$6)+COLUMN(W6)-15","v":2027}]
[null,"Pastatas",null,null,null,null,null,null,null,null,null,null,null,null,{"$f":"ROUND(P7,0)","v":0},{"$f":"IFERROR(ROUND(SUM(OFFSET(P7,1,0,ROWS(P:P)-7,1)),0),0)","v":0}]
[null,null,{"$f":"IFERROR(INDEX('Modifikuoti svoriai '!$D$5:$K$29,MATCH(B8,'Modifikuoti svoriai '!$C$5:$C$29,0),MATCH(A8,'Modifikuoti svoriai '!$D$4:$K$4,0)),\"\")","v":""},null,null,null,null,null,null,null,null,null,null,null,null,null,{"$f":"IF(Q$6<YEAR($K8),\"Pastato tarnavimo laikotarpis nepasibaigė\",IF(Q$6=YEAR($K8),\"Pastato tarnavimo laikotarpio pabaiga\",IF($K8<>0,\"Pastato tarnavimo laikotarpis pasibaigė\",\"\")))","v":""},"","","","","","","",""]
[null,null,{"$f":"IFERROR(INDEX('Modifikuoti svoriai '!$D$5:$K$29,MATCH(B9,'Modifikuoti svoriai '!$C$5:$C$29,0),MATCH(A9,'Modifikuoti svoriai '!$D$4:$K$4,0)),\"\")","v":""},null,null,null,null,null,null,null,null,null,null,null,null,null,{"$f":"IF(Q$6<YEAR($K9),\"Pastato tarnavimo laikotarpis nepasibaigė\",IF(Q$6=YEAR($K9),\"Pastato tarnavimo laikotarpio pabaiga\",IF($K9<>0,\"Pastato tarnavimo laikotarpis pasibaigė\",\"\")))","v":""},"","","","","","","",""]
[null,null,{"$f":"IFERROR(INDEX('Modifikuoti svoriai '!$D$5:$K$29,MATCH(B10,'Modifikuoti svoriai '!$C$5:$C$29,0),MATCH(A10,'Modifikuoti svoriai '!$D$4:$K$4,0)),\"\")","v":""},null,null,null,null,null,null,null,null,null,null,null,null,null,"","","","","","","","",""]
[null,null,{"$f":"IFERROR(INDEX('Modifikuoti svoriai '!$D$5:$K$29,MATCH(B11,'Modifikuoti svoriai '!$C$5:$C$29,0),MATCH(A11,'Modifikuoti svoriai '!$D$4:$K$4,0)),\"\")","v":""},null,null,null,null,null,null,null,null,null,null,null,null,null,"","","","","","","","",""]
[null,null,{"$f":"IFERROR(INDEX('Modifikuoti svoriai '!$D$5:$K$29,MATCH(B12,'Modifikuoti svoriai '!$C$5:$C$29,0),MATCH(A12,'Modifikuoti svoriai '!$D$4:$K$4,0)),\"\")","v":""},null,null,null,null,null,null,null,null,null,null,null,null,null,"","","","","","","","",""]
[null,null,{"$f":"IFERROR(INDEX('Modifikuoti svoriai '!$D$5:$K$29,MATCH(B13,'Modifikuoti svoriai '!$C$5:$C$29,0),MATCH(A13,'Modifikuoti svoriai '!$D$4:$K$4,0)),\"\")","v":""},null,null,null,null,null,null,null,null,null,null,null,null,null,{"$f":"IF(Q$6<YEAR($K13),\"Pastato tarnavimo laikotarpis nepasibaigė\",IF(Q$6=YEAR($K13),\"Pastato tarnavimo laikotarpio pabaiga\",IF($K13<>0,\"Pastato tarnavimo laikotarpis pasibaigė\",\"\")))","v":""},"","","","","","","",""]
[null,null,{"$f":"IFERROR(INDEX('Modifikuoti svoriai '!$D$5:$K$29,MATCH(B14,'Modifikuoti svoriai '!$C$5:$C$29,0),MATCH(A14,'Modifikuoti svoriai '!$D$4:$K$4,0)),\"\")","v":""},null,null,null,null,null,null,null,null,null,null,null,null,null,"","","","","","","","",""]
[null,null,{"$f":"IFERROR(INDEX('Modifikuoti svoriai '!$D$5:$K$29,MATCH(B15,'Modifikuoti svoriai '!$C$5:$C$29,0),MATCH(A15,'Modifikuoti svoriai '!$D$4:$K$4,0)),\"\")","v":""},null,null,null,null,null,null,null,null,null,null,null,null,null,"","","","","","","","",""]
[null,null,{"$f":"IFERROR(INDEX('Modifikuoti svoriai '!$D$5:$K$29,MATCH(B16,'Modifikuoti svoriai '!$C$5:$C$29,0),MATCH(A16,'Modifikuoti svoriai '!$D$4:$K$4,0)),\"\")","v":""},null,null,null,null,null,null,null,null,null,null,null,null,null,"","","","","","","","",""]
[null,null,{"$f":"IFERROR(INDEX('Modifikuoti svoriai '!$D$5:$K$29,MATCH(B17,'Modifikuoti svoriai '!$C$5:$C$29,0),MATCH(A17,'Modifikuoti svoriai '!$D$4:$K$4,0)),\"\")","v":""},null,null,null,null,null,null,null,null,null,null,null,null,null,{"$f":"IF(Q$6<YEAR($K17),\"Pastato tarnavimo laikotarpis nepasibaigė\",IF(Q$6=YEAR($K17),\"Pastato tarnavimo laikotarpio pabaiga\",IF($K17<>0,\"Pastato tarnavimo laikotarpis pasibaigė\",\"\")))","v":""},"","","","","","","",""]
[null,null,{"$f":"IFERROR(INDEX('Modifikuoti svoriai '!$D$5:$K$29,MATCH(B18,'Modifikuoti svoriai '!$C$5:$C$29,0),MATCH(A18,'Modifikuoti svoriai '!$D$4:$K$4,0)),\"\")","v":""},null,null,null,null,null,null,null,null,null,null,null,null,null,"","","","","","","","",""]
[null,null,{"$f":"IFERROR(INDEX('Modifikuoti svoriai '!$D$5:$K$29,MATCH(B19,'Modifikuoti svoriai '!$C$5:$C$29,0),MATCH(A19,'Modifikuoti svoriai '!$D$4:$K$4,0)),\"\")","v":""},null,null,null,null,null,null,null,null,null,null,null,null,null,"","","","","","","","",""]
[null,null,{"$f":"IFERROR(INDEX('Modifikuoti svoriai '!$D$5:$K$29,MATCH(B20,'Modifikuoti svoriai '!$C$5:$C$29,0),MATCH(A20,'Modifikuoti svoriai '!$D$4:$K$4,0)),\"\")","v":""},null,null,null,null,null,null,null,null,null,null,null,null,null,"","","","","","","","",""]
[null,null,{"$f":"IFERROR(INDEX('Modifikuoti svoriai '!$D$5:$K$29,MATCH(B21,'Modifikuoti svoriai '!$C$5:$C$29,0),MATCH(A21,'Modifikuoti svoriai '!$D$4:$K$4,0)),\"\")","v":""},null,null,null,null,null,null,null,null,null,null,null,null,null,{"$f":"IF(Q$6<YEAR($K21),\"Pastato tarnavimo laikotarpis nepasibaigė\",IF(Q$6=YEAR($K21),\"Pastato tarnavimo laikotarpio pabaiga\",IF($K21<>0,\"Pastato tarnavimo laikotarpis pasibaigė\",\"\")))","v":""},"","","","","","","",""]
[null,null,{"$f":"IFERROR(INDEX('Modifikuoti svoriai '!$D$5:$K$29,MATCH(B22,'Modifikuoti svoriai '!$C$5:$C$29,0),MATCH(A22,'Modifikuoti svoriai '!$D$4:$K$4,0)),\"\")","v":""},null,null,null,null,null,null,null,null,null,null,null,null,null,"","","","","","","","",""]
[null,null,{"$f":"IFERROR(INDEX('Modifikuoti svoriai '!$D$5:$K$29,MATCH(B23,'Modifikuoti svoriai '!$C$5:$C$29,0),MATCH(A23,'Modifikuoti svoriai '!$D$4:$K$4,0)),\"\")","v":""},null,null,null,null,null,null,null,null,null,null,null,null,null,"","","","","","","","",""]
[null,null,{"$f":"IFERROR(INDEX('Modifikuoti svoriai '!$D$5:$K$29,MATCH(B24,'Modifikuoti svoriai '!$C$5:$C$29,0),MATCH(A24,'Modifikuoti svoriai '!$D$4:$K$4,0)),\"\")","v":""},null,null,null,null,null,null,null,null,null,null,null,null,null,"","","","","","","","",""]
[null,null,{"$f":"IFERROR(INDEX('Modifikuoti svoriai '!$D$5:$K$29,MATCH(B25,'Modifikuoti svoriai '!$C$5:$C$29,0),MATCH(A25,'Modifikuoti svoriai '!$D$4:$K$4,0)),\"\")","v":""},null,null,null,null,null,null,null,null,null,null,null,null,null,{"$f":"IF(Q$6<YEAR($K25),\"Pastato tarnavimo laikotarpis nepasibaigė\",IF(Q$6=YEAR($K25),\"Pastato tarnavimo laikotarpio pabaiga\",IF($K25<>0,\"Pastato tarnavimo laikotarpis pasibaigė\",\"\")))","v":""},"","","","","","","",""]
[null,null,{"$f":"IFERROR(INDEX('Modifikuoti svoriai '!$D$5:$K$29,MATCH(B26,'Modifikuoti svoriai '!$C$5:$C$29,0),MATCH(A26,'Modifikuoti svoriai '!$D$4:$K$4,0)),\"\")","v":""},null,null,null,null,null,null,null,null,null,null,null,null,null,"","","","","","","","",""]
[null,null,{"$f":"IFERROR(INDEX('Modifikuoti svoriai '!$D$5:$K$29,MATCH(B27,'Modifikuoti svoriai '!$C$5:$C$29,0),MATCH(A27,'Modifikuoti svoriai '!$D$4:$K$4,0)),\"\")","v":""},null,null,null,null,null,null,null,null,null,null,null,null,null,"","","","","","","","",""]
[null,null,{"$f":"IFERROR(INDEX('Modifikuoti svoriai '!$D$5:$K$29,MATCH(B28,'Modifikuoti svoriai '!$C$5:$C$29,0),MATCH(A28,'Modifikuoti svoriai '!$D$4:$K$4,0)),\"\")","v":""},null,null,null,null,null,null,null,null,null,null,null,null,null,"","","","","","","","",""]
[null,null,{"$f":"IFERROR(INDEX('Modifikuoti svoriai '!$D$5:$K$29,MATCH(B29,'Modifikuoti svoriai '!$C$5:$C$29,0),MATCH(A29,'Modifikuoti svoriai '!$D$4:$K$4,0)),\"\")","v":""},null,null,null,null,null,null,null,null,null,null,null,null,null,{"$f":"IF(Q$6<YEAR($K29),\"Pastato tarnavimo laikotarpis nepasibaigė\",IF(Q$6=YEAR($K29),\"Pastato tarnavimo laikotarpio pabaiga\",IF($K29<>0,\"Pastato tarnavimo laikotarpis pasibaigė\",\"\")))","v":""},"","","","","","","",""]
[null,null,{"$f":"IFERROR(INDEX('Modifikuoti svoriai '!$D$5:$K$29,MATCH(B30,'Modifikuoti svoriai '!$C$5:$C$29,0),MATCH(A30,'Modifikuoti svoriai '!$D$4:$K$4,0)),\"\")","v":""},null,null,null,null,null,null,null,null,null,null,null,null,null,"","","","","","","","",""]
[null,null,{"$f":"IFERROR(INDEX('Modifikuoti svoriai '!$D$5:$K$29,MATCH(B31,'Modifikuoti svoriai '!$C$5:$C$29,0),MATCH(A31,'Modifikuoti svoriai '!$D$4:$K$4,0)),\"\")","v":""},null,null,null,null,null,null,null,null,null,null,null,null,null,"","","","","","","","",""]
[null,null,{"$f":"IFERROR(INDEX('Modifikuoti svoriai '!$D$5:$K$29,MATCH(B32,'Modifikuoti svoriai '!$C$5:$C$29,0),MATCH(A32,'Modifikuoti svoriai '!$D$4:$K$4,0)),\"\")","v":""},null,null,null,null,null,null,null,null,null,null,null,null,null,"","","","","","","","",""]
[null,null,{"$f":"IFERROR(INDEX('Modifikuoti svoriai '!$D$5:$K$29,MATCH(B33,'Modifikuoti svoriai '!$C$5:$C$29,0),MATCH(A33,'Modifikuoti svoriai '!$D$4:$K$4,0)),\"\")","v":""},null,null,null,null,null,null,null,null,null,null,null,null,null,{"$f":"IF(Q$6<YEAR($K33),\"Pastato tarnavimo laikotarpis nepasibaigė\",IF(Q$6=YEAR($K33),\"Pastato tarnavimo laikotarpio pabaiga\",IF($K33<>0,\"Pastato tarnavimo laikotarpis pasibaigė\",\"\")))","v":""},"","","","","","","",""]
[null,null,{"$f":"IFERROR(INDEX('Modifikuoti svoriai '!$D$5:$K$29,MATCH(B34,'Modifikuoti svoriai '!$C$5:$C$29,0),MATCH(A34,'Modifikuoti svoriai '!$D$4:$K$4,0)),\"\")","v":""},null,null,null,null,null,null,null,null,null,null,null,null,null,"","","","","","","","",""]
[null,null,{"$f":"IFERROR(INDEX('Modifikuoti svoriai '!$D$5:$K$29,MATCH(B35,'Modifikuoti svoriai '!$C$5:$C$29,0),MATCH(A35,'Modifikuoti svoriai '!$D$4:$K$4,0)),\"\")","v":""},null,null,null,null,null,null,null,null,null,null,null,null,null,"","","","","","","","",""]
[null,null,{"$f":"IFERROR(INDEX('Modifikuoti svoriai '!$D$5:$K$29,MATCH(B36,'Modifikuoti svoriai '!$C$5:$C$29,0),MATCH(A36,'Modifikuoti svoriai '!$D$4:$K$4,0)),\"\")","v":""},null,null,null,null,null,null,null,null,null,null,null,null,null,"","","","","","","","",""]
[null,null,{"$f":"IFERROR(INDEX('Modifikuoti svoriai '!$D$5:$K$29,MATCH(B37,'Modifikuoti svoriai '!$C$5:$C$29,0),MATCH(A37,'Modifikuoti svoriai '!$D$4:$K$4,0)),\"\")","v":""},null,null,null,null,null,null,null,null,null,null,null,null,null,{"$f":"IF(Q$6<YEAR($K37),\"Pastato tarnavimo laikotarpis nepasibaigė\",IF(Q$6=YEAR($K37),\"Pastato tarnavimo laikotarpio pabaiga\",IF($K37<>0,\"Pastato tarnavimo laikotarpis pasibaigė\",\"\")))","v":""},"","","","","","","",""]
[null,null,{"$f":"IFERROR(INDEX('Modifikuoti svoriai '!$D$5:$K$29,MATCH(B38,'Modifikuoti svoriai '!$C$5:$C$29,0),MATCH(A38,'Modifikuoti svoriai '!$D$4:$K$4,0)),\"\")","v":""},null,null,null,null,null,null,null,null,null,null,null,null,null,"","","","","","","","",""]
[null,null,{"$f":"IFERROR(INDEX('Modifikuoti svoriai '!$D$5:$K$29,MATCH(B39,'Modifikuoti svoriai '!$C$5:$C$29,0),MATCH(A39,'Modifikuoti svoriai '!$D$4:$K$4,0)),\"\")","v":""},null,null,null,null,null,null,null,null,null,null,null,null,null,"","","","","","","","",""]
[null,null,{"$f":"IFERROR(INDEX('Modifikuoti svoriai '!$D$5:$K$29,MATCH(B40,'Modifikuoti svoriai '!$C$5:$C$29,0),MATCH(A40,'Modifikuoti svoriai '!$D$4:$K$4,0)),\"\")","v":""},null,null,null,null,null,null,null,null,null,null,null,null,null,"","","","","","","","",""]
[null,null,{"$f":"IFERROR(INDEX('Modifikuoti svoriai '!$D$5:$K$29,MATCH(B41,'Modifikuoti svoriai '!$C$5:$C$29,0),MATCH(A41,'Modifikuoti svoriai '!$D$4:$K$4,0)),\"\")","v":""},null,null,null,null,null,null,null,null,null,null,null,null,null,{"$f":"IF(Q$6<YEAR($K41),\"Pastato tarnavimo laikotarpis nepasibaigė\",IF(Q$6=YEAR($K41),\"Pastato tarnavimo laikotarpio pabaiga\",IF($K41<>0,\"Pastato tarnavimo laikotarpis pasibaigė\",\"\")))","v":""},"","","","","","","",""]
[null,null,{"$f":"IFERROR(INDEX('Modifikuoti svoriai '!$D$5:$K$29,MATCH(B42,'Modifikuoti svoriai '!$C$5:$C$29,0),MATCH(A42,'Modifikuoti svoriai '!$D$4:$K$4,0)),\"\")","v":""},null,null,null,null,null,null,null,null,null,null,null,null,null,"","","","","","","","",""]
[null,null,{"$f":"IFERROR(INDEX('Modifikuoti svoriai '!$D$5:$K$29,MATCH(B43,'Modifikuoti svoriai '!$C$5:$C$29,0),MATCH(A43,'Modifikuoti svoriai '!$D$4:$K$4,0)),\"\")","v":""},null,null,null,null,null,null,null,null,null,null,null,null,null,"","","","","","","","",""]
[null,null,{"$f":"IFERROR(INDEX('Modifikuoti svoriai '!$D$5:$K$29,MATCH(B44,'Modifikuoti svoriai '!$C$5:$C$29,0),MATCH(A44,'Modifikuoti svoriai '!$D$4:$K$4,0)),\"\")","v":""},null,null,null,null,null,null,null,null,null,null,null,null,null,"","","","","","","","",""]
[null,null,{"$f":"IFERROR(INDEX('Modifikuoti svoriai '!$D$5:$K$29,MATCH(B45,'Modifikuoti svoriai '!$C$5:$C$29,0),MATCH(A45,'Modifikuoti svoriai '!$D$4:$K$4,0)),\"\")","v":""},null,null,null,null,null,null,null,null,null,null,null,null,null,{"$f":"IF(Q$6<YEAR($K45),\"Pastato tarnavimo laikotarpis nepasibaigė\",IF(Q$6=YEAR($K45),\"Pastato tarnavimo laikotarpio pabaiga\",IF($K45<>0,\"Pastato tarnavimo laikotarpis pasibaigė\",\"\")))","v":""},"","","","","","","",""]
[null,null,{"$f":"IFERROR(INDEX('Modifikuoti svoriai '!$D$5:$K$29,MATCH(B46,'Modifikuoti svoriai '!$C$5:$C$29,0),MATCH(A46,'Modifikuoti svoriai '!$D$4:$K$4,0)),\"\")","v":""},null,null,null,null,null,null,null,null,null,null,null,null,null,"","","","","","","","",""]
[null,null,{"$f":"IFERROR(INDEX('Modifikuoti svoriai '!$D$5:$K$29,MATCH(B47,'Modifikuoti svoriai '!$C$5:$C$29,0),MATCH(A47,'Modifikuoti svoriai '!$D$4:$K$4,0)),\"\")","v":""},null,null,null,null,null,null,null,null,null,null,null,null,null,"","","","","","","","",""]
[null,null,{"$f":"IFERROR(INDEX('Modifikuoti svoriai '!$D$5:$K$29,MATCH(B48,'Modifikuoti svoriai '!$C$5:$C$29,0),MATCH(A48,'Modifikuoti svoriai '!$D$4:$K$4,0)),\"\")","v":""},null,null,null,null,null,null,null,null,null,null,null,null,null,"","","","","","","","",""]
[null,null,{"$f":"IFERROR(INDEX('Modifikuoti svoriai '!$D$5:$K$29,MATCH(B49,'Modifikuoti svoriai '!$C$5:$C$29,0),MATCH(A49,'Modifikuoti svoriai '!$D$4:$K$4,0)),\"\")","v":""},null,null,null,null,null,null,null,null,null,null,null,null,null,{"$f":"IF(Q$6<YEAR($K49),\"Pastato tarnavimo laikotarpis nepasibaigė\",IF(Q$6=YEAR($K49),\"Pastato tarnavimo laikotarpio pabaiga\",IF($K49<>0,\"Pastato tarnavimo laikotarpis pasibaigė\",\"\")))","v":""},"","","","","","","",""]
[null,null,{"$f":"IFERROR(INDEX('Modifikuoti svoriai '!$D$5:$K$29,MATCH(B50,'Modifikuoti svoriai '!$C$5:$C$29,0),MATCH(A50,'Modifikuoti svoriai '!$D$4:$K$4,0)),\"\")","v":""},null,null,null,null,null,null,null,null,null,null,null,null,null,"","","","","","","","",""]
[null,null,{"$f":"IFERROR(INDEX('Modifikuoti svoriai '!$D$5:$K$29,MATCH(B51,'Modifikuoti svoriai '!$C$5:$C$29,0),MATCH(A51,'Modifikuoti svoriai '!$D$4:$K$4,0)),\"\")","v":""},null,null,null,null,null,null,null,null,null,null,null,null,null,"","","","","","","","",""]
[null,null,{"$f":"IFERROR(INDEX('Modifikuoti svoriai '!$D$5:$K$29,MATCH(B52,'Modifikuoti svoriai '!$C$5:$C$29,0),MATCH(A52,'Modifikuoti svoriai '!$D$4:$K$4,0)),\"\")","v":""},null,null,null,null,null,null,null,null,null,null,null,null,null,"","","","","","","","",""]
[null,null,{"$f":"IFERROR(INDEX('Modifikuoti svoriai '!$D$5:$K$29,MATCH(B53,'Modifikuoti svoriai '!$C$5:$C$29,0),MATCH(A53,'Modifikuoti svoriai '!$D$4:$K$4,0)),\"\")","v":""},null,null,null,null,null,null,null,null,null,null,null,null,null,{"$f":"IF(Q$6<YEAR($K53),\"Pastato tarnavimo laikotarpis nepasibaigė\",IF(Q$6=YEAR($K53),\"Pastato tarnavimo laikotarpio pabaiga\",IF($K53<>0,\"Pastato tarnavimo laikotarpis pasibaigė\",\"\")))","v":""},"","","","","","","",""]
[null,null,{"$f":"IFERROR(INDEX('Modifikuoti svoriai '!$D$5:$K$29,MATCH(B54,'Modifikuoti svoriai '!$C$5:$C$29,0),MATCH(A54,'Modifikuoti svoriai '!$D$4:$K$4,0)),\"\")","v":""},null,null,null,null,null,null,null,null,null,null,null,null,null,"","","","","","","","",""]
[null,null,{"$f":"IFERROR(INDEX('Modifikuoti svoriai '!$D$5:$K$29,MATCH(B55,'Modifikuoti svoriai '!$C$5:$C$29,0),MATCH(A55,'Modifikuoti svoriai '!$D$4:$K$4,0)),\"\")","v":""},null,null,null,null,null,null,null,null,null,null,null,null,null,"","","","","","","","",""]
[null,null,{"$f":"IFERROR(INDEX('Modifikuoti svoriai '!$D$5:$K$29,MATCH(B56,'Modifikuoti svoriai '!$C$5:$C$29,0),MATCH(A56,'Modifikuoti svoriai '!$D$4:$K$4,0)),\"\")","v":""},null,null,null,null,null,null,null,null,null,null,null,null,null,"","","","","","","","",""]
[null,null,{"$f":"IFERROR(INDEX('Modifikuoti svoriai '!$D$5:$K$29,MATCH(B57,'Modifikuoti svoriai '!$C$5:$C$29,0),MATCH(A57,'Modifikuoti svoriai '!$D$4:$K$4,0)),\"\")","v":""},null,null,null,null,null,null,null,null,null,null,null,null,null,{"$f":"IF(Q$6<YEAR($K57),\"Pastato tarnavimo laikotarpis nepasibaigė\",IF(Q$6=YEAR($K57),\"Pastato tarnavimo laikotarpio pabaiga\",IF($K57<>0,\"Pastato tarnavimo laikotarpis pasibaigė\",\"\")))","v":""},"","","","","","","",""]
[null,null,{"$f":"IFERROR(INDEX('Modifikuoti svoriai '!$D$5:$K$29,MATCH(B58,'Modifikuoti svoriai '!$C$5:$C$29,0),MATCH(A58,'Modifikuoti svoriai '!$D$4:$K$4,0)),\"\")","v":""},null,null,null,null,null,null,null,null,null,null,null,null,null,"","","","","","","","",""]
[null,null,{"$f":"IFERROR(INDEX('Modifikuoti svoriai '!$D$5:$K$29,MATCH(B59,'Modifikuoti svoriai '!$C$5:$C$29,0),MATCH(A59,'Modifikuoti svoriai '!$D$4:$K$4,0)),\"\")","v":""},null,null,null,null,null,null,null,null,null,null,null,null,null,"","","","","","","","",""]
[null,null,{"$f":"IFERROR(INDEX('Modifikuoti svoriai '!$D$5:$K$29,MATCH(B60,'Modifikuoti svoriai '!$C$5:$C$29,0),MATCH(A60,'Modifikuoti svoriai '!$D$4:$K$4,0)),\"\")","v":""},null,null,null,null,null,null,null,null,null,null,null,null,null,"","","","","","","","",""]
[null,null,{"$f":"IFERROR(INDEX('Modifikuoti svoriai '!$D$5:$K$29,MATCH(B61,'Modifikuoti svoriai '!$C$5:$C$29,0),MATCH(A61,'Modifikuoti svoriai '!$D$4:$K$4,0)),\"\")","v":""},null,null,null,null,null,null,null,null,null,null,null,null,null,{"$f":"IF(Q$6<YEAR($K61),\"Pastato tarnavimo laikotarpis nepasibaigė\",IF(Q$6=YEAR($K61),\"Pastato tarnavimo laikotarpio pabaiga\",IF($K61<>0,\"Pastato tarnavimo laikotarpis pasibaigė\",\"\")))","v":""},"","","","","","","",""]
[null,null,{"$f":"IFERROR(INDEX('Modifikuoti svoriai '!$D$5:$K$29,MATCH(B62,'Modifikuoti svoriai '!$C$5:$C$29,0),MATCH(A62,'Modifikuoti svoriai '!$D$4:$K$4,0)),\"\")","v":""},null,null,null,null,null,null,null,null,null,null,null,null,null,"","","","","","","","",""]
[null,null,{"$f":"IFERROR(INDEX('Modifikuoti svoriai '!$D$5:$K$29,MATCH(B63,'Modifikuoti svoriai '!$C$5:$C$29,0),MATCH(A63,'Modifikuoti svoriai '!$D$4:$K$4,0)),\"\")","v":""},null,null,null,null,null,null,null,null,null,null,null,null,null,"","","","","","","","",""]
[null,null,{"$f":"IFERROR(INDEX('Modifikuoti svoriai '!$D$5:$K$29,MATCH(B64,'Modifikuoti svoriai '!$C$5:$C$29,0),MATCH(A64,'Modifikuoti svoriai '!$D$4:$K$4,0)),\"\")","v":""},null,null,null,null,null,null,null,null,null,null,null,null,null,"","","","","","","","",""]
[null,null,{"$f":"IFERROR(INDEX('Modifikuoti svoriai '!$D$5:$K$29,MATCH(B65,'Modifikuoti svoriai '!$C$5:$C$29,0),MATCH(A65,'Modifikuoti svoriai '!$D$4:$K$4,0)),\"\")","v":""},null,null,null,null,null,null,null,null,null,null,null,null,null,{"$f":"IF(Q$6<YEAR($K65),\"Pastato tarnavimo laikotarpis nepasibaigė\",IF(Q$6=YEAR($K65),\"Pastato tarnavimo laikotarpio pabaiga\",IF($K65<>0,\"Pastato tarnavimo laikotarpis pasibaigė\",\"\")))","v":""},"","","","","","","",""]
[null,null,{"$f":"IFERROR(INDEX('Modifikuoti svoriai '!$D$5:$K$29,MATCH(B66,'Modifikuoti svoriai '!$C$5:$C$29,0),MATCH(A66,'Modifikuoti svoriai '!$D$4:$K$4,0)),\"\")","v":""},null,null,null,null,null,null,null,null,null,null,null,null,null,"","","","","","","","",""]
[null,null,{"$f":"IFERROR(INDEX('Modifikuoti svoriai '!$D$5:$K$29,MATCH(B67,'Modifikuoti svoriai '!$C$5:$C$29,0),MATCH(A67,'Modifikuoti svoriai '!$D$4:$K$4,0)),\"\")","v":""},null,null,null,null,null,null,null,null,null,null,null,null,null,"","","","","","","","",""]
[null,null,{"$f":"IFERROR(INDEX('Modifikuoti svoriai '!$D$5:$K$29,MATCH(B68,'Modifikuoti svoriai '!$C$5:$C$29,0),MATCH(A68,'Modifikuoti svoriai '!$D$4:$K$4,0)),\"\")","v":""},null,null,null,null,null,null,null,null,null,null,null,null,null,"","","","","","","","",""]
[null,null,{"$f":"IFERROR(INDEX('Modifikuoti svoriai '!$D$5:$K$29,MATCH(B69,'Modifikuoti svoriai '!$C$5:$C$29,0),MATCH(A69,'Modifikuoti svoriai '!$D$4:$K$4,0)),\"\")","v":""},null,null,null,null,null,null,null,null,null,null,null,null,null,{"$f":"IF(Q$6<YEAR($K69),\"Pastato tarnavimo laikotarpis nepasibaigė\",IF(Q$6=YEAR($K69),\"Pastato tarnavimo laikotarpio pabaiga\",IF($K69<>0,\"Pastato tarnavimo laikotarpis pasibaigė\",\"\")))","v":""},"","","","","","","",""]
[null,null,{"$f":"IFERROR(INDEX('Modifikuoti svoriai '!$D$5:$K$29,MATCH(B70,'Modifikuoti svoriai '!$C$5:$C$29,0),MATCH(A70,'Modifikuoti svoriai '!$D$4:$K$4,0)),\"\")","v":""},null,null,null,null,null,null,null,null,null,null,null,null,null,"","","","","","","","",""]
[null,null,{"$f":"IFERROR(INDEX('Modifikuoti svoriai '!$D$5:$K$29,MATCH(B71,'Modifikuoti svoriai '!$C$5:$C$29,0),MATCH(A71,'Modifikuoti svoriai '!$D$4:$K$4,0)),\"\")","v":""},null,null,null,null,null,null,null,null,null,null,null,null,null,"","","","","","","","",""]
[null,null,{"$f":"IFERROR(INDEX('Modifikuoti svoriai '!$D$5:$K$29,MATCH(B72,'Modifikuoti svoriai '!$C$5:$C$29,0),MATCH(A72,'Modifikuoti svoriai '!$D$4:$K$4,0)),\"\")","v":""},null,null,null,null,null,null,null,null,null,null,null,null,null,"","","","","","","","",""]
[null,null,{"$f":"IFERROR(INDEX('Modifikuoti svoriai '!$D$5:$K$29,MATCH(B73,'Modifikuoti svoriai '!$C$5:$C$29,0),MATCH(A73,'Modifikuoti svoriai '!$D$4:$K$4,0)),\"\")","v":""},null,null,null,null,null,null,null,null,null,null,null,null,null,{"$f":"IF(Q$6<YEAR($K73),\"Pastato tarnavimo laikotarpis nepasibaigė\",IF(Q$6=YEAR($K73),\"Pastato tarnavimo laikotarpio pabaiga\",IF($K73<>0,\"Pastato tarnavimo laikotarpis pasibaigė\",\"\")))","v":""},"","","","","","","",""]
[null,null,{"$f":"IFERROR(INDEX('Modifikuoti svoriai '!$D$5:$K$29,MATCH(B74,'Modifikuoti svoriai '!$C$5:$C$29,0),MATCH(A74,'Modifikuoti svoriai '!$D$4:$K$4,0)),\"\")","v":""},null,null,null,null,null,null,null,null,null,null,null,null,null,"","","","","","","","",""]
[null,null,{"$f":"IFERROR(INDEX('Modifikuoti svoriai '!$D$5:$K$29,MATCH(B75,'Modifikuoti svoriai '!$C$5:$C$29,0),MATCH(A75,'Modifikuoti svoriai '!$D$4:$K$4,0)),\"\")","v":""},null,null,null,null,null,null,null,null,null,null,null,null,null,"","","","","","","","",""]
[null,null,{"$f":"IFERROR(INDEX('Modifikuoti svoriai '!$D$5:$K$29,MATCH(B76,'Modifikuoti svoriai '!$C$5:$C$29,0),MATCH(A76,'Modifikuoti svoriai '!$D$4:$K$4,0)),\"\")","v":""},null,null,null,null,null,null,null,null,null,null,null,null,null,"","","","","","","","",""]
[null,null,{"$f":"IFERROR(INDEX('Modifikuoti svoriai '!$D$5:$K$29,MATCH(B77,'Modifikuoti svoriai '!$C$5:$C$29,0),MATCH(A77,'Modifikuoti svoriai '!$D$4:$K$4,0)),\"\")","v":""},null,null,null,null,null,null,null,null,null,null,null,null,null,{"$f":"IF(Q$6<YEAR($K77),\"Pastato tarnavimo laikotarpis nepasibaigė\",IF(Q$6=YEAR($K77),\"Pastato tarnavimo laikotarpio pabaiga\",IF($K77<>0,\"Pastato tarnavimo laikotarpis pasibaigė\",\"\")))","v":""},"","","","","","","",""]
[null,null,{"$f":"IFERROR(INDEX('Modifikuoti svoriai '!$D$5:$K$29,MATCH(B78,'Modifikuoti svoriai '!$C$5:$C$29,0),MATCH(A78,'Modifikuoti svoriai '!$D$4:$K$4,0)),\"\")","v":""},null,null,null,null,null,null,null,null,null,null,null,null,null,"","","","","","","","",""]
[null,null,{"$f":"IFERROR(INDEX('Modifikuoti svoriai '!$D$5:$K$29,MATCH(B79,'Modifikuoti svoriai '!$C$5:$C$29,0),MATCH(A79,'Modifikuoti svoriai '!$D$4:$K$4,0)),\"\")","v":""},null,null,null,null,null,null,null,null,null,null,null,null,null,"","","","","","","","",""]
[null,null,{"$f":"IFERROR(INDEX('Modifikuoti svoriai '!$D$5:$K$29,MATCH(B80,'Modifikuoti svoriai '!$C$5:$C$29,0),MATCH(A80,'Modifikuoti svoriai '!$D$4:$K$4,0)),\"\")","v":""},null,null,null,null,null,null,null,null,null,null,null,null,null,"","","","","","","","",""]
[null,null,{"$f":"IFERROR(INDEX('Modifikuoti svoriai '!$D$5:$K$29,MATCH(B81,'Modifikuoti svoriai '!$C$5:$C$29,0),MATCH(A81,'Modifikuoti svoriai '!$D$4:$K$4,0)),\"\")","v":""},null,null,null,null,null,null,null,null,null,null,null,null,null,{"$f":"IF(Q$6<YEAR($K81),\"Pastato tarnavimo laikotarpis nepasibaigė\",IF(Q$6=YEAR($K81),\"Pastato tarnavimo laikotarpio pabaiga\",IF($K81<>0,\"Pastato tarnavimo laikotarpis pasibaigė\",\"\")))","v":""},"","","","","","","",""]
[null,null,{"$f":"IFERROR(INDEX('Modifikuoti svoriai '!$D$5:$K$29,MATCH(B82,'Modifikuoti svoriai '!$C$5:$C$29,0),MATCH(A82,'Modifikuoti svoriai '!$D$4:$K$4,0)),\"\")","v":""},null,null,null,null,null,null,null,null,null,null,null,null,null,"","","","","","","","",""]
[null,null,{"$f":"IFERROR(INDEX('Modifikuoti svoriai '!$D$5:$K$29,MATCH(B83,'Modifikuoti svoriai '!$C$5:$C$29,0),MATCH(A83,'Modifikuoti svoriai '!$D$4:$K$4,0)),\"\")","v":""},null,null,null,null,null,null,null,null,null,null,null,null,null,"","","","","","","","",""]
[null,null,{"$f":"IFERROR(INDEX('Modifikuoti svoriai '!$D$5:$K$29,MATCH(B84,'Modifikuoti svoriai '!$C$5:$C$29,0),MATCH(A84,'Modifikuoti svoriai '!$D$4:$K$4,0)),\"\")","v":""},null,null,null,null,null,null,null,null,null,null,null,null,null,"","","","","","","","",""]
[null,null,{"$f":"IFERROR(INDEX('Modifikuoti svoriai '!$D$5:$K$29,MATCH(B85,'Modifikuoti svoriai '!$C$5:$C$29,0),MATCH(A85,'Modifikuoti svoriai '!$D$4:$K$4,0)),\"\")","v":""},null,null,null,null,null,null,null,null,null,null,null,null,null,{"$f":"IF(Q$6<YEAR($K85),\"Pastato tarnavimo laikotarpis nepasibaigė\",IF(Q$6=YEAR($K85),\"Pastato tarnavimo laikotarpio pabaiga\",IF($K85<>0,\"Pastato tarnavimo laikotarpis pasibaigė\",\"\")))","v":""},"","","","","","","",""]
[null,null,{"$f":"IFERROR(INDEX('Modifikuoti svoriai '!$D$5:$K$29,MATCH(B86,'Modifikuoti svoriai '!$C$5:$C$29,0),MATCH(A86,'Modifikuoti svoriai '!$D$4:$K$4,0)),\"\")","v":""},null,null,null,null,null,null,null,null,null,null,null,null,null,"","","","","","","","",""]
[null,null,{"$f":"IFERROR(INDEX('Modifikuoti svoriai '!$D$5:$K$29,MATCH(B87,'Modifikuoti svoriai '!$C$5:$C$29,0),MATCH(A87,'Modifikuoti svoriai '!$D$4:$K$4,0)),\"\")","v":""},null,null,null,null,null,null,null,null,null,null,null,null,null,"","","","","","","","",""]
[null,null,{"$f":"IFERROR(INDEX('Modifikuoti svoriai '!$D$5:$K$29,MATCH(B88,'Modifikuoti svoriai '!$C$5:$C$29,0),MATCH(A88,'Modifikuoti svoriai '!$D$4:$K$4,0)),\"\")","v":""},null,null,null,null,null,null,null,null,null,null,null,null,null,"","","","","","","","",""]
[null,null,{"$f":"IFERROR(INDEX('Modifikuoti svoriai '!$D$5:$K$29,MATCH(B89,'Modifikuoti svoriai '!$C$5:$C$29,0),MATCH(A89,'Modifikuoti svoriai '!$D$4:$K$4,0)),\"\")","v":""},null,null,null,null,null,null,null,null,null,null,null,null,null,{"$f":"IF(Q$6<YEAR($K89),\"Pastato tarnavimo laikotarpis nepasibaigė\",IF(Q$6=YEAR($K89),\"Pastato tarnavimo laikotarpio pabaiga\",IF($K89<>0,\"Pastato tarnavimo laikotarpis pasibaigė\",\"\")))","v":""},"","","","","","","",""]
[null,null,{"$f":"IFERROR(INDEX('Modifikuoti svoriai '!$D$5:$K$29,MATCH(B90,'Modifikuoti svoriai '!$C$5:$C$29,0),MATCH(A90,'Modifikuoti svoriai '!$D$4:$K$4,0)),\"\")","v":""},null,null,null,null,null,null,null,null,null,null,null,null,null,"","","","","","","","",""]
[null,null,{"$f":"IFERROR(INDEX('Modifikuoti svoriai '!$D$5:$K$29,MATCH(B91,'Modifikuoti svoriai '!$C$5:$C$29,0),MATCH(A91,'Modifikuoti svoriai '!$D$4:$K$4,0)),\"\")","v":""},null,null,null,null,null,null,null,null,null,null,null,null,null,"","","","","","","","",""]
[null,null,{"$f":"IFERROR(INDEX('Modifikuoti svoriai '!$D$5:$K$29,MATCH(B92,'Modifikuoti svoriai '!$C$5:$C$29,0),MATCH(A92,'Modifikuoti svoriai '!$D$4:$K$4,0)),\"\")","v":""},null,null,null,null,null,null,null,null,null,null,null,null,null,"","","","","","","","",""]
[null,null,{"$f":"IFERROR(INDEX('Modifikuoti svoriai '!$D$5:$K$29,MATCH(B93,'Modifikuoti svoriai '!$C$5:$C$29,0),MATCH(A93,'Modifikuoti svoriai '!$D$4:$K$4,0)),\"\")","v":""},null,null,null,null,null,null,null,null,null,null,null,null,null,{"$f":"IF(Q$6<YEAR($K93),\"Pastato tarnavimo laikotarpis nepasibaigė\",IF(Q$6=YEAR($K93),\"Pastato tarnavimo laikotarpio pabaiga\",IF($K93<>0,\"Pastato tarnavimo laikotarpis pasibaigė\",\"\")))","v":""},"","","","","","","",""]
[null,null,{"$f":"IFERROR(INDEX('Modifikuoti svoriai '!$D$5:$K$29,MATCH(B94,'Modifikuoti svoriai '!$C$5:$C$29,0),MATCH(A94,'Modifikuoti svoriai '!$D$4:$K$4,0)),\"\")","v":""},null,null,null,null,null,null,null,null,null,null,null,null,null,"","","","","","","","",""]
[null,null,{"$f":"IFERROR(INDEX('Modifikuoti svoriai '!$D$5:$K$29,MATCH(B95,'Modifikuoti svoriai '!$C$5:$C$29,0),MATCH(A95,'Modifikuoti svoriai '!$D$4:$K$4,0)),\"\")","v":""},null,null,null,null,null,null,null,null,null,null,null,null,null,"","","","","","","","",""]
[null,null,{"$f":"IFERROR(INDEX('Modifikuoti svoriai '!$D$5:$K$29,MATCH(B96,'Modifikuoti svoriai '!$C$5:$C$29,0),MATCH(A96,'Modifikuoti svoriai '!$D$4:$K$4,0)),\"\")","v":""},null,null,null,null,null,null,null,null,null,null,null,null,null,"","","","","","","","",""]
[null,null,{"$f":"IFERROR(INDEX('Modifikuoti svoriai '!$D$5:$K$29,MATCH(B97,'Modifikuoti svoriai '!$C$5:$C$29,0),MATCH(A97,'Modifikuoti svoriai '!$D$4:$K$4,0)),\"\")","v":""},null,null,null,null,null,null,null,null,null,null,null,null,null,{"$f":"IF(Q$6<YEAR($K97),\"Pastato tarnavimo laikotarpis nepasibaigė\",IF(Q$6=YEAR($K97),\"Pastato tarnavimo laikotarpio pabaiga\",IF($K97<>0,\"Pastato tarnavimo laikotarpis pasibaigė\",\"\")))","v":""},"","","","","","","",""]
[null,null,{"$f":"IFERROR(INDEX('Modifikuoti svoriai '!$D$5:$K$29,MATCH(B98,'Modifikuoti svoriai '!$C$5:$C$29,0),MATCH(A98,'Modifikuoti svoriai '!$D$4:$K$4,0)),\"\")","v":""},null,null,null,null,null,null,null,null,null,null,null,null,null,"","","","","","","","",""]
[null,null,{"$f":"IFERROR(INDEX('Modifikuoti svoriai '!$D$5:$K$29,MATCH(B99,'Modifikuoti svoriai '!$C$5:$C$29,0),MATCH(A99,'Modifikuoti svoriai '!$D$4:$K$4,0)),\"\")","v":""},null,null,null,null,null,null,null,null,null,null,null,null,null,"","","","","","","","",""]
[null,null,{"$f":"IFERROR(INDEX('Modifikuoti svoriai '!$D$5:$K$29,MATCH(B100,'Modifikuoti svoriai '!$C$5:$C$29,0),MATCH(A100,'Modifikuoti svoriai '!$D$4:$K$4,0)),\"\")","v":""},null,null,null,null,null,null,null,null,null,null,null,null,null,"","","","","","","","",""]
[null,null,{"$f":"IFERROR(INDEX('Modifikuoti svoriai '!$D$5:$K$29,MATCH(B101,'Modifikuoti svoriai '!$C$5:$C$29,0),MATCH(A101,'Modifikuoti svoriai '!$D$4:$K$4,0)),\"\")","v":""},null,null,null,null,null,null,null,null,null,null,null,null,null,{"$f":"IF(Q$6<YEAR($K101),\"Pastato tarnavimo laikotarpis nepasibaigė\",IF(Q$6=YEAR($K101),\"Pastato tarnavimo laikotarpio pabaiga\",IF($K101<>0,\"Pastato tarnavimo laikotarpis pasibaigė\",\"\")))","v":""},"","","","","","","",""]
[null,null,{"$f":"IFERROR(INDEX('Modifikuoti svoriai '!$D$5:$K$29,MATCH(B102,'Modifikuoti svoriai '!$C$5:$C$29,0),MATCH(A102,'Modifikuoti svoriai '!$D$4:$K$4,0)),\"\")","v":""},null,null,null,null,null,null,null,null,null,null,null,null,null,"","","","","","","","",""]
[null,null,{"$f":"IFERROR(INDEX('Modifikuoti svoriai '!$D$5:$K$29,MATCH(B103,'Modifikuoti svoriai '!$C$5:$C$29,0),MATCH(A103,'Modifikuoti svoriai '!$D$4:$K$4,0)),\"\")","v":""},null,null,null,null,null,null,null,null,null,null,null,null,null,"","","","","","","","",""]
[null,null,{"$f":"IFERROR(INDEX('Modifikuoti svoriai '!$D$5:$K$29,MATCH(B104,'Modifikuoti svoriai '!$C$5:$C$29,0),MATCH(A104,'Modifikuoti svoriai '!$D$4:$K$4,0)),\"\")","v":""},null,null,null,null,null,null,null,null,null,null,null,null,null,"","","","","","","","",""]
[null,null,{"$f":"IFERROR(INDEX('Modifikuoti svoriai '!$D$5:$K$29,MATCH(B105,'Modifikuoti svoriai '!$C$5:$C$29,0),MATCH(A105,'Modifikuoti svoriai '!$D$4:$K$4,0)),\"\")","v":""},null,null,null,null,null,null,null,null,null,null,null,null,null,{"$f":"IF(Q$6<YEAR($K105),\"Pastato tarnavimo laikotarpis nepasibaigė\",IF(Q$6=YEAR($K105),\"Pastato tarnavimo laikotarpio pabaiga\",IF($K105<>0,\"Pastato tarnavimo laikotarpis pasibaigė\",\"\")))","v":""},"","","","","","","",""]
[null,null,{"$f":"IFERROR(INDEX('Modifikuoti svoriai '!$D$5:$K$29,MATCH(B106,'Modifikuoti svoriai '!$C$5:$C$29,0),MATCH(A106,'Modifikuoti svoriai '!$D$4:$K$4,0)),\"\")","v":""},null,null,null,null,null,null,null,null,null,null,null,null,null,"","","","","","","","",""]
[null,null,{"$f":"IFERROR(INDEX('Modifikuoti svoriai '!$D$5:$K$29,MATCH(B107,'Modifikuoti svoriai '!$C$5:$C$29,0),MATCH(A107,'Modifikuoti svoriai '!$D$4:$K$4,0)),\"\")","v":""},null,null,null,null,null,null,null,null,null,null,null,null,null,"","","","","","","","",""]
[null,null,{"$f":"IFERROR(INDEX('Modifikuoti svoriai '!$D$5:$K$29,MATCH(B108,'Modifikuoti svoriai '!$C$5:$C$29,0),MATCH(A108,'Modifikuoti svoriai '!$D$4:$K$4,0)),\"\")","v":""},null,null,null,null,null,null,null,null,null,null,null,null,null,"","","","","","","","",""]
[null,null,{"$f":"IFERROR(INDEX('Modifikuoti svoriai '!$D$5:$K$29,MATCH(B109,'Modifikuoti svoriai '!$C$5:$C$29,0),MATCH(A109,'Modifikuoti svoriai '!$D$4:$K$4,0)),\"\")","v":""},null,null,null,null,null,null,null,null,null,null,null,null,null,{"$f":"IF(Q$6<YEAR($K109),\"Pastato tarnavimo laikotarpis nepasibaigė\",IF(Q$6=YEAR($K109),\"Pastato tarnavimo laikotarpio pabaiga\",IF($K109<>0,\"Pastato tarnavimo laikotarpis pasibaigė\",\"\")))","v":""},"","","","","","","",""]
[null,null,{"$f":"IFERROR(INDEX('Modifikuoti svoriai '!$D$5:$K$29,MATCH(B110,'Modifikuoti svoriai '!$C$5:$C$29,0),MATCH(A110,'Modifikuoti svoriai '!$D$4:$K$4,0)),\"\")","v":""},null,null,null,null,null,null,null,null,null,null,null,null,null,"","","","","","","","",""]
[null,null,{"$f":"IFERROR(INDEX('Modifikuoti svoriai '!$D$5:$K$29,MATCH(B111,'Modifikuoti svoriai '!$C$5:$C$29,0),MATCH(A111,'Modifikuoti svoriai '!$D$4:$K$4,0)),\"\")","v":""},null,null,null,null,null,null,null,null,null,null,null,null,null,"","","","","","","","",""]
[null,null,{"$f":"IFERROR(INDEX('Modifikuoti svoriai '!$D$5:$K$29,MATCH(B112,'Modifikuoti svoriai '!$C$5:$C$29,0),MATCH(A112,'Modifikuoti svoriai '!$D$4:$K$4,0)),\"\")","v":""},null,null,null,null,null,null,null,null,null,null,null,null,null,"","","","","","","","",""]
[null,null,{"$f":"IFERROR(INDEX('Modifikuoti svoriai '!$D$5:$K$29,MATCH(B113,'Modifikuoti svoriai '!$C$5:$C$29,0),MATCH(A113,'Modifikuoti svoriai '!$D$4:$K$4,0)),\"\")","v":""},null,null,null,null,null,null,null,null,null,null,null,null,null,{"$f":"IF(Q$6<YEAR($K113),\"Pastato tarnavimo laikotarpis nepasibaigė\",IF(Q$6=YEAR($K113),\"Pastato tarnavimo laikotarpio pabaiga\",IF($K113<>0,\"Pastato tarnavimo laikotarpis pasibaigė\",\"\")))","v":""},"","","","","","","",""]
[null,null,{"$f":"IFERROR(INDEX('Modifikuoti svoriai '!$D$5:$K$29,MATCH(B114,'Modifikuoti svoriai '!$C$5:$C$29,0),MATCH(A114,'Modifikuoti svoriai '!$D$4:$K$4,0)),\"\")","v":""},null,null,null,null,null,null,null,null,null,null,null,null,null,"","","","","","","","",""]
[null,null,{"$f":"IFERROR(INDEX('Modifikuoti svoriai '!$D$5:$K$29,MATCH(B115,'Modifikuoti svoriai '!$C$5:$C$29,0),MATCH(A115,'Modifikuoti svoriai '!$D$4:$K$4,0)),\"\")","v":""},null,null,null,null,null,null,null,null,null,null,null,null,null,"","","","","","","","",""]
[null,null,{"$f":"IFERROR(INDEX('Modifikuoti svoriai '!$D$5:$K$29,MATCH(B116,'Modifikuoti svoriai '!$C$5:$C$29,0),MATCH(A116,'Modifikuoti svoriai '!$D$4:$K$4,0)),\"\")","v":""},null,null,null,null,null,null,null,null,null,null,null,null,null,"","","","","","","","",""]
[null,null,{"$f":"IFERROR(INDEX('Modifikuoti svoriai '!$D$5:$K$29,MATCH(B117,'Modifikuoti svoriai '!$C$5:$C$29,0),MATCH(A117,'Modifikuoti svoriai '!$D$4:$K$4,0)),\"\")","v":""},null,null,null,null,null,null,null,null,null,null,null,null,null,{"$f":"IF(Q$6<YEAR($K117),\"Pastato tarnavimo laikotarpis nepasibaigė\",IF(Q$6=YEAR($K117),\"Pastato tarnavimo laikotarpio pabaiga\",IF($K117<>0,\"Pastato tarnavimo laikotarpis pasibaigė\",\"\")))","v":""},"","","","","","","",""]
[null,null,{"$f":"IFERROR(INDEX('Modifikuoti svoriai '!$D$5:$K$29,MATCH(B118,'Modifikuoti svoriai '!$C$5:$C$29,0),MATCH(A118,'Modifikuoti svoriai '!$D$4:$K$4,0)),\"\")","v":""},null,null,null,null,null,null,null,null,null,null,null,null,null,"","","","","","","","",""]
[null,null,{"$f":"IFERROR(INDEX('Modifikuoti svoriai '!$D$5:$K$29,MATCH(B119,'Modifikuoti svoriai '!$C$5:$C$29,0),MATCH(A119,'Modifikuoti svoriai '!$D$4:$K$4,0)),\"\")","v":""},null,null,null,null,null,null,null,null,null,null,null,null,null,"","","","","","","","",""]
[null,null,{"$f":"IFERROR(INDEX('Modifikuoti svoriai '!$D$5:$K$29,MATCH(B120,'Modifikuoti svoriai '!$C$5:$C$29,0),MATCH(A120,'Modifikuoti svoriai '!$D$4:$K$4,0)),\"\")","v":""},null,null,null,null,null,null,null,null,null,null,null,null,null,"","","","","","","","",""]
[null,null,{"$f":"IFERROR(INDEX('Modifikuoti svoriai '!$D$5:$K$29,MATCH(B121,'Modifikuoti svoriai '!$C$5:$C$29,0),MATCH(A121,'Modifikuoti svoriai '!$D$4:$K$4,0)),\"\")","v":""},null,null,null,null,null,null,null,null,null,null,null,null,null,{"$f":"IF(Q$6<YEAR($K121),\"Pastato tarnavimo laikotarpis nepasibaigė\",IF(Q$6=YEAR($K121),\"Pastato tarnavimo laikotarpio pabaiga\",IF($K121<>0,\"Pastato tarnavimo laikotarpis pasibaigė\",\"\")))","v":""},"","","","","","","",""]
[null,null,{"$f":"IFERROR(INDEX('Modifikuoti svoriai '!$D$5:$K$29,MATCH(B122,'Modifikuoti svoriai '!$C$5:$C$29,0),MATCH(A122,'Modifikuoti svoriai '!$D$4:$K$4,0)),\"\")","v":""},null,null,null,null,null,null,null,null,null,null,null,null,null,"","","","","","","","",""]
[null,null,{"$f":"IFERROR(INDEX('Modifikuoti svoriai '!$D$5:$K$29,MATCH(B123,'Modifikuoti svoriai '!$C$5:$C$29,0),MATCH(A123,'Modifikuoti svoriai '!$D$4:$K$4,0)),\"\")","v":""},null,null,null,null,null,null,null,null,null,null,null,null,null,"","","","","","","","",""]
[null,null,{"$f":"IFERROR(INDEX('Modifikuoti svoriai '!$D$5:$K$29,MATCH(B124,'Modifikuoti svoriai '!$C$5:$C$29,0),MATCH(A124,'Modifikuoti svoriai '!$D$4:$K$4,0)),\"\")","v":""},null,null,null,null,null,null,null,null,null,null,null,null,null,"","","","","","","","",""]
[null,null,{"$f":"IFERROR(INDEX('Modifikuoti svoriai '!$D$5:$K$29,MATCH(B125,'Modifikuoti svoriai '!$C$5:$C$29,0),MATCH(A125,'Modifikuoti svoriai '!$D$4:$K$4,0)),\"\")","v":""},null,null,null,null,null,null,null,null,null,null,null,null,null,{"$f":"IF(Q$6<YEAR($K125),\"Pastato tarnavimo laikotarpis nepasibaigė\",IF(Q$6=YEAR($K125),\"Pastato tarnavimo laikotarpio pabaiga\",IF($K125<>0,\"Pastato tarnavimo laikotarpis pasibaigė\",\"\")))","v":""},"","","","","","","",""]
[null,null,{"$f":"IFERROR(INDEX('Modifikuoti svoriai '!$D$5:$K$29,MATCH(B126,'Modifikuoti svoriai '!$C$5:$C$29,0),MATCH(A126,'Modifikuoti svoriai '!$D$4:$K$4,0)),\"\")","v":""},null,null,null,null,null,null,null,null,null,null,null,null,null,"","","","","","","","",""]
[null,null,{"$f":"IFERROR(INDEX('Modifikuoti svoriai '!$D$5:$K$29,MATCH(B127,'Modifikuoti svoriai '!$C$5:$C$29,0),MATCH(A127,'Modifikuoti svoriai '!$D$4:$K$4,0)),\"\")","v":""},null,null,null,null,null,null,null,null,null,null,null,null,null,"","","","","","","","",""]
[null,null,{"$f":"IFERROR(INDEX('Modifikuoti svoriai '!$D$5:$K$29,MATCH(B128,'Modifikuoti svoriai '!$C$5:$C$29,0),MATCH(A128,'Modifikuoti svoriai '!$D$4:$K$4,0)),\"\")","v":""},null,null,null,null,null,null,null,null,null,null,null,null,null,"","","","","","","","",""]
[null,null,{"$f":"IFERROR(INDEX('Modifikuoti svoriai '!$D$5:$K$29,MATCH(B129,'Modifikuoti svoriai '!$C$5:$C$29,0),MATCH(A129,'Modifikuoti svoriai '!$D$4:$K$4,0)),\"\")","v":""},null,null,null,null,null,null,null,null,null,null,null,null,null,{"$f":"IF(Q$6<YEAR($K129),\"Pastato tarnavimo laikotarpis nepasibaigė\",IF(Q$6=YEAR($K129),\"Pastato tarnavimo laikotarpio pabaiga\",IF($K129<>0,\"Pastato tarnavimo laikotarpis pasibaigė\",\"\")))","v":""},"","","","","","","",""]
[null,null,{"$f":"IFERROR(INDEX('Modifikuoti svoriai '!$D$5:$K$29,MATCH(B130,'Modifikuoti svoriai '!$C$5:$C$29,0),MATCH(A130,'Modifikuoti svoriai '!$D$4:$K$4,0)),\"\")","v":""},null,null,null,null,null,null,null,null,null,null,null,null,null,"","","","","","","","",""]
[null,null,{"$f":"IFERROR(INDEX('Modifikuoti svoriai '!$D$5:$K$29,MATCH(B131,'Modifikuoti svoriai '!$C$5:$C$29,0),MATCH(A131,'Modifikuoti svoriai '!$D$4:$K$4,0)),\"\")","v":""},null,null,null,null,null,null,null,null,null,null,null,null,null,"","","","","","","","",""]
[null,null,{"$f":"IFERROR(INDEX('Modifikuoti svoriai '!$D$5:$K$29,MATCH(B132,'Modifikuoti svoriai '!$C$5:$C$29,0),MATCH(A132,'Modifikuoti svoriai '!$D$4:$K$4,0)),\"\")","v":""},null,null,null,null,null,null,null,null,null,null,null,null,null,"","","","","","","","",""]
[null,null,{"$f":"IFERROR(INDEX('Modifikuoti svoriai '!$D$5:$K$29,MATCH(B133,'Modifikuoti svoriai '!$C$5:$C$29,0),MATCH(A133,'Modifikuoti svoriai '!$D$4:$K$4,0)),\"\")","v":""},null,null,null,null,null,null,null,null,null,null,null,null,null,{"$f":"IF(Q$6<YEAR($K133),\"Pastato tarnavimo laikotarpis nepasibaigė\",IF(Q$6=YEAR($K133),\"Pastato tarnavimo laikotarpio pabaiga\",IF($K133<>0,\"Pastato tarnavimo laikotarpis pasibaigė\",\"\")))","v":""},"","","","","","","",""]
[null,null,{"$f":"IFERROR(INDEX('Modifikuoti svoriai '!$D$5:$K$29,MATCH(B134,'Modifikuoti svoriai '!$C$5:$C$29,0),MATCH(A134,'Modifikuoti svoriai '!$D$4:$K$4,0)),\"\")","v":""},null,null,null,null,null,null,null,null,null,null,null,null,null,"","","","","","","","",""]
[null,null,{"$f":"IFERROR(INDEX('Modifikuoti svoriai '!$D$5:$K$29,MATCH(B135,'Modifikuoti svoriai '!$C$5:$C$29,0),MATCH(A135,'Modifikuoti svoriai '!$D$4:$K$4,0)),\"\")","v":""},null,null,null,null,null,null,null,null,null,null,null,null,null,"","","","","","","","",""]
[null,null,{"$f":"IFERROR(INDEX('Modifikuoti svoriai '!$D$5:$K$29,MATCH(B136,'Modifikuoti svoriai '!$C$5:$C$29,0),MATCH(A136,'Modifikuoti svoriai '!$D$4:$K$4,0)),\"\")","v":""},null,null,null,null,null,null,null,null,null,null,null,null,null,"","","","","","","","",""]
[null,null,{"$f":"IFERROR(INDEX('Modifikuoti svoriai '!$D$5:$K$29,MATCH(B137,'Modifikuoti svoriai '!$C$5:$C$29,0),MATCH(A137,'Modifikuoti svoriai '!$D$4:$K$4,0)),\"\")","v":""},null,null,null,null,null,null,null,null,null,null,null,null,null,{"$f":"IF(Q$6<YEAR($K137),\"Pastato tarnavimo laikotarpis nepasibaigė\",IF(Q$6=YEAR($K137),\"Pastato tarnavimo laikotarpio pabaiga\",IF($K137<>0,\"Pastato tarnavimo laikotarpis pasibaigė\",\"\")))","v":""},"","","","","","","",""]
[null,null,{"$f":"IFERROR(INDEX('Modifikuoti svoriai '!$D$5:$K$29,MATCH(B138,'Modifikuoti svoriai '!$C$5:$C$29,0),MATCH(A138,'Modifikuoti svoriai '!$D$4:$K$4,0)),\"\")","v":""},null,null,null,null,null,null,null,null,null,null,null,null,null,"","","","","","","","",""]
[null,null,{"$f":"IFERROR(INDEX('Modifikuoti svoriai '!$D$5:$K$29,MATCH(B139,'Modifikuoti svoriai '!$C$5:$C$29,0),MATCH(A139,'Modifikuoti svoriai '!$D$4:$K$4,0)),\"\")","v":""},null,null,null,null,null,null,null,null,null,null,null,null,null,"","","","","","","","",""]
[null,null,{"$f":"IFERROR(INDEX('Modifikuoti svoriai '!$D$5:$K$29,MATCH(B140,'Modifikuoti svoriai '!$C$5:$C$29,0),MATCH(A140,'Modifikuoti svoriai '!$D$4:$K$4,0)),\"\")","v":""},null,null,null,null,null,null,null,null,null,null,null,null,null,"","","","","","","","",""]
[null,null,{"$f":"IFERROR(INDEX('Modifikuoti svoriai '!$D$5:$K$29,MATCH(B141,'Modifikuoti svoriai '!$C$5:$C$29,0),MATCH(A141,'Modifikuoti svoriai '!$D$4:$K$4,0)),\"\")","v":""},null,null,null,null,null,null,null,null,null,null,null,null,null,{"$f":"IF(Q$6<YEAR($K141),\"Pastato tarnavimo laikotarpis nepasibaigė\",IF(Q$6=YEAR($K141),\"Pastato tarnavimo laikotarpio pabaiga\",IF($K141<>0,\"Pastato tarnavimo laikotarpis pasibaigė\",\"\")))","v":""},"","","","","","","",""]
[null,null,{"$f":"IFERROR(INDEX('Modifikuoti svoriai '!$D$5:$K$29,MATCH(B142,'Modifikuoti svoriai '!$C$5:$C$29,0),MATCH(A142,'Modifikuoti svoriai '!$D$4:$K$4,0)),\"\")","v":""},null,null,null,null,null,null,null,null,null,null,null,null,null,"","","","","","","","",""]
[null,null,{"$f":"IFERROR(INDEX('Modifikuoti svoriai '!$D$5:$K$29,MATCH(B143,'Modifikuoti svoriai '!$C$5:$C$29,0),MATCH(A143,'Modifikuoti svoriai '!$D$4:$K$4,0)),\"\")","v":""},null,null,null,null,null,null,null,null,null,null,null,null,null,"","","","","","","","",""]
[null,null,{"$f":"IFERROR(INDEX('Modifikuoti svoriai '!$D$5:$K$29,MATCH(B144,'Modifikuoti svoriai '!$C$5:$C$29,0),MATCH(A144,'Modifikuoti svoriai '!$D$4:$K$4,0)),\"\")","v":""},null,null,null,null,null,null,null,null,null,null,null,null,null,"","","","","","","","",""]
[null,null,{"$f":"IFERROR(INDEX('Modifikuoti svoriai '!$D$5:$K$29,MATCH(B145,'Modifikuoti svoriai '!$C$5:$C$29,0),MATCH(A145,'Modifikuoti svoriai '!$D$4:$K$4,0)),\"\")","v":""},null,null,null,null,null,null,null,null,null,null,null,null,null,{"$f":"IF(Q$6<YEAR($K145),\"Pastato tarnavimo laikotarpis nepasibaigė\",IF(Q$6=YEAR($K145),\"Pastato tarnavimo laikotarpio pabaiga\",IF($K145<>0,\"Pastato tarnavimo laikotarpis pasibaigė\",\"\")))","v":""},"","","","","","","",""]
[null,null,{"$f":"IFERROR(INDEX('Modifikuoti svoriai '!$D$5:$K$29,MATCH(B146,'Modifikuoti svoriai '!$C$5:$C$29,0),MATCH(A146,'Modifikuoti svoriai '!$D$4:$K$4,0)),\"\")","v":""},null,null,null,null,null,null,null,null,null,null,null,null,null,"","","","","","","","",""]
[null,null,{"$f":"IFERROR(INDEX('Modifikuoti svoriai '!$D$5:$K$29,MATCH(B147,'Modifikuoti svoriai '!$C$5:$C$29,0),MATCH(A147,'Modifikuoti svoriai '!$D$4:$K$4,0)),\"\")","v":""},null,null,null,null,null,null,null,null,null,null,null,null,null,"","","","","","","","",""]
[null,null,{"$f":"IFERROR(INDEX('Modifikuoti svoriai '!$D$5:$K$29,MATCH(B148,'Modifikuoti svoriai '!$C$5:$C$29,0),MATCH(A148,'Modifikuoti svoriai '!$D$4:$K$4,0)),\"\")","v":""},null,null,null,null,null,null,null,null,null,null,null,null,null,"","","","","","","","",""]
[null,null,{"$f":"IFERROR(INDEX('Modifikuoti svoriai '!$D$5:$K$29,MATCH(B149,'Modifikuoti svoriai '!$C$5:$C$29,0),MATCH(A149,'Modifikuoti svoriai '!$D$4:$K$4,0)),\"\")","v":""},null,null,null,null,null,null,null,null,null,null,null,null,null,{"$f":"IF(Q$6<YEAR($K149),\"Pastato tarnavimo laikotarpis nepasibaigė\",IF(Q$6=YEAR($K149),\"Pastato tarnavimo laikotarpio pabaiga\",IF($K149<>0,\"Pastato tarnavimo laikotarpis pasibaigė\",\"\")))","v":""},"","","","","","","",""]
[null,null,{"$f":"IFERROR(INDEX('Modifikuoti svoriai '!$D$5:$K$29,MATCH(B150,'Modifikuoti svoriai '!$C$5:$C$29,0),MATCH(A150,'Modifikuoti svoriai '!$D$4:$K$4,0)),\"\")","v":""},null,null,null,null,null,null,null,null,null,null,null,null,null,"","","","","","","","",""]
[null,null,{"$f":"IFERROR(INDEX('Modifikuoti svoriai '!$D$5:$K$29,MATCH(B151,'Modifikuoti svoriai '!$C$5:$C$29,0),MATCH(A151,'Modifikuoti svoriai '!$D$4:$K$4,0)),\"\")","v":""},null,null,null,null,null,null,null,null,null,null,null,null,null,"","","","","","","","",""]
[null,null,{"$f":"IFERROR(INDEX('Modifikuoti svoriai '!$D$5:$K$29,MATCH(B152,'Modifikuoti svoriai '!$C$5:$C$29,0),MATCH(A152,'Modifikuoti svoriai '!$D$4:$K$4,0)),\"\")","v":""},null,null,null,null,null,null,null,null,null,null,null,null,null,"","","","","","","","",""]
[null,null,{"$f":"IFERROR(INDEX('Modifikuoti svoriai '!$D$5:$K$29,MATCH(B153,'Modifikuoti svoriai '!$C$5:$C$29,0),MATCH(A153,'Modifikuoti svoriai '!$D$4:$K$4,0)),\"\")","v":""},null,null,null,null,null,null,null,null,null,null,null,null,null,{"$f":"IF(Q$6<YEAR($K153),\"Pastato tarnavimo laikotarpis nepasibaigė\",IF(Q$6=YEAR($K153),\"Pastato tarnavimo laikotarpio pabaiga\",IF($K153<>0,\"Pastato tarnavimo laikotarpis pasibaigė\",\"\")))","v":""},"","","","","","","",""]
[null,null,{"$f":"IFERROR(INDEX('Modifikuoti svoriai '!$D$5:$K$29,MATCH(B154,'Modifikuoti svoriai '!$C$5:$C$29,0),MATCH(A154,'Modifikuoti svoriai '!$D$4:$K$4,0)),\"\")","v":""},null,null,null,null,null,null,null,null,null,null,null,null,null,"","","","","","","","",""]
[null,null,{"$f":"IFERROR(INDEX('Modifikuoti svoriai '!$D$5:$K$29,MATCH(B155,'Modifikuoti svoriai '!$C$5:$C$29,0),MATCH(A155,'Modifikuoti svoriai '!$D$4:$K$4,0)),\"\")","v":""},null,null,null,null,null,null,null,null,null,null,null,null,null,"","","","","","","","",""]
[null,null,{"$f":"IFERROR(INDEX('Modifikuoti svoriai '!$D$5:$K$29,MATCH(B156,'Modifikuoti svoriai '!$C$5:$C$29,0),MATCH(A156,'Modifikuoti svoriai '!$D$4:$K$4,0)),\"\")","v":""},null,null,null,null,null,null,null,null,null,null,null,null,null,"","","","","","","","",""]
[null,null,{"$f":"IFERROR(INDEX('Modifikuoti svoriai '!$D$5:$K$29,MATCH(B157,'Modifikuoti svoriai '!$C$5:$C$29,0),MATCH(A157,'Modifikuoti svoriai '!$D$4:$K$4,0)),\"\")","v":""},null,null,null,null,null,null,null,null,null,null,null,null,null,{"$f":"IF(Q$6<YEAR($K157),\"Pastato tarnavimo laikotarpis nepasibaigė\",IF(Q$6=YEAR($K157),\"Pastato tarnavimo laikotarpio pabaiga\",IF($K157<>0,\"Pastato tarnavimo laikotarpis pasibaigė\",\"\")))","v":""},"","","","","","","",""]
[null,null,{"$f":"IFERROR(INDEX('Modifikuoti svoriai '!$D$5:$K$29,MATCH(B158,'Modifikuoti svoriai '!$C$5:$C$29,0),MATCH(A158,'Modifikuoti svoriai '!$D$4:$K$4,0)),\"\")","v":""},null,null,null,null,null,null,null,null,null,null,null,null,null,"","","","","","","","",""]
[null,null,{"$f":"IFERROR(INDEX('Modifikuoti svoriai '!$D$5:$K$29,MATCH(B159,'Modifikuoti svoriai '!$C$5:$C$29,0),MATCH(A159,'Modifikuoti svoriai '!$D$4:$K$4,0)),\"\")","v":""},null,null,null,null,null,null,null,null,null,null,null,null,null,"","","","","","","","",""]
[null,null,{"$f":"IFERROR(INDEX('Modifikuoti svoriai '!$D$5:$K$29,MATCH(B160,'Modifikuoti svoriai '!$C$5:$C$29,0),MATCH(A160,'Modifikuoti svoriai '!$D$4:$K$4,0)),\"\")","v":""},null,null,null,null,null,null,null,null,null,null,null,null,null,"","","","","","","","",""]
[null,null,{"$f":"IFERROR(INDEX('Modifikuoti svoriai '!$D$5:$K$29,MATCH(B161,'Modifikuoti svoriai '!$C$5:$C$29,0),MATCH(A161,'Modifikuoti svoriai '!$D$4:$K$4,0)),\"\")","v":""},null,null,null,null,null,null,null,null,null,null,null,null,null,{"$f":"IF(Q$6<YEAR($K161),\"Pastato tarnavimo laikotarpis nepasibaigė\",IF(Q$6=YEAR($K161),\"Pastato tarnavimo laikotarpio pabaiga\",IF($K161<>0,\"Pastato tarnavimo laikotarpis pasibaigė\",\"\")))","v":""},"","","","","","","",""]
[null,null,{"$f":"IFERROR(INDEX('Modifikuoti svoriai '!$D$5:$K$29,MATCH(B162,'Modifikuoti svoriai '!$C$5:$C$29,0),MATCH(A162,'Modifikuoti svoriai '!$D$4:$K$4,0)),\"\")","v":""},null,null,null,null,null,null,null,null,null,null,null,null,null,"","","","","","","","",""]
[null,null,{"$f":"IFERROR(INDEX('Modifikuoti svoriai '!$D$5:$K$29,MATCH(B163,'Modifikuoti svoriai '!$C$5:$C$29,0),MATCH(A163,'Modifikuoti svoriai '!$D$4:$K$4,0)),\"\")","v":""},null,null,null,null,null,null,null,null,null,null,null,null,null,"","","","","","","","",""]
[null,null,{"$f":"IFERROR(INDEX('Modifikuoti svoriai '!$D$5:$K$29,MATCH(B164,'Modifikuoti svoriai '!$C$5:$C$29,0),MATCH(A164,'Modifikuoti svoriai '!$D$4:$K$4,0)),\"\")","v":""},null,null,null,null,null,null,null,null,null,null,null,null,null,"","","","","","","","",""]
[null,null,{"$f":"IFERROR(INDEX('Modifikuoti svoriai '!$D$5:$K$29,MATCH(B165,'Modifikuoti svoriai '!$C$5:$C$29,0),MATCH(A165,'Modifikuoti svoriai '!$D$4:$K$4,0)),\"\")","v":""},null,null,null,null,null,null,null,null,null,null,null,null,null,{"$f":"IF(Q$6<YEAR($K165),\"Pastato tarnavimo laikotarpis nepasibaigė\",IF(Q$6=YEAR($K165),\"Pastato tarnavimo laikotarpio pabaiga\",IF($K165<>0,\"Pastato tarnavimo laikotarpis pasibaigė\",\"\")))","v":""},"","","","","","","",""]
[null,null,{"$f":"IFERROR(INDEX('Modifikuoti svoriai '!$D$5:$K$29,MATCH(B166,'Modifikuoti svoriai '!$C$5:$C$29,0),MATCH(A166,'Modifikuoti svoriai '!$D$4:$K$4,0)),\"\")","v":""},null,null,null,null,null,null,null,null,null,null,null,null,null,"","","","","","","","",""]
[null,null,{"$f":"IFERROR(INDEX('Modifikuoti svoriai '!$D$5:$K$29,MATCH(B167,'Modifikuoti svoriai '!$C$5:$C$29,0),MATCH(A167,'Modifikuoti svoriai '!$D$4:$K$4,0)),\"\")","v":""},null,null,null,null,null,null,null,null,null,null,null,null,null,"","","","","","","","",""]
[null,null,{"$f":"IFERROR(INDEX('Modifikuoti svoriai '!$D$5:$K$29,MATCH(B168,'Modifikuoti svoriai '!$C$5:$C$29,0),MATCH(A168,'Modifikuoti svoriai '!$D$4:$K$4,0)),\"\")","v":""},null,null,null,null,null,null,null,null,null,null,null,null,null,"","","","","","","","",""]
[null,null,{"$f":"IFERROR(INDEX('Modifikuoti svoriai '!$D$5:$K$29,MATCH(B169,'Modifikuoti svoriai '!$C$5:$C$29,0),MATCH(A169,'Modifikuoti svoriai '!$D$4:$K$4,0)),\"\")","v":""},null,null,null,null,null,null,null,null,null,null,null,null,null,{"$f":"IF(Q$6<YEAR($K169),\"Pastato tarnavimo laikotarpis nepasibaigė\",IF(Q$6=YEAR($K169),\"Pastato tarnavimo laikotarpio pabaiga\",IF($K169<>0,\"Pastato tarnavimo laikotarpis pasibaigė\",\"\")))","v":""},"","","","","","","",""]
[null,null,{"$f":"IFERROR(INDEX('Modifikuoti svoriai '!$D$5:$K$29,MATCH(B170,'Modifikuoti svoriai '!$C$5:$C$29,0),MATCH(A170,'Modifikuoti svoriai '!$D$4:$K$4,0)),\"\")","v":""},null,null,null,null,null,null,null,null,null,null,null,null,null,"","","","","","","","",""]
[null,null,{"$f":"IFERROR(INDEX('Modifikuoti svoriai '!$D$5:$K$29,MATCH(B171,'Modifikuoti svoriai '!$C$5:$C$29,0),MATCH(A171,'Modifikuoti svoriai '!$D$4:$K$4,0)),\"\")","v":""},null,null,null,null,null,null,null,null,null,null,null,null,null,"","","","","","","","",""]
[null,null,{"$f":"IFERROR(INDEX('Modifikuoti svoriai '!$D$5:$K$29,MATCH(B172,'Modifikuoti svoriai '!$C$5:$C$29,0),MATCH(A172,'Modifikuoti svoriai '!$D$4:$K$4,0)),\"\")","v":""},null,null,null,null,null,null,null,null,null,null,null,null,null,"","","","","","","","",""]
[null,null,{"$f":"IFERROR(INDEX('Modifikuoti svoriai '!$D$5:$K$29,MATCH(B173,'Modifikuoti svoriai '!$C$5:$C$29,0),MATCH(A173,'Modifikuoti svoriai '!$D$4:$K$4,0)),\"\")","v":""},null,null,null,null,null,null,null,null,null,null,null,null,null,{"$f":"IF(Q$6<YEAR($K173),\"Pastato tarnavimo laikotarpis nepasibaigė\",IF(Q$6=YEAR($K173),\"Pastato tarnavimo laikotarpio pabaiga\",IF($K173<>0,\"Pastato tarnavimo laikotarpis pasibaigė\",\"\")))","v":""},"","","","","","","",""]
[null,null,{"$f":"IFERROR(INDEX('Modifikuoti svoriai '!$D$5:$K$29,MATCH(B174,'Modifikuoti svoriai '!$C$5:$C$29,0),MATCH(A174,'Modifikuoti svoriai '!$D$4:$K$4,0)),\"\")","v":""},null,null,null,null,null,null,null,null,null,null,null,null,null,"","","","","","","","",""]
[null,null,{"$f":"IFERROR(INDEX('Modifikuoti svoriai '!$D$5:$K$29,MATCH(B175,'Modifikuoti svoriai '!$C$5:$C$29,0),MATCH(A175,'Modifikuoti svoriai '!$D$4:$K$4,0)),\"\")","v":""},null,null,null,null,null,null,null,null,null,null,null,null,null,"","","","","","","","",""]
[null,null,{"$f":"IFERROR(INDEX('Modifikuoti svoriai '!$D$5:$K$29,MATCH(B176,'Modifikuoti svoriai '!$C$5:$C$29,0),MATCH(A176,'Modifikuoti svoriai '!$D$4:$K$4,0)),\"\")","v":""},null,null,null,null,null,null,null,null,null,null,null,null,null,"","","","","","","","",""]
[null,null,{"$f":"IFERROR(INDEX('Modifikuoti svoriai '!$D$5:$K$29,MATCH(B177,'Modifikuoti svoriai '!$C$5:$C$29,0),MATCH(A177,'Modifikuoti svoriai '!$D$4:$K$4,0)),\"\")","v":""},null,null,null,null,null,null,null,null,null,null,null,null,null,{"$f":"IF(Q$6<YEAR($K177),\"Pastato tarnavimo laikotarpis nepasibaigė\",IF(Q$6=YEAR($K177),\"Pastato tarnavimo laikotarpio pabaiga\",IF($K177<>0,\"Pastato tarnavimo laikotarpis pasibaigė\",\"\")))","v":""},"","","","","","","",""]
[null,null,{"$f":"IFERROR(INDEX('Modifikuoti svoriai '!$D$5:$K$29,MATCH(B178,'Modifikuoti svoriai '!$C$5:$C$29,0),MATCH(A178,'Modifikuoti svoriai '!$D$4:$K$4,0)),\"\")","v":""},null,null,null,null,null,null,null,null,null,null,null,null,null,"","","","","","","","",""]
[null,null,{"$f":"IFERROR(INDEX('Modifikuoti svoriai '!$D$5:$K$29,MATCH(B179,'Modifikuoti svoriai '!$C$5:$C$29,0),MATCH(A179,'Modifikuoti svoriai '!$D$4:$K$4,0)),\"\")","v":""},null,null,null,null,null,null,null,null,null,null,null,null,null,"","","","","","","","",""]
[null,null,{"$f":"IFERROR(INDEX('Modifikuoti svoriai '!$D$5:$K$29,MATCH(B180,'Modifikuoti svoriai '!$C$5:$C$29,0),MATCH(A180,'Modifikuoti svoriai '!$D$4:$K$4,0)),\"\")","v":""},null,null,null,null,null,null,null,null,null,null,null,null,null,"","","","","","","","",""]
[null,null,{"$f":"IFERROR(INDEX('Modifikuoti svoriai '!$D$5:$K$29,MATCH(B181,'Modifikuoti svoriai '!$C$5:$C$29,0),MATCH(A181,'Modifikuoti svoriai '!$D$4:$K$4,0)),\"\")","v":""},null,null,null,null,null,null,null,null,null,null,null,null,null,{"$f":"IF(Q$6<YEAR($K181),\"Pastato tarnavimo laikotarpis nepasibaigė\",IF(Q$6=YEAR($K181),\"Pastato tarnavimo laikotarpio pabaiga\",IF($K181<>0,\"Pastato tarnavimo laikotarpis pasibaigė\",\"\")))","v":""},"","","","","","","",""]
[null,null,{"$f":"IFERROR(INDEX('Modifikuoti svoriai '!$D$5:$K$29,MATCH(B182,'Modifikuoti svoriai '!$C$5:$C$29,0),MATCH(A182,'Modifikuoti svoriai '!$D$4:$K$4,0)),\"\")","v":""},null,null,null,null,null,null,null,null,null,null,null,null,null,"","","","","","","","",""]
[null,null,{"$f":"IFERROR(INDEX('Modifikuoti svoriai '!$D$5:$K$29,MATCH(B183,'Modifikuoti svoriai '!$C$5:$C$29,0),MATCH(A183,'Modifikuoti svoriai '!$D$4:$K$4,0)),\"\")","v":""},null,null,null,null,null,null,null,null,null,null,null,null,null,"","","","","","","","",""]
[null,null,{"$f":"IFERROR(INDEX('Modifikuoti svoriai '!$D$5:$K$29,MATCH(B184,'Modifikuoti svoriai '!$C$5:$C$29,0),MATCH(A184,'Modifikuoti svoriai '!$D$4:$K$4,0)),\"\")","v":""},null,null,null,null,null,null,null,null,null,null,null,null,null,"","","","","","","","",""]
[null,null,{"$f":"IFERROR(INDEX('Modifikuoti svoriai '!$D$5:$K$29,MATCH(B185,'Modifikuoti svoriai '!$C$5:$C$29,0),MATCH(A185,'Modifikuoti svoriai '!$D$4:$K$4,0)),\"\")","v":""},null,null,null,null,null,null,null,null,null,null,null,null,null,{"$f":"IF(Q$6<YEAR($K185),\"Pastato tarnavimo laikotarpis nepasibaigė\",IF(Q$6=YEAR($K185),\"Pastato tarnavimo laikotarpio pabaiga\",IF($K185<>0,\"Pastato tarnavimo laikotarpis pasibaigė\",\"\")))","v":""},"","","","","","","",""]
[null,null,{"$f":"IFERROR(INDEX('Modifikuoti svoriai '!$D$5:$K$29,MATCH(B186,'Modifikuoti svoriai '!$C$5:$C$29,0),MATCH(A186,'Modifikuoti svoriai '!$D$4:$K$4,0)),\"\")","v":""},null,null,null,null,null,null,null,null,null,null,null,null,null,"","","","","","","","",""]
[null,null,{"$f":"IFERROR(INDEX('Modifikuoti svoriai '!$D$5:$K$29,MATCH(B187,'Modifikuoti svoriai '!$C$5:$C$29,0),MATCH(A187,'Modifikuoti svoriai '!$D$4:$K$4,0)),\"\")","v":""},null,null,null,null,null,null,null,null,null,null,null,null,null,"","","","","","","","",""]
[null,null,{"$f":"IFERROR(INDEX('Modifikuoti svoriai '!$D$5:$K$29,MATCH(B188,'Modifikuoti svoriai '!$C$5:$C$29,0),MATCH(A188,'Modifikuoti svoriai '!$D$4:$K$4,0)),\"\")","v":""},null,null,null,null,null,null,null,null,null,null,null,null,null,"","","","","","","","",""]
[null,null,{"$f":"IFERROR(INDEX('Modifikuoti svoriai '!$D$5:$K$29,MATCH(B189,'Modifikuoti svoriai '!$C$5:$C$29,0),MATCH(A189,'Modifikuoti svoriai '!$D$4:$K$4,0)),\"\")","v":""},null,null,null,null,null,null,null,null,null,null,null,null,null,{"$f":"IF(Q$6<YEAR($K189),\"Pastato tarnavimo laikotarpis nepasibaigė\",IF(Q$6=YEAR($K189),\"Pastato tarnavimo laikotarpio pabaiga\",IF($K189<>0,\"Pastato tarnavimo laikotarpis pasibaigė\",\"\")))","v":""},"","","","","","","",""]
[null,null,{"$f":"IFERROR(INDEX('Modifikuoti svoriai '!$D$5:$K$29,MATCH(B190,'Modifikuoti svoriai '!$C$5:$C$29,0),MATCH(A190,'Modifikuoti svoriai '!$D$4:$K$4,0)),\"\")","v":""},null,null,null,null,null,null,null,null,null,null,null,null,null,"","","","","","","","",""]
[null,null,{"$f":"IFERROR(INDEX('Modifikuoti svoriai '!$D$5:$K$29,MATCH(B191,'Modifikuoti svoriai '!$C$5:$C$29,0),MATCH(A191,'Modifikuoti svoriai '!$D$4:$K$4,0)),\"\")","v":""},null,null,null,null,null,null,null,null,null,null,null,null,null,{"$f":"IF(Q$6<YEAR($K191),\"Pastato tarnavimo laikotarpis nepasibaigė\",IF(Q$6=YEAR($K191),\"Pastato tarnavimo laikotarpio pabaiga\",IF($K191<>0,\"Pastato tarnavimo laikotarpis pasibaigė\",\"\")))","v":""},"","","","","","","",""]
[null,null,{"$f":"IFERROR(INDEX('Modifikuoti svoriai '!$D$5:$K$29,MATCH(B192,'Modifikuoti svoriai '!$C$5:$C$29,0),MATCH(A192,'Modifikuoti svoriai '!$D$4:$K$4,0)),\"\")","v":""},null,null,null,null,null,null,null,null,null,null,null,null,null,"","","","","","","","",""]
[null,null,{"$f":"IFERROR(INDEX('Modifikuoti svoriai '!$D$5:$K$29,MATCH(B193,'Modifikuoti svoriai '!$C$5:$C$29,0),MATCH(A193,'Modifikuoti svoriai '!$D$4:$K$4,0)),\"\")","v":""},null,null,null,null,null,null,null,null,null,null,null,null,null,"","","","","","","","",""]
[null,null,{"$f":"IFERROR(INDEX('Modifikuoti svoriai '!$D$5:$K$29,MATCH(B194,'Modifikuoti svoriai '!$C$5:$C$29,0),MATCH(A194,'Modifikuoti svoriai '!$D$4:$K$4,0)),\"\")","v":""},null,null,null,null,null,null,null,null,null,null,null,null,null,"","","","","","","","",""]
[null,null,{"$f":"IFERROR(INDEX('Modifikuoti svoriai '!$D$5:$K$29,MATCH(B195,'Modifikuoti svoriai '!$C$5:$C$29,0),MATCH(A195,'Modifikuoti svoriai '!$D$4:$K$4,0)),\"\")","v":""},null,null,null,null,null,null,null,null,null,null,null,null,null,"","","","","","","","",""]
[null,null,{"$f":"IFERROR(INDEX('Modifikuoti svoriai '!$D$5:$K$29,MATCH(B196,'Modifikuoti svoriai '!$C$5:$C$29,0),MATCH(A196,'Modifikuoti svoriai '!$D$4:$K$4,0)),\"\")","v":""},null,null,null,null,null,null,null,null,null,null,null,null,null,"","","","","","","","",""]
[null,null,{"$f":"IFERROR(INDEX('Modifikuoti svoriai '!$D$5:$K$29,MATCH(B197,'Modifikuoti svoriai '!$C$5:$C$29,0),MATCH(A197,'Modifikuoti svoriai '!$D$4:$K$4,0)),\"\")","v":""},null,null,null,null,null,null,null,null,null,null,null,null,null,"","","","","","","","",""]
[null,null,{"$f":"IFERROR(INDEX('Modifikuoti svoriai '!$D$5:$K$29,MATCH(B198,'Modifikuoti svoriai '!$C$5:$C$29,0),MATCH(A198,'Modifikuoti svoriai '!$D$4:$K$4,0)),\"\")","v":""},null,null,null,null,null,null,null,null,null,null,null,null,null,"","","","","","","","",""]
[null,null,{"$f":"IFERROR(INDEX('Modifikuoti svoriai '!$D$5:$K$29,MATCH(B199,'Modifikuoti svoriai '!$C$5:$C$29,0),MATCH(A199,'Modifikuoti svoriai '!$D$4:$K$4,0)),\"\")","v":""},null,null,null,null,null,null,null,null,null,null,null,null,null,"","","","","","","","",""]
[null,null,{"$f":"IFERROR(INDEX('Modifikuoti svoriai '!$D$5:$K$29,MATCH(B200,'Modifikuoti svoriai '!$C$5:$C$29,0),MATCH(A200,'Modifikuoti svoriai '!$D$4:$K$4,0)),\"\")","v":""},null,null,null,null,null,null,null,null,null,null,null,null,null,"","","","","","","","",""]
[null,null,{"$f":"IFERROR(INDEX('Modifikuoti svoriai '!$D$5:$K$29,MATCH(B201,'Modifikuoti svoriai '!$C$5:$C$29,0),MATCH(A201,'Modifikuoti svoriai '!$D$4:$K$4,0)),\"\")","v":""},null,null,null,null,null,null,null,null,null,null,null,null,null,"","","","","","","","",""]
[null,null,{"$f":"IFERROR(INDEX('Modifikuoti svoriai '!$D$5:$K$29,MATCH(B202,'Modifikuoti svoriai '!$C$5:$C$29,0),MATCH(A202,'Modifikuoti svoriai '!$D$4:$K$4,0)),\"\")","v":""},null,null,null,null,null,null,null,null,null,null,null,null,null,"","","","","","","","",""]
[null,null,{"$f":"IFERROR(INDEX('Modifikuoti svoriai '!$D$5:$K$29,MATCH(B203,'Modifikuoti svoriai '!$C$5:$C$29,0),MATCH(A203,'Modifikuoti svoriai '!$D$4:$K$4,0)),\"\")","v":""},null,null,null,null,null,null,null,null,null,null,null,null,null,"","","","","","","","",""]
[null,null,{"$f":"IFERROR(INDEX('Modifikuoti svoriai '!$D$5:$K$29,MATCH(B204,'Modifikuoti svoriai '!$C$5:$C$29,0),MATCH(A204,'Modifikuoti svoriai '!$D$4:$K$4,0)),\"\")","v":""},null,null,null,null,null,null,null,null,null,null,null,null,null,"","","","","","","","",""]
[null,null,{"$f":"IFERROR(INDEX('Modifikuoti svoriai '!$D$5:$K$29,MATCH(B205,'Modifikuoti svoriai '!$C$5:$C$29,0),MATCH(A205,'Modifikuoti svoriai '!$D$4:$K$4,0)),\"\")","v":""},null,null,null,null,null,null,null,null,null,null,null,null,null,"","","","","","","","",""]
[null,null,{"$f":"IFERROR(INDEX('Modifikuoti svoriai '!$D$5:$K$29,MATCH(B206,'Modifikuoti svoriai '!$C$5:$C$29,0),MATCH(A206,'Modifikuoti svoriai '!$D$4:$K$4,0)),\"\")","v":""},null,null,null,null,null,null,null,null,null,null,null,null,null,"","","","","","","","",""]
[null,null,{"$f":"IFERROR(INDEX('Modifikuoti svoriai '!$D$5:$K$29,MATCH(B207,'Modifikuoti svoriai '!$C$5:$C$29,0),MATCH(A207,'Modifikuoti svoriai '!$D$4:$K$4,0)),\"\")","v":""},null,null,null,null,null,null,null,null,null,null,null,null,null,{"$f":"IF(Q$6<YEAR($K207),\"Pastato tarnavimo laikotarpis nepasibaigė\",IF(Q$6=YEAR($K207),\"Pastato tarnavimo laikotarpio pabaiga\",IF($K207<>0,\"Pastato tarnavimo laikotarpis pasibaigė\",\"\")))","v":""},"","","","","","","",""]
[null,null,{"$f":"IFERROR(INDEX('Modifikuoti svoriai '!$D$5:$K$29,MATCH(B208,'Modifikuoti svoriai '!$C$5:$C$29,0),MATCH(A208,'Modifikuoti svoriai '!$D$4:$K$4,0)),\"\")","v":""},null,null,null,null,null,null,null,null,null,null,null,null,null,"","","","","","","","",""]
[null,null,{"$f":"IFERROR(INDEX('Modifikuoti svoriai '!$D$5:$K$29,MATCH(B209,'Modifikuoti svoriai '!$C$5:$C$29,0),MATCH(A209,'Modifikuoti svoriai '!$D$4:$K$4,0)),\"\")","v":""},null,null,null,null,null,null,null,null,null,null,null,null,null,"","","","","","","","",""]
[null,null,{"$f":"IFERROR(INDEX('Modifikuoti svoriai '!$D$5:$K$29,MATCH(B210,'Modifikuoti svoriai '!$C$5:$C$29,0),MATCH(A210,'Modifikuoti svoriai '!$D$4:$K$4,0)),\"\")","v":""},null,null,null,null,null,null,null,null,null,null,null,null,null,"","","","","","","","",""]
[null,null,{"$f":"IFERROR(INDEX('Modifikuoti svoriai '!$D$5:$K$29,MATCH(B211,'Modifikuoti svoriai '!$C$5:$C$29,0),MATCH(A211,'Modifikuoti svoriai '!$D$4:$K$4,0)),\"\")","v":""},null,null,null,null,null,null,null,null,null,null,null,null,null,"","","","","","","","",""]
[null,null,{"$f":"IFERROR(INDEX('Modifikuoti svoriai '!$D$5:$K$29,MATCH(B212,'Modifikuoti svoriai '!$C$5:$C$29,0),MATCH(A212,'Modifikuoti svoriai '!$D$4:$K$4,0)),\"\")","v":""},null,null,null,null,null,null,null,null,null,null,null,null,null,"","","","","","","","",""]
[null,null,{"$f":"IFERROR(INDEX('Modifikuoti svoriai '!$D$5:$K$29,MATCH(B213,'Modifikuoti svoriai '!$C$5:$C$29,0),MATCH(A213,'Modifikuoti svoriai '!$D$4:$K$4,0)),\"\")","v":""},null,null,null,null,null,null,null,null,null,null,null,null,null,"","","","","","","","",""]
[null,null,{"$f":"IFERROR(INDEX('Modifikuoti svoriai '!$D$5:$K$29,MATCH(B214,'Modifikuoti svoriai '!$C$5:$C$29,0),MATCH(A214,'Modifikuoti svoriai '!$D$4:$K$4,0)),\"\")","v":""},null,null,null,null,null,null,null,null,null,null,null,null,null,"","","","","","","","",""]
[null,null,{"$f":"IFERROR(INDEX('Modifikuoti svoriai '!$D$5:$K$29,MATCH(B215,'Modifikuoti svoriai '!$C$5:$C$29,0),MATCH(A215,'Modifikuoti svoriai '!$D$4:$K$4,0)),\"\")","v":""},null,null,null,null,null,null,null,null,null,null,null,null,null,"","","","","","","","",""]
[null,null,{"$f":"IFERROR(INDEX('Modifikuoti svoriai '!$D$5:$K$29,MATCH(B216,'Modifikuoti svoriai '!$C$5:$C$29,0),MATCH(A216,'Modifikuoti svoriai '!$D$4:$K$4,0)),\"\")","v":""},null,null,null,null,null,null,null,null,null,null,null,null,null,"","","","","","","","",""]
[null,null,{"$f":"IFERROR(INDEX('Modifikuoti svoriai '!$D$5:$K$29,MATCH(B217,'Modifikuoti svoriai '!$C$5:$C$29,0),MATCH(A217,'Modifikuoti svoriai '!$D$4:$K$4,0)),\"\")","v":""},null,null,null,null,null,null,null,null,null,null,null,null,null,"","","","","","","","",""]
[null,null,{"$f":"IFERROR(INDEX('Modifikuoti svoriai '!$D$5:$K$29,MATCH(B218,'Modifikuoti svoriai '!$C$5:$C$29,0),MATCH(A218,'Modifikuoti svoriai '!$D$4:$K$4,0)),\"\")","v":""},null,null,null,null,null,null,null,null,null,null,null,null,null,"","","","","","","","",""]
[null,null,{"$f":"IFERROR(INDEX('Modifikuoti svoriai '!$D$5:$K$29,MATCH(B219,'Modifikuoti svoriai '!$C$5:$C$29,0),MATCH(A219,'Modifikuoti svoriai '!$D$4:$K$4,0)),\"\")","v":""},null,null,null,null,null,null,null,null,null,null,null,null,null,"","","","","","","","",""]
[null,null,{"$f":"IFERROR(INDEX('Modifikuoti svoriai '!$D$5:$K$29,MATCH(B220,'Modifikuoti svoriai '!$C$5:$C$29,0),MATCH(A220,'Modifikuoti svoriai '!$D$4:$K$4,0)),\"\")","v":""},null,null,null,null,null,null,null,null,null,null,null,null,null,"","","","","","","","",""]
[null,null,{"$f":"IFERROR(INDEX('Modifikuoti svoriai '!$D$5:$K$29,MATCH(B221,'Modifikuoti svoriai '!$C$5:$C$29,0),MATCH(A221,'Modifikuoti svoriai '!$D$4:$K$4,0)),\"\")","v":""},null,null,null,null,null,null,null,null,null,null,null,null,null,"","","","","","","","",""]
[null,null,{"$f":"IFERROR(INDEX('Modifikuoti svoriai '!$D$5:$K$29,MATCH(B222,'Modifikuoti svoriai '!$C$5:$C$29,0),MATCH(A222,'Modifikuoti svoriai '!$D$4:$K$4,0)),\"\")","v":""},null,null,null,null,null,null,null,null,null,null,null,null,null,"","","","","","","","",""]
[null,null,{"$f":"IFERROR(INDEX('Modifikuoti svoriai '!$D$5:$K$29,MATCH(B223,'Modifikuoti svoriai '!$C$5:$C$29,0),MATCH(A223,'Modifikuoti svoriai '!$D$4:$K$4,0)),\"\")","v":""},null,null,null,null,null,null,null,null,null,null,null,null,null,{"$f":"IF(Q$6<YEAR($K223),\"Pastato tarnavimo laikotarpis nepasibaigė\",IF(Q$6=YEAR($K223),\"Pastato tarnavimo laikotarpio pabaiga\",IF($K223<>0,\"Pastato tarnavimo laikotarpis pasibaigė\",\"\")))","v":""},"","","","","","","",""]
[null,null,{"$f":"IFERROR(INDEX('Modifikuoti svoriai '!$D$5:$K$29,MATCH(B224,'Modifikuoti svoriai '!$C$5:$C$29,0),MATCH(A224,'Modifikuoti svoriai '!$D$4:$K$4,0)),\"\")","v":""},null,null,null,null,null,null,null,null,null,null,null,null,null,"","","","","","","","",""]
[null,null,{"$f":"IFERROR(INDEX('Modifikuoti svoriai '!$D$5:$K$29,MATCH(B225,'Modifikuoti svoriai '!$C$5:$C$29,0),MATCH(A225,'Modifikuoti svoriai '!$D$4:$K$4,0)),\"\")","v":""},null,null,null,null,null,null,null,null,null,null,null,null,null,"","","","","","","","",""]
[null,null,{"$f":"IFERROR(INDEX('Modifikuoti svoriai '!$D$5:$K$29,MATCH(B226,'Modifikuoti svoriai '!$C$5:$C$29,0),MATCH(A226,'Modifikuoti svoriai '!$D$4:$K$4,0)),\"\")","v":""},null,null,null,null,null,null,null,null,null,null,null,null,null,"","","","","","","","",""]
[null,null,{"$f":"IFERROR(INDEX('Modifikuoti svoriai '!$D$5:$K$29,MATCH(B227,'Modifikuoti svoriai '!$C$5:$C$29,0),MATCH(A227,'Modifikuoti svoriai '!$D$4:$K$4,0)),\"\")","v":""},null,null,null,null,null,null,null,null,null,null,null,null,null,"","","","","","","","",""]
[null,null,{"$f":"IFERROR(INDEX('Modifikuoti svoriai '!$D$5:$K$29,MATCH(B228,'Modifikuoti svoriai '!$C$5:$C$29,0),MATCH(A228,'Modifikuoti svoriai '!$D$4:$K$4,0)),\"\")","v":""},null,null,null,null,null,null,null,null,null,null,null,null,null,"","","","","","","","",""]
[null,null,{"$f":"IFERROR(INDEX('Modifikuoti svoriai '!$D$5:$K$29,MATCH(B229,'Modifikuoti svoriai '!$C$5:$C$29,0),MATCH(A229,'Modifikuoti svoriai '!$D$4:$K$4,0)),\"\")","v":""},null,null,null,null,null,null,null,null,null,null,null,null,null,"","","","","","","","",""]
[null,null,{"$f":"IFERROR(INDEX('Modifikuoti svoriai '!$D$5:$K$29,MATCH(B230,'Modifikuoti svoriai '!$C$5:$C$29,0),MATCH(A230,'Modifikuoti svoriai '!$D$4:$K$4,0)),\"\")","v":""},null,null,null,null,null,null,null,null,null,null,null,null,null,"","","","","","","","",""]
[null,null,{"$f":"IFERROR(INDEX('Modifikuoti svoriai '!$D$5:$K$29,MATCH(B231,'Modifikuoti svoriai '!$C$5:$C$29,0),MATCH(A231,'Modifikuoti svoriai '!$D$4:$K$4,0)),\"\")","v":""},null,null,null,null,null,null,null,null,null,null,null,null,null,"","","","","","","","",""]
[null,null,{"$f":"IFERROR(INDEX('Modifikuoti svoriai '!$D$5:$K$29,MATCH(B232,'Modifikuoti svoriai '!$C$5:$C$29,0),MATCH(A232,'Modifikuoti svoriai '!$D$4:$K$4,0)),\"\")","v":""},null,null,null,null,null,null,null,null,null,null,null,null,null,"","","","","","","","",""]
[null,null,{"$f":"IFERROR(INDEX('Modifikuoti svoriai '!$D$5:$K$29,MATCH(B233,'Modifikuoti svoriai '!$C$5:$C$29,0),MATCH(A233,'Modifikuoti svoriai '!$D$4:$K$4,0)),\"\")","v":""},null,null,null,null,null,null,null,null,null,null,null,null,null,"","","","","","","","",""]
[null,null,{"$f":"IFERROR(INDEX('Modifikuoti svoriai '!$D$5:$K$29,MATCH(B234,'Modifikuoti svoriai '!$C$5:$C$29,0),MATCH(A234,'Modifikuoti svoriai '!$D$4:$K$4,0)),\"\")","v":""},null,null,null,null,null,null,null,null,null,null,null,null,null,"","","","","","","","",""]
[null,null,{"$f":"IFERROR(INDEX('Modifikuoti svoriai '!$D$5:$K$29,MATCH(B235,'Modifikuoti svoriai '!$C$5:$C$29,0),MATCH(A235,'Modifikuoti svoriai '!$D$4:$K$4,0)),\"\")","v":""},null,null,null,null,null,null,null,null,null,null,null,null,null,"","","","","","","","",""]
[null,null,{"$f":"IFERROR(INDEX('Modifikuoti svoriai '!$D$5:$K$29,MATCH(B236,'Modifikuoti svoriai '!$C$5:$C$29,0),MATCH(A236,'Modifikuoti svoriai '!$D$4:$K$4,0)),\"\")","v":""},null,null,null,null,null,null,null,null,null,null,null,null,null,"","","","","","","","",""]
[null,null,{"$f":"IFERROR(INDEX('Modifikuoti svoriai '!$D$5:$K$29,MATCH(B237,'Modifikuoti svoriai '!$C$5:$C$29,0),MATCH(A237,'Modifikuoti svoriai '!$D$4:$K$4,0)),\"\")","v":""},null,null,null,null,null,null,null,null,null,null,null,null,null,"","","","","","","","",""]
[null,null,{"$f":"IFERROR(INDEX('Modifikuoti svoriai '!$D$5:$K$29,MATCH(B238,'Modifikuoti svoriai '!$C$5:$C$29,0),MATCH(A238,'Modifikuoti svoriai '!$D$4:$K$4,0)),\"\")","v":""},null,null,null,null,null,null,null,null,null,null,null,null,null,"","","","","","","","",""]
[null,null,{"$f":"IFERROR(INDEX('Modifikuoti svoriai '!$D$5:$K$29,MATCH(B239,'Modifikuoti svoriai '!$C$5:$C$29,0),MATCH(A239,'Modifikuoti svoriai '!$D$4:$K$4,0)),\"\")","v":""},null,null,null,null,null,null,null,null,null,null,null,null,null,{"$f":"IF(Q$6<YEAR($K239),\"Pastato tarnavimo laikotarpis nepasibaigė\",IF(Q$6=YEAR($K239),\"Pastato tarnavimo laikotarpio pabaiga\",IF($K239<>0,\"Pastato tarnavimo laikotarpis pasibaigė\",\"\")))","v":""},"","","","","","","",""]
[null,null,{"$f":"IFERROR(INDEX('Modifikuoti svoriai '!$D$5:$K$29,MATCH(B240,'Modifikuoti svoriai '!$C$5:$C$29,0),MATCH(A240,'Modifikuoti svoriai '!$D$4:$K$4,0)),\"\")","v":""},null,null,null,null,null,null,null,null,null,null,null,null,null,"","","","","","","","",""]
[null,null,{"$f":"IFERROR(INDEX('Modifikuoti svoriai '!$D$5:$K$29,MATCH(B241,'Modifikuoti svoriai '!$C$5:$C$29,0),MATCH(A241,'Modifikuoti svoriai '!$D$4:$K$4,0)),\"\")","v":""},null,null,null,null,null,null,null,null,null,null,null,null,null,"","","","","","","","",""]
[null,null,{"$f":"IFERROR(INDEX('Modifikuoti svoriai '!$D$5:$K$29,MATCH(B242,'Modifikuoti svoriai '!$C$5:$C$29,0),MATCH(A242,'Modifikuoti svoriai '!$D$4:$K$4,0)),\"\")","v":""},null,null,null,null,null,null,null,null,null,null,null,null,null,"","","","","","","","",""]
[null,null,{"$f":"IFERROR(INDEX('Modifikuoti svoriai '!$D$5:$K$29,MATCH(B243,'Modifikuoti svoriai '!$C$5:$C$29,0),MATCH(A243,'Modifikuoti svoriai '!$D$4:$K$4,0)),\"\")","v":""},null,null,null,null,null,null,null,null,null,null,null,null,null,"","","","","","","","",""]
[null,null,{"$f":"IFERROR(INDEX('Modifikuoti svoriai '!$D$5:$K$29,MATCH(B244,'Modifikuoti svoriai '!$C$5:$C$29,0),MATCH(A244,'Modifikuoti svoriai '!$D$4:$K$4,0)),\"\")","v":""},null,null,null,null,null,null,null,null,null,null,null,null,null,"","","","","","","","",""]
[null,null,{"$f":"IFERROR(INDEX('Modifikuoti svoriai '!$D$5:$K$29,MATCH(B245,'Modifikuoti svoriai '!$C$5:$C$29,0),MATCH(A245,'Modifikuoti svoriai '!$D$4:$K$4,0)),\"\")","v":""},null,null,null,null,null,null,null,null,null,null,null,null,null,"","","","","","","","",""]
[null,null,{"$f":"IFERROR(INDEX('Modifikuoti svoriai '!$D$5:$K$29,MATCH(B246,'Modifikuoti svoriai '!$C$5:$C$29,0),MATCH(A246,'Modifikuoti svoriai '!$D$4:$K$4,0)),\"\")","v":""},null,null,null,null,null,null,null,null,null,null,null,null,null,"","","","","","","","",""]
[null,null,{"$f":"IFERROR(INDEX('Modifikuoti svoriai '!$D$5:$K$29,MATCH(B247,'Modifikuoti svoriai '!$C$5:$C$29,0),MATCH(A247,'Modifikuoti svoriai '!$D$4:$K$4,0)),\"\")","v":""},null,null,null,null,null,null,null,null,null,null,null,null,null,"","","","","","","","",""]
[null,null,{"$f":"IFERROR(INDEX('Modifikuoti svoriai '!$D$5:$K$29,MATCH(B248,'Modifikuoti svoriai '!$C$5:$C$29,0),MATCH(A248,'Modifikuoti svoriai '!$D$4:$K$4,0)),\"\")","v":""},null,null,null,null,null,null,null,null,null,null,null,null,null,"","","","","","","","",""]
[null,null,{"$f":"IFERROR(INDEX('Modifikuoti svoriai '!$D$5:$K$29,MATCH(B249,'Modifikuoti svoriai '!$C$5:$C$29,0),MATCH(A249,'Modifikuoti svoriai '!$D$4:$K$4,0)),\"\")","v":""},null,null,null,null,null,null,null,null,null,null,null,null,null,"","","","","","","","",""]
[null,null,{"$f":"IFERROR(INDEX('Modifikuoti svoriai '!$D$5:$K$29,MATCH(B250,'Modifikuoti svoriai '!$C$5:$C$29,0),MATCH(A250,'Modifikuoti svoriai '!$D$4:$K$4,0)),\"\")","v":""},null,null,null,null,null,null,null,null,null,null,null,null,null,"","","","","","","","",""]
[null,null,{"$f":"IFERROR(INDEX('Modifikuoti svoriai '!$D$5:$K$29,MATCH(B251,'Modifikuoti svoriai '!$C$5:$C$29,0),MATCH(A251,'Modifikuoti svoriai '!$D$4:$K$4,0)),\"\")","v":""},null,null,null,null,null,null,null,null,null,null,null,null,null,"","","","","","","","",""]
[null,null,{"$f":"IFERROR(INDEX('Modifikuoti svoriai '!$D$5:$K$29,MATCH(B252,'Modifikuoti svoriai '!$C$5:$C$29,0),MATCH(A252,'Modifikuoti svoriai '!$D$4:$K$4,0)),\"\")","v":""},null,null,null,null,null,null,null,null,null,null,null,null,null,"","","","","","","","",""]
[null,null,{"$f":"IFERROR(INDEX('Modifikuoti svoriai '!$D$5:$K$29,MATCH(B253,'Modifikuoti svoriai '!$C$5:$C$29,0),MATCH(A253,'Modifikuoti svoriai '!$D$4:$K$4,0)),\"\")","v":""},null,null,null,null,null,null,null,null,null,null,null,null,null,"","","","","","","","",""]
[null,null,{"$f":"IFERROR(INDEX('Modifikuoti svoriai '!$D$5:$K$29,MATCH(B254,'Modifikuoti svoriai '!$C$5:$C$29,0),MATCH(A254,'Modifikuoti svoriai '!$D$4:$K$4,0)),\"\")","v":""},null,null,null,null,null,null,null,null,null,null,null,null,null,"","","","","","","","",""]
[null,null,{"$f":"IFERROR(INDEX('Modifikuoti svoriai '!$D$5:$K$29,MATCH(B255,'Modifikuoti svoriai '!$C$5:$C$29,0),MATCH(A255,'Modifikuoti svoriai '!$D$4:$K$4,0)),\"\")","v":""},null,null,null,null,null,null,null,null,null,null,null,null,null,{"$f":"IF(Q$6<YEAR($K255),\"Pastato tarnavimo laikotarpis nepasibaigė\",IF(Q$6=YEAR($K255),\"Pastato tarnavimo laikotarpio pabaiga\",IF($K255<>0,\"Pastato tarnavimo laikotarpis pasibaigė\",\"\")))","v":""},"","","","","","","",""]
[null,null,{"$f":"IFERROR(INDEX('Modifikuoti svoriai '!$D$5:$K$29,MATCH(B256,'Modifikuoti svoriai '!$C$5:$C$29,0),MATCH(A256,'Modifikuoti svoriai '!$D$4:$K$4,0)),\"\")","v":""},null,null,null,null,null,null,null,null,null,null,null,null,null,"","","","","","","","",""]
[null,null,{"$f":"IFERROR(INDEX('Modifikuoti svoriai '!$D$5:$K$29,MATCH(B257,'Modifikuoti svoriai '!$C$5:$C$29,0),MATCH(A257,'Modifikuoti svoriai '!$D$4:$K$4,0)),\"\")","v":""},null,null,null,null,null,null,null,null,null,null,null,null,null,"","","","","","","","",""]
[null,null,{"$f":"IFERROR(INDEX('Modifikuoti svoriai '!$D$5:$K$29,MATCH(B258,'Modifikuoti svoriai '!$C$5:$C$29,0),MATCH(A258,'Modifikuoti svoriai '!$D$4:$K$4,0)),\"\")","v":""},null,null,null,null,null,null,null,null,null,null,null,null,null,"","","","","","","","",""]
[null,null,{"$f":"IFERROR(INDEX('Modifikuoti svoriai '!$D$5:$K$29,MATCH(B259,'Modifikuoti svoriai '!$C$5:$C$29,0),MATCH(A259,'Modifikuoti svoriai '!$D$4:$K$4,0)),\"\")","v":""},null,null,null,null,null,null,null,null,null,null,null,null,null,"","","","","","","","",""]
[null,null,{"$f":"IFERROR(INDEX('Modifikuoti svoriai '!$D$5:$K$29,MATCH(B260,'Modifikuoti svoriai '!$C$5:$C$29,0),MATCH(A260,'Modifikuoti svoriai '!$D$4:$K$4,0)),\"\")","v":""},null,null,null,null,null,null,null,null,null,null,null,null,null,"","","","","","","","",""]
[null,null,{"$f":"IFERROR(INDEX('Modifikuoti svoriai '!$D$5:$K$29,MATCH(B261,'Modifikuoti svoriai '!$C$5:$C$29,0),MATCH(A261,'Modifikuoti svoriai '!$D$4:$K$4,0)),\"\")","v":""},null,null,null,null,null,null,null,null,null,null,null,null,null,"","","","","","","","",""]
[null,null,{"$f":"IFERROR(INDEX('Modifikuoti svoriai '!$D$5:$K$29,MATCH(B262,'Modifikuoti svoriai '!$C$5:$C$29,0),MATCH(A262,'Modifikuoti svoriai '!$D$4:$K$4,0)),\"\")","v":""},null,null,null,null,null,null,null,null,null,null,null,null,null,"","","","","","","","",""]
[null,null,{"$f":"IFERROR(INDEX('Modifikuoti svoriai '!$D$5:$K$29,MATCH(B263,'Modifikuoti svoriai '!$C$5:$C$29,0),MATCH(A263,'Modifikuoti svoriai '!$D$4:$K$4,0)),\"\")","v":""},null,null,null,null,null,null,null,null,null,null,null,null,null,"","","","","","","","",""]
[null,null,{"$f":"IFERROR(INDEX('Modifikuoti svoriai '!$D$5:$K$29,MATCH(B264,'Modifikuoti svoriai '!$C$5:$C$29,0),MATCH(A264,'Modifikuoti svoriai '!$D$4:$K$4,0)),\"\")","v":""},null,null,null,null,null,null,null,null,null,null,null,null,null,"","","","","","","","",""]
[null,null,{"$f":"IFERROR(INDEX('Modifikuoti svoriai '!$D$5:$K$29,MATCH(B265,'Modifikuoti svoriai '!$C$5:$C$29,0),MATCH(A265,'Modifikuoti svoriai '!$D$4:$K$4,0)),\"\")","v":""},null,null,null,null,null,null,null,null,null,null,null,null,null,"","","","","","","","",""]
[null,null,{"$f":"IFERROR(INDEX('Modifikuoti svoriai '!$D$5:$K$29,MATCH(B266,'Modifikuoti svoriai '!$C$5:$C$29,0),MATCH(A266,'Modifikuoti svoriai '!$D$4:$K$4,0)),\"\")","v":""},null,null,null,null,null,null,null,null,null,null,null,null,null,"","","","","","","","",""]
[null,null,{"$f":"IFERROR(INDEX('Modifikuoti svoriai '!$D$5:$K$29,MATCH(B267,'Modifikuoti svoriai '!$C$5:$C$29,0),MATCH(A267,'Modifikuoti svoriai '!$D$4:$K$4,0)),\"\")","v":""},null,null,null,null,null,null,null,null,null,null,null,null,null,"","","","","","","","",""]
[null,null,{"$f":"IFERROR(INDEX('Modifikuoti svoriai '!$D$5:$K$29,MATCH(B268,'Modifikuoti svoriai '!$C$5:$C$29,0),MATCH(A268,'Modifikuoti svoriai '!$D$4:$K$4,0)),\"\")","v":""},null,null,null,null,null,null,null,null,null,null,null,null,null,"","","","","","","","",""]
[null,null,{"$f":"IFERROR(INDEX('Modifikuoti svoriai '!$D$5:$K$29,MATCH(B269,'Modifikuoti svoriai '!$C$5:$C$29,0),MATCH(A269,'Modifikuoti svoriai '!$D$4:$K$4,0)),\"\")","v":""},null,null,null,null,null,null,null,null,null,null,null,null,null,"","","","","","","","",""]
[null,null,{"$f":"IFERROR(INDEX('Modifikuoti svoriai '!$D$5:$K$29,MATCH(B270,'Modifikuoti svoriai '!$C$5:$C$29,0),MATCH(A270,'Modifikuoti svoriai '!$D$4:$K$4,0)),\"\")","v":""},null,null,null,null,null,null,null,null,null,null,null,null,null,"","","","","","","","",""]
[null,null,{"$f":"IFERROR(INDEX('Modifikuoti svoriai '!$D$5:$K$29,MATCH(B271,'Modifikuoti svoriai '!$C$5:$C$29,0),MATCH(A271,'Modifikuoti svoriai '!$D$4:$K$4,0)),\"\")","v":""},null,null,null,null,null,null,null,null,null,null,null,null,null,{"$f":"IF(Q$6<YEAR($K271),\"Pastato tarnavimo laikotarpis nepasibaigė\",IF(Q$6=YEAR($K271),\"Pastato tarnavimo laikotarpio pabaiga\",IF($K271<>0,\"Pastato tarnavimo laikotarpis pasibaigė\",\"\")))","v":""},"","","","","","","",""]
[null,null,{"$f":"IFERROR(INDEX('Modifikuoti svoriai '!$D$5:$K$29,MATCH(B272,'Modifikuoti svoriai '!$C$5:$C$29,0),MATCH(A272,'Modifikuoti svoriai '!$D$4:$K$4,0)),\"\")","v":""},null,null,null,null,null,null,null,null,null,null,null,null,null,"","","","","","","","",""]
[null,null,{"$f":"IFERROR(INDEX('Modifikuoti svoriai '!$D$5:$K$29,MATCH(B273,'Modifikuoti svoriai '!$C$5:$C$29,0),MATCH(A273,'Modifikuoti svoriai '!$D$4:$K$4,0)),\"\")","v":""},null,null,null,null,null,null,null,null,null,null,null,null,null,"","","","","","","","",""]
[null,null,{"$f":"IFERROR(INDEX('Modifikuoti svoriai '!$D$5:$K$29,MATCH(B274,'Modifikuoti svoriai '!$C$5:$C$29,0),MATCH(A274,'Modifikuoti svoriai '!$D$4:$K$4,0)),\"\")","v":""},null,null,null,null,null,null,null,null,null,null,null,null,null,"","","","","","","","",""]
[null,null,{"$f":"IFERROR(INDEX('Modifikuoti svoriai '!$D$5:$K$29,MATCH(B275,'Modifikuoti svoriai '!$C$5:$C$29,0),MATCH(A275,'Modifikuoti svoriai '!$D$4:$K$4,0)),\"\")","v":""},null,null,null,null,null,null,null,null,null,null,null,null,null,"","","","","","","","",""]
[null,null,{"$f":"IFERROR(INDEX('Modifikuoti svoriai '!$D$5:$K$29,MATCH(B276,'Modifikuoti svoriai '!$C$5:$C$29,0),MATCH(A276,'Modifikuoti svoriai '!$D$4:$K$4,0)),\"\")","v":""},null,null,null,null,null,null,null,null,null,null,null,null,null,"","","","","","","","",""]
[null,null,{"$f":"IFERROR(INDEX('Modifikuoti svoriai '!$D$5:$K$29,MATCH(B277,'Modifikuoti svoriai '!$C$5:$C$29,0),MATCH(A277,'Modifikuoti svoriai '!$D$4:$K$4,0)),\"\")","v":""},null,null,null,null,null,null,null,null,null,null,null,null,null,"","","","","","","","",""]
[null,null,{"$f":"IFERROR(INDEX('Modifikuoti svoriai '!$D$5:$K$29,MATCH(B278,'Modifikuoti svoriai '!$C$5:$C$29,0),MATCH(A278,'Modifikuoti svoriai '!$D$4:$K$4,0)),\"\")","v":""},null,null,null,null,null,null,null,null,null,null,null,null,null,"","","","","","","","",""]
[null,null,{"$f":"IFERROR(INDEX('Modifikuoti svoriai '!$D$5:$K$29,MATCH(B279,'Modifikuoti svoriai '!$C$5:$C$29,0),MATCH(A279,'Modifikuoti svoriai '!$D$4:$K$4,0)),\"\")","v":""},null,null,null,null,null,null,null,null,null,null,null,null,null,"","","","","","","","",""]
[null,null,{"$f":"IFERROR(INDEX('Modifikuoti svoriai '!$D$5:$K$29,MATCH(B280,'Modifikuoti svoriai '!$C$5:$C$29,0),MATCH(A280,'Modifikuoti svoriai '!$D$4:$K$4,0)),\"\")","v":""},null,null,null,null,null,null,null,null,null,null,null,null,null,"","","","","","","","",""]
[null,null,{"$f":"IFERROR(INDEX('Modifikuoti svoriai '!$D$5:$K$29,MATCH(B281,'Modifikuoti svoriai '!$C$5:$C$29,0),MATCH(A281,'Modifikuoti svoriai '!$D$4:$K$4,0)),\"\")","v":""},null,null,null,null,null,null,null,null,null,null,null,null,null,"","","","","","","","",""]
[null,null,{"$f":"IFERROR(INDEX('Modifikuoti svoriai '!$D$5:$K$29,MATCH(B282,'Modifikuoti svoriai '!$C$5:$C$29,0),MATCH(A282,'Modifikuoti svoriai '!$D$4:$K$4,0)),\"\")","v":""},null,null,null,null,null,null,null,null,null,null,null,null,null,"","","","","","","","",""]
[null,null,{"$f":"IFERROR(INDEX('Modifikuoti svoriai '!$D$5:$K$29,MATCH(B283,'Modifikuoti svoriai '!$C$5:$C$29,0),MATCH(A283,'Modifikuoti svoriai '!$D$4:$K$4,0)),\"\")","v":""},null,null,null,null,null,null,null,null,null,null,null,null,null,"","","","","","","","",""]
[null,null,{"$f":"IFERROR(INDEX('Modifikuoti svoriai '!$D$5:$K$29,MATCH(B284,'Modifikuoti svoriai '!$C$5:$C$29,0),MATCH(A284,'Modifikuoti svoriai '!$D$4:$K$4,0)),\"\")","v":""},null,null,null,null,null,null,null,null,null,null,null,null,null,"","","","","","","","",""]
[null,null,{"$f":"IFERROR(INDEX('Modifikuoti svoriai '!$D$5:$K$29,MATCH(B285,'Modifikuoti svoriai '!$C$5:$C$29,0),MATCH(A285,'Modifikuoti svoriai '!$D$4:$K$4,0)),\"\")","v":""},null,null,null,null,null,null,null,null,null,null,null,null,null,"","","","","","","","",""]
[null,null,{"$f":"IFERROR(INDEX('Modifikuoti svoriai '!$D$5:$K$29,MATCH(B286,'Modifikuoti svoriai '!$C$5:$C$29,0),MATCH(A286,'Modifikuoti svoriai '!$D$4:$K$4,0)),\"\")","v":""},null,null,null,null,null,null,null,null,null,null,null,null,null,"","","","","","","","",""]
[null,null,{"$f":"IFERROR(INDEX('Modifikuoti svoriai '!$D$5:$K$29,MATCH(B287,'Modifikuoti svoriai '!$C$5:$C$29,0),MATCH(A287,'Modifikuoti svoriai '!$D$4:$K$4,0)),\"\")","v":""},null,null,null,null,null,null,null,null,null,null,null,null,null,{"$f":"IF(Q$6<YEAR($K287),\"Pastato tarnavimo laikotarpis nepasibaigė\",IF(Q$6=YEAR($K287),\"Pastato tarnavimo laikotarpio pabaiga\",IF($K287<>0,\"Pastato tarnavimo laikotarpis pasibaigė\",\"\")))","v":""},"","","","","","","",""]
[null,null,{"$f":"IFERROR(INDEX('Modifikuoti svoriai '!$D$5:$K$29,MATCH(B288,'Modifikuoti svoriai '!$C$5:$C$29,0),MATCH(A288,'Modifikuoti svoriai '!$D$4:$K$4,0)),\"\")","v":""},null,null,null,null,null,null,null,null,null,null,null,null,null,"","","","","","","","",""]
[null,null,{"$f":"IFERROR(INDEX('Modifikuoti svoriai '!$D$5:$K$29,MATCH(B289,'Modifikuoti svoriai '!$C$5:$C$29,0),MATCH(A289,'Modifikuoti svoriai '!$D$4:$K$4,0)),\"\")","v":""},null,null,null,null,null,null,null,null,null,null,null,null,null,"","","","","","","","",""]
[null,null,{"$f":"IFERROR(INDEX('Modifikuoti svoriai '!$D$5:$K$29,MATCH(B290,'Modifikuoti svoriai '!$C$5:$C$29,0),MATCH(A290,'Modifikuoti svoriai '!$D$4:$K$4,0)),\"\")","v":""},null,null,null,null,null,null,null,null,null,null,null,null,null,"","","","","","","","",""]
[null,null,{"$f":"IFERROR(INDEX('Modifikuoti svoriai '!$D$5:$K$29,MATCH(B291,'Modifikuoti svoriai '!$C$5:$C$29,0),MATCH(A291,'Modifikuoti svoriai '!$D$4:$K$4,0)),\"\")","v":""},null,null,null,null,null,null,null,null,null,null,null,null,null,"","","","","","","","",""]
[null,null,{"$f":"IFERROR(INDEX('Modifikuoti svoriai '!$D$5:$K$29,MATCH(B292,'Modifikuoti svoriai '!$C$5:$C$29,0),MATCH(A292,'Modifikuoti svoriai '!$D$4:$K$4,0)),\"\")","v":""},null,null,null,null,null,null,null,null,null,null,null,null,null,"","","","","","","","",""]
[null,null,{"$f":"IFERROR(INDEX('Modifikuoti svoriai '!$D$5:$K$29,MATCH(B293,'Modifikuoti svoriai '!$C$5:$C$29,0),MATCH(A293,'Modifikuoti svoriai '!$D$4:$K$4,0)),\"\")","v":""},null,null,null,null,null,null,null,null,null,null,null,null,null,"","","","","","","","",""]
[null,null,{"$f":"IFERROR(INDEX('Modifikuoti svoriai '!$D$5:$K$29,MATCH(B294,'Modifikuoti svoriai '!$C$5:$C$29,0),MATCH(A294,'Modifikuoti svoriai '!$D$4:$K$4,0)),\"\")","v":""},null,null,null,null,null,null,null,null,null,null,null,null,null,"","","","","","","","",""]
[null,null,{"$f":"IFERROR(INDEX('Modifikuoti svoriai '!$D$5:$K$29,MATCH(B295,'Modifikuoti svoriai '!$C$5:$C$29,0),MATCH(A295,'Modifikuoti svoriai '!$D$4:$K$4,0)),\"\")","v":""},null,null,null,null,null,null,null,null,null,null,null,null,null,"","","","","","","","",""]
[null,null,{"$f":"IFERROR(INDEX('Modifikuoti svoriai '!$D$5:$K$29,MATCH(B296,'Modifikuoti svoriai '!$C$5:$C$29,0),MATCH(A296,'Modifikuoti svoriai '!$D$4:$K$4,0)),\"\")","v":""},null,null,null,null,null,null,null,null,null,null,null,null,null,"","","","","","","","",""]
[null,null,{"$f":"IFERROR(INDEX('Modifikuoti svoriai '!$D$5:$K$29,MATCH(B297,'Modifikuoti svoriai '!$C$5:$C$29,0),MATCH(A297,'Modifikuoti svoriai '!$D$4:$K$4,0)),\"\")","v":""},null,null,null,null,null,null,null,null,null,null,null,null,null,"","","","","","","","",""]
[null,null,{"$f":"IFERROR(INDEX('Modifikuoti svoriai '!$D$5:$K$29,MATCH(B298,'Modifikuoti svoriai '!$C$5:$C$29,0),MATCH(A298,'Modifikuoti svoriai '!$D$4:$K$4,0)),\"\")","v":""},null,null,null,null,null,null,null,null,null,null,null,null,null,"","","","","","","","",""]
[null,null,{"$f":"IFERROR(INDEX('Modifikuoti svoriai '!$D$5:$K$29,MATCH(B299,'Modifikuoti svoriai '!$C$5:$C$29,0),MATCH(A299,'Modifikuoti svoriai '!$D$4:$K$4,0)),\"\")","v":""},null,null,null,null,null,null,null,null,null,null,null,null,null,"","","","","","","","",""]
[null,null,{"$f":"IFERROR(INDEX('Modifikuoti svoriai '!$D$5:$K$29,MATCH(B300,'Modifikuoti svoriai '!$C$5:$C$29,0),MATCH(A300,'Modifikuoti svoriai '!$D$4:$K$4,0)),\"\")","v":""},null,null,null,null,null,null,null,null,null,null,null,null,null,"","","","","","","","",""]
[null,null,{"$f":"IFERROR(INDEX('Modifikuoti svoriai '!$D$5:$K$29,MATCH(B301,'Modifikuoti svoriai '!$C$5:$C$29,0),MATCH(A301,'Modifikuoti svoriai '!$D$4:$K$4,0)),\"\")","v":""},null,null,null,null,null,null,null,null,null,null,null,null,null,"","","","","","","","",""]
[null,null,{"$f":"IFERROR(INDEX('Modifikuoti svoriai '!$D$5:$K$29,MATCH(B302,'Modifikuoti svoriai '!$C$5:$C$29,0),MATCH(A302,'Modifikuoti svoriai '!$D$4:$K$4,0)),\"\")","v":""},null,null,null,null,null,null,null,null,null,null,null,null,null,"","","","","","","","",""]
[null,null,{"$f":"IFERROR(INDEX('Modifikuoti svoriai '!$D$5:$K$29,MATCH(B303,'Modifikuoti svoriai '!$C$5:$C$29,0),MATCH(A303,'Modifikuoti svoriai '!$D$4:$K$4,0)),\"\")","v":""},null,null,null,null,null,null,null,null,null,null,null,null,null,{"$f":"IF(Q$6<YEAR($K303),\"Pastato tarnavimo laikotarpis nepasibaigė\",IF(Q$6=YEAR($K303),\"Pastato tarnavimo laikotarpio pabaiga\",IF($K303<>0,\"Pastato tarnavimo laikotarpis pasibaigė\",\"\")))","v":""},"","","","","","","",""]
[null,null,{"$f":"IFERROR(INDEX('Modifikuoti svoriai '!$D$5:$K$29,MATCH(B304,'Modifikuoti svoriai '!$C$5:$C$29,0),MATCH(A304,'Modifikuoti svoriai '!$D$4:$K$4,0)),\"\")","v":""},null,null,null,null,null,null,null,null,null,null,null,null,null,"","","","","","","","",""]
[null,null,{"$f":"IFERROR(INDEX('Modifikuoti svoriai '!$D$5:$K$29,MATCH(B305,'Modifikuoti svoriai '!$C$5:$C$29,0),MATCH(A305,'Modifikuoti svoriai '!$D$4:$K$4,0)),\"\")","v":""},null,null,null,null,null,null,null,null,null,null,null,null,null,"","","","","","","","",""]
[null,null,{"$f":"IFERROR(INDEX('Modifikuoti svoriai '!$D$5:$K$29,MATCH(B306,'Modifikuoti svoriai '!$C$5:$C$29,0),MATCH(A306,'Modifikuoti svoriai '!$D$4:$K$4,0)),\"\")","v":""},null,null,null,null,null,null,null,null,null,null,null,null,null,"","","","","","","","",""]
[null,null,{"$f":"IFERROR(INDEX('Modifikuoti svoriai '!$D$5:$K$29,MATCH(B307,'Modifikuoti svoriai '!$C$5:$C$29,0),MATCH(A307,'Modifikuoti svoriai '!$D$4:$K$4,0)),\"\")","v":""},null,null,null,null,null,null,null,null,null,null,null,null,null,"","","","","","","","",""]
[null,null,{"$f":"IFERROR(INDEX('Modifikuoti svoriai '!$D$5:$K$29,MATCH(B308,'Modifikuoti svoriai '!$C$5:$C$29,0),MATCH(A308,'Modifikuoti svoriai '!$D$4:$K$4,0)),\"\")","v":""},null,null,null,null,null,null,null,null,null,null,null,null,null,"","","","","","","","",""]
[null,null,{"$f":"IFERROR(INDEX('Modifikuoti svoriai '!$D$5:$K$29,MATCH(B309,'Modifikuoti svoriai '!$C$5:$C$29,0),MATCH(A309,'Modifikuoti svoriai '!$D$4:$K$4,0)),\"\")","v":""},null,null,null,null,null,null,null,null,null,null,null,null,null,"","","","","","","","",""]
[null,null,{"$f":"IFERROR(INDEX('Modifikuoti svoriai '!$D$5:$K$29,MATCH(B310,'Modifikuoti svoriai '!$C$5:$C$29,0),MATCH(A310,'Modifikuoti svoriai '!$D$4:$K$4,0)),\"\")","v":""},null,null,null,null,null,null,null,null,null,null,null,null,null,"","","","","","","","",""]
[null,null,{"$f":"IFERROR(INDEX('Modifikuoti svoriai '!$D$5:$K$29,MATCH(B311,'Modifikuoti svoriai '!$C$5:$C$29,0),MATCH(A311,'Modifikuoti svoriai '!$D$4:$K$4,0)),\"\")","v":""},null,null,null,null,null,null,null,null,null,null,null,null,null,"","","","","","","","",""]
[null,null,{"$f":"IFERROR(INDEX('Modifikuoti svoriai '!$D$5:$K$29,MATCH(B312,'Modifikuoti svoriai '!$C$5:$C$29,0),MATCH(A312,'Modifikuoti svoriai '!$D$4:$K$4,0)),\"\")","v":""},null,null,null,null,null,null,null,null,null,null,null,null,null,"","","","","","","","",""]
[null,null,{"$f":"IFERROR(INDEX('Modifikuoti svoriai '!$D$5:$K$29,MATCH(B313,'Modifikuoti svoriai '!$C$5:$C$29,0),MATCH(A313,'Modifikuoti svoriai '!$D$4:$K$4,0)),\"\")","v":""},null,null,null,null,null,null,null,null,null,null,null,null,null,"","","","","","","","",""]
[null,null,{"$f":"IFERROR(INDEX('Modifikuoti svoriai '!$D$5:$K$29,MATCH(B314,'Modifikuoti svoriai '!$C$5:$C$29,0),MATCH(A314,'Modifikuoti svoriai '!$D$4:$K$4,0)),\"\")","v":""},null,null,null,null,null,null,null,null,null,null,null,null,null,"","","","","","","","",""]
[null,null,{"$f":"IFERROR(INDEX('Modifikuoti svoriai '!$D$5:$K$29,MATCH(B315,'Modifikuoti svoriai '!$C$5:$C$29,0),MATCH(A315,'Modifikuoti svoriai '!$D$4:$K$4,0)),\"\")","v":""},null,null,null,null,null,null,null,null,null,null,null,null,null,"","","","","","","","",""]
[null,null,{"$f":"IFERROR(INDEX('Modifikuoti svoriai '!$D$5:$K$29,MATCH(B316,'Modifikuoti svoriai '!$C$5:$C$29,0),MATCH(A316,'Modifikuoti svoriai '!$D$4:$K$4,0)),\"\")","v":""},null,null,null,null,null,null,null,null,null,null,null,null,null,"","","","","","","","",""]
[null,null,{"$f":"IFERROR(INDEX('Modifikuoti svoriai '!$D$5:$K$29,MATCH(B317,'Modifikuoti svoriai '!$C$5:$C$29,0),MATCH(A317,'Modifikuoti svoriai '!$D$4:$K$4,0)),\"\")","v":""},null,null,null,null,null,null,null,null,null,null,null,null,null,"","","","","","","","",""]
[null,null,{"$f":"IFERROR(INDEX('Modifikuoti svoriai '!$D$5:$K$29,MATCH(B318,'Modifikuoti svoriai '!$C$5:$C$29,0),MATCH(A318,'Modifikuoti svoriai '!$D$4:$K$4,0)),\"\")","v":""},null,null,null,null,null,null,null,null,null,null,null,null,null,"","","","","","","","",""]
[null,null,{"$f":"IFERROR(INDEX('Modifikuoti svoriai '!$D$5:$K$29,MATCH(B319,'Modifikuoti svoriai '!$C$5:$C$29,0),MATCH(A319,'Modifikuoti svoriai '!$D$4:$K$4,0)),\"\")","v":""},null,null,null,null,null,null,null,null,null,null,null,null,null,{"$f":"IF(Q$6<YEAR($K319),\"Pastato tarnavimo laikotarpis nepasibaigė\",IF(Q$6=YEAR($K319),\"Pastato tarnavimo laikotarpio pabaiga\",IF($K319<>0,\"Pastato tarnavimo laikotarpis pasibaigė\",\"\")))","v":""},"","","","","","","",""]
[null,null,{"$f":"IFERROR(INDEX('Modifikuoti svoriai '!$D$5:$K$29,MATCH(B320,'Modifikuoti svoriai '!$C$5:$C$29,0),MATCH(A320,'Modifikuoti svoriai '!$D$4:$K$4,0)),\"\")","v":""},null,null,null,null,null,null,null,null,null,null,null,null,null,"","","","","","","","",""]
[null,null,{"$f":"IFERROR(INDEX('Modifikuoti svoriai '!$D$5:$K$29,MATCH(B321,'Modifikuoti svoriai '!$C$5:$C$29,0),MATCH(A321,'Modifikuoti svoriai '!$D$4:$K$4,0)),\"\")","v":""},null,null,null,null,null,null,null,null,null,null,null,null,null,"","","","","","","","",""]
[null,null,{"$f":"IFERROR(INDEX('Modifikuoti svoriai '!$D$5:$K$29,MATCH(B322,'Modifikuoti svoriai '!$C$5:$C$29,0),MATCH(A322,'Modifikuoti svoriai '!$D$4:$K$4,0)),\"\")","v":""},null,null,null,null,null,null,null,null,null,null,null,null,null,"","","","","","","","",""]
[null,null,{"$f":"IFERROR(INDEX('Modifikuoti svoriai '!$D$5:$K$29,MATCH(B323,'Modifikuoti svoriai '!$C$5:$C$29,0),MATCH(A323,'Modifikuoti svoriai '!$D$4:$K$4,0)),\"\")","v":""},null,null,null,null,null,null,null,null,null,null,null,null,null,"","","","","","","","",""]
[null,null,{"$f":"IFERROR(INDEX('Modifikuoti svoriai '!$D$5:$K$29,MATCH(B324,'Modifikuoti svoriai '!$C$5:$C$29,0),MATCH(A324,'Modifikuoti svoriai '!$D$4:$K$4,0)),\"\")","v":""},null,null,null,null,null,null,null,null,null,null,null,null,null,"","","","","","","","",""]
[null,null,{"$f":"IFERROR(INDEX('Modifikuoti svoriai '!$D$5:$K$29,MATCH(B325,'Modifikuoti svoriai '!$C$5:$C$29,0),MATCH(A325,'Modifikuoti svoriai '!$D$4:$K$4,0)),\"\")","v":""},null,null,null,null,null,null,null,null,null,null,null,null,null,"","","","","","","","",""]
[null,null,{"$f":"IFERROR(INDEX('Modifikuoti svoriai '!$D$5:$K$29,MATCH(B326,'Modifikuoti svoriai '!$C$5:$C$29,0),MATCH(A326,'Modifikuoti svoriai '!$D$4:$K$4,0)),\"\")","v":""},null,null,null,null,null,null,null,null,null,null,null,null,null,"","","","","","","","",""]
[null,null,{"$f":"IFERROR(INDEX('Modifikuoti svoriai '!$D$5:$K$29,MATCH(B327,'Modifikuoti svoriai '!$C$5:$C$29,0),MATCH(A327,'Modifikuoti svoriai '!$D$4:$K$4,0)),\"\")","v":""},null,null,null,null,null,null,null,null,null,null,null,null,null,"","","","","","","","",""]
[null,null,{"$f":"IFERROR(INDEX('Modifikuoti svoriai '!$D$5:$K$29,MATCH(B328,'Modifikuoti svoriai '!$C$5:$C$29,0),MATCH(A328,'Modifikuoti svoriai '!$D$4:$K$4,0)),\"\")","v":""},null,null,null,null,null,null,null,null,null,null,null,null,null,"","","","","","","","",""]
[null,null,{"$f":"IFERROR(INDEX('Modifikuoti svoriai '!$D$5:$K$29,MATCH(B329,'Modifikuoti svoriai '!$C$5:$C$29,0),MATCH(A329,'Modifikuoti svoriai '!$D$4:$K$4,0)),\"\")","v":""},null,null,null,null,null,null,null,null,null,null,null,null,null,"","","","","","","","",""]
[null,null,{"$f":"IFERROR(INDEX('Modifikuoti svoriai '!$D$5:$K$29,MATCH(B330,'Modifikuoti svoriai '!$C$5:$C$29,0),MATCH(A330,'Modifikuoti svoriai '!$D$4:$K$4,0)),\"\")","v":""},null,null,null,null,null,null,null,null,null,null,null,null,null,"","","","","","","","",""]
[null,null,{"$f":"IFERROR(INDEX('Modifikuoti svoriai '!$D$5:$K$29,MATCH(B331,'Modifikuoti svoriai '!$C$5:$C$29,0),MATCH(A331,'Modifikuoti svoriai '!$D$4:$K$4,0)),\"\")","v":""},null,null,null,null,null,null,null,null,null,null,null,null,null,"","","","","","","","",""]
[null,null,{"$f":"IFERROR(INDEX('Modifikuoti svoriai '!$D$5:$K$29,MATCH(B332,'Modifikuoti svoriai '!$C$5:$C$29,0),MATCH(A332,'Modifikuoti svoriai '!$D$4:$K$4,0)),\"\")","v":""},null,null,null,null,null,null,null,null,null,null,null,null,null,"","","","","","","","",""]
[null,null,{"$f":"IFERROR(INDEX('Modifikuoti svoriai '!$D$5:$K$29,MATCH(B333,'Modifikuoti svoriai '!$C$5:$C$29,0),MATCH(A333,'Modifikuoti svoriai '!$D$4:$K$4,0)),\"\")","v":""},null,null,null,null,null,null,null,null,null,null,null,null,null,"","","","","","","","",""]
[null,null,{"$f":"IFERROR(INDEX('Modifikuoti svoriai '!$D$5:$K$29,MATCH(B334,'Modifikuoti svoriai '!$C$5:$C$29,0),MATCH(A334,'Modifikuoti svoriai '!$D$4:$K$4,0)),\"\")","v":""},null,null,null,null,null,null,null,null,null,null,null,null,null,"","","","","","","","",""]
[null,null,{"$f":"IFERROR(INDEX('Modifikuoti svoriai '!$D$5:$K$29,MATCH(B335,'Modifikuoti svoriai '!$C$5:$C$29,0),MATCH(A335,'Modifikuoti svoriai '!$D$4:$K$4,0)),\"\")","v":""},null,null,null,null,null,null,null,null,null,null,null,null,null,{"$f":"IF(Q$6<YEAR($K335),\"Pastato tarnavimo laikotarpis nepasibaigė\",IF(Q$6=YEAR($K335),\"Pastato tarnavimo laikotarpio pabaiga\",IF($K335<>0,\"Pastato tarnavimo laikotarpis pasibaigė\",\"\")))","v":""},"","","","","","","",""]
[null,null,{"$f":"IFERROR(INDEX('Modifikuoti svoriai '!$D$5:$K$29,MATCH(B336,'Modifikuoti svoriai '!$C$5:$C$29,0),MATCH(A336,'Modifikuoti svoriai '!$D$4:$K$4,0)),\"\")","v":""},null,null,null,null,null,null,null,null,null,null,null,null,null,"","","","","","","","",""]
[null,null,{"$f":"IFERROR(INDEX('Modifikuoti svoriai '!$D$5:$K$29,MATCH(B337,'Modifikuoti svoriai '!$C$5:$C$29,0),MATCH(A337,'Modifikuoti svoriai '!$D$4:$K$4,0)),\"\")","v":""},null,null,null,null,null,null,null,null,null,null,null,null,null,"","","","","","","","",""]
[null,null,{"$f":"IFERROR(INDEX('Modifikuoti svoriai '!$D$5:$K$29,MATCH(B338,'Modifikuoti svoriai '!$C$5:$C$29,0),MATCH(A338,'Modifikuoti svoriai '!$D$4:$K$4,0)),\"\")","v":""},null,null,null,null,null,null,null,null,null,null,null,null,null,"","","","","","","","",""]
[null,null,{"$f":"IFERROR(INDEX('Modifikuoti svoriai '!$D$5:$K$29,MATCH(B339,'Modifikuoti svoriai '!$C$5:$C$29,0),MATCH(A339,'Modifikuoti svoriai '!$D$4:$K$4,0)),\"\")","v":""},null,null,null,null,null,null,null,null,null,null,null,null,null,"","","","","","","","",""]
[null,null,{"$f":"IFERROR(INDEX('Modifikuoti svoriai '!$D$5:$K$29,MATCH(B340,'Modifikuoti svoriai '!$C$5:$C$29,0),MATCH(A340,'Modifikuoti svoriai '!$D$4:$K$4,0)),\"\")","v":""},null,null,null,null,null,null,null,null,null,null,null,null,null,"","","","","","","","",""]
[null,null,{"$f":"IFERROR(INDEX('Modifikuoti svoriai '!$D$5:$K$29,MATCH(B341,'Modifikuoti svoriai '!$C$5:$C$29,0),MATCH(A341,'Modifikuoti svoriai '!$D$4:$K$4,0)),\"\")","v":""},null,null,null,null,null,null,null,null,null,null,null,null,null,"","","","","","","","",""]
[null,null,{"$f":"IFERROR(INDEX('Modifikuoti svoriai '!$D$5:$K$29,MATCH(B342,'Modifikuoti svoriai '!$C$5:$C$29,0),MATCH(A342,'Modifikuoti svoriai '!$D$4:$K$4,0)),\"\")","v":""},null,null,null,null,null,null,null,null,null,null,null,null,null,"","","","","","","","",""]
[null,null,{"$f":"IFERROR(INDEX('Modifikuoti svoriai '!$D$5:$K$29,MATCH(B343,'Modifikuoti svoriai '!$C$5:$C$29,0),MATCH(A343,'Modifikuoti svoriai '!$D$4:$K$4,0)),\"\")","v":""},null,null,null,null,null,null,null,null,null,null,null,null,null,"","","","","","","","",""]
[null,null,{"$f":"IFERROR(INDEX('Modifikuoti svoriai '!$D$5:$K$29,MATCH(B344,'Modifikuoti svoriai '!$C$5:$C$29,0),MATCH(A344,'Modifikuoti svoriai '!$D$4:$K$4,0)),\"\")","v":""},null,null,null,null,null,null,null,null,null,null,null,null,null,"","","","","","","","",""]
[null,null,{"$f":"IFERROR(INDEX('Modifikuoti svoriai '!$D$5:$K$29,MATCH(B345,'Modifikuoti svoriai '!$C$5:$C$29,0),MATCH(A345,'Modifikuoti svoriai '!$D$4:$K$4,0)),\"\")","v":""},null,null,null,null,null,null,null,null,null,null,null,null,null,"","","","","","","","",""]
[null,null,{"$f":"IFERROR(INDEX('Modifikuoti svoriai '!$D$5:$K$29,MATCH(B346,'Modifikuoti svoriai '!$C$5:$C$29,0),MATCH(A346,'Modifikuoti svoriai '!$D$4:$K$4,0)),\"\")","v":""},null,null,null,null,null,null,null,null,null,null,null,null,null,"","","","","","","","",""]
[null,null,{"$f":"IFERROR(INDEX('Modifikuoti svoriai '!$D$5:$K$29,MATCH(B347,'Modifikuoti svoriai '!$C$5:$C$29,0),MATCH(A347,'Modifikuoti svoriai '!$D$4:$K$4,0)),\"\")","v":""},null,null,null,null,null,null,null,null,null,null,null,null,null,"","","","","","","","",""]
[null,null,{"$f":"IFERROR(INDEX('Modifikuoti svoriai '!$D$5:$K$29,MATCH(B348,'Modifikuoti svoriai '!$C$5:$C$29,0),MATCH(A348,'Modifikuoti svoriai '!$D$4:$K$4,0)),\"\")","v":""},null,null,null,null,null,null,null,null,null,null,null,null,null,"","","","","","","","",""]
[null,null,{"$f":"IFERROR(INDEX('Modifikuoti svoriai '!$D$5:$K$29,MATCH(B349,'Modifikuoti svoriai '!$C$5:$C$29,0),MATCH(A349,'Modifikuoti svoriai '!$D$4:$K$4,0)),\"\")","v":""},null,null,null,null,null,null,null,null,null,null,null,null,null,"","","","","","","","",""]
[null,null,{"$f":"IFERROR(INDEX('Modifikuoti svoriai '!$D$5:$K$29,MATCH(B350,'Modifikuoti svoriai '!$C$5:$C$29,0),MATCH(A350,'Modifikuoti svoriai '!$D$4:$K$4,0)),\"\")","v":""},null,null,null,null,null,null,null,null,null,null,null,null,null,"","","","","","","","",""]
[null,null,{"$f":"IFERROR(INDEX('Modifikuoti svoriai '!$D$5:$K$29,MATCH(B351,'Modifikuoti svoriai '!$C$5:$C$29,0),MATCH(A351,'Modifikuoti svoriai '!$D$4:$K$4,0)),\"\")","v":""},null,null,null,null,null,null,null,null,null,null,null,null,null,{"$f":"IF(Q$6<YEAR($K351),\"Pastato tarnavimo laikotarpis nepasibaigė\",IF(Q$6=YEAR($K351),\"Pastato tarnavimo laikotarpio pabaiga\",IF($K351<>0,\"Pastato tarnavimo laikotarpis pasibaigė\",\"\")))","v":""},"","","","","","","",""]
[null,null,{"$f":"IFERROR(INDEX('Modifikuoti svoriai '!$D$5:$K$29,MATCH(B352,'Modifikuoti svoriai '!$C$5:$C$29,0),MATCH(A352,'Modifikuoti svoriai '!$D$4:$K$4,0)),\"\")","v":""},null,null,null,null,null,null,null,null,null,null,null,null,null,"","","","","","","","",""]
[null,null,{"$f":"IFERROR(INDEX('Modifikuoti svoriai '!$D$5:$K$29,MATCH(B353,'Modifikuoti svoriai '!$C$5:$C$29,0),MATCH(A353,'Modifikuoti svoriai '!$D$4:$K$4,0)),\"\")","v":""},null,null,null,null,null,null,null,null,null,null,null,null,null,"","","","","","","","",""]
[null,null,{"$f":"IFERROR(INDEX('Modifikuoti svoriai '!$D$5:$K$29,MATCH(B354,'Modifikuoti svoriai '!$C$5:$C$29,0),MATCH(A354,'Modifikuoti svoriai '!$D$4:$K$4,0)),\"\")","v":""},null,null,null,null,null,null,null,null,null,null,null,null,null,"","","","","","","","",""]
[null,null,{"$f":"IFERROR(INDEX('Modifikuoti svoriai '!$D$5:$K$29,MATCH(B355,'Modifikuoti svoriai '!$C$5:$C$29,0),MATCH(A355,'Modifikuoti svoriai '!$D$4:$K$4,0)),\"\")","v":""},null,null,null,null,null,null,null,null,null,null,null,null,null,"","","","","","","","",""]
[null,null,{"$f":"IFERROR(INDEX('Modifikuoti svoriai '!$D$5:$K$29,MATCH(B356,'Modifikuoti svoriai '!$C$5:$C$29,0),MATCH(A356,'Modifikuoti svoriai '!$D$4:$K$4,0)),\"\")","v":""},null,null,null,null,null,null,null,null,null,null,null,null,null,"","","","","","","","",""]
[null,null,{"$f":"IFERROR(INDEX('Modifikuoti svoriai '!$D$5:$K$29,MATCH(B357,'Modifikuoti svoriai '!$C$5:$C$29,0),MATCH(A357,'Modifikuoti svoriai '!$D$4:$K$4,0)),\"\")","v":""},null,null,null,null,null,null,null,null,null,null,null,null,null,"","","","","","","","",""]
[null,null,{"$f":"IFERROR(INDEX('Modifikuoti svoriai '!$D$5:$K$29,MATCH(B358,'Modifikuoti svoriai '!$C$5:$C$29,0),MATCH(A358,'Modifikuoti svoriai '!$D$4:$K$4,0)),\"\")","v":""},null,null,null,null,null,null,null,null,null,null,null,null,null,"","","","","","","","",""]
[null,null,{"$f":"IFERROR(INDEX('Modifikuoti svoriai '!$D$5:$K$29,MATCH(B359,'Modifikuoti svoriai '!$C$5:$C$29,0),MATCH(A359,'Modifikuoti svoriai '!$D$4:$K$4,0)),\"\")","v":""},null,null,null,null,null,null,null,null,null,null,null,null,null,"","","","","","","","",""]
[null,null,{"$f":"IFERROR(INDEX('Modifikuoti svoriai '!$D$5:$K$29,MATCH(B360,'Modifikuoti svoriai '!$C$5:$C$29,0),MATCH(A360,'Modifikuoti svoriai '!$D$4:$K$4,0)),\"\")","v":""},null,null,null,null,null,null,null,null,null,null,null,null,null,"","","","","","","","",""]
[null,null,{"$f":"IFERROR(INDEX('Modifikuoti svoriai '!$D$5:$K$29,MATCH(B361,'Modifikuoti svoriai '!$C$5:$C$29,0),MATCH(A361,'Modifikuoti svoriai '!$D$4:$K$4,0)),\"\")","v":""},null,null,null,null,null,null,null,null,null,null,null,null,null,"","","","","","","","",""]
[null,null,{"$f":"IFERROR(INDEX('Modifikuoti svoriai '!$D$5:$K$29,MATCH(B362,'Modifikuoti svoriai '!$C$5:$C$29,0),MATCH(A362,'Modifikuoti svoriai '!$D$4:$K$4,0)),\"\")","v":""},null,null,null,null,null,null,null,null,null,null,null,null,null,"","","","","","","","",""]
[null,null,{"$f":"IFERROR(INDEX('Modifikuoti svoriai '!$D$5:$K$29,MATCH(B363,'Modifikuoti svoriai '!$C$5:$C$29,0),MATCH(A363,'Modifikuoti svoriai '!$D$4:$K$4,0)),\"\")","v":""},null,null,null,null,null,null,null,null,null,null,null,null,null,"","","","","","","","",""]
[null,null,{"$f":"IFERROR(INDEX('Modifikuoti svoriai '!$D$5:$K$29,MATCH(B364,'Modifikuoti svoriai '!$C$5:$C$29,0),MATCH(A364,'Modifikuoti svoriai '!$D$4:$K$4,0)),\"\")","v":""},null,null,null,null,null,null,null,null,null,null,null,null,null,"","","","","","","","",""]
[null,null,{"$f":"IFERROR(INDEX('Modifikuoti svoriai '!$D$5:$K$29,MATCH(B365,'Modifikuoti svoriai '!$C$5:$C$29,0),MATCH(A365,'Modifikuoti svoriai '!$D$4:$K$4,0)),\"\")","v":""},null,null,null,null,null,null,null,null,null,null,null,null,null,"","","","","","","","",""]
[null,null,{"$f":"IFERROR(INDEX('Modifikuoti svoriai '!$D$5:$K$29,MATCH(B366,'Modifikuoti svoriai '!$C$5:$C$29,0),MATCH(A366,'Modifikuoti svoriai '!$D$4:$K$4,0)),\"\")","v":""},null,null,null,null,null,null,null,null,null,null,null,null,null,"","","","","","","","",""]
[null,null,{"$f":"IFERROR(INDEX('Modifikuoti svoriai '!$D$5:$K$29,MATCH(B367,'Modifikuoti svoriai '!$C$5:$C$29,0),MATCH(A367,'Modifikuoti svoriai '!$D$4:$K$4,0)),\"\")","v":""},null,null,null,null,null,null,null,null,null,null,null,null,null,{"$f":"IF(Q$6<YEAR($K367),\"Pastato tarnavimo laikotarpis nepasibaigė\",IF(Q$6=YEAR($K367),\"Pastato tarnavimo laikotarpio pabaiga\",IF($K367<>0,\"Pastato tarnavimo laikotarpis pasibaigė\",\"\")))","v":""},"","","","","","","",""]
[null,null,{"$f":"IFERROR(INDEX('Modifikuoti svoriai '!$D$5:$K$29,MATCH(B368,'Modifikuoti svoriai '!$C$5:$C$29,0),MATCH(A368,'Modifikuoti svoriai '!$D$4:$K$4,0)),\"\")","v":""},null,null,null,null,null,null,null,null,null,null,null,null,null,"","","","","","","","",""]
[null,null,{"$f":"IFERROR(INDEX('Modifikuoti svoriai '!$D$5:$K$29,MATCH(B369,'Modifikuoti svoriai '!$C$5:$C$29,0),MATCH(A369,'Modifikuoti svoriai '!$D$4:$K$4,0)),\"\")","v":""},null,null,null,null,null,null,null,null,null,null,null,null,null,"","","","","","","","",""]
[null,null,{"$f":"IFERROR(INDEX('Modifikuoti svoriai '!$D$5:$K$29,MATCH(B370,'Modifikuoti svoriai '!$C$5:$C$29,0),MATCH(A370,'Modifikuoti svoriai '!$D$4:$K$4,0)),\"\")","v":""},null,null,null,null,null,null,null,null,null,null,null,null,null,"","","","","","","","",""]
[null,null,{"$f":"IFERROR(INDEX('Modifikuoti svoriai '!$D$5:$K$29,MATCH(B371,'Modifikuoti svoriai '!$C$5:$C$29,0),MATCH(A371,'Modifikuoti svoriai '!$D$4:$K$4,0)),\"\")","v":""},null,null,null,null,null,null,null,null,null,null,null,null,null,"","","","","","","","",""]
[null,null,{"$f":"IFERROR(INDEX('Modifikuoti svoriai '!$D$5:$K$29,MATCH(B372,'Modifikuoti svoriai '!$C$5:$C$29,0),MATCH(A372,'Modifikuoti svoriai '!$D$4:$K$4,0)),\"\")","v":""},null,null,null,null,null,null,null,null,null,null,null,null,null,"","","","","","","","",""]
[null,null,{"$f":"IFERROR(INDEX('Modifikuoti svoriai '!$D$5:$K$29,MATCH(B373,'Modifikuoti svoriai '!$C$5:$C$29,0),MATCH(A373,'Modifikuoti svoriai '!$D$4:$K$4,0)),\"\")","v":""},null,null,null,null,null,null,null,null,null,null,null,null,null,"","","","","","","","",""]
[null,null,{"$f":"IFERROR(INDEX('Modifikuoti svoriai '!$D$5:$K$29,MATCH(B374,'Modifikuoti svoriai '!$C$5:$C$29,0),MATCH(A374,'Modifikuoti svoriai '!$D$4:$K$4,0)),\"\")","v":""},null,null,null,null,null,null,null,null,null,null,null,null,null,"","","","","","","","",""]
[null,null,{"$f":"IFERROR(INDEX('Modifikuoti svoriai '!$D$5:$K$29,MATCH(B375,'Modifikuoti svoriai '!$C$5:$C$29,0),MATCH(A375,'Modifikuoti svoriai '!$D$4:$K$4,0)),\"\")","v":""},null,null,null,null,null,null,null,null,null,null,null,null,null,"","","","","","","","",""]
[null,null,{"$f":"IFERROR(INDEX('Modifikuoti svoriai '!$D$5:$K$29,MATCH(B376,'Modifikuoti svoriai '!$C$5:$C$29,0),MATCH(A376,'Modifikuoti svoriai '!$D$4:$K$4,0)),\"\")","v":""},null,null,null,null,null,null,null,null,null,null,null,null,null,"","","","","","","","",""]
[null,null,{"$f":"IFERROR(INDEX('Modifikuoti svoriai '!$D$5:$K$29,MATCH(B377,'Modifikuoti svoriai '!$C$5:$C$29,0),MATCH(A377,'Modifikuoti svoriai '!$D$4:$K$4,0)),\"\")","v":""},null,null,null,null,null,null,null,null,null,null,null,null,null,"","","","","","","","",""]
[null,null,{"$f":"IFERROR(INDEX('Modifikuoti svoriai '!$D$5:$K$29,MATCH(B378,'Modifikuoti svoriai '!$C$5:$C$29,0),MATCH(A378,'Modifikuoti svoriai '!$D$4:$K$4,0)),\"\")","v":""},null,null,null,null,null,null,null,null,null,null,null,null,null,"","","","","","","","",""]
[null,null,{"$f":"IFERROR(INDEX('Modifikuoti svoriai '!$D$5:$K$29,MATCH(B379,'Modifikuoti svoriai '!$C$5:$C$29,0),MATCH(A379,'Modifikuoti svoriai '!$D$4:$K$4,0)),\"\")","v":""},null,null,null,null,null,null,null,null,null,null,null,null,null,"","","","","","","","",""]
[null,null,{"$f":"IFERROR(INDEX('Modifikuoti svoriai '!$D$5:$K$29,MATCH(B380,'Modifikuoti svoriai '!$C$5:$C$29,0),MATCH(A380,'Modifikuoti svoriai '!$D$4:$K$4,0)),\"\")","v":""},null,null,null,null,null,null,null,null,null,null,null,null,null,"","","","","","","","",""]
[null,null,{"$f":"IFERROR(INDEX('Modifikuoti svoriai '!$D$5:$K$29,MATCH(B381,'Modifikuoti svoriai '!$C$5:$C$29,0),MATCH(A381,'Modifikuoti svoriai '!$D$4:$K$4,0)),\"\")","v":""},null,null,null,null,null,null,null,null,null,null,null,null,null,"","","","","","","","",""]
[null,null,{"$f":"IFERROR(INDEX('Modifikuoti svoriai '!$D$5:$K$29,MATCH(B382,'Modifikuoti svoriai '!$C$5:$C$29,0),MATCH(A382,'Modifikuoti svoriai '!$D$4:$K$4,0)),\"\")","v":""},null,null,null,null,null,null,null,null,null,null,null,null,null,"","","","","","","","",""]
[null,null,{"$f":"IFERROR(INDEX('Modifikuoti svoriai '!$D$5:$K$29,MATCH(B383,'Modifikuoti svoriai '!$C$5:$C$29,0),MATCH(A383,'Modifikuoti svoriai '!$D$4:$K$4,0)),\"\")","v":""},null,null,null,null,null,null,null,null,null,null,null,null,null,{"$f":"IF(Q$6<YEAR($K383),\"Pastato tarnavimo laikotarpis nepasibaigė\",IF(Q$6=YEAR($K383),\"Pastato tarnavimo laikotarpio pabaiga\",IF($K383<>0,\"Pastato tarnavimo laikotarpis pasibaigė\",\"\")))","v":""},"","","","","","","",""]
[null,null,{"$f":"IFERROR(INDEX('Modifikuoti svoriai '!$D$5:$K$29,MATCH(B384,'Modifikuoti svoriai '!$C$5:$C$29,0),MATCH(A384,'Modifikuoti svoriai '!$D$4:$K$4,0)),\"\")","v":""},null,null,null,null,null,null,null,null,null,null,null,null,null,"","","","","","","","",""]
[null,null,{"$f":"IFERROR(INDEX('Modifikuoti svoriai '!$D$5:$K$29,MATCH(B385,'Modifikuoti svoriai '!$C$5:$C$29,0),MATCH(A385,'Modifikuoti svoriai '!$D$4:$K$4,0)),\"\")","v":""},null,null,null,null,null,null,null,null,null,null,null,null,null,"","","","","","","","",""]
[null,null,{"$f":"IFERROR(INDEX('Modifikuoti svoriai '!$D$5:$K$29,MATCH(B386,'Modifikuoti svoriai '!$C$5:$C$29,0),MATCH(A386,'Modifikuoti svoriai '!$D$4:$K$4,0)),\"\")","v":""},null,null,null,null,null,null,null,null,null,null,null,null,null,"","","","","","","","",""]
[null,null,{"$f":"IFERROR(INDEX('Modifikuoti svoriai '!$D$5:$K$29,MATCH(B387,'Modifikuoti svoriai '!$C$5:$C$29,0),MATCH(A387,'Modifikuoti svoriai '!$D$4:$K$4,0)),\"\")","v":""},null,null,null,null,null,null,null,null,null,null,null,null,null,"","","","","","","","",""]
[null,null,{"$f":"IFERROR(INDEX('Modifikuoti svoriai '!$D$5:$K$29,MATCH(B388,'Modifikuoti svoriai '!$C$5:$C$29,0),MATCH(A388,'Modifikuoti svoriai '!$D$4:$K$4,0)),\"\")","v":""},null,null,null,null,null,null,null,null,null,null,null,null,null,"","","","","","","","",""]
[null,null,{"$f":"IFERROR(INDEX('Modifikuoti svoriai '!$D$5:$K$29,MATCH(B389,'Modifikuoti svoriai '!$C$5:$C$29,0),MATCH(A389,'Modifikuoti svoriai '!$D$4:$K$4,0)),\"\")","v":""},null,null,null,null,null,null,null,null,null,null,null,null,null,"","","","","","","","",""]
[null,null,{"$f":"IFERROR(INDEX('Modifikuoti svoriai '!$D$5:$K$29,MATCH(B390,'Modifikuoti svoriai '!$C$5:$C$29,0),MATCH(A390,'Modifikuoti svoriai '!$D$4:$K$4,0)),\"\")","v":""},null,null,null,null,null,null,null,null,null,null,null,null,null,"","","","","","","","",""]
[null,null,{"$f":"IFERROR(INDEX('Modifikuoti svoriai '!$D$5:$K$29,MATCH(B391,'Modifikuoti svoriai '!$C$5:$C$29,0),MATCH(A391,'Modifikuoti svoriai '!$D$4:$K$4,0)),\"\")","v":""},null,null,null,null,null,null,null,null,null,null,null,null,null,"","","","","","","","",""]
[null,null,{"$f":"IFERROR(INDEX('Modifikuoti svoriai '!$D$5:$K$29,MATCH(B392,'Modifikuoti svoriai '!$C$5:$C$29,0),MATCH(A392,'Modifikuoti svoriai '!$D$4:$K$4,0)),\"\")","v":""},null,null,null,null,null,null,null,null,null,null,null,null,null,"","","","","","","","",""]
[null,null,{"$f":"IFERROR(INDEX('Modifikuoti svoriai '!$D$5:$K$29,MATCH(B393,'Modifikuoti svoriai '!$C$5:$C$29,0),MATCH(A393,'Modifikuoti svoriai '!$D$4:$K$4,0)),\"\")","v":""},null,null,null,null,null,null,null,null,null,null,null,null,null,"","","","","","","","",""]
[null,null,{"$f":"IFERROR(INDEX('Modifikuoti svoriai '!$D$5:$K$29,MATCH(B394,'Modifikuoti svoriai '!$C$5:$C$29,0),MATCH(A394,'Modifikuoti svoriai '!$D$4:$K$4,0)),\"\")","v":""},null,null,null,null,null,null,null,null,null,null,null,null,null,"","","","","","","","",""]
[null,null,{"$f":"IFERROR(INDEX('Modifikuoti svoriai '!$D$5:$K$29,MATCH(B395,'Modifikuoti svoriai '!$C$5:$C$29,0),MATCH(A395,'Modifikuoti svoriai '!$D$4:$K$4,0)),\"\")","v":""},null,null,null,null,null,null,null,null,null,null,null,null,null,"","","","","","","","",""]
[null,null,{"$f":"IFERROR(INDEX('Modifikuoti svoriai '!$D$5:$K$29,MATCH(B396,'Modifikuoti svoriai '!$C$5:$C$29,0),MATCH(A396,'Modifikuoti svoriai '!$D$4:$K$4,0)),\"\")","v":""},null,null,null,null,null,null,null,null,null,null,null,null,null,"","","","","","","","",""]
[null,null,{"$f":"IFERROR(INDEX('Modifikuoti svoriai '!$D$5:$K$29,MATCH(B397,'Modifikuoti svoriai '!$C$5:$C$29,0),MATCH(A397,'Modifikuoti svoriai '!$D$4:$K$4,0)),\"\")","v":""},null,null,null,null,null,null,null,null,null,null,null,null,null,"","","","","","","","",""]
[null,null,{"$f":"IFERROR(INDEX('Modifikuoti svoriai '!$D$5:$K$29,MATCH(B398,'Modifikuoti svoriai '!$C$5:$C$29,0),MATCH(A398,'Modifikuoti svoriai '!$D$4:$K$4,0)),\"\")","v":""},null,null,null,null,null,null,null,null,null,null,null,null,null,"","","","","","","","",""]
[null,null,{"$f":"IFERROR(INDEX('Modifikuoti svoriai '!$D$5:$K$29,MATCH(B399,'Modifikuoti svoriai '!$C$5:$C$29,0),MATCH(A399,'Modifikuoti svoriai '!$D$4:$K$4,0)),\"\")","v":""},null,null,null,null,null,null,null,null,null,null,null,null,null,{"$f":"IF(Q$6<YEAR($K399),\"Pastato tarnavimo laikotarpis nepasibaigė\",IF(Q$6=YEAR($K399),\"Pastato tarnavimo laikotarpio pabaiga\",IF($K399<>0,\"Pastato tarnavimo laikotarpis pasibaigė\",\"\")))","v":""},"","","","","","","",""]
[null,null,{"$f":"IFERROR(INDEX('Modifikuoti svoriai '!$D$5:$K$29,MATCH(B400,'Modifikuoti svoriai '!$C$5:$C$29,0),MATCH(A400,'Modifikuoti svoriai '!$D$4:$K$4,0)),\"\")","v":""},null,null,null,null,null,null,null,null,null,null,null,null,null,"","","","","","","","",""]
[null,null,{"$f":"IFERROR(INDEX('Modifikuoti svoriai '!$D$5:$K$29,MATCH(B401,'Modifikuoti svoriai '!$C$5:$C$29,0),MATCH(A401,'Modifikuoti svoriai '!$D$4:$K$4,0)),\"\")","v":""},null,null,null,null,null,null,null,null,null,null,null,null,null,"","","","","","","","",""]
[null,null,{"$f":"IFERROR(INDEX('Modifikuoti svoriai '!$D$5:$K$29,MATCH(B402,'Modifikuoti svoriai '!$C$5:$C$29,0),MATCH(A402,'Modifikuoti svoriai '!$D$4:$K$4,0)),\"\")","v":""},null,null,null,null,null,null,null,null,null,null,null,null,null,"","","","","","","","",""]
[null,null,{"$f":"IFERROR(INDEX('Modifikuoti svoriai '!$D$5:$K$29,MATCH(B403,'Modifikuoti svoriai '!$C$5:$C$29,0),MATCH(A403,'Modifikuoti svoriai '!$D$4:$K$4,0)),\"\")","v":""},null,null,null,null,null,null,null,null,null,null,null,null,null,"","","","","","","","",""]
[null,null,{"$f":"IFERROR(INDEX('Modifikuoti svoriai '!$D$5:$K$29,MATCH(B404,'Modifikuoti svoriai '!$C$5:$C$29,0),MATCH(A404,'Modifikuoti svoriai '!$D$4:$K$4,0)),\"\")","v":""},null,null,null,null,null,null,null,null,null,null,null,null,null,"","","","","","","","",""]
[null,null,{"$f":"IFERROR(INDEX('Modifikuoti svoriai '!$D$5:$K$29,MATCH(B405,'Modifikuoti svoriai '!$C$5:$C$29,0),MATCH(A405,'Modifikuoti svoriai '!$D$4:$K$4,0)),\"\")","v":""},null,null,null,null,null,null,null,null,null,null,null,null,null,"","","","","","","","",""]
[null,null,{"$f":"IFERROR(INDEX('Modifikuoti svoriai '!$D$5:$K$29,MATCH(B406,'Modifikuoti svoriai '!$C$5:$C$29,0),MATCH(A406,'Modifikuoti svoriai '!$D$4:$K$4,0)),\"\")","v":""},null,null,null,null,null,null,null,null,null,null,null,null,null,"","","","","","","","",""]
[null,null,{"$f":"IFERROR(INDEX('Modifikuoti svoriai '!$D$5:$K$29,MATCH(B407,'Modifikuoti svoriai '!$C$5:$C$29,0),MATCH(A407,'Modifikuoti svoriai '!$D$4:$K$4,0)),\"\")","v":""},null,null,null,null,null,null,null,null,null,null,null,null,null,"","","","","","","","",""]
[null,null,{"$f":"IFERROR(INDEX('Modifikuoti svoriai '!$D$5:$K$29,MATCH(B408,'Modifikuoti svoriai '!$C$5:$C$29,0),MATCH(A408,'Modifikuoti svoriai '!$D$4:$K$4,0)),\"\")","v":""},null,null,null,null,null,null,null,null,null,null,null,null,null,"","","","","","","","",""]
[null,null,{"$f":"IFERROR(INDEX('Modifikuoti svoriai '!$D$5:$K$29,MATCH(B409,'Modifikuoti svoriai '!$C$5:$C$29,0),MATCH(A409,'Modifikuoti svoriai '!$D$4:$K$4,0)),\"\")","v":""},null,null,null,null,null,null,null,null,null,null,null,null,null,"","","","","","","","",""]
[null,null,{"$f":"IFERROR(INDEX('Modifikuoti svoriai '!$D$5:$K$29,MATCH(B410,'Modifikuoti svoriai '!$C$5:$C$29,0),MATCH(A410,'Modifikuoti svoriai '!$D$4:$K$4,0)),\"\")","v":""},null,null,null,null,null,null,null,null,null,null,null,null,null,"","","","","","","","",""]
[null,null,{"$f":"IFERROR(INDEX('Modifikuoti svoriai '!$D$5:$K$29,MATCH(B411,'Modifikuoti svoriai '!$C$5:$C$29,0),MATCH(A411,'Modifikuoti svoriai '!$D$4:$K$4,0)),\"\")","v":""},null,null,null,null,null,null,null,null,null,null,null,null,null,"","","","","","","","",""]
[null,null,{"$f":"IFERROR(INDEX('Modifikuoti svoriai '!$D$5:$K$29,MATCH(B412,'Modifikuoti svoriai '!$C$5:$C$29,0),MATCH(A412,'Modifikuoti svoriai '!$D$4:$K$4,0)),\"\")","v":""},null,null,null,null,null,null,null,null,null,null,null,null,null,"","","","","","","","",""]
[null,null,{"$f":"IFERROR(INDEX('Modifikuoti svoriai '!$D$5:$K$29,MATCH(B413,'Modifikuoti svoriai '!$C$5:$C$29,0),MATCH(A413,'Modifikuoti svoriai '!$D$4:$K$4,0)),\"\")","v":""},null,null,null,null,null,null,null,null,null,null,null,null,null,"","","","","","","","",""]
[null,null,{"$f":"IFERROR(INDEX('Modifikuoti svoriai '!$D$5:$K$29,MATCH(B414,'Modifikuoti svoriai '!$C$5:$C$29,0),MATCH(A414,'Modifikuoti svoriai '!$D$4:$K$4,0)),\"\")","v":""},null,null,null,null,null,null,null,null,null,null,null,null,null,"","","","","","","","",""]
[null,null,{"$f":"IFERROR(INDEX('Modifikuoti svoriai '!$D$5:$K$29,MATCH(B415,'Modifikuoti svoriai '!$C$5:$C$29,0),MATCH(A415,'Modifikuoti svoriai '!$D$4:$K$4,0)),\"\")","v":""},null,null,null,null,null,null,null,null,null,null,null,null,null,{"$f":"IF(Q$6<YEAR($K415),\"Pastato tarnavimo laikotarpis nepasibaigė\",IF(Q$6=YEAR($K415),\"Pastato tarnavimo laikotarpio pabaiga\",IF($K415<>0,\"Pastato tarnavimo laikotarpis pasibaigė\",\"\")))","v":""},"","","","","","","",""]
[null,null,{"$f":"IFERROR(INDEX('Modifikuoti svoriai '!$D$5:$K$29,MATCH(B416,'Modifikuoti svoriai '!$C$5:$C$29,0),MATCH(A416,'Modifikuoti svoriai '!$D$4:$K$4,0)),\"\")","v":""},null,null,null,null,null,null,null,null,null,null,null,null,null,"","","","","","","","",""]
[null,null,{"$f":"IFERROR(INDEX('Modifikuoti svoriai '!$D$5:$K$29,MATCH(B417,'Modifikuoti svoriai '!$C$5:$C$29,0),MATCH(A417,'Modifikuoti svoriai '!$D$4:$K$4,0)),\"\")","v":""},null,null,null,null,null,null,null,null,null,null,null,null,null,"","","","","","","","",""]
[null,null,{"$f":"IFERROR(INDEX('Modifikuoti svoriai '!$D$5:$K$29,MATCH(B418,'Modifikuoti svoriai '!$C$5:$C$29,0),MATCH(A418,'Modifikuoti svoriai '!$D$4:$K$4,0)),\"\")","v":""},null,null,null,null,null,null,null,null,null,null,null,null,null,"","","","","","","","",""]
[null,null,{"$f":"IFERROR(INDEX('Modifikuoti svoriai '!$D$5:$K$29,MATCH(B419,'Modifikuoti svoriai '!$C$5:$C$29,0),MATCH(A419,'Modifikuoti svoriai '!$D$4:$K$4,0)),\"\")","v":""},null,null,null,null,null,null,null,null,null,null,null,null,null,"","","","","","","","",""]
[null,null,{"$f":"IFERROR(INDEX('Modifikuoti svoriai '!$D$5:$K$29,MATCH(B420,'Modifikuoti svoriai '!$C$5:$C$29,0),MATCH(A420,'Modifikuoti svoriai '!$D$4:$K$4,0)),\"\")","v":""},null,null,null,null,null,null,null,null,null,null,null,null,null,"","","","","","","","",""]
[null,null,{"$f":"IFERROR(INDEX('Modifikuoti svoriai '!$D$5:$K$29,MATCH(B421,'Modifikuoti svoriai '!$C$5:$C$29,0),MATCH(A421,'Modifikuoti svoriai '!$D$4:$K$4,0)),\"\")","v":""},null,null,null,null,null,null,null,null,null,null,null,null,null,"","","","","","","","",""]
[null,null,{"$f":"IFERROR(INDEX('Modifikuoti svoriai '!$D$5:$K$29,MATCH(B422,'Modifikuoti svoriai '!$C$5:$C$29,0),MATCH(A422,'Modifikuoti svoriai '!$D$4:$K$4,0)),\"\")","v":""},null,null,null,null,null,null,null,null,null,null,null,null,null,"","","","","","","","",""]
[null,null,{"$f":"IFERROR(INDEX('Modifikuoti svoriai '!$D$5:$K$29,MATCH(B423,'Modifikuoti svoriai '!$C$5:$C$29,0),MATCH(A423,'Modifikuoti svoriai '!$D$4:$K$4,0)),\"\")","v":""},null,null,null,null,null,null,null,null,null,null,null,null,null,"","","","","","","","",""]
[null,null,{"$f":"IFERROR(INDEX('Modifikuoti svoriai '!$D$5:$K$29,MATCH(B424,'Modifikuoti svoriai '!$C$5:$C$29,0),MATCH(A424,'Modifikuoti svoriai '!$D$4:$K$4,0)),\"\")","v":""},null,null,null,null,null,null,null,null,null,null,null,null,null,"","","","","","","","",""]
[null,null,{"$f":"IFERROR(INDEX('Modifikuoti svoriai '!$D$5:$K$29,MATCH(B425,'Modifikuoti svoriai '!$C$5:$C$29,0),MATCH(A425,'Modifikuoti svoriai '!$D$4:$K$4,0)),\"\")","v":""},null,null,null,null,null,null,null,null,null,null,null,null,null,"","","","","","","","",""]
[null,null,{"$f":"IFERROR(INDEX('Modifikuoti svoriai '!$D$5:$K$29,MATCH(B426,'Modifikuoti svoriai '!$C$5:$C$29,0),MATCH(A426,'Modifikuoti svoriai '!$D$4:$K$4,0)),\"\")","v":""},null,null,null,null,null,null,null,null,null,null,null,null,null,"","","","","","","","",""]
[null,null,{"$f":"IFERROR(INDEX('Modifikuoti svoriai '!$D$5:$K$29,MATCH(B427,'Modifikuoti svoriai '!$C$5:$C$29,0),MATCH(A427,'Modifikuoti svoriai '!$D$4:$K$4,0)),\"\")","v":""},null,null,null,null,null,null,null,null,null,null,null,null,null,"","","","","","","","",""]
[null,null,{"$f":"IFERROR(INDEX('Modifikuoti svoriai '!$D$5:$K$29,MATCH(B428,'Modifikuoti svoriai '!$C$5:$C$29,0),MATCH(A428,'Modifikuoti svoriai '!$D$4:$K$4,0)),\"\")","v":""},null,null,null,null,null,null,null,null,null,null,null,null,null,"","","","","","","","",""]
[null,null,{"$f":"IFERROR(INDEX('Modifikuoti svoriai '!$D$5:$K$29,MATCH(B429,'Modifikuoti svoriai '!$C$5:$C$29,0),MATCH(A429,'Modifikuoti svoriai '!$D$4:$K$4,0)),\"\")","v":""},null,null,null,null,null,null,null,null,null,null,null,null,null,"","","","","","","","",""]
[null,null,{"$f":"IFERROR(INDEX('Modifikuoti svoriai '!$D$5:$K$29,MATCH(B430,'Modifikuoti svoriai '!$C$5:$C$29,0),MATCH(A430,'Modifikuoti svoriai '!$D$4:$K$4,0)),\"\")","v":""},null,null,null,null,null,null,null,null,null,null,null,null,null,"","","","","","","","",""]
[null,null,{"$f":"IFERROR(INDEX('Modifikuoti svoriai '!$D$5:$K$29,MATCH(B431,'Modifikuoti svoriai '!$C$5:$C$29,0),MATCH(A431,'Modifikuoti svoriai '!$D$4:$K$4,0)),\"\")","v":""},null,null,null,null,null,null,null,null,null,null,null,null,null,{"$f":"IF(Q$6<YEAR($K431),\"Pastato tarnavimo laikotarpis nepasibaigė\",IF(Q$6=YEAR($K431),\"Pastato tarnavimo laikotarpio pabaiga\",IF($K431<>0,\"Pastato tarnavimo laikotarpis pasibaigė\",\"\")))","v":""},"","","","","","","",""]
[null,null,{"$f":"IFERROR(INDEX('Modifikuoti svoriai '!$D$5:$K$29,MATCH(B432,'Modifikuoti svoriai '!$C$5:$C$29,0),MATCH(A432,'Modifikuoti svoriai '!$D$4:$K$4,0)),\"\")","v":""},null,null,null,null,null,null,null,null,null,null,null,null,null,"","","","","","","","",""]
[null,null,{"$f":"IFERROR(INDEX('Modifikuoti svoriai '!$D$5:$K$29,MATCH(B433,'Modifikuoti svoriai '!$C$5:$C$29,0),MATCH(A433,'Modifikuoti svoriai '!$D$4:$K$4,0)),\"\")","v":""},null,null,null,null,null,null,null,null,null,null,null,null,null,"","","","","","","","",""]
[null,null,{"$f":"IFERROR(INDEX('Modifikuoti svoriai '!$D$5:$K$29,MATCH(B434,'Modifikuoti svoriai '!$C$5:$C$29,0),MATCH(A434,'Modifikuoti svoriai '!$D$4:$K$4,0)),\"\")","v":""},null,null,null,null,null,null,null,null,null,null,null,null,null,"","","","","","","","",""]
[null,null,{"$f":"IFERROR(INDEX('Modifikuoti svoriai '!$D$5:$K$29,MATCH(B435,'Modifikuoti svoriai '!$C$5:$C$29,0),MATCH(A435,'Modifikuoti svoriai '!$D$4:$K$4,0)),\"\")","v":""},null,null,null,null,null,null,null,null,null,null,null,null,null,"","","","","","","","",""]
[null,null,{"$f":"IFERROR(INDEX('Modifikuoti svoriai '!$D$5:$K$29,MATCH(B436,'Modifikuoti svoriai '!$C$5:$C$29,0),MATCH(A436,'Modifikuoti svoriai '!$D$4:$K$4,0)),\"\")","v":""},null,null,null,null,null,null,null,null,null,null,null,null,null,"","","","","","","","",""]
[null,null,{"$f":"IFERROR(INDEX('Modifikuoti svoriai '!$D$5:$K$29,MATCH(B437,'Modifikuoti svoriai '!$C$5:$C$29,0),MATCH(A437,'Modifikuoti svoriai '!$D$4:$K$4,0)),\"\")","v":""},null,null,null,null,null,null,null,null,null,null,null,null,null,"","","","","","","","",""]
[null,null,{"$f":"IFERROR(INDEX('Modifikuoti svoriai '!$D$5:$K$29,MATCH(B438,'Modifikuoti svoriai '!$C$5:$C$29,0),MATCH(A438,'Modifikuoti svoriai '!$D$4:$K$4,0)),\"\")","v":""},null,null,null,null,null,null,null,null,null,null,null,null,null,"","","","","","","","",""]
[null,null,{"$f":"IFERROR(INDEX('Modifikuoti svoriai '!$D$5:$K$29,MATCH(B439,'Modifikuoti svoriai '!$C$5:$C$29,0),MATCH(A439,'Modifikuoti svoriai '!$D$4:$K$4,0)),\"\")","v":""},null,null,null,null,null,null,null,null,null,null,null,null,null,"","","","","","","","",""]
[null,null,{"$f":"IFERROR(INDEX('Modifikuoti svoriai '!$D$5:$K$29,MATCH(B440,'Modifikuoti svoriai '!$C$5:$C$29,0),MATCH(A440,'Modifikuoti svoriai '!$D$4:$K$4,0)),\"\")","v":""},null,null,null,null,null,null,null,null,null,null,null,null,null,"","","","","","","","",""]
[null,null,{"$f":"IFERROR(INDEX('Modifikuoti svoriai '!$D$5:$K$29,MATCH(B441,'Modifikuoti svoriai '!$C$5:$C$29,0),MATCH(A441,'Modifikuoti svoriai '!$D$4:$K$4,0)),\"\")","v":""},null,null,null,null,null,null,null,null,null,null,null,null,null,"","","","","","","","",""]
[null,null,{"$f":"IFERROR(INDEX('Modifikuoti svoriai '!$D$5:$K$29,MATCH(B442,'Modifikuoti svoriai '!$C$5:$C$29,0),MATCH(A442,'Modifikuoti svoriai '!$D$4:$K$4,0)),\"\")","v":""},null,null,null,null,null,null,null,null,null,null,null,null,null,"","","","","","","","",""]
[null,null,{"$f":"IFERROR(INDEX('Modifikuoti svoriai '!$D$5:$K$29,MATCH(B443,'Modifikuoti svoriai '!$C$5:$C$29,0),MATCH(A443,'Modifikuoti svoriai '!$D$4:$K$4,0)),\"\")","v":""},null,null,null,null,null,null,null,null,null,null,null,null,null,"","","","","","","","",""]
[null,null,{"$f":"IFERROR(INDEX('Modifikuoti svoriai '!$D$5:$K$29,MATCH(B444,'Modifikuoti svoriai '!$C$5:$C$29,0),MATCH(A444,'Modifikuoti svoriai '!$D$4:$K$4,0)),\"\")","v":""},null,null,null,null,null,null,null,null,null,null,null,null,null,"","","","","","","","",""]
[null,null,{"$f":"IFERROR(INDEX('Modifikuoti svoriai '!$D$5:$K$29,MATCH(B445,'Modifikuoti svoriai '!$C$5:$C$29,0),MATCH(A445,'Modifikuoti svoriai '!$D$4:$K$4,0)),\"\")","v":""},null,null,null,null,null,null,null,null,null,null,null,null,null,"","","","","","","","",""]
[null,null,{"$f":"IFERROR(INDEX('Modifikuoti svoriai '!$D$5:$K$29,MATCH(B446,'Modifikuoti svoriai '!$C$5:$C$29,0),MATCH(A446,'Modifikuoti svoriai '!$D$4:$K$4,0)),\"\")","v":""},null,null,null,null,null,null,null,null,null,null,null,null,null,"","","","","","","","",""]
[null,null,{"$f":"IFERROR(INDEX('Modifikuoti svoriai '!$D$5:$K$29,MATCH(B447,'Modifikuoti svoriai '!$C$5:$C$29,0),MATCH(A447,'Modifikuoti svoriai '!$D$4:$K$4,0)),\"\")","v":""},null,null,null,null,null,null,null,null,null,null,null,null,null,{"$f":"IF(Q$6<YEAR($K447),\"Pastato tarnavimo laikotarpis nepasibaigė\",IF(Q$6=YEAR($K447),\"Pastato tarnavimo laikotarpio pabaiga\",IF($K447<>0,\"Pastato tarnavimo laikotarpis pasibaigė\",\"\")))","v":""},"","","","","","","",""]
[null,null,{"$f":"IFERROR(INDEX('Modifikuoti svoriai '!$D$5:$K$29,MATCH(B448,'Modifikuoti svoriai '!$C$5:$C$29,0),MATCH(A448,'Modifikuoti svoriai '!$D$4:$K$4,0)),\"\")","v":""},null,null,null,null,null,null,null,null,null,null,null,null,null,"","","","","","","","",""]
[null,null,{"$f":"IFERROR(INDEX('Modifikuoti svoriai '!$D$5:$K$29,MATCH(B449,'Modifikuoti svoriai '!$C$5:$C$29,0),MATCH(A449,'Modifikuoti svoriai '!$D$4:$K$4,0)),\"\")","v":""},null,null,null,null,null,null,null,null,null,null,null,null,null,"","","","","","","","",""]
[null,null,{"$f":"IFERROR(INDEX('Modifikuoti svoriai '!$D$5:$K$29,MATCH(B450,'Modifikuoti svoriai '!$C$5:$C$29,0),MATCH(A450,'Modifikuoti svoriai '!$D$4:$K$4,0)),\"\")","v":""},null,null,null,null,null,null,null,null,null,null,null,null,null,"","","","","","","","",""]
[null,null,{"$f":"IFERROR(INDEX('Modifikuoti svoriai '!$D$5:$K$29,MATCH(B451,'Modifikuoti svoriai '!$C$5:$C$29,0),MATCH(A451,'Modifikuoti svoriai '!$D$4:$K$4,0)),\"\")","v":""},null,null,null,null,null,null,null,null,null,null,null,null,null,"","","","","","","","",""]
[null,null,{"$f":"IFERROR(INDEX('Modifikuoti svoriai '!$D$5:$K$29,MATCH(B452,'Modifikuoti svoriai '!$C$5:$C$29,0),MATCH(A452,'Modifikuoti svoriai '!$D$4:$K$4,0)),\"\")","v":""},null,null,null,null,null,null,null,null,null,null,null,null,null,"","","","","","","","",""]
[null,null,{"$f":"IFERROR(INDEX('Modifikuoti svoriai '!$D$5:$K$29,MATCH(B453,'Modifikuoti svoriai '!$C$5:$C$29,0),MATCH(A453,'Modifikuoti svoriai '!$D$4:$K$4,0)),\"\")","v":""},null,null,null,null,null,null,null,null,null,null,null,null,null,"","","","","","","","",""]
[null,null,{"$f":"IFERROR(INDEX('Modifikuoti svoriai '!$D$5:$K$29,MATCH(B454,'Modifikuoti svoriai '!$C$5:$C$29,0),MATCH(A454,'Modifikuoti svoriai '!$D$4:$K$4,0)),\"\")","v":""},null,null,null,null,null,null,null,null,null,null,null,null,null,"","","","","","","","",""]
[null,null,{"$f":"IFERROR(INDEX('Modifikuoti svoriai '!$D$5:$K$29,MATCH(B455,'Modifikuoti svoriai '!$C$5:$C$29,0),MATCH(A455,'Modifikuoti svoriai '!$D$4:$K$4,0)),\"\")","v":""},null,null,null,null,null,null,null,null,null,null,null,null,null,"","","","","","","","",""]
[null,null,{"$f":"IFERROR(INDEX('Modifikuoti svoriai '!$D$5:$K$29,MATCH(B456,'Modifikuoti svoriai '!$C$5:$C$29,0),MATCH(A456,'Modifikuoti svoriai '!$D$4:$K$4,0)),\"\")","v":""},null,null,null,null,null,null,null,null,null,null,null,null,null,"","","","","","","","",""]
[null,null,{"$f":"IFERROR(INDEX('Modifikuoti svoriai '!$D$5:$K$29,MATCH(B457,'Modifikuoti svoriai '!$C$5:$C$29,0),MATCH(A457,'Modifikuoti svoriai '!$D$4:$K$4,0)),\"\")","v":""},null,null,null,null,null,null,null,null,null,null,null,null,null,"","","","","","","","",""]
[null,null,{"$f":"IFERROR(INDEX('Modifikuoti svoriai '!$D$5:$K$29,MATCH(B458,'Modifikuoti svoriai '!$C$5:$C$29,0),MATCH(A458,'Modifikuoti svoriai '!$D$4:$K$4,0)),\"\")","v":""},null,null,null,null,null,null,null,null,null,null,null,null,null,"","","","","","","","",""]
[null,null,{"$f":"IFERROR(INDEX('Modifikuoti svoriai '!$D$5:$K$29,MATCH(B459,'Modifikuoti svoriai '!$C$5:$C$29,0),MATCH(A459,'Modifikuoti svoriai '!$D$4:$K$4,0)),\"\")","v":""},null,null,null,null,null,null,null,null,null,null,null,null,null,"","","","","","","","",""]
[null,null,{"$f":"IFERROR(INDEX('Modifikuoti svoriai '!$D$5:$K$29,MATCH(B460,'Modifikuoti svoriai '!$C$5:$C$29,0),MATCH(A460,'Modifikuoti svoriai '!$D$4:$K$4,0)),\"\")","v":""},null,null,null,null,null,null,null,null,null,null,null,null,null,"","","","","","","","",""]
[null,null,{"$f":"IFERROR(INDEX('Modifikuoti svoriai '!$D$5:$K$29,MATCH(B461,'Modifikuoti svoriai '!$C$5:$C$29,0),MATCH(A461,'Modifikuoti svoriai '!$D$4:$K$4,0)),\"\")","v":""},null,null,null,null,null,null,null,null,null,null,null,null,null,"","","","","","","","",""]
[null,null,{"$f":"IFERROR(INDEX('Modifikuoti svoriai '!$D$5:$K$29,MATCH(B462,'Modifikuoti svoriai '!$C$5:$C$29,0),MATCH(A462,'Modifikuoti svoriai '!$D$4:$K$4,0)),\"\")","v":""},null,null,null,null,null,null,null,null,null,null,null,null,null,"","","","","","","","",""]
[null,null,{"$f":"IFERROR(INDEX('Modifikuoti svoriai '!$D$5:$K$29,MATCH(B463,'Modifikuoti svoriai '!$C$5:$C$29,0),MATCH(A463,'Modifikuoti svoriai '!$D$4:$K$4,0)),\"\")","v":""},null,null,null,null,null,null,null,null,null,null,null,null,null,{"$f":"IF(Q$6<YEAR($K463),\"Pastato tarnavimo laikotarpis nepasibaigė\",IF(Q$6=YEAR($K463),\"Pastato tarnavimo laikotarpio pabaiga\",IF($K463<>0,\"Pastato tarnavimo laikotarpis pasibaigė\",\"\")))","v":""},"","","","","","","",""]
[null,null,{"$f":"IFERROR(INDEX('Modifikuoti svoriai '!$D$5:$K$29,MATCH(B464,'Modifikuoti svoriai '!$C$5:$C$29,0),MATCH(A464,'Modifikuoti svoriai '!$D$4:$K$4,0)),\"\")","v":""},null,null,null,null,null,null,null,null,null,null,null,null,null,"","","","","","","","",""]
[null,null,{"$f":"IFERROR(INDEX('Modifikuoti svoriai '!$D$5:$K$29,MATCH(B465,'Modifikuoti svoriai '!$C$5:$C$29,0),MATCH(A465,'Modifikuoti svoriai '!$D$4:$K$4,0)),\"\")","v":""},null,null,null,null,null,null,null,null,null,null,null,null,null,"","","","","","","","",""]
[null,null,{"$f":"IFERROR(INDEX('Modifikuoti svoriai '!$D$5:$K$29,MATCH(B466,'Modifikuoti svoriai '!$C$5:$C$29,0),MATCH(A466,'Modifikuoti svoriai '!$D$4:$K$4,0)),\"\")","v":""},null,null,null,null,null,null,null,null,null,null,null,null,null,"","","","","","","","",""]
[null,null,{"$f":"IFERROR(INDEX('Modifikuoti svoriai '!$D$5:$K$29,MATCH(B467,'Modifikuoti svoriai '!$C$5:$C$29,0),MATCH(A467,'Modifikuoti svoriai '!$D$4:$K$4,0)),\"\")","v":""},null,null,null,null,null,null,null,null,null,null,null,null,null,"","","","","","","","",""]
[null,null,{"$f":"IFERROR(INDEX('Modifikuoti svoriai '!$D$5:$K$29,MATCH(B468,'Modifikuoti svoriai '!$C$5:$C$29,0),MATCH(A468,'Modifikuoti svoriai '!$D$4:$K$4,0)),\"\")","v":""},null,null,null,null,null,null,null,null,null,null,null,null,null,"","","","","","","","",""]
[null,null,{"$f":"IFERROR(INDEX('Modifikuoti svoriai '!$D$5:$K$29,MATCH(B469,'Modifikuoti svoriai '!$C$5:$C$29,0),MATCH(A469,'Modifikuoti svoriai '!$D$4:$K$4,0)),\"\")","v":""},null,null,null,null,null,null,null,null,null,null,null,null,null,"","","","","","","","",""]
[null,null,{"$f":"IFERROR(INDEX('Modifikuoti svoriai '!$D$5:$K$29,MATCH(B470,'Modifikuoti svoriai '!$C$5:$C$29,0),MATCH(A470,'Modifikuoti svoriai '!$D$4:$K$4,0)),\"\")","v":""},null,null,null,null,null,null,null,null,null,null,null,null,null,"","","","","","","","",""]
[null,null,{"$f":"IFERROR(INDEX('Modifikuoti svoriai '!$D$5:$K$29,MATCH(B471,'Modifikuoti svoriai '!$C$5:$C$29,0),MATCH(A471,'Modifikuoti svoriai '!$D$4:$K$4,0)),\"\")","v":""},null,null,null,null,null,null,null,null,null,null,null,null,null,"","","","","","","","",""]
[null,null,{"$f":"IFERROR(INDEX('Modifikuoti svoriai '!$D$5:$K$29,MATCH(B472,'Modifikuoti svoriai '!$C$5:$C$29,0),MATCH(A472,'Modifikuoti svoriai '!$D$4:$K$4,0)),\"\")","v":""},null,null,null,null,null,null,null,null,null,null,null,null,null,"","","","","","","","",""]
[null,null,{"$f":"IFERROR(INDEX('Modifikuoti svoriai '!$D$5:$K$29,MATCH(B473,'Modifikuoti svoriai '!$C$5:$C$29,0),MATCH(A473,'Modifikuoti svoriai '!$D$4:$K$4,0)),\"\")","v":""},null,null,null,null,null,null,null,null,null,null,null,null,null,"","","","","","","","",""]
[null,null,{"$f":"IFERROR(INDEX('Modifikuoti svoriai '!$D$5:$K$29,MATCH(B474,'Modifikuoti svoriai '!$C$5:$C$29,0),MATCH(A474,'Modifikuoti svoriai '!$D$4:$K$4,0)),\"\")","v":""},null,null,null,null,null,null,null,null,null,null,null,null,null,"","","","","","","","",""]
[null,null,{"$f":"IFERROR(INDEX('Modifikuoti svoriai '!$D$5:$K$29,MATCH(B475,'Modifikuoti svoriai '!$C$5:$C$29,0),MATCH(A475,'Modifikuoti svoriai '!$D$4:$K$4,0)),\"\")","v":""},null,null,null,null,null,null,null,null,null,null,null,null,null,"","","","","","","","",""]
[null,null,{"$f":"IFERROR(INDEX('Modifikuoti svoriai '!$D$5:$K$29,MATCH(B476,'Modifikuoti svoriai '!$C$5:$C$29,0),MATCH(A476,'Modifikuoti svoriai '!$D$4:$K$4,0)),\"\")","v":""},null,null,null,null,null,null,null,null,null,null,null,null,null,"","","","","","","","",""]
[null,null,{"$f":"IFERROR(INDEX('Modifikuoti svoriai '!$D$5:$K$29,MATCH(B477,'Modifikuoti svoriai '!$C$5:$C$29,0),MATCH(A477,'Modifikuoti svoriai '!$D$4:$K$4,0)),\"\")","v":""},null,null,null,null,null,null,null,null,null,null,null,null,null,"","","","","","","","",""]
[null,null,{"$f":"IFERROR(INDEX('Modifikuoti svoriai '!$D$5:$K$29,MATCH(B478,'Modifikuoti svoriai '!$C$5:$C$29,0),MATCH(A478,'Modifikuoti svoriai '!$D$4:$K$4,0)),\"\")","v":""},null,null,null,null,null,null,null,null,null,null,null,null,null,"","","","","","","","",""]
[null,null,{"$f":"IFERROR(INDEX('Modifikuoti svoriai '!$D$5:$K$29,MATCH(B479,'Modifikuoti svoriai '!$C$5:$C$29,0),MATCH(A479,'Modifikuoti svoriai '!$D$4:$K$4,0)),\"\")","v":""},null,null,null,null,null,null,null,null,null,null,null,null,null,{"$f":"IF(Q$6<YEAR($K479),\"Pastato tarnavimo laikotarpis nepasibaigė\",IF(Q$6=YEAR($K479),\"Pastato tarnavimo laikotarpio pabaiga\",IF($K479<>0,\"Pastato tarnavimo laikotarpis pasibaigė\",\"\")))","v":""},"","","","","","","",""]
[null,null,{"$f":"IFERROR(INDEX('Modifikuoti svoriai '!$D$5:$K$29,MATCH(B480,'Modifikuoti svoriai '!$C$5:$C$29,0),MATCH(A480,'Modifikuoti svoriai '!$D$4:$K$4,0)),\"\")","v":""},null,null,null,null,null,null,null,null,null,null,null,null,null,"","","","","","","","",""]
[null,null,{"$f":"IFERROR(INDEX('Modifikuoti svoriai '!$D$5:$K$29,MATCH(B481,'Modifikuoti svoriai '!$C$5:$C$29,0),MATCH(A481,'Modifikuoti svoriai '!$D$4:$K$4,0)),\"\")","v":""},null,null,null,null,null,null,null,null,null,null,null,null,null,"","","","","","","","",""]
[null,null,{"$f":"IFERROR(INDEX('Modifikuoti svoriai '!$D$5:$K$29,MATCH(B482,'Modifikuoti svoriai '!$C$5:$C$29,0),MATCH(A482,'Modifikuoti svoriai '!$D$4:$K$4,0)),\"\")","v":""},null,null,null,null,null,null,null,null,null,null,null,null,null,"","","","","","","","",""]
[null,null,{"$f":"IFERROR(INDEX('Modifikuoti svoriai '!$D$5:$K$29,MATCH(B483,'Modifikuoti svoriai '!$C$5:$C$29,0),MATCH(A483,'Modifikuoti svoriai '!$D$4:$K$4,0)),\"\")","v":""},null,null,null,null,null,null,null,null,null,null,null,null,null,"","","","","","","","",""]
[null,null,{"$f":"IFERROR(INDEX('Modifikuoti svoriai '!$D$5:$K$29,MATCH(B484,'Modifikuoti svoriai '!$C$5:$C$29,0),MATCH(A484,'Modifikuoti svoriai '!$D$4:$K$4,0)),\"\")","v":""},null,null,null,null,null,null,null,null,null,null,null,null,null,"","","","","","","","",""]
[null,null,{"$f":"IFERROR(INDEX('Modifikuoti svoriai '!$D$5:$K$29,MATCH(B485,'Modifikuoti svoriai '!$C$5:$C$29,0),MATCH(A485,'Modifikuoti svoriai '!$D$4:$K$4,0)),\"\")","v":""},null,null,null,null,null,null,null,null,null,null,null,null,null,"","","","","","","","",""]
[null,null,{"$f":"IFERROR(INDEX('Modifikuoti svoriai '!$D$5:$K$29,MATCH(B486,'Modifikuoti svoriai '!$C$5:$C$29,0),MATCH(A486,'Modifikuoti svoriai '!$D$4:$K$4,0)),\"\")","v":""},null,null,null,null,null,null,null,null,null,null,null,null,null,"","","","","","","","",""]
[null,null,{"$f":"IFERROR(INDEX('Modifikuoti svoriai '!$D$5:$K$29,MATCH(B487,'Modifikuoti svoriai '!$C$5:$C$29,0),MATCH(A487,'Modifikuoti svoriai '!$D$4:$K$4,0)),\"\")","v":""},null,null,null,null,null,null,null,null,null,null,null,null,null,"","","","","","","","",""]
[null,null,{"$f":"IFERROR(INDEX('Modifikuoti svoriai '!$D$5:$K$29,MATCH(B488,'Modifikuoti svoriai '!$C$5:$C$29,0),MATCH(A488,'Modifikuoti svoriai '!$D$4:$K$4,0)),\"\")","v":""},null,null,null,null,null,null,null,null,null,null,null,null,null,"","","","","","","","",""]
[null,null,{"$f":"IFERROR(INDEX('Modifikuoti svoriai '!$D$5:$K$29,MATCH(B489,'Modifikuoti svoriai '!$C$5:$C$29,0),MATCH(A489,'Modifikuoti svoriai '!$D$4:$K$4,0)),\"\")","v":""},null,null,null,null,null,null,null,null,null,null,null,null,null,"","","","","","","","",""]
[null,null,{"$f":"IFERROR(INDEX('Modifikuoti svoriai '!$D$5:$K$29,MATCH(B490,'Modifikuoti svoriai '!$C$5:$C$29,0),MATCH(A490,'Modifikuoti svoriai '!$D$4:$K$4,0)),\"\")","v":""},null,null,null,null,null,null,null,null,null,null,null,null,null,"","","","","","","","",""]
[null,null,{"$f":"IFERROR(INDEX('Modifikuoti svoriai '!$D$5:$K$29,MATCH(B491,'Modifikuoti svoriai '!$C$5:$C$29,0),MATCH(A491,'Modifikuoti svoriai '!$D$4:$K$4,0)),\"\")","v":""},null,null,null,null,null,null,null,null,null,null,null,null,null,"","","","","","","","",""]
[null,null,{"$f":"IFERROR(INDEX('Modifikuoti svoriai '!$D$5:$K$29,MATCH(B492,'Modifikuoti svoriai '!$C$5:$C$29,0),MATCH(A492,'Modifikuoti svoriai '!$D$4:$K$4,0)),\"\")","v":""},null,null,null,null,null,null,null,null,null,null,null,null,null,"","","","","","","","",""]
[null,null,{"$f":"IFERROR(INDEX('Modifikuoti svoriai '!$D$5:$K$29,MATCH(B493,'Modifikuoti svoriai '!$C$5:$C$29,0),MATCH(A493,'Modifikuoti svoriai '!$D$4:$K$4,0)),\"\")","v":""},null,null,null,null,null,null,null,null,null,null,null,null,null,"","","","","","","","",""]
[null,null,{"$f":"IFERROR(INDEX('Modifikuoti svoriai '!$D$5:$K$29,MATCH(B494,'Modifikuoti svoriai '!$C$5:$C$29,0),MATCH(A494,'Modifikuoti svoriai '!$D$4:$K$4,0)),\"\")","v":""},null,null,null,null,null,null,null,null,null,null,null,null,null,"","","","","","","","",""]
[null,null,{"$f":"IFERROR(INDEX('Modifikuoti svoriai '!$D$5:$K$29,MATCH(B495,'Modifikuoti svoriai '!$C$5:$C$29,0),MATCH(A495,'Modifikuoti svoriai '!$D$4:$K$4,0)),\"\")","v":""},null,null,null,null,null,null,null,null,null,null,null,null,null,{"$f":"IF(Q$6<YEAR($K495),\"Pastato tarnavimo laikotarpis nepasibaigė\",IF(Q$6=YEAR($K495),\"Pastato tarnavimo laikotarpio pabaiga\",IF($K495<>0,\"Pastato tarnavimo laikotarpis pasibaigė\",\"\")))","v":""},"","","","","","","",""]
[null,null,{"$f":"IFERROR(INDEX('Modifikuoti svoriai '!$D$5:$K$29,MATCH(B496,'Modifikuoti svoriai '!$C$5:$C$29,0),MATCH(A496,'Modifikuoti svoriai '!$D$4:$K$4,0)),\"\")","v":""},null,null,null,null,null,null,null,null,null,null,null,null,null,"","","","","","","","",""]
[null,null,{"$f":"IFERROR(INDEX('Modifikuoti svoriai '!$D$5:$K$29,MATCH(B497,'Modifikuoti svoriai '!$C$5:$C$29,0),MATCH(A497,'Modifikuoti svoriai '!$D$4:$K$4,0)),\"\")","v":""},null,null,null,null,null,null,null,null,null,null,null,null,null,"","","","","","","","",""]
[null,null,{"$f":"IFERROR(INDEX('Modifikuoti svoriai '!$D$5:$K$29,MATCH(B498,'Modifikuoti svoriai '!$C$5:$C$29,0),MATCH(A498,'Modifikuoti svoriai '!$D$4:$K$4,0)),\"\")","v":""},null,null,null,null,null,null,null,null,null,null,null,null,null,"","","","","","","","",""]
[null,null,{"$f":"IFERROR(INDEX('Modifikuoti svoriai '!$D$5:$K$29,MATCH(B499,'Modifikuoti svoriai '!$C$5:$C$29,0),MATCH(A499,'Modifikuoti svoriai '!$D$4:$K$4,0)),\"\")","v":""},null,null,null,null,null,null,null,null,null,null,null,null,null,"","","","","","","","",""]
[null,null,{"$f":"IFERROR(INDEX('Modifikuoti svoriai '!$D$5:$K$29,MATCH(B500,'Modifikuoti svoriai '!$C$5:$C$29,0),MATCH(A500,'Modifikuoti svoriai '!$D$4:$K$4,0)),\"\")","v":""},null,null,null,null,null,null,null,null,null,null,null,null,null,"","","","","","","","",""]
[null,null,{"$f":"IFERROR(INDEX('Modifikuoti svoriai '!$D$5:$K$29,MATCH(B501,'Modifikuoti svoriai '!$C$5:$C$29,0),MATCH(A501,'Modifikuoti svoriai '!$D$4:$K$4,0)),\"\")","v":""},null,null,null,null,null,null,null,null,null,null,null,null,null,"","","","","","","","",""]
[null,null,{"$f":"IFERROR(INDEX('Modifikuoti svoriai '!$D$5:$K$29,MATCH(B502,'Modifikuoti svoriai '!$C$5:$C$29,0),MATCH(A502,'Modifikuoti svoriai '!$D$4:$K$4,0)),\"\")","v":""},null,null,null,null,null,null,null,null,null,null,null,null,null,"","","","","","","","",""]
[null,null,{"$f":"IFERROR(INDEX('Modifikuoti svoriai '!$D$5:$K$29,MATCH(B503,'Modifikuoti svoriai '!$C$5:$C$29,0),MATCH(A503,'Modifikuoti svoriai '!$D$4:$K$4,0)),\"\")","v":""},null,null,null,null,null,null,null,null,null,null,null,null,null,"","","","","","","","",""]
[null,null,{"$f":"IFERROR(INDEX('Modifikuoti svoriai '!$D$5:$K$29,MATCH(B504,'Modifikuoti svoriai '!$C$5:$C$29,0),MATCH(A504,'Modifikuoti svoriai '!$D$4:$K$4,0)),\"\")","v":""},null,null,null,null,null,null,null,null,null,null,null,null,null,"","","","","","","","",""]
[null,null,{"$f":"IFERROR(INDEX('Modifikuoti svoriai '!$D$5:$K$29,MATCH(B505,'Modifikuoti svoriai '!$C$5:$C$29,0),MATCH(A505,'Modifikuoti svoriai '!$D$4:$K$4,0)),\"\")","v":""},null,null,null,null,null,null,null,null,null,null,null,null,null,"","","","","","","","",""]
[null,null,{"$f":"IFERROR(INDEX('Modifikuoti svoriai '!$D$5:$K$29,MATCH(B506,'Modifikuoti svoriai '!$C$5:$C$29,0),MATCH(A506,'Modifikuoti svoriai '!$D$4:$K$4,0)),\"\")","v":""},null,null,null,null,null,null,null,null,null,null,null,null,null,"","","","","","","","",""]
[null,null,{"$f":"IFERROR(INDEX('Modifikuoti svoriai '!$D$5:$K$29,MATCH(B507,'Modifikuoti svoriai '!$C$5:$C$29,0),MATCH(A507,'Modifikuoti svoriai '!$D$4:$K$4,0)),\"\")","v":""},null,null,null,null,null,null,null,null,null,null,null,null,null,"","","","","","","","",""]
[null,null,{"$f":"IFERROR(INDEX('Modifikuoti svoriai '!$D$5:$K$29,MATCH(B508,'Modifikuoti svoriai '!$C$5:$C$29,0),MATCH(A508,'Modifikuoti svoriai '!$D$4:$K$4,0)),\"\")","v":""},null,null,null,null,null,null,null,null,null,null,null,null,null,"","","","","","","","",""]
[null,null,{"$f":"IFERROR(INDEX('Modifikuoti svoriai '!$D$5:$K$29,MATCH(B509,'Modifikuoti svoriai '!$C$5:$C$29,0),MATCH(A509,'Modifikuoti svoriai '!$D$4:$K$4,0)),\"\")","v":""},null,null,null,null,null,null,null,null,null,null,null,null,null,"","","","","","","","",""]
[null,null,{"$f":"IFERROR(INDEX('Modifikuoti svoriai '!$D$5:$K$29,MATCH(B510,'Modifikuoti svoriai '!$C$5:$C$29,0),MATCH(A510,'Modifikuoti svoriai '!$D$4:$K$4,0)),\"\")","v":""},null,null,null,null,null,null,null,null,null,null,null,null,null,"","","","","","","","",""]
[null,null,{"$f":"IFERROR(INDEX('Modifikuoti svoriai '!$D$5:$K$29,MATCH(B511,'Modifikuoti svoriai '!$C$5:$C$29,0),MATCH(A511,'Modifikuoti svoriai '!$D$4:$K$4,0)),\"\")","v":""},null,null,null,null,null,null,null,null,null,null,null,null,null,{"$f":"IF(Q$6<YEAR($K511),\"Pastato tarnavimo laikotarpis nepasibaigė\",IF(Q$6=YEAR($K511),\"Pastato tarnavimo laikotarpio pabaiga\",IF($K511<>0,\"Pastato tarnavimo laikotarpis pasibaigė\",\"\")))","v":""},"","","","","","","",""]
[null,null,{"$f":"IFERROR(INDEX('Modifikuoti svoriai '!$D$5:$K$29,MATCH(B512,'Modifikuoti svoriai '!$C$5:$C$29,0),MATCH(A512,'Modifikuoti svoriai '!$D$4:$K$4,0)),\"\")","v":""},null,null,null,null,null,null,null,null,null,null,null,null,null,"","","","","","","","",""]
[null,null,{"$f":"IFERROR(INDEX('Modifikuoti svoriai '!$D$5:$K$29,MATCH(B513,'Modifikuoti svoriai '!$C$5:$C$29,0),MATCH(A513,'Modifikuoti svoriai '!$D$4:$K$4,0)),\"\")","v":""},null,null,null,null,null,null,null,null,null,null,null,null,null,"","","","","","","","",""]
[null,null,{"$f":"IFERROR(INDEX('Modifikuoti svoriai '!$D$5:$K$29,MATCH(B514,'Modifikuoti svoriai '!$C$5:$C$29,0),MATCH(A514,'Modifikuoti svoriai '!$D$4:$K$4,0)),\"\")","v":""},null,null,null,null,null,null,null,null,null,null,null,null,null,"","","","","","","","",""]
[null,null,{"$f":"IFERROR(INDEX('Modifikuoti svoriai '!$D$5:$K$29,MATCH(B515,'Modifikuoti svoriai '!$C$5:$C$29,0),MATCH(A515,'Modifikuoti svoriai '!$D$4:$K$4,0)),\"\")","v":""},null,null,null,null,null,null,null,null,null,null,null,null,null,"","","","","","","","",""]
[null,null,{"$f":"IFERROR(INDEX('Modifikuoti svoriai '!$D$5:$K$29,MATCH(B516,'Modifikuoti svoriai '!$C$5:$C$29,0),MATCH(A516,'Modifikuoti svoriai '!$D$4:$K$4,0)),\"\")","v":""},null,null,null,null,null,null,null,null,null,null,null,null,null,"","","","","","","","",""]
[null,null,{"$f":"IFERROR(INDEX('Modifikuoti svoriai '!$D$5:$K$29,MATCH(B517,'Modifikuoti svoriai '!$C$5:$C$29,0),MATCH(A517,'Modifikuoti svoriai '!$D$4:$K$4,0)),\"\")","v":""},null,null,null,null,null,null,null,null,null,null,null,null,null,"","","","","","","","",""]
[null,null,{"$f":"IFERROR(INDEX('Modifikuoti svoriai '!$D$5:$K$29,MATCH(B518,'Modifikuoti svoriai '!$C$5:$C$29,0),MATCH(A518,'Modifikuoti svoriai '!$D$4:$K$4,0)),\"\")","v":""},null,null,null,null,null,null,null,null,null,null,null,null,null,"","","","","","","","",""]
[null,null,{"$f":"IFERROR(INDEX('Modifikuoti svoriai '!$D$5:$K$29,MATCH(B519,'Modifikuoti svoriai '!$C$5:$C$29,0),MATCH(A519,'Modifikuoti svoriai '!$D$4:$K$4,0)),\"\")","v":""},null,null,null,null,null,null,null,null,null,null,null,null,null,"","","","","","","","",""]
[null,null,{"$f":"IFERROR(INDEX('Modifikuoti svoriai '!$D$5:$K$29,MATCH(B520,'Modifikuoti svoriai '!$C$5:$C$29,0),MATCH(A520,'Modifikuoti svoriai '!$D$4:$K$4,0)),\"\")","v":""},null,null,null,null,null,null,null,null,null,null,null,null,null,"","","","","","","","",""]
[null,null,{"$f":"IFERROR(INDEX('Modifikuoti svoriai '!$D$5:$K$29,MATCH(B521,'Modifikuoti svoriai '!$C$5:$C$29,0),MATCH(A521,'Modifikuoti svoriai '!$D$4:$K$4,0)),\"\")","v":""},null,null,null,null,null,null,null,null,null,null,null,null,null,"","","","","","","","",""]
[null,null,{"$f":"IFERROR(INDEX('Modifikuoti svoriai '!$D$5:$K$29,MATCH(B522,'Modifikuoti svoriai '!$C$5:$C$29,0),MATCH(A522,'Modifikuoti svoriai '!$D$4:$K$4,0)),\"\")","v":""},null,null,null,null,null,null,null,null,null,null,null,null,null,"","","","","","","","",""]
[null,null,{"$f":"IFERROR(INDEX('Modifikuoti svoriai '!$D$5:$K$29,MATCH(B523,'Modifikuoti svoriai '!$C$5:$C$29,0),MATCH(A523,'Modifikuoti svoriai '!$D$4:$K$4,0)),\"\")","v":""},null,null,null,null,null,null,null,null,null,null,null,null,null,"","","","","","","","",""]
[null,null,{"$f":"IFERROR(INDEX('Modifikuoti svoriai '!$D$5:$K$29,MATCH(B524,'Modifikuoti svoriai '!$C$5:$C$29,0),MATCH(A524,'Modifikuoti svoriai '!$D$4:$K$4,0)),\"\")","v":""},null,null,null,null,null,null,null,null,null,null,null,null,null,"","","","","","","","",""]
[null,null,{"$f":"IFERROR(INDEX('Modifikuoti svoriai '!$D$5:$K$29,MATCH(B525,'Modifikuoti svoriai '!$C$5:$C$29,0),MATCH(A525,'Modifikuoti svoriai '!$D$4:$K$4,0)),\"\")","v":""},null,null,null,null,null,null,null,null,null,null,null,null,null,"","","","","","","","",""]
[null,null,{"$f":"IFERROR(INDEX('Modifikuoti svoriai '!$D$5:$K$29,MATCH(B526,'Modifikuoti svoriai '!$C$5:$C$29,0),MATCH(A526,'Modifikuoti svoriai '!$D$4:$K$4,0)),\"\")","v":""},null,null,null,null,null,null,null,null,null,null,null,null,null,"","","","","","","","",""]
[null,null,{"$f":"IFERROR(INDEX('Modifikuoti svoriai '!$D$5:$K$29,MATCH(B527,'Modifikuoti svoriai '!$C$5:$C$29,0),MATCH(A527,'Modifikuoti svoriai '!$D$4:$K$4,0)),\"\")","v":""},null,null,null,null,null,null,null,null,null,null,null,null,null,{"$f":"IF(Q$6<YEAR($K527),\"Pastato tarnavimo laikotarpis nepasibaigė\",IF(Q$6=YEAR($K527),\"Pastato tarnavimo laikotarpio pabaiga\",IF($K527<>0,\"Pastato tarnavimo laikotarpis pasibaigė\",\"\")))","v":""},"","","","","","","",""]
[null,null,{"$f":"IFERROR(INDEX('Modifikuoti svoriai '!$D$5:$K$29,MATCH(B528,'Modifikuoti svoriai '!$C$5:$C$29,0),MATCH(A528,'Modifikuoti svoriai '!$D$4:$K$4,0)),\"\")","v":""},null,null,null,null,null,null,null,null,null,null,null,null,null,"","","","","","","","",""]
[null,null,{"$f":"IFERROR(INDEX('Modifikuoti svoriai '!$D$5:$K$29,MATCH(B529,'Modifikuoti svoriai '!$C$5:$C$29,0),MATCH(A529,'Modifikuoti svoriai '!$D$4:$K$4,0)),\"\")","v":""},null,null,null,null,null,null,null,null,null,null,null,null,null,"","","","","","","","",""]
[null,null,{"$f":"IFERROR(INDEX('Modifikuoti svoriai '!$D$5:$K$29,MATCH(B530,'Modifikuoti svoriai '!$C$5:$C$29,0),MATCH(A530,'Modifikuoti svoriai '!$D$4:$K$4,0)),\"\")","v":""},null,null,null,null,null,null,null,null,null,null,null,null,null,"","","","","","","","",""]
[null,null,{"$f":"IFERROR(INDEX('Modifikuoti svoriai '!$D$5:$K$29,MATCH(B531,'Modifikuoti svoriai '!$C$5:$C$29,0),MATCH(A531,'Modifikuoti svoriai '!$D$4:$K$4,0)),\"\")","v":""},null,null,null,null,null,null,null,null,null,null,null,null,null,"","","","","","","","",""]
[null,null,{"$f":"IFERROR(INDEX('Modifikuoti svoriai '!$D$5:$K$29,MATCH(B532,'Modifikuoti svoriai '!$C$5:$C$29,0),MATCH(A532,'Modifikuoti svoriai '!$D$4:$K$4,0)),\"\")","v":""},null,null,null,null,null,null,null,null,null,null,null,null,null,"","","","","","","","",""]
[null,null,{"$f":"IFERROR(INDEX('Modifikuoti svoriai '!$D$5:$K$29,MATCH(B533,'Modifikuoti svoriai '!$C$5:$C$29,0),MATCH(A533,'Modifikuoti svoriai '!$D$4:$K$4,0)),\"\")","v":""},null,null,null,null,null,null,null,null,null,null,null,null,null,"","","","","","","","",""]
[null,null,{"$f":"IFERROR(INDEX('Modifikuoti svoriai '!$D$5:$K$29,MATCH(B534,'Modifikuoti svoriai '!$C$5:$C$29,0),MATCH(A534,'Modifikuoti svoriai '!$D$4:$K$4,0)),\"\")","v":""},null,null,null,null,null,null,null,null,null,null,null,null,null,"","","","","","","","",""]
[null,null,{"$f":"IFERROR(INDEX('Modifikuoti svoriai '!$D$5:$K$29,MATCH(B535,'Modifikuoti svoriai '!$C$5:$C$29,0),MATCH(A535,'Modifikuoti svoriai '!$D$4:$K$4,0)),\"\")","v":""},null,null,null,null,null,null,null,null,null,null,null,null,null,"","","","","","","","",""]
[null,null,{"$f":"IFERROR(INDEX('Modifikuoti svoriai '!$D$5:$K$29,MATCH(B536,'Modifikuoti svoriai '!$C$5:$C$29,0),MATCH(A536,'Modifikuoti svoriai '!$D$4:$K$4,0)),\"\")","v":""},null,null,null,null,null,null,null,null,null,null,null,null,null,"","","","","","","","",""]
[null,null,{"$f":"IFERROR(INDEX('Modifikuoti svoriai '!$D$5:$K$29,MATCH(B537,'Modifikuoti svoriai '!$C$5:$C$29,0),MATCH(A537,'Modifikuoti svoriai '!$D$4:$K$4,0)),\"\")","v":""},null,null,null,null,null,null,null,null,null,null,null,null,null,"","","","","","","","",""]
[null,null,{"$f":"IFERROR(INDEX('Modifikuoti svoriai '!$D$5:$K$29,MATCH(B538,'Modifikuoti svoriai '!$C$5:$C$29,0),MATCH(A538,'Modifikuoti svoriai '!$D$4:$K$4,0)),\"\")","v":""},null,null,null,null,null,null,null,null,null,null,null,null,null,"","","","","","","","",""]
[null,null,{"$f":"IFERROR(INDEX('Modifikuoti svoriai '!$D$5:$K$29,MATCH(B539,'Modifikuoti svoriai '!$C$5:$C$29,0),MATCH(A539,'Modifikuoti svoriai '!$D$4:$K$4,0)),\"\")","v":""},null,null,null,null,null,null,null,null,null,null,null,null,null,"","","","","","","","",""]
[null,null,{"$f":"IFERROR(INDEX('Modifikuoti svoriai '!$D$5:$K$29,MATCH(B540,'Modifikuoti svoriai '!$C$5:$C$29,0),MATCH(A540,'Modifikuoti svoriai '!$D$4:$K$4,0)),\"\")","v":""},null,null,null,null,null,null,null,null,null,null,null,null,null,"","","","","","","","",""]
[null,null,{"$f":"IFERROR(INDEX('Modifikuoti svoriai '!$D$5:$K$29,MATCH(B541,'Modifikuoti svoriai '!$C$5:$C$29,0),MATCH(A541,'Modifikuoti svoriai '!$D$4:$K$4,0)),\"\")","v":""},null,null,null,null,null,null,null,null,null,null,null,null,null,"","","","","","","","",""]
[null,null,{"$f":"IFERROR(INDEX('Modifikuoti svoriai '!$D$5:$K$29,MATCH(B542,'Modifikuoti svoriai '!$C$5:$C$29,0),MATCH(A542,'Modifikuoti svoriai '!$D$4:$K$4,0)),\"\")","v":""},null,null,null,null,null,null,null,null,null,null,null,null,null,"","","","","","","","",""]
[null,null,{"$f":"IFERROR(INDEX('Modifikuoti svoriai '!$D$5:$K$29,MATCH(B543,'Modifikuoti svoriai '!$C$5:$C$29,0),MATCH(A543,'Modifikuoti svoriai '!$D$4:$K$4,0)),\"\")","v":""},null,null,null,null,null,null,null,null,null,null,null,null,null,{"$f":"IF(Q$6<YEAR($K543),\"Pastato tarnavimo laikotarpis nepasibaigė\",IF(Q$6=YEAR($K543),\"Pastato tarnavimo laikotarpio pabaiga\",IF($K543<>0,\"Pastato tarnavimo laikotarpis pasibaigė\",\"\")))","v":""},"","","","","","","",""]
[null,null,{"$f":"IFERROR(INDEX('Modifikuoti svoriai '!$D$5:$K$29,MATCH(B544,'Modifikuoti svoriai '!$C$5:$C$29,0),MATCH(A544,'Modifikuoti svoriai '!$D$4:$K$4,0)),\"\")","v":""},null,null,null,null,null,null,null,null,null,null,null,null,null,"","","","","","","","",""]
[null,null,{"$f":"IFERROR(INDEX('Modifikuoti svoriai '!$D$5:$K$29,MATCH(B545,'Modifikuoti svoriai '!$C$5:$C$29,0),MATCH(A545,'Modifikuoti svoriai '!$D$4:$K$4,0)),\"\")","v":""},null,null,null,null,null,null,null,null,null,null,null,null,null,"","","","","","","","",""]
[null,null,{"$f":"IFERROR(INDEX('Modifikuoti svoriai '!$D$5:$K$29,MATCH(B546,'Modifikuoti svoriai '!$C$5:$C$29,0),MATCH(A546,'Modifikuoti svoriai '!$D$4:$K$4,0)),\"\")","v":""},null,null,null,null,null,null,null,null,null,null,null,null,null,"","","","","","","","",""]
[null,null,{"$f":"IFERROR(INDEX('Modifikuoti svoriai '!$D$5:$K$29,MATCH(B547,'Modifikuoti svoriai '!$C$5:$C$29,0),MATCH(A547,'Modifikuoti svoriai '!$D$4:$K$4,0)),\"\")","v":""},null,null,null,null,null,null,null,null,null,null,null,null,null,"","","","","","","","",""]
[null,null,{"$f":"IFERROR(INDEX('Modifikuoti svoriai '!$D$5:$K$29,MATCH(B548,'Modifikuoti svoriai '!$C$5:$C$29,0),MATCH(A548,'Modifikuoti svoriai '!$D$4:$K$4,0)),\"\")","v":""},null,null,null,null,null,null,null,null,null,null,null,null,null,"","","","","","","","",""]
[null,null,{"$f":"IFERROR(INDEX('Modifikuoti svoriai '!$D$5:$K$29,MATCH(B549,'Modifikuoti svoriai '!$C$5:$C$29,0),MATCH(A549,'Modifikuoti svoriai '!$D$4:$K$4,0)),\"\")","v":""},null,null,null,null,null,null,null,null,null,null,null,null,null,"","","","","","","","",""]
[null,null,{"$f":"IFERROR(INDEX('Modifikuoti svoriai '!$D$5:$K$29,MATCH(B550,'Modifikuoti svoriai '!$C$5:$C$29,0),MATCH(A550,'Modifikuoti svoriai '!$D$4:$K$4,0)),\"\")","v":""},null,null,null,null,null,null,null,null,null,null,null,null,null,"","","","","","","","",""]
[null,null,{"$f":"IFERROR(INDEX('Modifikuoti svoriai '!$D$5:$K$29,MATCH(B551,'Modifikuoti svoriai '!$C$5:$C$29,0),MATCH(A551,'Modifikuoti svoriai '!$D$4:$K$4,0)),\"\")","v":""},null,null,null,null,null,null,null,null,null,null,null,null,null,"","","","","","","","",""]
[null,null,{"$f":"IFERROR(INDEX('Modifikuoti svoriai '!$D$5:$K$29,MATCH(B552,'Modifikuoti svoriai '!$C$5:$C$29,0),MATCH(A552,'Modifikuoti svoriai '!$D$4:$K$4,0)),\"\")","v":""},null,null,null,null,null,null,null,null,null,null,null,null,null,"","","","","","","","",""]
[null,null,{"$f":"IFERROR(INDEX('Modifikuoti svoriai '!$D$5:$K$29,MATCH(B553,'Modifikuoti svoriai '!$C$5:$C$29,0),MATCH(A553,'Modifikuoti svoriai '!$D$4:$K$4,0)),\"\")","v":""},null,null,null,null,null,null,null,null,null,null,null,null,null,"","","","","","","","",""]
[null,null,{"$f":"IFERROR(INDEX('Modifikuoti svoriai '!$D$5:$K$29,MATCH(B554,'Modifikuoti svoriai '!$C$5:$C$29,0),MATCH(A554,'Modifikuoti svoriai '!$D$4:$K$4,0)),\"\")","v":""},null,null,null,null,null,null,null,null,null,null,null,null,null,"","","","","","","","",""]
[null,null,{"$f":"IFERROR(INDEX('Modifikuoti svoriai '!$D$5:$K$29,MATCH(B555,'Modifikuoti svoriai '!$C$5:$C$29,0),MATCH(A555,'Modifikuoti svoriai '!$D$4:$K$4,0)),\"\")","v":""},null,null,null,null,null,null,null,null,null,null,null,null,null,"","","","","","","","",""]
[null,null,{"$f":"IFERROR(INDEX('Modifikuoti svoriai '!$D$5:$K$29,MATCH(B556,'Modifikuoti svoriai '!$C$5:$C$29,0),MATCH(A556,'Modifikuoti svoriai '!$D$4:$K$4,0)),\"\")","v":""},null,null,null,null,null,null,null,null,null,null,null,null,null,"","","","","","","","",""]
[null,null,{"$f":"IFERROR(INDEX('Modifikuoti svoriai '!$D$5:$K$29,MATCH(B557,'Modifikuoti svoriai '!$C$5:$C$29,0),MATCH(A557,'Modifikuoti svoriai '!$D$4:$K$4,0)),\"\")","v":""},null,null,null,null,null,null,null,null,null,null,null,null,null,"","","","","","","","",""]
[null,null,{"$f":"IFERROR(INDEX('Modifikuoti svoriai '!$D$5:$K$29,MATCH(B558,'Modifikuoti svoriai '!$C$5:$C$29,0),MATCH(A558,'Modifikuoti svoriai '!$D$4:$K$4,0)),\"\")","v":""},null,null,null,null,null,null,null,null,null,null,null,null,null,"","","","","","","","",""]
[null,null,{"$f":"IFERROR(INDEX('Modifikuoti svoriai '!$D$5:$K$29,MATCH(B559,'Modifikuoti svoriai '!$C$5:$C$29,0),MATCH(A559,'Modifikuoti svoriai '!$D$4:$K$4,0)),\"\")","v":""},null,null,null,null,null,null,null,null,null,null,null,null,null,{"$f":"IF(Q$6<YEAR($K559),\"Pastato tarnavimo laikotarpis nepasibaigė\",IF(Q$6=YEAR($K559),\"Pastato tarnavimo laikotarpio pabaiga\",IF($K559<>0,\"Pastato tarnavimo laikotarpis pasibaigė\",\"\")))","v":""},"","","","","","","",""]
[null,null,{"$f":"IFERROR(INDEX('Modifikuoti svoriai '!$D$5:$K$29,MATCH(B560,'Modifikuoti svoriai '!$C$5:$C$29,0),MATCH(A560,'Modifikuoti svoriai '!$D$4:$K$4,0)),\"\")","v":""},null,null,null,null,null,null,null,null,null,null,null,null,null,"","","","","","","","",""]
[null,null,{"$f":"IFERROR(INDEX('Modifikuoti svoriai '!$D$5:$K$29,MATCH(B561,'Modifikuoti svoriai '!$C$5:$C$29,0),MATCH(A561,'Modifikuoti svoriai '!$D$4:$K$4,0)),\"\")","v":""},null,null,null,null,null,null,null,null,null,null,null,null,null,"","","","","","","","",""]
[null,null,{"$f":"IFERROR(INDEX('Modifikuoti svoriai '!$D$5:$K$29,MATCH(B562,'Modifikuoti svoriai '!$C$5:$C$29,0),MATCH(A562,'Modifikuoti svoriai '!$D$4:$K$4,0)),\"\")","v":""},null,null,null,null,null,null,null,null,null,null,null,null,null,"","","","","","","","",""]
[null,null,{"$f":"IFERROR(INDEX('Modifikuoti svoriai '!$D$5:$K$29,MATCH(B563,'Modifikuoti svoriai '!$C$5:$C$29,0),MATCH(A563,'Modifikuoti svoriai '!$D$4:$K$4,0)),\"\")","v":""},null,null,null,null,null,null,null,null,null,null,null,null,null,"","","","","","","","",""]
[null,null,{"$f":"IFERROR(INDEX('Modifikuoti svoriai '!$D$5:$K$29,MATCH(B564,'Modifikuoti svoriai '!$C$5:$C$29,0),MATCH(A564,'Modifikuoti svoriai '!$D$4:$K$4,0)),\"\")","v":""},null,null,null,null,null,null,null,null,null,null,null,null,null,"","","","","","","","",""]
[null,null,{"$f":"IFERROR(INDEX('Modifikuoti svoriai '!$D$5:$K$29,MATCH(B565,'Modifikuoti svoriai '!$C$5:$C$29,0),MATCH(A565,'Modifikuoti svoriai '!$D$4:$K$4,0)),\"\")","v":""},null,null,null,null,null,null,null,null,null,null,null,null,null,"","","","","","","","",""]
[null,null,{"$f":"IFERROR(INDEX('Modifikuoti svoriai '!$D$5:$K$29,MATCH(B566,'Modifikuoti svoriai '!$C$5:$C$29,0),MATCH(A566,'Modifikuoti svoriai '!$D$4:$K$4,0)),\"\")","v":""},null,null,null,null,null,null,null,null,null,null,null,null,null,"","","","","","","","",""]
[null,null,{"$f":"IFERROR(INDEX('Modifikuoti svoriai '!$D$5:$K$29,MATCH(B567,'Modifikuoti svoriai '!$C$5:$C$29,0),MATCH(A567,'Modifikuoti svoriai '!$D$4:$K$4,0)),\"\")","v":""},null,null,null,null,null,null,null,null,null,null,null,null,null,"","","","","","","","",""]
[null,null,{"$f":"IFERROR(INDEX('Modifikuoti svoriai '!$D$5:$K$29,MATCH(B568,'Modifikuoti svoriai '!$C$5:$C$29,0),MATCH(A568,'Modifikuoti svoriai '!$D$4:$K$4,0)),\"\")","v":""},null,null,null,null,null,null,null,null,null,null,null,null,null,"","","","","","","","",""]
[null,null,{"$f":"IFERROR(INDEX('Modifikuoti svoriai '!$D$5:$K$29,MATCH(B569,'Modifikuoti svoriai '!$C$5:$C$29,0),MATCH(A569,'Modifikuoti svoriai '!$D$4:$K$4,0)),\"\")","v":""},null,null,null,null,null,null,null,null,null,null,null,null,null,"","","","","","","","",""]
[null,null,{"$f":"IFERROR(INDEX('Modifikuoti svoriai '!$D$5:$K$29,MATCH(B570,'Modifikuoti svoriai '!$C$5:$C$29,0),MATCH(A570,'Modifikuoti svoriai '!$D$4:$K$4,0)),\"\")","v":""},null,null,null,null,null,null,null,null,null,null,null,null,null,"","","","","","","","",""]
[null,null,{"$f":"IFERROR(INDEX('Modifikuoti svoriai '!$D$5:$K$29,MATCH(B571,'Modifikuoti svoriai '!$C$5:$C$29,0),MATCH(A571,'Modifikuoti svoriai '!$D$4:$K$4,0)),\"\")","v":""},null,null,null,null,null,null,null,null,null,null,null,null,null,"","","","","","","","",""]
[null,null,{"$f":"IFERROR(INDEX('Modifikuoti svoriai '!$D$5:$K$29,MATCH(B572,'Modifikuoti svoriai '!$C$5:$C$29,0),MATCH(A572,'Modifikuoti svoriai '!$D$4:$K$4,0)),\"\")","v":""},null,null,null,null,null,null,null,null,null,null,null,null,null,"","","","","","","","",""]
[null,null,{"$f":"IFERROR(INDEX('Modifikuoti svoriai '!$D$5:$K$29,MATCH(B573,'Modifikuoti svoriai '!$C$5:$C$29,0),MATCH(A573,'Modifikuoti svoriai '!$D$4:$K$4,0)),\"\")","v":""},null,null,null,null,null,null,null,null,null,null,null,null,null,"","","","","","","","",""]
[null,null,{"$f":"IFERROR(INDEX('Modifikuoti svoriai '!$D$5:$K$29,MATCH(B574,'Modifikuoti svoriai '!$C$5:$C$29,0),MATCH(A574,'Modifikuoti svoriai '!$D$4:$K$4,0)),\"\")","v":""},null,null,null,null,null,null,null,null,null,null,null,null,null,"","","","","","","","",""]
[null,null,{"$f":"IFERROR(INDEX('Modifikuoti svoriai '!$D$5:$K$29,MATCH(B575,'Modifikuoti svoriai '!$C$5:$C$29,0),MATCH(A575,'Modifikuoti svoriai '!$D$4:$K$4,0)),\"\")","v":""},null,null,null,null,null,null,null,null,null,null,null,null,null,{"$f":"IF(Q$6<YEAR($K575),\"Pastato tarnavimo laikotarpis nepasibaigė\",IF(Q$6=YEAR($K575),\"Pastato tarnavimo laikotarpio pabaiga\",IF($K575<>0,\"Pastato tarnavimo laikotarpis pasibaigė\",\"\")))","v":""},"","","","","","","",""]
[null,null,{"$f":"IFERROR(INDEX('Modifikuoti svoriai '!$D$5:$K$29,MATCH(B576,'Modifikuoti svoriai '!$C$5:$C$29,0),MATCH(A576,'Modifikuoti svoriai '!$D$4:$K$4,0)),\"\")","v":""},null,null,null,null,null,null,null,null,null,null,null,null,null,"","","","","","","","",""]
[null,null,{"$f":"IFERROR(INDEX('Modifikuoti svoriai '!$D$5:$K$29,MATCH(B577,'Modifikuoti svoriai '!$C$5:$C$29,0),MATCH(A577,'Modifikuoti svoriai '!$D$4:$K$4,0)),\"\")","v":""},null,null,null,null,null,null,null,null,null,null,null,null,null,"","","","","","","","",""]
[null,null,{"$f":"IFERROR(INDEX('Modifikuoti svoriai '!$D$5:$K$29,MATCH(B578,'Modifikuoti svoriai '!$C$5:$C$29,0),MATCH(A578,'Modifikuoti svoriai '!$D$4:$K$4,0)),\"\")","v":""},null,null,null,null,null,null,null,null,null,null,null,null,null,"","","","","","","","",""]
[null,null,{"$f":"IFERROR(INDEX('Modifikuoti svoriai '!$D$5:$K$29,MATCH(B579,'Modifikuoti svoriai '!$C$5:$C$29,0),MATCH(A579,'Modifikuoti svoriai '!$D$4:$K$4,0)),\"\")","v":""},null,null,null,null,null,null,null,null,null,null,null,null,null,"","","","","","","","",""]
[null,null,{"$f":"IFERROR(INDEX('Modifikuoti svoriai '!$D$5:$K$29,MATCH(B580,'Modifikuoti svoriai '!$C$5:$C$29,0),MATCH(A580,'Modifikuoti svoriai '!$D$4:$K$4,0)),\"\")","v":""},null,null,null,null,null,null,null,null,null,null,null,null,null,"","","","","","","","",""]
[null,null,{"$f":"IFERROR(INDEX('Modifikuoti svoriai '!$D$5:$K$29,MATCH(B581,'Modifikuoti svoriai '!$C$5:$C$29,0),MATCH(A581,'Modifikuoti svoriai '!$D$4:$K$4,0)),\"\")","v":""},null,null,null,null,null,null,null,null,null,null,null,null,null,"","","","","","","","",""]
[null,null,{"$f":"IFERROR(INDEX('Modifikuoti svoriai '!$D$5:$K$29,MATCH(B582,'Modifikuoti svoriai '!$C$5:$C$29,0),MATCH(A582,'Modifikuoti svoriai '!$D$4:$K$4,0)),\"\")","v":""},null,null,null,null,null,null,null,null,null,null,null,null,null,"","","","","","","","",""]
[null,null,{"$f":"IFERROR(INDEX('Modifikuoti svoriai '!$D$5:$K$29,MATCH(B583,'Modifikuoti svoriai '!$C$5:$C$29,0),MATCH(A583,'Modifikuoti svoriai '!$D$4:$K$4,0)),\"\")","v":""},null,null,null,null,null,null,null,null,null,null,null,null,null,"","","","","","","","",""]
[null,null,{"$f":"IFERROR(INDEX('Modifikuoti svoriai '!$D$5:$K$29,MATCH(B584,'Modifikuoti svoriai '!$C$5:$C$29,0),MATCH(A584,'Modifikuoti svoriai '!$D$4:$K$4,0)),\"\")","v":""},null,null,null,null,null,null,null,null,null,null,null,null,null,"","","","","","","","",""]
[null,null,{"$f":"IFERROR(INDEX('Modifikuoti svoriai '!$D$5:$K$29,MATCH(B585,'Modifikuoti svoriai '!$C$5:$C$29,0),MATCH(A585,'Modifikuoti svoriai '!$D$4:$K$4,0)),\"\")","v":""},null,null,null,null,null,null,null,null,null,null,null,null,null,"","","","","","","","",""]
[null,null,{"$f":"IFERROR(INDEX('Modifikuoti svoriai '!$D$5:$K$29,MATCH(B586,'Modifikuoti svoriai '!$C$5:$C$29,0),MATCH(A586,'Modifikuoti svoriai '!$D$4:$K$4,0)),\"\")","v":""},null,null,null,null,null,null,null,null,null,null,null,null,null,"","","","","","","","",""]
[null,null,{"$f":"IFERROR(INDEX('Modifikuoti svoriai '!$D$5:$K$29,MATCH(B587,'Modifikuoti svoriai '!$C$5:$C$29,0),MATCH(A587,'Modifikuoti svoriai '!$D$4:$K$4,0)),\"\")","v":""},null,null,null,null,null,null,null,null,null,null,null,null,null,"","","","","","","","",""]
[null,null,{"$f":"IFERROR(INDEX('Modifikuoti svoriai '!$D$5:$K$29,MATCH(B588,'Modifikuoti svoriai '!$C$5:$C$29,0),MATCH(A588,'Modifikuoti svoriai '!$D$4:$K$4,0)),\"\")","v":""},null,null,null,null,null,null,null,null,null,null,null,null,null,"","","","","","","","",""]
[null,null,{"$f":"IFERROR(INDEX('Modifikuoti svoriai '!$D$5:$K$29,MATCH(B589,'Modifikuoti svoriai '!$C$5:$C$29,0),MATCH(A589,'Modifikuoti svoriai '!$D$4:$K$4,0)),\"\")","v":""},null,null,null,null,null,null,null,null,null,null,null,null,null,"","","","","","","","",""]
[null,null,{"$f":"IFERROR(INDEX('Modifikuoti svoriai '!$D$5:$K$29,MATCH(B590,'Modifikuoti svoriai '!$C$5:$C$29,0),MATCH(A590,'Modifikuoti svoriai '!$D$4:$K$4,0)),\"\")","v":""},null,null,null,null,null,null,null,null,null,null,null,null,null,"","","","","","","","",""]
[null,null,{"$f":"IFERROR(INDEX('Modifikuoti svoriai '!$D$5:$K$29,MATCH(B591,'Modifikuoti svoriai '!$C$5:$C$29,0),MATCH(A591,'Modifikuoti svoriai '!$D$4:$K$4,0)),\"\")","v":""},null,null,null,null,null,null,null,null,null,null,null,null,null,{"$f":"IF(Q$6<YEAR($K591),\"Pastato tarnavimo laikotarpis nepasibaigė\",IF(Q$6=YEAR($K591),\"Pastato tarnavimo laikotarpio pabaiga\",IF($K591<>0,\"Pastato tarnavimo laikotarpis pasibaigė\",\"\")))","v":""},"","","","","","","",""]
[null,null,{"$f":"IFERROR(INDEX('Modifikuoti svoriai '!$D$5:$K$29,MATCH(B592,'Modifikuoti svoriai '!$C$5:$C$29,0),MATCH(A592,'Modifikuoti svoriai '!$D$4:$K$4,0)),\"\")","v":""},null,null,null,null,null,null,null,null,null,null,null,null,null,"","","","","","","","",""]
[null,null,{"$f":"IFERROR(INDEX('Modifikuoti svoriai '!$D$5:$K$29,MATCH(B593,'Modifikuoti svoriai '!$C$5:$C$29,0),MATCH(A593,'Modifikuoti svoriai '!$D$4:$K$4,0)),\"\")","v":""},null,null,null,null,null,null,null,null,null,null,null,null,null,"","","","","","","","",""]
[null,null,{"$f":"IFERROR(INDEX('Modifikuoti svoriai '!$D$5:$K$29,MATCH(B594,'Modifikuoti svoriai '!$C$5:$C$29,0),MATCH(A594,'Modifikuoti svoriai '!$D$4:$K$4,0)),\"\")","v":""},null,null,null,null,null,null,null,null,null,null,null,null,null,"","","","","","","","",""]
[null,null,{"$f":"IFERROR(INDEX('Modifikuoti svoriai '!$D$5:$K$29,MATCH(B595,'Modifikuoti svoriai '!$C$5:$C$29,0),MATCH(A595,'Modifikuoti svoriai '!$D$4:$K$4,0)),\"\")","v":""},null,null,null,null,null,null,null,null,null,null,null,null,null,"","","","","","","","",""]
[null,null,{"$f":"IFERROR(INDEX('Modifikuoti svoriai '!$D$5:$K$29,MATCH(B596,'Modifikuoti svoriai '!$C$5:$C$29,0),MATCH(A596,'Modifikuoti svoriai '!$D$4:$K$4,0)),\"\")","v":""},null,null,null,null,null,null,null,null,null,null,null,null,null,"","","","","","","","",""]
[null,null,{"$f":"IFERROR(INDEX('Modifikuoti svoriai '!$D$5:$K$29,MATCH(B597,'Modifikuoti svoriai '!$C$5:$C$29,0),MATCH(A597,'Modifikuoti svoriai '!$D$4:$K$4,0)),\"\")","v":""},null,null,null,null,null,null,null,null,null,null,null,null,null,"","","","","","","","",""]
[null,null,{"$f":"IFERROR(INDEX('Modifikuoti svoriai '!$D$5:$K$29,MATCH(B598,'Modifikuoti svoriai '!$C$5:$C$29,0),MATCH(A598,'Modifikuoti svoriai '!$D$4:$K$4,0)),\"\")","v":""},null,null,null,null,null,null,null,null,null,null,null,null,null,"","","","","","","","",""]
[null,null,{"$f":"IFERROR(INDEX('Modifikuoti svoriai '!$D$5:$K$29,MATCH(B599,'Modifikuoti svoriai '!$C$5:$C$29,0),MATCH(A599,'Modifikuoti svoriai '!$D$4:$K$4,0)),\"\")","v":""},null,null,null,null,null,null,null,null,null,null,null,null,null,"","","","","","","","",""]
[null,null,{"$f":"IFERROR(INDEX('Modifikuoti svoriai '!$D$5:$K$29,MATCH(B600,'Modifikuoti svoriai '!$C$5:$C$29,0),MATCH(A600,'Modifikuoti svoriai '!$D$4:$K$4,0)),\"\")","v":""},null,null,null,null,null,null,null,null,null,null,null,null,null,"","","","","","","","",""]
[null,null,{"$f":"IFERROR(INDEX('Modifikuoti svoriai '!$D$5:$K$29,MATCH(B601,'Modifikuoti svoriai '!$C$5:$C$29,0),MATCH(A601,'Modifikuoti svoriai '!$D$4:$K$4,0)),\"\")","v":""},null,null,null,null,null,null,null,null,null,null,null,null,null,"","","","","","","","",""]
[null,null,{"$f":"IFERROR(INDEX('Modifikuoti svoriai '!$D$5:$K$29,MATCH(B602,'Modifikuoti svoriai '!$C$5:$C$29,0),MATCH(A602,'Modifikuoti svoriai '!$D$4:$K$4,0)),\"\")","v":""},null,null,null,null,null,null,null,null,null,null,null,null,null,"","","","","","","","",""]
[null,null,{"$f":"IFERROR(INDEX('Modifikuoti svoriai '!$D$5:$K$29,MATCH(B603,'Modifikuoti svoriai '!$C$5:$C$29,0),MATCH(A603,'Modifikuoti svoriai '!$D$4:$K$4,0)),\"\")","v":""},null,null,null,null,null,null,null,null,null,null,null,null,null,"","","","","","","","",""]
[null,null,{"$f":"IFERROR(INDEX('Modifikuoti svoriai '!$D$5:$K$29,MATCH(B604,'Modifikuoti svoriai '!$C$5:$C$29,0),MATCH(A604,'Modifikuoti svoriai '!$D$4:$K$4,0)),\"\")","v":""},null,null,null,null,null,null,null,null,null,null,null,null,null,"","","","","","","","",""]
[null,null,{"$f":"IFERROR(INDEX('Modifikuoti svoriai '!$D$5:$K$29,MATCH(B605,'Modifikuoti svoriai '!$C$5:$C$29,0),MATCH(A605,'Modifikuoti svoriai '!$D$4:$K$4,0)),\"\")","v":""},null,null,null,null,null,null,null,null,null,null,null,null,null,"","","","","","","","",""]
[null,null,{"$f":"IFERROR(INDEX('Modifikuoti svoriai '!$D$5:$K$29,MATCH(B606,'Modifikuoti svoriai '!$C$5:$C$29,0),MATCH(A606,'Modifikuoti svoriai '!$D$4:$K$4,0)),\"\")","v":""},null,null,null,null,null,null,null,null,null,null,null,null,null,"","","","","","","","",""]
[null,null,{"$f":"IFERROR(INDEX('Modifikuoti svoriai '!$D$5:$K$29,MATCH(B607,'Modifikuoti svoriai '!$C$5:$C$29,0),MATCH(A607,'Modifikuoti svoriai '!$D$4:$K$4,0)),\"\")","v":""},null,null,null,null,null,null,null,null,null,null,null,null,null,{"$f":"IF(Q$6<YEAR($K607),\"Pastato tarnavimo laikotarpis nepasibaigė\",IF(Q$6=YEAR($K607),\"Pastato tarnavimo laikotarpio pabaiga\",IF($K607<>0,\"Pastato tarnavimo laikotarpis pasibaigė\",\"\")))","v":""},"","","","","","","",""]
[null,null,{"$f":"IFERROR(INDEX('Modifikuoti svoriai '!$D$5:$K$29,MATCH(B608,'Modifikuoti svoriai '!$C$5:$C$29,0),MATCH(A608,'Modifikuoti svoriai '!$D$4:$K$4,0)),\"\")","v":""},null,null,null,null,null,null,null,null,null,null,null,null,null,"","","","","","","","",""]
[null,null,{"$f":"IFERROR(INDEX('Modifikuoti svoriai '!$D$5:$K$29,MATCH(B609,'Modifikuoti svoriai '!$C$5:$C$29,0),MATCH(A609,'Modifikuoti svoriai '!$D$4:$K$4,0)),\"\")","v":""},null,null,null,null,null,null,null,null,null,null,null,null,null,"","","","","","","","",""]
[null,null,{"$f":"IFERROR(INDEX('Modifikuoti svoriai '!$D$5:$K$29,MATCH(B610,'Modifikuoti svoriai '!$C$5:$C$29,0),MATCH(A610,'Modifikuoti svoriai '!$D$4:$K$4,0)),\"\")","v":""},null,null,null,null,null,null,null,null,null,null,null,null,null,"","","","","","","","",""]
[null,null,{"$f":"IFERROR(INDEX('Modifikuoti svoriai '!$D$5:$K$29,MATCH(B611,'Modifikuoti svoriai '!$C$5:$C$29,0),MATCH(A611,'Modifikuoti svoriai '!$D$4:$K$4,0)),\"\")","v":""},null,null,null,null,null,null,null,null,null,null,null,null,null,"","","","","","","","",""]
[null,null,{"$f":"IFERROR(INDEX('Modifikuoti svoriai '!$D$5:$K$29,MATCH(B612,'Modifikuoti svoriai '!$C$5:$C$29,0),MATCH(A612,'Modifikuoti svoriai '!$D$4:$K$4,0)),\"\")","v":""},null,null,null,null,null,null,null,null,null,null,null,null,null,"","","","","","","","",""]
[null,null,{"$f":"IFERROR(INDEX('Modifikuoti svoriai '!$D$5:$K$29,MATCH(B613,'Modifikuoti svoriai '!$C$5:$C$29,0),MATCH(A613,'Modifikuoti svoriai '!$D$4:$K$4,0)),\"\")","v":""},null,null,null,null,null,null,null,null,null,null,null,null,null,"","","","","","","","",""]
[null,null,{"$f":"IFERROR(INDEX('Modifikuoti svoriai '!$D$5:$K$29,MATCH(B614,'Modifikuoti svoriai '!$C$5:$C$29,0),MATCH(A614,'Modifikuoti svoriai '!$D$4:$K$4,0)),\"\")","v":""},null,null,null,null,null,null,null,null,null,null,null,null,null,"","","","","","","","",""]
[null,null,{"$f":"IFERROR(INDEX('Modifikuoti svoriai '!$D$5:$K$29,MATCH(B615,'Modifikuoti svoriai '!$C$5:$C$29,0),MATCH(A615,'Modifikuoti svoriai '!$D$4:$K$4,0)),\"\")","v":""},null,null,null,null,null,null,null,null,null,null,null,null,null,"","","","","","","","",""]
[null,null,{"$f":"IFERROR(INDEX('Modifikuoti svoriai '!$D$5:$K$29,MATCH(B616,'Modifikuoti svoriai '!$C$5:$C$29,0),MATCH(A616,'Modifikuoti svoriai '!$D$4:$K$4,0)),\"\")","v":""},null,null,null,null,null,null,null,null,null,null,null,null,null,"","","","","","","","",""]
[null,null,{"$f":"IFERROR(INDEX('Modifikuoti svoriai '!$D$5:$K$29,MATCH(B617,'Modifikuoti svoriai '!$C$5:$C$29,0),MATCH(A617,'Modifikuoti svoriai '!$D$4:$K$4,0)),\"\")","v":""},null,null,null,null,null,null,null,null,null,null,null,null,null,"","","","","","","","",""]
[null,null,{"$f":"IFERROR(INDEX('Modifikuoti svoriai '!$D$5:$K$29,MATCH(B618,'Modifikuoti svoriai '!$C$5:$C$29,0),MATCH(A618,'Modifikuoti svoriai '!$D$4:$K$4,0)),\"\")","v":""},null,null,null,null,null,null,null,null,null,null,null,null,null,"","","","","","","","",""]
[null,null,{"$f":"IFERROR(INDEX('Modifikuoti svoriai '!$D$5:$K$29,MATCH(B619,'Modifikuoti svoriai '!$C$5:$C$29,0),MATCH(A619,'Modifikuoti svoriai '!$D$4:$K$4,0)),\"\")","v":""},null,null,null,null,null,null,null,null,null,null,null,null,null,"","","","","","","","",""]
[null,null,{"$f":"IFERROR(INDEX('Modifikuoti svoriai '!$D$5:$K$29,MATCH(B620,'Modifikuoti svoriai '!$C$5:$C$29,0),MATCH(A620,'Modifikuoti svoriai '!$D$4:$K$4,0)),\"\")","v":""},null,null,null,null,null,null,null,null,null,null,null,null,null,"","","","","","","","",""]
[null,null,{"$f":"IFERROR(INDEX('Modifikuoti svoriai '!$D$5:$K$29,MATCH(B621,'Modifikuoti svoriai '!$C$5:$C$29,0),MATCH(A621,'Modifikuoti svoriai '!$D$4:$K$4,0)),\"\")","v":""},null,null,null,null,null,null,null,null,null,null,null,null,null,"","","","","","","","",""]
[null,null,{"$f":"IFERROR(INDEX('Modifikuoti svoriai '!$D$5:$K$29,MATCH(B622,'Modifikuoti svoriai '!$C$5:$C$29,0),MATCH(A622,'Modifikuoti svoriai '!$D$4:$K$4,0)),\"\")","v":""},null,null,null,null,null,null,null,null,null,null,null,null,null,"","","","","","","","",""]
[null,null,{"$f":"IFERROR(INDEX('Modifikuoti svoriai '!$D$5:$K$29,MATCH(B623,'Modifikuoti svoriai '!$C$5:$C$29,0),MATCH(A623,'Modifikuoti svoriai '!$D$4:$K$4,0)),\"\")","v":""},null,null,null,null,null,null,null,null,null,null,null,null,null,{"$f":"IF(Q$6<YEAR($K623),\"Pastato tarnavimo laikotarpis nepasibaigė\",IF(Q$6=YEAR($K623),\"Pastato tarnavimo laikotarpio pabaiga\",IF($K623<>0,\"Pastato tarnavimo laikotarpis pasibaigė\",\"\")))","v":""},"","","","","","","",""]
[null,null,{"$f":"IFERROR(INDEX('Modifikuoti svoriai '!$D$5:$K$29,MATCH(B624,'Modifikuoti svoriai '!$C$5:$C$29,0),MATCH(A624,'Modifikuoti svoriai '!$D$4:$K$4,0)),\"\")","v":""},null,null,null,null,null,null,null,null,null,null,null,null,null,"","","","","","","","",""]
[null,null,{"$f":"IFERROR(INDEX('Modifikuoti svoriai '!$D$5:$K$29,MATCH(B625,'Modifikuoti svoriai '!$C$5:$C$29,0),MATCH(A625,'Modifikuoti svoriai '!$D$4:$K$4,0)),\"\")","v":""},null,null,null,null,null,null,null,null,null,null,null,null,null,"","","","","","","","",""]
[null,null,{"$f":"IFERROR(INDEX('Modifikuoti svoriai '!$D$5:$K$29,MATCH(B626,'Modifikuoti svoriai '!$C$5:$C$29,0),MATCH(A626,'Modifikuoti svoriai '!$D$4:$K$4,0)),\"\")","v":""},null,null,null,null,null,null,null,null,null,null,null,null,null,"","","","","","","","",""]
[null,null,{"$f":"IFERROR(INDEX('Modifikuoti svoriai '!$D$5:$K$29,MATCH(B627,'Modifikuoti svoriai '!$C$5:$C$29,0),MATCH(A627,'Modifikuoti svoriai '!$D$4:$K$4,0)),\"\")","v":""},null,null,null,null,null,null,null,null,null,null,null,null,null,"","","","","","","","",""]
[null,null,{"$f":"IFERROR(INDEX('Modifikuoti svoriai '!$D$5:$K$29,MATCH(B628,'Modifikuoti svoriai '!$C$5:$C$29,0),MATCH(A628,'Modifikuoti svoriai '!$D$4:$K$4,0)),\"\")","v":""},null,null,null,null,null,null,null,null,null,null,null,null,null,"","","","","","","","",""]
[null,null,{"$f":"IFERROR(INDEX('Modifikuoti svoriai '!$D$5:$K$29,MATCH(B629,'Modifikuoti svoriai '!$C$5:$C$29,0),MATCH(A629,'Modifikuoti svoriai '!$D$4:$K$4,0)),\"\")","v":""},null,null,null,null,null,null,null,null,null,null,null,null,null,"","","","","","","","",""]
[null,null,{"$f":"IFERROR(INDEX('Modifikuoti svoriai '!$D$5:$K$29,MATCH(B630,'Modifikuoti svoriai '!$C$5:$C$29,0),MATCH(A630,'Modifikuoti svoriai '!$D$4:$K$4,0)),\"\")","v":""},null,null,null,null,null,null,null,null,null,null,null,null,null,"","","","","","","","",""]
[null,null,{"$f":"IFERROR(INDEX('Modifikuoti svoriai '!$D$5:$K$29,MATCH(B631,'Modifikuoti svoriai '!$C$5:$C$29,0),MATCH(A631,'Modifikuoti svoriai '!$D$4:$K$4,0)),\"\")","v":""},null,null,null,null,null,null,null,null,null,null,null,null,null,"","","","","","","","",""]
[null,null,{"$f":"IFERROR(INDEX('Modifikuoti svoriai '!$D$5:$K$29,MATCH(B632,'Modifikuoti svoriai '!$C$5:$C$29,0),MATCH(A632,'Modifikuoti svoriai '!$D$4:$K$4,0)),\"\")","v":""},null,null,null,null,null,null,null,null,null,null,null,null,null,"","","","","","","","",""]
[null,null,{"$f":"IFERROR(INDEX('Modifikuoti svoriai '!$D$5:$K$29,MATCH(B633,'Modifikuoti svoriai '!$C$5:$C$29,0),MATCH(A633,'Modifikuoti svoriai '!$D$4:$K$4,0)),\"\")","v":""},null,null,null,null,null,null,null,null,null,null,null,null,null,"","","","","","","","",""]
[null,null,{"$f":"IFERROR(INDEX('Modifikuoti svoriai '!$D$5:$K$29,MATCH(B634,'Modifikuoti svoriai '!$C$5:$C$29,0),MATCH(A634,'Modifikuoti svoriai '!$D$4:$K$4,0)),\"\")","v":""},null,null,null,null,null,null,null,null,null,null,null,null,null,"","","","","","","","",""]
[null,null,{"$f":"IFERROR(INDEX('Modifikuoti svoriai '!$D$5:$K$29,MATCH(B635,'Modifikuoti svoriai '!$C$5:$C$29,0),MATCH(A635,'Modifikuoti svoriai '!$D$4:$K$4,0)),\"\")","v":""},null,null,null,null,null,null,null,null,null,null,null,null,null,"","","","","","","","",""]
[null,null,{"$f":"IFERROR(INDEX('Modifikuoti svoriai '!$D$5:$K$29,MATCH(B636,'Modifikuoti svoriai '!$C$5:$C$29,0),MATCH(A636,'Modifikuoti svoriai '!$D$4:$K$4,0)),\"\")","v":""},null,null,null,null,null,null,null,null,null,null,null,null,null,"","","","","","","","",""]
[null,null,{"$f":"IFERROR(INDEX('Modifikuoti svoriai '!$D$5:$K$29,MATCH(B637,'Modifikuoti svoriai '!$C$5:$C$29,0),MATCH(A637,'Modifikuoti svoriai '!$D$4:$K$4,0)),\"\")","v":""},null,null,null,null,null,null,null,null,null,null,null,null,null,"","","","","","","","",""]
[null,null,{"$f":"IFERROR(INDEX('Modifikuoti svoriai '!$D$5:$K$29,MATCH(B638,'Modifikuoti svoriai '!$C$5:$C$29,0),MATCH(A638,'Modifikuoti svoriai '!$D$4:$K$4,0)),\"\")","v":""},null,null,null,null,null,null,null,null,null,null,null,null,null,"","","","","","","","",""]
[null,null,{"$f":"IFERROR(INDEX('Modifikuoti svoriai '!$D$5:$K$29,MATCH(B639,'Modifikuoti svoriai '!$C$5:$C$29,0),MATCH(A639,'Modifikuoti svoriai '!$D$4:$K$4,0)),\"\")","v":""},null,null,null,null,null,null,null,null,null,null,null,null,null,{"$f":"IF(Q$6<YEAR($K639),\"Pastato tarnavimo laikotarpis nepasibaigė\",IF(Q$6=YEAR($K639),\"Pastato tarnavimo laikotarpio pabaiga\",IF($K639<>0,\"Pastato tarnavimo laikotarpis pasibaigė\",\"\")))","v":""},"","","","","","","",""]
[null,null,{"$f":"IFERROR(INDEX('Modifikuoti svoriai '!$D$5:$K$29,MATCH(B640,'Modifikuoti svoriai '!$C$5:$C$29,0),MATCH(A640,'Modifikuoti svoriai '!$D$4:$K$4,0)),\"\")","v":""},null,null,null,null,null,null,null,null,null,null,null,null,null,"","","","","","","","",""]
[null,null,{"$f":"IFERROR(INDEX('Modifikuoti svoriai '!$D$5:$K$29,MATCH(B641,'Modifikuoti svoriai '!$C$5:$C$29,0),MATCH(A641,'Modifikuoti svoriai '!$D$4:$K$4,0)),\"\")","v":""},null,null,null,null,null,null,null,null,null,null,null,null,null,"","","","","","","","",""]
[null,null,{"$f":"IFERROR(INDEX('Modifikuoti svoriai '!$D$5:$K$29,MATCH(B642,'Modifikuoti svoriai '!$C$5:$C$29,0),MATCH(A642,'Modifikuoti svoriai '!$D$4:$K$4,0)),\"\")","v":""},null,null,null,null,null,null,null,null,null,null,null,null,null,"","","","","","","","",""]
[null,null,{"$f":"IFERROR(INDEX('Modifikuoti svoriai '!$D$5:$K$29,MATCH(B643,'Modifikuoti svoriai '!$C$5:$C$29,0),MATCH(A643,'Modifikuoti svoriai '!$D$4:$K$4,0)),\"\")","v":""},null,null,null,null,null,null,null,null,null,null,null,null,null,"","","","","","","","",""]
[null,null,{"$f":"IFERROR(INDEX('Modifikuoti svoriai '!$D$5:$K$29,MATCH(B644,'Modifikuoti svoriai '!$C$5:$C$29,0),MATCH(A644,'Modifikuoti svoriai '!$D$4:$K$4,0)),\"\")","v":""},null,null,null,null,null,null,null,null,null,null,null,null,null,"","","","","","","","",""]
[null,null,{"$f":"IFERROR(INDEX('Modifikuoti svoriai '!$D$5:$K$29,MATCH(B645,'Modifikuoti svoriai '!$C$5:$C$29,0),MATCH(A645,'Modifikuoti svoriai '!$D$4:$K$4,0)),\"\")","v":""},null,null,null,null,null,null,null,null,null,null,null,null,null,"","","","","","","","",""]
[null,null,{"$f":"IFERROR(INDEX('Modifikuoti svoriai '!$D$5:$K$29,MATCH(B646,'Modifikuoti svoriai '!$C$5:$C$29,0),MATCH(A646,'Modifikuoti svoriai '!$D$4:$K$4,0)),\"\")","v":""},null,null,null,null,null,null,null,null,null,null,null,null,null,"","","","","","","","",""]
[null,null,{"$f":"IFERROR(INDEX('Modifikuoti svoriai '!$D$5:$K$29,MATCH(B647,'Modifikuoti svoriai '!$C$5:$C$29,0),MATCH(A647,'Modifikuoti svoriai '!$D$4:$K$4,0)),\"\")","v":""},null,null,null,null,null,null,null,null,null,null,null,null,null,"","","","","","","","",""]
[null,null,{"$f":"IFERROR(INDEX('Modifikuoti svoriai '!$D$5:$K$29,MATCH(B648,'Modifikuoti svoriai '!$C$5:$C$29,0),MATCH(A648,'Modifikuoti svoriai '!$D$4:$K$4,0)),\"\")","v":""},null,null,null,null,null,null,null,null,null,null,null,null,null,"","","","","","","","",""]
[null,null,{"$f":"IFERROR(INDEX('Modifikuoti svoriai '!$D$5:$K$29,MATCH(B649,'Modifikuoti svoriai '!$C$5:$C$29,0),MATCH(A649,'Modifikuoti svoriai '!$D$4:$K$4,0)),\"\")","v":""},null,null,null,null,null,null,null,null,null,null,null,null,null,"","","","","","","","",""]
[null,null,{"$f":"IFERROR(INDEX('Modifikuoti svoriai '!$D$5:$K$29,MATCH(B650,'Modifikuoti svoriai '!$C$5:$C$29,0),MATCH(A650,'Modifikuoti svoriai '!$D$4:$K$4,0)),\"\")","v":""},null,null,null,null,null,null,null,null,null,null,null,null,null,"","","","","","","","",""]
[null,null,{"$f":"IFERROR(INDEX('Modifikuoti svoriai '!$D$5:$K$29,MATCH(B651,'Modifikuoti svoriai '!$C$5:$C$29,0),MATCH(A651,'Modifikuoti svoriai '!$D$4:$K$4,0)),\"\")","v":""},null,null,null,null,null,null,null,null,null,null,null,null,null,"","","","","","","","",""]
[null,null,{"$f":"IFERROR(INDEX('Modifikuoti svoriai '!$D$5:$K$29,MATCH(B652,'Modifikuoti svoriai '!$C$5:$C$29,0),MATCH(A652,'Modifikuoti svoriai '!$D$4:$K$4,0)),\"\")","v":""},null,null,null,null,null,null,null,null,null,null,null,null,null,"","","","","","","","",""]
[null,null,{"$f":"IFERROR(INDEX('Modifikuoti svoriai '!$D$5:$K$29,MATCH(B653,'Modifikuoti svoriai '!$C$5:$C$29,0),MATCH(A653,'Modifikuoti svoriai '!$D$4:$K$4,0)),\"\")","v":""},null,null,null,null,null,null,null,null,null,null,null,null,null,"","","","","","","","",""]
[null,null,{"$f":"IFERROR(INDEX('Modifikuoti svoriai '!$D$5:$K$29,MATCH(B654,'Modifikuoti svoriai '!$C$5:$C$29,0),MATCH(A654,'Modifikuoti svoriai '!$D$4:$K$4,0)),\"\")","v":""},null,null,null,null,null,null,null,null,null,null,null,null,null,"","","","","","","","",""]
[null,null,{"$f":"IFERROR(INDEX('Modifikuoti svoriai '!$D$5:$K$29,MATCH(B655,'Modifikuoti svoriai '!$C$5:$C$29,0),MATCH(A655,'Modifikuoti svoriai '!$D$4:$K$4,0)),\"\")","v":""},null,null,null,null,null,null,null,null,null,null,null,null,null,{"$f":"IF(Q$6<YEAR($K655),\"Pastato tarnavimo laikotarpis nepasibaigė\",IF(Q$6=YEAR($K655),\"Pastato tarnavimo laikotarpio pabaiga\",IF($K655<>0,\"Pastato tarnavimo laikotarpis pasibaigė\",\"\")))","v":""},"","","","","","","",""]
[null,null,{"$f":"IFERROR(INDEX('Modifikuoti svoriai '!$D$5:$K$29,MATCH(B656,'Modifikuoti svoriai '!$C$5:$C$29,0),MATCH(A656,'Modifikuoti svoriai '!$D$4:$K$4,0)),\"\")","v":""},null,null,null,null,null,null,null,null,null,null,null,null,null,"","","","","","","","",""]
[null,null,{"$f":"IFERROR(INDEX('Modifikuoti svoriai '!$D$5:$K$29,MATCH(B657,'Modifikuoti svoriai '!$C$5:$C$29,0),MATCH(A657,'Modifikuoti svoriai '!$D$4:$K$4,0)),\"\")","v":""},null,null,null,null,null,null,null,null,null,null,null,null,null,"","","","","","","","",""]
[null,null,{"$f":"IFERROR(INDEX('Modifikuoti svoriai '!$D$5:$K$29,MATCH(B658,'Modifikuoti svoriai '!$C$5:$C$29,0),MATCH(A658,'Modifikuoti svoriai '!$D$4:$K$4,0)),\"\")","v":""},null,null,null,null,null,null,null,null,null,null,null,null,null,"","","","","","","","",""]
[null,null,{"$f":"IFERROR(INDEX('Modifikuoti svoriai '!$D$5:$K$29,MATCH(B659,'Modifikuoti svoriai '!$C$5:$C$29,0),MATCH(A659,'Modifikuoti svoriai '!$D$4:$K$4,0)),\"\")","v":""},null,null,null,null,null,null,null,null,null,null,null,null,null,"","","","","","","","",""]
[null,null,{"$f":"IFERROR(INDEX('Modifikuoti svoriai '!$D$5:$K$29,MATCH(B660,'Modifikuoti svoriai '!$C$5:$C$29,0),MATCH(A660,'Modifikuoti svoriai '!$D$4:$K$4,0)),\"\")","v":""},null,null,null,null,null,null,null,null,null,null,null,null,null,"","","","","","","","",""]
[null,null,{"$f":"IFERROR(INDEX('Modifikuoti svoriai '!$D$5:$K$29,MATCH(B661,'Modifikuoti svoriai '!$C$5:$C$29,0),MATCH(A661,'Modifikuoti svoriai '!$D$4:$K$4,0)),\"\")","v":""},null,null,null,null,null,null,null,null,null,null,null,null,null,"","","","","","","","",""]
[null,null,{"$f":"IFERROR(INDEX('Modifikuoti svoriai '!$D$5:$K$29,MATCH(B662,'Modifikuoti svoriai '!$C$5:$C$29,0),MATCH(A662,'Modifikuoti svoriai '!$D$4:$K$4,0)),\"\")","v":""},null,null,null,null,null,null,null,null,null,null,null,null,null,"","","","","","","","",""]
[null,null,{"$f":"IFERROR(INDEX('Modifikuoti svoriai '!$D$5:$K$29,MATCH(B663,'Modifikuoti svoriai '!$C$5:$C$29,0),MATCH(A663,'Modifikuoti svoriai '!$D$4:$K$4,0)),\"\")","v":""},null,null,null,null,null,null,null,null,null,null,null,null,null,"","","","","","","","",""]
[null,null,{"$f":"IFERROR(INDEX('Modifikuoti svoriai '!$D$5:$K$29,MATCH(B664,'Modifikuoti svoriai '!$C$5:$C$29,0),MATCH(A664,'Modifikuoti svoriai '!$D$4:$K$4,0)),\"\")","v":""},null,null,null,null,null,null,null,null,null,null,null,null,null,"","","","","","","","",""]
[null,null,{"$f":"IFERROR(INDEX('Modifikuoti svoriai '!$D$5:$K$29,MATCH(B665,'Modifikuoti svoriai '!$C$5:$C$29,0),MATCH(A665,'Modifikuoti svoriai '!$D$4:$K$4,0)),\"\")","v":""},null,null,null,null,null,null,null,null,null,null,null,null,null,"","","","","","","","",""]
[null,null,{"$f":"IFERROR(INDEX('Modifikuoti svoriai '!$D$5:$K$29,MATCH(B666,'Modifikuoti svoriai '!$C$5:$C$29,0),MATCH(A666,'Modifikuoti svoriai '!$D$4:$K$4,0)),\"\")","v":""},null,null,null,null,null,null,null,null,null,null,null,null,null,"","","","","","","","",""]
[null,null,{"$f":"IFERROR(INDEX('Modifikuoti svoriai '!$D$5:$K$29,MATCH(B667,'Modifikuoti svoriai '!$C$5:$C$29,0),MATCH(A667,'Modifikuoti svoriai '!$D$4:$K$4,0)),\"\")","v":""},null,null,null,null,null,null,null,null,null,null,null,null,null,"","","","","","","","",""]
[null,null,{"$f":"IFERROR(INDEX('Modifikuoti svoriai '!$D$5:$K$29,MATCH(B668,'Modifikuoti svoriai '!$C$5:$C$29,0),MATCH(A668,'Modifikuoti svoriai '!$D$4:$K$4,0)),\"\")","v":""},null,null,null,null,null,null,null,null,null,null,null,null,null,"","","","","","","","",""]
[null,null,{"$f":"IFERROR(INDEX('Modifikuoti svoriai '!$D$5:$K$29,MATCH(B669,'Modifikuoti svoriai '!$C$5:$C$29,0),MATCH(A669,'Modifikuoti svoriai '!$D$4:$K$4,0)),\"\")","v":""},null,null,null,null,null,null,null,null,null,null,null,null,null,"","","","","","","","",""]
[null,null,{"$f":"IFERROR(INDEX('Modifikuoti svoriai '!$D$5:$K$29,MATCH(B670,'Modifikuoti svoriai '!$C$5:$C$29,0),MATCH(A670,'Modifikuoti svoriai '!$D$4:$K$4,0)),\"\")","v":""},null,null,null,null,null,null,null,null,null,null,null,null,null,"","","","","","","","",""]
[null,null,{"$f":"IFERROR(INDEX('Modifikuoti svoriai '!$D$5:$K$29,MATCH(B671,'Modifikuoti svoriai '!$C$5:$C$29,0),MATCH(A671,'Modifikuoti svoriai '!$D$4:$K$4,0)),\"\")","v":""},null,null,null,null,null,null,null,null,null,null,null,null,null,{"$f":"IF(Q$6<YEAR($K671),\"Pastato tarnavimo laikotarpis nepasibaigė\",IF(Q$6=YEAR($K671),\"Pastato tarnavimo laikotarpio pabaiga\",IF($K671<>0,\"Pastato tarnavimo laikotarpis pasibaigė\",\"\")))","v":""},"","","","","","","",""]
[null,null,{"$f":"IFERROR(INDEX('Modifikuoti svoriai '!$D$5:$K$29,MATCH(B672,'Modifikuoti svoriai '!$C$5:$C$29,0),MATCH(A672,'Modifikuoti svoriai '!$D$4:$K$4,0)),\"\")","v":""},null,null,null,null,null,null,null,null,null,null,null,null,null,"","","","","","","","",""]
[null,null,{"$f":"IFERROR(INDEX('Modifikuoti svoriai '!$D$5:$K$29,MATCH(B673,'Modifikuoti svoriai '!$C$5:$C$29,0),MATCH(A673,'Modifikuoti svoriai '!$D$4:$K$4,0)),\"\")","v":""},null,null,null,null,null,null,null,null,null,null,null,null,null,"","","","","","","","",""]
[null,null,{"$f":"IFERROR(INDEX('Modifikuoti svoriai '!$D$5:$K$29,MATCH(B674,'Modifikuoti svoriai '!$C$5:$C$29,0),MATCH(A674,'Modifikuoti svoriai '!$D$4:$K$4,0)),\"\")","v":""},null,null,null,null,null,null,null,null,null,null,null,null,null,"","","","","","","","",""]
[null,null,{"$f":"IFERROR(INDEX('Modifikuoti svoriai '!$D$5:$K$29,MATCH(B675,'Modifikuoti svoriai '!$C$5:$C$29,0),MATCH(A675,'Modifikuoti svoriai '!$D$4:$K$4,0)),\"\")","v":""},null,null,null,null,null,null,null,null,null,null,null,null,null,"","","","","","","","",""]
[null,null,{"$f":"IFERROR(INDEX('Modifikuoti svoriai '!$D$5:$K$29,MATCH(B676,'Modifikuoti svoriai '!$C$5:$C$29,0),MATCH(A676,'Modifikuoti svoriai '!$D$4:$K$4,0)),\"\")","v":""},null,null,null,null,null,null,null,null,null,null,null,null,null,"","","","","","","","",""]
[null,null,{"$f":"IFERROR(INDEX('Modifikuoti svoriai '!$D$5:$K$29,MATCH(B677,'Modifikuoti svoriai '!$C$5:$C$29,0),MATCH(A677,'Modifikuoti svoriai '!$D$4:$K$4,0)),\"\")","v":""},null,null,null,null,null,null,null,null,null,null,null,null,null,"","","","","","","","",""]
[null,null,{"$f":"IFERROR(INDEX('Modifikuoti svoriai '!$D$5:$K$29,MATCH(B678,'Modifikuoti svoriai '!$C$5:$C$29,0),MATCH(A678,'Modifikuoti svoriai '!$D$4:$K$4,0)),\"\")","v":""},null,null,null,null,null,null,null,null,null,null,null,null,null,"","","","","","","","",""]
[null,null,{"$f":"IFERROR(INDEX('Modifikuoti svoriai '!$D$5:$K$29,MATCH(B679,'Modifikuoti svoriai '!$C$5:$C$29,0),MATCH(A679,'Modifikuoti svoriai '!$D$4:$K$4,0)),\"\")","v":""},null,null,null,null,null,null,null,null,null,null,null,null,null,"","","","","","","","",""]
[null,null,{"$f":"IFERROR(INDEX('Modifikuoti svoriai '!$D$5:$K$29,MATCH(B680,'Modifikuoti svoriai '!$C$5:$C$29,0),MATCH(A680,'Modifikuoti svoriai '!$D$4:$K$4,0)),\"\")","v":""},null,null,null,null,null,null,null,null,null,null,null,null,null,"","","","","","","","",""]
[null,null,{"$f":"IFERROR(INDEX('Modifikuoti svoriai '!$D$5:$K$29,MATCH(B681,'Modifikuoti svoriai '!$C$5:$C$29,0),MATCH(A681,'Modifikuoti svoriai '!$D$4:$K$4,0)),\"\")","v":""},null,null,null,null,null,null,null,null,null,null,null,null,null,"","","","","","","","",""]
[null,null,{"$f":"IFERROR(INDEX('Modifikuoti svoriai '!$D$5:$K$29,MATCH(B682,'Modifikuoti svoriai '!$C$5:$C$29,0),MATCH(A682,'Modifikuoti svoriai '!$D$4:$K$4,0)),\"\")","v":""},null,null,null,null,null,null,null,null,null,null,null,null,null,"","","","","","","","",""]
[null,null,{"$f":"IFERROR(INDEX('Modifikuoti svoriai '!$D$5:$K$29,MATCH(B683,'Modifikuoti svoriai '!$C$5:$C$29,0),MATCH(A683,'Modifikuoti svoriai '!$D$4:$K$4,0)),\"\")","v":""},null,null,null,null,null,null,null,null,null,null,null,null,null,"","","","","","","","",""]
[null,null,{"$f":"IFERROR(INDEX('Modifikuoti svoriai '!$D$5:$K$29,MATCH(B684,'Modifikuoti svoriai '!$C$5:$C$29,0),MATCH(A684,'Modifikuoti svoriai '!$D$4:$K$4,0)),\"\")","v":""},null,null,null,null,null,null,null,null,null,null,null,null,null,"","","","","","","","",""]
[null,null,{"$f":"IFERROR(INDEX('Modifikuoti svoriai '!$D$5:$K$29,MATCH(B685,'Modifikuoti svoriai '!$C$5:$C$29,0),MATCH(A685,'Modifikuoti svoriai '!$D$4:$K$4,0)),\"\")","v":""},null,null,null,null,null,null,null,null,null,null,null,null,null,"","","","","","","","",""]
[null,null,{"$f":"IFERROR(INDEX('Modifikuoti svoriai '!$D$5:$K$29,MATCH(B686,'Modifikuoti svoriai '!$C$5:$C$29,0),MATCH(A686,'Modifikuoti svoriai '!$D$4:$K$4,0)),\"\")","v":""},null,null,null,null,null,null,null,null,null,null,null,null,null,"","","","","","","","",""]
[null,null,{"$f":"IFERROR(INDEX('Modifikuoti svoriai '!$D$5:$K$29,MATCH(B687,'Modifikuoti svoriai '!$C$5:$C$29,0),MATCH(A687,'Modifikuoti svoriai '!$D$4:$K$4,0)),\"\")","v":""},null,null,null,null,null,null,null,null,null,null,null,null,null,{"$f":"IF(Q$6<YEAR($K687),\"Pastato tarnavimo laikotarpis nepasibaigė\",IF(Q$6=YEAR($K687),\"Pastato tarnavimo laikotarpio pabaiga\",IF($K687<>0,\"Pastato tarnavimo laikotarpis pasibaigė\",\"\")))","v":""},"","","","","","","",""]
[null,null,{"$f":"IFERROR(INDEX('Modifikuoti svoriai '!$D$5:$K$29,MATCH(B688,'Modifikuoti svoriai '!$C$5:$C$29,0),MATCH(A688,'Modifikuoti svoriai '!$D$4:$K$4,0)),\"\")","v":""},null,null,null,null,null,null,null,null,null,null,null,null,null,"","","","","","","","",""]
[null,null,{"$f":"IFERROR(INDEX('Modifikuoti svoriai '!$D$5:$K$29,MATCH(B689,'Modifikuoti svoriai '!$C$5:$C$29,0),MATCH(A689,'Modifikuoti svoriai '!$D$4:$K$4,0)),\"\")","v":""},null,null,null,null,null,null,null,null,null,null,null,null,null,"","","","","","","","",""]
[null,null,{"$f":"IFERROR(INDEX('Modifikuoti svoriai '!$D$5:$K$29,MATCH(B690,'Modifikuoti svoriai '!$C$5:$C$29,0),MATCH(A690,'Modifikuoti svoriai '!$D$4:$K$4,0)),\"\")","v":""},null,null,null,null,null,null,null,null,null,null,null,null,null,"","","","","","","","",""]
[null,null,{"$f":"IFERROR(INDEX('Modifikuoti svoriai '!$D$5:$K$29,MATCH(B691,'Modifikuoti svoriai '!$C$5:$C$29,0),MATCH(A691,'Modifikuoti svoriai '!$D$4:$K$4,0)),\"\")","v":""},null,null,null,null,null,null,null,null,null,null,null,null,null,"","","","","","","","",""]
[null,null,{"$f":"IFERROR(INDEX('Modifikuoti svoriai '!$D$5:$K$29,MATCH(B692,'Modifikuoti svoriai '!$C$5:$C$29,0),MATCH(A692,'Modifikuoti svoriai '!$D$4:$K$4,0)),\"\")","v":""},null,null,null,null,null,null,null,null,null,null,null,null,null,"","","","","","","","",""]
[null,null,{"$f":"IFERROR(INDEX('Modifikuoti svoriai '!$D$5:$K$29,MATCH(B693,'Modifikuoti svoriai '!$C$5:$C$29,0),MATCH(A693,'Modifikuoti svoriai '!$D$4:$K$4,0)),\"\")","v":""},null,null,null,null,null,null,null,null,null,null,null,null,null,"","","","","","","","",""]
[null,null,{"$f":"IFERROR(INDEX('Modifikuoti svoriai '!$D$5:$K$29,MATCH(B694,'Modifikuoti svoriai '!$C$5:$C$29,0),MATCH(A694,'Modifikuoti svoriai '!$D$4:$K$4,0)),\"\")","v":""},null,null,null,null,null,null,null,null,null,null,null,null,null,"","","","","","","","",""]
[null,null,{"$f":"IFERROR(INDEX('Modifikuoti svoriai '!$D$5:$K$29,MATCH(B695,'Modifikuoti svoriai '!$C$5:$C$29,0),MATCH(A695,'Modifikuoti svoriai '!$D$4:$K$4,0)),\"\")","v":""},null,null,null,null,null,null,null,null,null,null,null,null,null,"","","","","","","","",""]
[null,null,{"$f":"IFERROR(INDEX('Modifikuoti svoriai '!$D$5:$K$29,MATCH(B696,'Modifikuoti svoriai '!$C$5:$C$29,0),MATCH(A696,'Modifikuoti svoriai '!$D$4:$K$4,0)),\"\")","v":""},null,null,null,null,null,null,null,null,null,null,null,null,null,"","","","","","","","",""]
[null,null,{"$f":"IFERROR(INDEX('Modifikuoti svoriai '!$D$5:$K$29,MATCH(B697,'Modifikuoti svoriai '!$C$5:$C$29,0),MATCH(A697,'Modifikuoti svoriai '!$D$4:$K$4,0)),\"\")","v":""},null,null,null,null,null,null,null,null,null,null,null,null,null,"","","","","","","","",""]
[null,null,{"$f":"IFERROR(INDEX('Modifikuoti svoriai '!$D$5:$K$29,MATCH(B698,'Modifikuoti svoriai '!$C$5:$C$29,0),MATCH(A698,'Modifikuoti svoriai '!$D$4:$K$4,0)),\"\")","v":""},null,null,null,null,null,null,null,null,null,null,null,null,null,"","","","","","","","",""]
[null,null,{"$f":"IFERROR(INDEX('Modifikuoti svoriai '!$D$5:$K$29,MATCH(B699,'Modifikuoti svoriai '!$C$5:$C$29,0),MATCH(A699,'Modifikuoti svoriai '!$D$4:$K$4,0)),\"\")","v":""},null,null,null,null,null,null,null,null,null,null,null,null,null,"","","","","","","","",""]
[null,null,{"$f":"IFERROR(INDEX('Modifikuoti svoriai '!$D$5:$K$29,MATCH(B700,'Modifikuoti svoriai '!$C$5:$C$29,0),MATCH(A700,'Modifikuoti svoriai '!$D$4:$K$4,0)),\"\")","v":""},null,null,null,null,null,null,null,null,null,null,null,null,null,"","","","","","","","",""]
[null,null,{"$f":"IFERROR(INDEX('Modifikuoti svoriai '!$D$5:$K$29,MATCH(B701,'Modifikuoti svoriai '!$C$5:$C$29,0),MATCH(A701,'Modifikuoti svoriai '!$D$4:$K$4,0)),\"\")","v":""},null,null,null,null,null,null,null,null,null,null,null,null,null,"","","","","","","","",""]
[null,null,{"$f":"IFERROR(INDEX('Modifikuoti svoriai '!$D$5:$K$29,MATCH(B702,'Modifikuoti svoriai '!$C$5:$C$29,0),MATCH(A702,'Modifikuoti svoriai '!$D$4:$K$4,0)),\"\")","v":""},null,null,null,null,null,null,null,null,null,null,null,null,null,"","","","","","","","",""]
[null,null,{"$f":"IFERROR(INDEX('Modifikuoti svoriai '!$D$5:$K$29,MATCH(B703,'Modifikuoti svoriai '!$C$5:$C$29,0),MATCH(A703,'Modifikuoti svoriai '!$D$4:$K$4,0)),\"\")","v":""},null,null,null,null,null,null,null,null,null,null,null,null,null,{"$f":"IF(Q$6<YEAR($K703),\"Pastato tarnavimo laikotarpis nepasibaigė\",IF(Q$6=YEAR($K703),\"Pastato tarnavimo laikotarpio pabaiga\",IF($K703<>0,\"Pastato tarnavimo laikotarpis pasibaigė\",\"\")))","v":""},"","","","","","","",""]
[null,null,{"$f":"IFERROR(INDEX('Modifikuoti svoriai '!$D$5:$K$29,MATCH(B704,'Modifikuoti svoriai '!$C$5:$C$29,0),MATCH(A704,'Modifikuoti svoriai '!$D$4:$K$4,0)),\"\")","v":""},null,null,null,null,null,null,null,null,null,null,null,null,null,"","","","","","","","",""]
[null,null,{"$f":"IFERROR(INDEX('Modifikuoti svoriai '!$D$5:$K$29,MATCH(B705,'Modifikuoti svoriai '!$C$5:$C$29,0),MATCH(A705,'Modifikuoti svoriai '!$D$4:$K$4,0)),\"\")","v":""},null,null,null,null,null,null,null,null,null,null,null,null,null,"","","","","","","","",""]
[null,null,{"$f":"IFERROR(INDEX('Modifikuoti svoriai '!$D$5:$K$29,MATCH(B706,'Modifikuoti svoriai '!$C$5:$C$29,0),MATCH(A706,'Modifikuoti svoriai '!$D$4:$K$4,0)),\"\")","v":""},null,null,null,null,null,null,null,null,null,null,null,null,null,"","","","","","","","",""]
[null,null,{"$f":"IFERROR(INDEX('Modifikuoti svoriai '!$D$5:$K$29,MATCH(B707,'Modifikuoti svoriai '!$C$5:$C$29,0),MATCH(A707,'Modifikuoti svoriai '!$D$4:$K$4,0)),\"\")","v":""},null,null,null,null,null,null,null,null,null,null,null,null,null,"","","","","","","","",""]
[null,null,{"$f":"IFERROR(INDEX('Modifikuoti svoriai '!$D$5:$K$29,MATCH(B708,'Modifikuoti svoriai '!$C$5:$C$29,0),MATCH(A708,'Modifikuoti svoriai '!$D$4:$K$4,0)),\"\")","v":""},null,null,null,null,null,null,null,null,null,null,null,null,null,"","","","","","","","",""]
[null,null,{"$f":"IFERROR(INDEX('Modifikuoti svoriai '!$D$5:$K$29,MATCH(B709,'Modifikuoti svoriai '!$C$5:$C$29,0),MATCH(A709,'Modifikuoti svoriai '!$D$4:$K$4,0)),\"\")","v":""},null,null,null,null,null,null,null,null,null,null,null,null,null,"","","","","","","","",""]
[null,null,{"$f":"IFERROR(INDEX('Modifikuoti svoriai '!$D$5:$K$29,MATCH(B710,'Modifikuoti svoriai '!$C$5:$C$29,0),MATCH(A710,'Modifikuoti svoriai '!$D$4:$K$4,0)),\"\")","v":""},null,null,null,null,null,null,null,null,null,null,null,null,null,"","","","","","","","",""]
[null,null,{"$f":"IFERROR(INDEX('Modifikuoti svoriai '!$D$5:$K$29,MATCH(B711,'Modifikuoti svoriai '!$C$5:$C$29,0),MATCH(A711,'Modifikuoti svoriai '!$D$4:$K$4,0)),\"\")","v":""},null,null,null,null,null,null,null,null,null,null,null,null,null,"","","","","","","","",""]
[null,null,{"$f":"IFERROR(INDEX('Modifikuoti svoriai '!$D$5:$K$29,MATCH(B712,'Modifikuoti svoriai '!$C$5:$C$29,0),MATCH(A712,'Modifikuoti svoriai '!$D$4:$K$4,0)),\"\")","v":""},null,null,null,null,null,null,null,null,null,null,null,null,null,"","","","","","","","",""]
[null,null,{"$f":"IFERROR(INDEX('Modifikuoti svoriai '!$D$5:$K$29,MATCH(B713,'Modifikuoti svoriai '!$C$5:$C$29,0),MATCH(A713,'Modifikuoti svoriai '!$D$4:$K$4,0)),\"\")","v":""},null,null,null,null,null,null,null,null,null,null,null,null,null,"","","","","","","","",""]
[null,null,{"$f":"IFERROR(INDEX('Modifikuoti svoriai '!$D$5:$K$29,MATCH(B714,'Modifikuoti svoriai '!$C$5:$C$29,0),MATCH(A714,'Modifikuoti svoriai '!$D$4:$K$4,0)),\"\")","v":""},null,null,null,null,null,null,null,null,null,null,null,null,null,"","","","","","","","",""]
[null,null,{"$f":"IFERROR(INDEX('Modifikuoti svoriai '!$D$5:$K$29,MATCH(B715,'Modifikuoti svoriai '!$C$5:$C$29,0),MATCH(A715,'Modifikuoti svoriai '!$D$4:$K$4,0)),\"\")","v":""},null,null,null,null,null,null,null,null,null,null,null,null,null,"","","","","","","","",""]
[null,null,{"$f":"IFERROR(INDEX('Modifikuoti svoriai '!$D$5:$K$29,MATCH(B716,'Modifikuoti svoriai '!$C$5:$C$29,0),MATCH(A716,'Modifikuoti svoriai '!$D$4:$K$4,0)),\"\")","v":""},null,null,null,null,null,null,null,null,null,null,null,null,null,"","","","","","","","",""]
[null,null,{"$f":"IFERROR(INDEX('Modifikuoti svoriai '!$D$5:$K$29,MATCH(B717,'Modifikuoti svoriai '!$C$5:$C$29,0),MATCH(A717,'Modifikuoti svoriai '!$D$4:$K$4,0)),\"\")","v":""},null,null,null,null,null,null,null,null,null,null,null,null,null,"","","","","","","","",""]
[null,null,{"$f":"IFERROR(INDEX('Modifikuoti svoriai '!$D$5:$K$29,MATCH(B718,'Modifikuoti svoriai '!$C$5:$C$29,0),MATCH(A718,'Modifikuoti svoriai '!$D$4:$K$4,0)),\"\")","v":""},null,null,null,null,null,null,null,null,null,null,null,null,null,"","","","","","","","",""]
[null,null,{"$f":"IFERROR(INDEX('Modifikuoti svoriai '!$D$5:$K$29,MATCH(B719,'Modifikuoti svoriai '!$C$5:$C$29,0),MATCH(A719,'Modifikuoti svoriai '!$D$4:$K$4,0)),\"\")","v":""},null,null,null,null,null,null,null,null,null,null,null,null,null,{"$f":"IF(Q$6<YEAR($K719),\"Pastato tarnavimo laikotarpis nepasibaigė\",IF(Q$6=YEAR($K719),\"Pastato tarnavimo laikotarpio pabaiga\",IF($K719<>0,\"Pastato tarnavimo laikotarpis pasibaigė\",\"\")))","v":""},"","","","","","","",""]
[null,null,{"$f":"IFERROR(INDEX('Modifikuoti svoriai '!$D$5:$K$29,MATCH(B720,'Modifikuoti svoriai '!$C$5:$C$29,0),MATCH(A720,'Modifikuoti svoriai '!$D$4:$K$4,0)),\"\")","v":""},null,null,null,null,null,null,null,null,null,null,null,null,null,"","","","","","","","",""]
[null,null,{"$f":"IFERROR(INDEX('Modifikuoti svoriai '!$D$5:$K$29,MATCH(B721,'Modifikuoti svoriai '!$C$5:$C$29,0),MATCH(A721,'Modifikuoti svoriai '!$D$4:$K$4,0)),\"\")","v":""},null,null,null,null,null,null,null,null,null,null,null,null,null,"","","","","","","","",""]
[null,null,{"$f":"IFERROR(INDEX('Modifikuoti svoriai '!$D$5:$K$29,MATCH(B722,'Modifikuoti svoriai '!$C$5:$C$29,0),MATCH(A722,'Modifikuoti svoriai '!$D$4:$K$4,0)),\"\")","v":""},null,null,null,null,null,null,null,null,null,null,null,null,null,"","","","","","","","",""]
[null,null,{"$f":"IFERROR(INDEX('Modifikuoti svoriai '!$D$5:$K$29,MATCH(B723,'Modifikuoti svoriai '!$C$5:$C$29,0),MATCH(A723,'Modifikuoti svoriai '!$D$4:$K$4,0)),\"\")","v":""},null,null,null,null,null,null,null,null,null,null,null,null,null,"","","","","","","","",""]
[null,null,{"$f":"IFERROR(INDEX('Modifikuoti svoriai '!$D$5:$K$29,MATCH(B724,'Modifikuoti svoriai '!$C$5:$C$29,0),MATCH(A724,'Modifikuoti svoriai '!$D$4:$K$4,0)),\"\")","v":""},null,null,null,null,null,null,null,null,null,null,null,null,null,"","","","","","","","",""]
[null,null,{"$f":"IFERROR(INDEX('Modifikuoti svoriai '!$D$5:$K$29,MATCH(B725,'Modifikuoti svoriai '!$C$5:$C$29,0),MATCH(A725,'Modifikuoti svoriai '!$D$4:$K$4,0)),\"\")","v":""},null,null,null,null,null,null,null,null,null,null,null,null,null,"","","","","","","","",""]
[null,null,{"$f":"IFERROR(INDEX('Modifikuoti svoriai '!$D$5:$K$29,MATCH(B726,'Modifikuoti svoriai '!$C$5:$C$29,0),MATCH(A726,'Modifikuoti svoriai '!$D$4:$K$4,0)),\"\")","v":""},null,null,null,null,null,null,null,null,null,null,null,null,null,"","","","","","","","",""]
[null,null,{"$f":"IFERROR(INDEX('Modifikuoti svoriai '!$D$5:$K$29,MATCH(B727,'Modifikuoti svoriai '!$C$5:$C$29,0),MATCH(A727,'Modifikuoti svoriai '!$D$4:$K$4,0)),\"\")","v":""},null,null,null,null,null,null,null,null,null,null,null,null,null,"","","","","","","","",""]
[null,null,{"$f":"IFERROR(INDEX('Modifikuoti svoriai '!$D$5:$K$29,MATCH(B728,'Modifikuoti svoriai '!$C$5:$C$29,0),MATCH(A728,'Modifikuoti svoriai '!$D$4:$K$4,0)),\"\")","v":""},null,null,null,null,null,null,null,null,null,null,null,null,null,"","","","","","","","",""]
[null,null,{"$f":"IFERROR(INDEX('Modifikuoti svoriai '!$D$5:$K$29,MATCH(B729,'Modifikuoti svoriai '!$C$5:$C$29,0),MATCH(A729,'Modifikuoti svoriai '!$D$4:$K$4,0)),\"\")","v":""},null,null,null,null,null,null,null,null,null,null,null,null,null,"","","","","","","","",""]
[null,null,{"$f":"IFERROR(INDEX('Modifikuoti svoriai '!$D$5:$K$29,MATCH(B730,'Modifikuoti svoriai '!$C$5:$C$29,0),MATCH(A730,'Modifikuoti svoriai '!$D$4:$K$4,0)),\"\")","v":""},null,null,null,null,null,null,null,null,null,null,null,null,null,"","","","","","","","",""]
[null,null,{"$f":"IFERROR(INDEX('Modifikuoti svoriai '!$D$5:$K$29,MATCH(B731,'Modifikuoti svoriai '!$C$5:$C$29,0),MATCH(A731,'Modifikuoti svoriai '!$D$4:$K$4,0)),\"\")","v":""},null,null,null,null,null,null,null,null,null,null,null,null,null,"","","","","","","","",""]
[null,null,{"$f":"IFERROR(INDEX('Modifikuoti svoriai '!$D$5:$K$29,MATCH(B732,'Modifikuoti svoriai '!$C$5:$C$29,0),MATCH(A732,'Modifikuoti svoriai '!$D$4:$K$4,0)),\"\")","v":""},null,null,null,null,null,null,null,null,null,null,null,null,null,"","","","","","","","",""]
[null,null,{"$f":"IFERROR(INDEX('Modifikuoti svoriai '!$D$5:$K$29,MATCH(B733,'Modifikuoti svoriai '!$C$5:$C$29,0),MATCH(A733,'Modifikuoti svoriai '!$D$4:$K$4,0)),\"\")","v":""},null,null,null,null,null,null,null,null,null,null,null,null,null,"","","","","","","","",""]
[null,null,{"$f":"IFERROR(INDEX('Modifikuoti svoriai '!$D$5:$K$29,MATCH(B734,'Modifikuoti svoriai '!$C$5:$C$29,0),MATCH(A734,'Modifikuoti svoriai '!$D$4:$K$4,0)),\"\")","v":""},null,null,null,null,null,null,null,null,null,null,null,null,null,"","","","","","","","",""]
[null,null,{"$f":"IFERROR(INDEX('Modifikuoti svoriai '!$D$5:$K$29,MATCH(B735,'Modifikuoti svoriai '!$C$5:$C$29,0),MATCH(A735,'Modifikuoti svoriai '!$D$4:$K$4,0)),\"\")","v":""},null,null,null,null,null,null,null,null,null,null,null,null,null,{"$f":"IF(Q$6<YEAR($K735),\"Pastato tarnavimo laikotarpis nepasibaigė\",IF(Q$6=YEAR($K735),\"Pastato tarnavimo laikotarpio pabaiga\",IF($K735<>0,\"Pastato tarnavimo laikotarpis pasibaigė\",\"\")))","v":""},"","","","","","","",""]
[null,null,{"$f":"IFERROR(INDEX('Modifikuoti svoriai '!$D$5:$K$29,MATCH(B736,'Modifikuoti svoriai '!$C$5:$C$29,0),MATCH(A736,'Modifikuoti svoriai '!$D$4:$K$4,0)),\"\")","v":""},null,null,null,null,null,null,null,null,null,null,null,null,null,"","","","","","","","",""]
[null,null,{"$f":"IFERROR(INDEX('Modifikuoti svoriai '!$D$5:$K$29,MATCH(B737,'Modifikuoti svoriai '!$C$5:$C$29,0),MATCH(A737,'Modifikuoti svoriai '!$D$4:$K$4,0)),\"\")","v":""},null,null,null,null,null,null,null,null,null,null,null,null,null,"","","","","","","","",""]
[null,null,{"$f":"IFERROR(INDEX('Modifikuoti svoriai '!$D$5:$K$29,MATCH(B738,'Modifikuoti svoriai '!$C$5:$C$29,0),MATCH(A738,'Modifikuoti svoriai '!$D$4:$K$4,0)),\"\")","v":""},null,null,null,null,null,null,null,null,null,null,null,null,null,"","","","","","","","",""]
[null,null,{"$f":"IFERROR(INDEX('Modifikuoti svoriai '!$D$5:$K$29,MATCH(B739,'Modifikuoti svoriai '!$C$5:$C$29,0),MATCH(A739,'Modifikuoti svoriai '!$D$4:$K$4,0)),\"\")","v":""},null,null,null,null,null,null,null,null,null,null,null,null,null,"","","","","","","","",""]
[null,null,{"$f":"IFERROR(INDEX('Modifikuoti svoriai '!$D$5:$K$29,MATCH(B740,'Modifikuoti svoriai '!$C$5:$C$29,0),MATCH(A740,'Modifikuoti svoriai '!$D$4:$K$4,0)),\"\")","v":""},null,null,null,null,null,null,null,null,null,null,null,null,null,"","","","","","","","",""]
[null,null,{"$f":"IFERROR(INDEX('Modifikuoti svoriai '!$D$5:$K$29,MATCH(B741,'Modifikuoti svoriai '!$C$5:$C$29,0),MATCH(A741,'Modifikuoti svoriai '!$D$4:$K$4,0)),\"\")","v":""},null,null,null,null,null,null,null,null,null,null,null,null,null,"","","","","","","","",""]
[null,null,{"$f":"IFERROR(INDEX('Modifikuoti svoriai '!$D$5:$K$29,MATCH(B742,'Modifikuoti svoriai '!$C$5:$C$29,0),MATCH(A742,'Modifikuoti svoriai '!$D$4:$K$4,0)),\"\")","v":""},null,null,null,null,null,null,null,null,null,null,null,null,null,"","","","","","","","",""]
[null,null,{"$f":"IFERROR(INDEX('Modifikuoti svoriai '!$D$5:$K$29,MATCH(B743,'Modifikuoti svoriai '!$C$5:$C$29,0),MATCH(A743,'Modifikuoti svoriai '!$D$4:$K$4,0)),\"\")","v":""},null,null,null,null,null,null,null,null,null,null,null,null,null,"","","","","","","","",""]
[null,null,{"$f":"IFERROR(INDEX('Modifikuoti svoriai '!$D$5:$K$29,MATCH(B744,'Modifikuoti svoriai '!$C$5:$C$29,0),MATCH(A744,'Modifikuoti svoriai '!$D$4:$K$4,0)),\"\")","v":""},null,null,null,null,null,null,null,null,null,null,null,null,null,"","","","","","","","",""]
[null,null,{"$f":"IFERROR(INDEX('Modifikuoti svoriai '!$D$5:$K$29,MATCH(B745,'Modifikuoti svoriai '!$C$5:$C$29,0),MATCH(A745,'Modifikuoti svoriai '!$D$4:$K$4,0)),\"\")","v":""},null,null,null,null,null,null,null,null,null,null,null,null,null,"","","","","","","","",""]
[null,null,{"$f":"IFERROR(INDEX('Modifikuoti svoriai '!$D$5:$K$29,MATCH(B746,'Modifikuoti svoriai '!$C$5:$C$29,0),MATCH(A746,'Modifikuoti svoriai '!$D$4:$K$4,0)),\"\")","v":""},null,null,null,null,null,null,null,null,null,null,null,null,null,"","","","","","","","",""]
[null,null,{"$f":"IFERROR(INDEX('Modifikuoti svoriai '!$D$5:$K$29,MATCH(B747,'Modifikuoti svoriai '!$C$5:$C$29,0),MATCH(A747,'Modifikuoti svoriai '!$D$4:$K$4,0)),\"\")","v":""},null,null,null,null,null,null,null,null,null,null,null,null,null,"","","","","","","","",""]
[null,null,{"$f":"IFERROR(INDEX('Modifikuoti svoriai '!$D$5:$K$29,MATCH(B748,'Modifikuoti svoriai '!$C$5:$C$29,0),MATCH(A748,'Modifikuoti svoriai '!$D$4:$K$4,0)),\"\")","v":""},null,null,null,null,null,null,null,null,null,null,null,null,null,"","","","","","","","",""]
[null,null,{"$f":"IFERROR(INDEX('Modifikuoti svoriai '!$D$5:$K$29,MATCH(B749,'Modifikuoti svoriai '!$C$5:$C$29,0),MATCH(A749,'Modifikuoti svoriai '!$D$4:$K$4,0)),\"\")","v":""},null,null,null,null,null,null,null,null,null,null,null,null,null,"","","","","","","","",""]
[null,null,{"$f":"IFERROR(INDEX('Modifikuoti svoriai '!$D$5:$K$29,MATCH(B750,'Modifikuoti svoriai '!$C$5:$C$29,0),MATCH(A750,'Modifikuoti svoriai '!$D$4:$K$4,0)),\"\")","v":""},null,null,null,null,null,null,null,null,null,null,null,null,null,"","","","","","","","",""]
[null,null,{"$f":"IFERROR(INDEX('Modifikuoti svoriai '!$D$5:$K$29,MATCH(B751,'Modifikuoti svoriai '!$C$5:$C$29,0),MATCH(A751,'Modifikuoti svoriai '!$D$4:$K$4,0)),\"\")","v":""},null,null,null,null,null,null,null,null,null,null,null,null,null,{"$f":"IF(Q$6<YEAR($K751),\"Pastato tarnavimo laikotarpis nepasibaigė\",IF(Q$6=YEAR($K751),\"Pastato tarnavimo laikotarpio pabaiga\",IF($K751<>0,\"Pastato tarnavimo laikotarpis pasibaigė\",\"\")))","v":""},"","","","","","","",""]
[null,null,{"$f":"IFERROR(INDEX('Modifikuoti svoriai '!$D$5:$K$29,MATCH(B752,'Modifikuoti svoriai '!$C$5:$C$29,0),MATCH(A752,'Modifikuoti svoriai '!$D$4:$K$4,0)),\"\")","v":""},null,null,null,null,null,null,null,null,null,null,null,null,null,"","","","","","","","",""]
[null,null,{"$f":"IFERROR(INDEX('Modifikuoti svoriai '!$D$5:$K$29,MATCH(B753,'Modifikuoti svoriai '!$C$5:$C$29,0),MATCH(A753,'Modifikuoti svoriai '!$D$4:$K$4,0)),\"\")","v":""},null,null,null,null,null,null,null,null,null,null,null,null,null,"","","","","","","","",""]
[null,null,{"$f":"IFERROR(INDEX('Modifikuoti svoriai '!$D$5:$K$29,MATCH(B754,'Modifikuoti svoriai '!$C$5:$C$29,0),MATCH(A754,'Modifikuoti svoriai '!$D$4:$K$4,0)),\"\")","v":""},null,null,null,null,null,null,null,null,null,null,null,null,null,"","","","","","","","",""]
[null,null,{"$f":"IFERROR(INDEX('Modifikuoti svoriai '!$D$5:$K$29,MATCH(B755,'Modifikuoti svoriai '!$C$5:$C$29,0),MATCH(A755,'Modifikuoti svoriai '!$D$4:$K$4,0)),\"\")","v":""},null,null,null,null,null,null,null,null,null,null,null,null,null,"","","","","","","","",""]
[null,null,{"$f":"IFERROR(INDEX('Modifikuoti svoriai '!$D$5:$K$29,MATCH(B756,'Modifikuoti svoriai '!$C$5:$C$29,0),MATCH(A756,'Modifikuoti svoriai '!$D$4:$K$4,0)),\"\")","v":""},null,null,null,null,null,null,null,null,null,null,null,null,null,"","","","","","","","",""]
[null,null,{"$f":"IFERROR(INDEX('Modifikuoti svoriai '!$D$5:$K$29,MATCH(B757,'Modifikuoti svoriai '!$C$5:$C$29,0),MATCH(A757,'Modifikuoti svoriai '!$D$4:$K$4,0)),\"\")","v":""},null,null,null,null,null,null,null,null,null,null,null,null,null,"","","","","","","","",""]
[null,null,{"$f":"IFERROR(INDEX('Modifikuoti svoriai '!$D$5:$K$29,MATCH(B758,'Modifikuoti svoriai '!$C$5:$C$29,0),MATCH(A758,'Modifikuoti svoriai '!$D$4:$K$4,0)),\"\")","v":""},null,null,null,null,null,null,null,null,null,null,null,null,null,"","","","","","","","",""]
[null,null,{"$f":"IFERROR(INDEX('Modifikuoti svoriai '!$D$5:$K$29,MATCH(B759,'Modifikuoti svoriai '!$C$5:$C$29,0),MATCH(A759,'Modifikuoti svoriai '!$D$4:$K$4,0)),\"\")","v":""},null,null,null,null,null,null,null,null,null,null,null,null,null,"","","","","","","","",""]
[null,null,{"$f":"IFERROR(INDEX('Modifikuoti svoriai '!$D$5:$K$29,MATCH(B760,'Modifikuoti svoriai '!$C$5:$C$29,0),MATCH(A760,'Modifikuoti svoriai '!$D$4:$K$4,0)),\"\")","v":""},null,null,null,null,null,null,null,null,null,null,null,null,null,"","","","","","","","",""]
[null,null,{"$f":"IFERROR(INDEX('Modifikuoti svoriai '!$D$5:$K$29,MATCH(B761,'Modifikuoti svoriai '!$C$5:$C$29,0),MATCH(A761,'Modifikuoti svoriai '!$D$4:$K$4,0)),\"\")","v":""},null,null,null,null,null,null,null,null,null,null,null,null,null,"","","","","","","","",""]
[null,null,{"$f":"IFERROR(INDEX('Modifikuoti svoriai '!$D$5:$K$29,MATCH(B762,'Modifikuoti svoriai '!$C$5:$C$29,0),MATCH(A762,'Modifikuoti svoriai '!$D$4:$K$4,0)),\"\")","v":""},null,null,null,null,null,null,null,null,null,null,null,null,null,"","","","","","","","",""]
[null,null,{"$f":"IFERROR(INDEX('Modifikuoti svoriai '!$D$5:$K$29,MATCH(B763,'Modifikuoti svoriai '!$C$5:$C$29,0),MATCH(A763,'Modifikuoti svoriai '!$D$4:$K$4,0)),\"\")","v":""},null,null,null,null,null,null,null,null,null,null,null,null,null,"","","","","","","","",""]
[null,null,{"$f":"IFERROR(INDEX('Modifikuoti svoriai '!$D$5:$K$29,MATCH(B764,'Modifikuoti svoriai '!$C$5:$C$29,0),MATCH(A764,'Modifikuoti svoriai '!$D$4:$K$4,0)),\"\")","v":""},null,null,null,null,null,null,null,null,null,null,null,null,null,"","","","","","","","",""]
[null,null,{"$f":"IFERROR(INDEX('Modifikuoti svoriai '!$D$5:$K$29,MATCH(B765,'Modifikuoti svoriai '!$C$5:$C$29,0),MATCH(A765,'Modifikuoti svoriai '!$D$4:$K$4,0)),\"\")","v":""},null,null,null,null,null,null,null,null,null,null,null,null,null,"","","","","","","","",""]
[null,null,{"$f":"IFERROR(INDEX('Modifikuoti svoriai '!$D$5:$K$29,MATCH(B766,'Modifikuoti svoriai '!$C$5:$C$29,0),MATCH(A766,'Modifikuoti svoriai '!$D$4:$K$4,0)),\"\")","v":""},null,null,null,null,null,null,null,null,null,null,null,null,null,"","","","","","","","",""]
[null,null,{"$f":"IFERROR(INDEX('Modifikuoti svoriai '!$D$5:$K$29,MATCH(B767,'Modifikuoti svoriai '!$C$5:$C$29,0),MATCH(A767,'Modifikuoti svoriai '!$D$4:$K$4,0)),\"\")","v":""},null,null,null,null,null,null,null,null,null,null,null,null,null,{"$f":"IF(Q$6<YEAR($K767),\"Pastato tarnavimo laikotarpis nepasibaigė\",IF(Q$6=YEAR($K767),\"Pastato tarnavimo laikotarpio pabaiga\",IF($K767<>0,\"Pastato tarnavimo laikotarpis pasibaigė\",\"\")))","v":""},"","","","","","","",""]
[null,null,{"$f":"IFERROR(INDEX('Modifikuoti svoriai '!$D$5:$K$29,MATCH(B768,'Modifikuoti svoriai '!$C$5:$C$29,0),MATCH(A768,'Modifikuoti svoriai '!$D$4:$K$4,0)),\"\")","v":""},null,null,null,null,null,null,null,null,null,null,null,null,null,"","","","","","","","",""]
[null,null,{"$f":"IFERROR(INDEX('Modifikuoti svoriai '!$D$5:$K$29,MATCH(B769,'Modifikuoti svoriai '!$C$5:$C$29,0),MATCH(A769,'Modifikuoti svoriai '!$D$4:$K$4,0)),\"\")","v":""},null,null,null,null,null,null,null,null,null,null,null,null,null,"","","","","","","","",""]
[null,null,{"$f":"IFERROR(INDEX('Modifikuoti svoriai '!$D$5:$K$29,MATCH(B770,'Modifikuoti svoriai '!$C$5:$C$29,0),MATCH(A770,'Modifikuoti svoriai '!$D$4:$K$4,0)),\"\")","v":""},null,null,null,null,null,null,null,null,null,null,null,null,null,"","","","","","","","",""]
[null,null,{"$f":"IFERROR(INDEX('Modifikuoti svoriai '!$D$5:$K$29,MATCH(B771,'Modifikuoti svoriai '!$C$5:$C$29,0),MATCH(A771,'Modifikuoti svoriai '!$D$4:$K$4,0)),\"\")","v":""},null,null,null,null,null,null,null,null,null,null,null,null,null,"","","","","","","","",""]
[null,null,{"$f":"IFERROR(INDEX('Modifikuoti svoriai '!$D$5:$K$29,MATCH(B772,'Modifikuoti svoriai '!$C$5:$C$29,0),MATCH(A772,'Modifikuoti svoriai '!$D$4:$K$4,0)),\"\")","v":""},null,null,null,null,null,null,null,null,null,null,null,null,null,"","","","","","","","",""]
[null,null,{"$f":"IFERROR(INDEX('Modifikuoti svoriai '!$D$5:$K$29,MATCH(B773,'Modifikuoti svoriai '!$C$5:$C$29,0),MATCH(A773,'Modifikuoti svoriai '!$D$4:$K$4,0)),\"\")","v":""},null,null,null,null,null,null,null,null,null,null,null,null,null,"","","","","","","","",""]
[null,null,{"$f":"IFERROR(INDEX('Modifikuoti svoriai '!$D$5:$K$29,MATCH(B774,'Modifikuoti svoriai '!$C$5:$C$29,0),MATCH(A774,'Modifikuoti svoriai '!$D$4:$K$4,0)),\"\")","v":""},null,null,null,null,null,null,null,null,null,null,null,null,null,"","","","","","","","",""]
[null,null,{"$f":"IFERROR(INDEX('Modifikuoti svoriai '!$D$5:$K$29,MATCH(B775,'Modifikuoti svoriai '!$C$5:$C$29,0),MATCH(A775,'Modifikuoti svoriai '!$D$4:$K$4,0)),\"\")","v":""},null,null,null,null,null,null,null,null,null,null,null,null,null,"","","","","","","","",""]
[null,null,{"$f":"IFERROR(INDEX('Modifikuoti svoriai '!$D$5:$K$29,MATCH(B776,'Modifikuoti svoriai '!$C$5:$C$29,0),MATCH(A776,'Modifikuoti svoriai '!$D$4:$K$4,0)),\"\")","v":""},null,null,null,null,null,null,null,null,null,null,null,null,null,"","","","","","","","",""]
[null,null,{"$f":"IFERROR(INDEX('Modifikuoti svoriai '!$D$5:$K$29,MATCH(B777,'Modifikuoti svoriai '!$C$5:$C$29,0),MATCH(A777,'Modifikuoti svoriai '!$D$4:$K$4,0)),\"\")","v":""},null,null,null,null,null,null,null,null,null,null,null,null,null,"","","","","","","","",""]
[null,null,{"$f":"IFERROR(INDEX('Modifikuoti svoriai '!$D$5:$K$29,MATCH(B778,'Modifikuoti svoriai '!$C$5:$C$29,0),MATCH(A778,'Modifikuoti svoriai '!$D$4:$K$4,0)),\"\")","v":""},null,null,null,null,null,null,null,null,null,null,null,null,null,"","","","","","","","",""]
[null,null,{"$f":"IFERROR(INDEX('Modifikuoti svoriai '!$D$5:$K$29,MATCH(B779,'Modifikuoti svoriai '!$C$5:$C$29,0),MATCH(A779,'Modifikuoti svoriai '!$D$4:$K$4,0)),\"\")","v":""},null,null,null,null,null,null,null,null,null,null,null,null,null,"","","","","","","","",""]
[null,null,{"$f":"IFERROR(INDEX('Modifikuoti svoriai '!$D$5:$K$29,MATCH(B780,'Modifikuoti svoriai '!$C$5:$C$29,0),MATCH(A780,'Modifikuoti svoriai '!$D$4:$K$4,0)),\"\")","v":""},null,null,null,null,null,null,null,null,null,null,null,null,null,"","","","","","","","",""]
[null,null,{"$f":"IFERROR(INDEX('Modifikuoti svoriai '!$D$5:$K$29,MATCH(B781,'Modifikuoti svoriai '!$C$5:$C$29,0),MATCH(A781,'Modifikuoti svoriai '!$D$4:$K$4,0)),\"\")","v":""},null,null,null,null,null,null,null,null,null,null,null,null,null,"","","","","","","","",""]
[null,null,{"$f":"IFERROR(INDEX('Modifikuoti svoriai '!$D$5:$K$29,MATCH(B782,'Modifikuoti svoriai '!$C$5:$C$29,0),MATCH(A782,'Modifikuoti svoriai '!$D$4:$K$4,0)),\"\")","v":""},null,null,null,null,null,null,null,null,null,null,null,null,null,"","","","","","","","",""]
[null,null,{"$f":"IFERROR(INDEX('Modifikuoti svoriai '!$D$5:$K$29,MATCH(B783,'Modifikuoti svoriai '!$C$5:$C$29,0),MATCH(A783,'Modifikuoti svoriai '!$D$4:$K$4,0)),\"\")","v":""},null,null,null,null,null,null,null,null,null,null,null,null,null,{"$f":"IF(Q$6<YEAR($K783),\"Pastato tarnavimo laikotarpis nepasibaigė\",IF(Q$6=YEAR($K783),\"Pastato tarnavimo laikotarpio pabaiga\",IF($K783<>0,\"Pastato tarnavimo laikotarpis pasibaigė\",\"\")))","v":""},"","","","","","","",""]
[null,null,{"$f":"IFERROR(INDEX('Modifikuoti svoriai '!$D$5:$K$29,MATCH(B784,'Modifikuoti svoriai '!$C$5:$C$29,0),MATCH(A784,'Modifikuoti svoriai '!$D$4:$K$4,0)),\"\")","v":""},null,null,null,null,null,null,null,null,null,null,null,null,null,"","","","","","","","",""]
[null,null,{"$f":"IFERROR(INDEX('Modifikuoti svoriai '!$D$5:$K$29,MATCH(B785,'Modifikuoti svoriai '!$C$5:$C$29,0),MATCH(A785,'Modifikuoti svoriai '!$D$4:$K$4,0)),\"\")","v":""},null,null,null,null,null,null,null,null,null,null,null,null,null,"","","","","","","","",""]
[null,null,{"$f":"IFERROR(INDEX('Modifikuoti svoriai '!$D$5:$K$29,MATCH(B786,'Modifikuoti svoriai '!$C$5:$C$29,0),MATCH(A786,'Modifikuoti svoriai '!$D$4:$K$4,0)),\"\")","v":""},null,null,null,null,null,null,null,null,null,null,null,null,null,"","","","","","","","",""]
[null,null,{"$f":"IFERROR(INDEX('Modifikuoti svoriai '!$D$5:$K$29,MATCH(B787,'Modifikuoti svoriai '!$C$5:$C$29,0),MATCH(A787,'Modifikuoti svoriai '!$D$4:$K$4,0)),\"\")","v":""},null,null,null,null,null,null,null,null,null,null,null,null,null,"","","","","","","","",""]
[null,null,{"$f":"IFERROR(INDEX('Modifikuoti svoriai '!$D$5:$K$29,MATCH(B788,'Modifikuoti svoriai '!$C$5:$C$29,0),MATCH(A788,'Modifikuoti svoriai '!$D$4:$K$4,0)),\"\")","v":""},null,null,null,null,null,null,null,null,null,null,null,null,null,"","","","","","","","",""]
[null,null,{"$f":"IFERROR(INDEX('Modifikuoti svoriai '!$D$5:$K$29,MATCH(B789,'Modifikuoti svoriai '!$C$5:$C$29,0),MATCH(A789,'Modifikuoti svoriai '!$D$4:$K$4,0)),\"\")","v":""},null,null,null,null,null,null,null,null,null,null,null,null,null,"","","","","","","","",""]
[null,null,{"$f":"IFERROR(INDEX('Modifikuoti svoriai '!$D$5:$K$29,MATCH(B790,'Modifikuoti svoriai '!$C$5:$C$29,0),MATCH(A790,'Modifikuoti svoriai '!$D$4:$K$4,0)),\"\")","v":""},null,null,null,null,null,null,null,null,null,null,null,null,null,"","","","","","","","",""]
[null,null,{"$f":"IFERROR(INDEX('Modifikuoti svoriai '!$D$5:$K$29,MATCH(B791,'Modifikuoti svoriai '!$C$5:$C$29,0),MATCH(A791,'Modifikuoti svoriai '!$D$4:$K$4,0)),\"\")","v":""},null,null,null,null,null,null,null,null,null,null,null,null,null,"","","","","","","","",""]
[null,null,{"$f":"IFERROR(INDEX('Modifikuoti svoriai '!$D$5:$K$29,MATCH(B792,'Modifikuoti svoriai '!$C$5:$C$29,0),MATCH(A792,'Modifikuoti svoriai '!$D$4:$K$4,0)),\"\")","v":""},null,null,null,null,null,null,null,null,null,null,null,null,null,"","","","","","","","",""]
[null,null,{"$f":"IFERROR(INDEX('Modifikuoti svoriai '!$D$5:$K$29,MATCH(B793,'Modifikuoti svoriai '!$C$5:$C$29,0),MATCH(A793,'Modifikuoti svoriai '!$D$4:$K$4,0)),\"\")","v":""},null,null,null,null,null,null,null,null,null,null,null,null,null,"","","","","","","","",""]
[null,null,{"$f":"IFERROR(INDEX('Modifikuoti svoriai '!$D$5:$K$29,MATCH(B794,'Modifikuoti svoriai '!$C$5:$C$29,0),MATCH(A794,'Modifikuoti svoriai '!$D$4:$K$4,0)),\"\")","v":""},null,null,null,null,null,null,null,null,null,null,null,null,null,"","","","","","","","",""]
[null,null,{"$f":"IFERROR(INDEX('Modifikuoti svoriai '!$D$5:$K$29,MATCH(B795,'Modifikuoti svoriai '!$C$5:$C$29,0),MATCH(A795,'Modifikuoti svoriai '!$D$4:$K$4,0)),\"\")","v":""},null,null,null,null,null,null,null,null,null,null,null,null,null,"","","","","","","","",""]
[null,null,{"$f":"IFERROR(INDEX('Modifikuoti svoriai '!$D$5:$K$29,MATCH(B796,'Modifikuoti svoriai '!$C$5:$C$29,0),MATCH(A796,'Modifikuoti svoriai '!$D$4:$K$4,0)),\"\")","v":""},null,null,null,null,null,null,null,null,null,null,null,null,null,"","","","","","","","",""]
[null,null,{"$f":"IFERROR(INDEX('Modifikuoti svoriai '!$D$5:$K$29,MATCH(B797,'Modifikuoti svoriai '!$C$5:$C$29,0),MATCH(A797,'Modifikuoti svoriai '!$D$4:$K$4,0)),\"\")","v":""},null,null,null,null,null,null,null,null,null,null,null,null,null,"","","","","","","","",""]
[null,null,{"$f":"IFERROR(INDEX('Modifikuoti svoriai '!$D$5:$K$29,MATCH(B798,'Modifikuoti svoriai '!$C$5:$C$29,0),MATCH(A798,'Modifikuoti svoriai '!$D$4:$K$4,0)),\"\")","v":""},null,null,null,null,null,null,null,null,null,null,null,null,null,"","","","","","","","",""]
[null,null,{"$f":"IFERROR(INDEX('Modifikuoti svoriai '!$D$5:$K$29,MATCH(B799,'Modifikuoti svoriai '!$C$5:$C$29,0),MATCH(A799,'Modifikuoti svoriai '!$D$4:$K$4,0)),\"\")","v":""},null,null,null,null,null,null,null,null,null,null,null,null,null,{"$f":"IF(Q$6<YEAR($K799),\"Pastato tarnavimo laikotarpis nepasibaigė\",IF(Q$6=YEAR($K799),\"Pastato tarnavimo laikotarpio pabaiga\",IF($K799<>0,\"Pastato tarnavimo laikotarpis pasibaigė\",\"\")))","v":""},"","","","","","","",""]
[null,null,{"$f":"IFERROR(INDEX('Modifikuoti svoriai '!$D$5:$K$29,MATCH(B800,'Modifikuoti svoriai '!$C$5:$C$29,0),MATCH(A800,'Modifikuoti svoriai '!$D$4:$K$4,0)),\"\")","v":""},null,null,null,null,null,null,null,null,null,null,null,null,null,"","","","","","","","",""]
[null,null,{"$f":"IFERROR(INDEX('Modifikuoti svoriai '!$D$5:$K$29,MATCH(B801,'Modifikuoti svoriai '!$C$5:$C$29,0),MATCH(A801,'Modifikuoti svoriai '!$D$4:$K$4,0)),\"\")","v":""},null,null,null,null,null,null,null,null,null,null,null,null,null,"","","","","","","","",""]
[null,null,{"$f":"IFERROR(INDEX('Modifikuoti svoriai '!$D$5:$K$29,MATCH(B802,'Modifikuoti svoriai '!$C$5:$C$29,0),MATCH(A802,'Modifikuoti svoriai '!$D$4:$K$4,0)),\"\")","v":""},null,null,null,null,null,null,null,null,null,null,null,null,null,"","","","","","","","",""]
[null,null,{"$f":"IFERROR(INDEX('Modifikuoti svoriai '!$D$5:$K$29,MATCH(B803,'Modifikuoti svoriai '!$C$5:$C$29,0),MATCH(A803,'Modifikuoti svoriai '!$D$4:$K$4,0)),\"\")","v":""},null,null,null,null,null,null,null,null,null,null,null,null,null,"","","","","","","","",""]
[null,null,{"$f":"IFERROR(INDEX('Modifikuoti svoriai '!$D$5:$K$29,MATCH(B804,'Modifikuoti svoriai '!$C$5:$C$29,0),MATCH(A804,'Modifikuoti svoriai '!$D$4:$K$4,0)),\"\")","v":""},null,null,null,null,null,null,null,null,null,null,null,null,null,"","","","","","","","",""]
[null,null,{"$f":"IFERROR(INDEX('Modifikuoti svoriai '!$D$5:$K$29,MATCH(B805,'Modifikuoti svoriai '!$C$5:$C$29,0),MATCH(A805,'Modifikuoti svoriai '!$D$4:$K$4,0)),\"\")","v":""},null,null,null,null,null,null,null,null,null,null,null,null,null,"","","","","","","","",""]
[null,null,{"$f":"IFERROR(INDEX('Modifikuoti svoriai '!$D$5:$K$29,MATCH(B806,'Modifikuoti svoriai '!$C$5:$C$29,0),MATCH(A806,'Modifikuoti svoriai '!$D$4:$K$4,0)),\"\")","v":""},null,null,null,null,null,null,null,null,null,null,null,null,null,"","","","","","","","",""]
[null,null,{"$f":"IFERROR(INDEX('Modifikuoti svoriai '!$D$5:$K$29,MATCH(B807,'Modifikuoti svoriai '!$C$5:$C$29,0),MATCH(A807,'Modifikuoti svoriai '!$D$4:$K$4,0)),\"\")","v":""},null,null,null,null,null,null,null,null,null,null,null,null,null,"","","","","","","","",""]
[null,null,{"$f":"IFERROR(INDEX('Modifikuoti svoriai '!$D$5:$K$29,MATCH(B808,'Modifikuoti svoriai '!$C$5:$C$29,0),MATCH(A808,'Modifikuoti svoriai '!$D$4:$K$4,0)),\"\")","v":""},null,null,null,null,null,null,null,null,null,null,null,null,null,"","","","","","","","",""]
[null,null,{"$f":"IFERROR(INDEX('Modifikuoti svoriai '!$D$5:$K$29,MATCH(B809,'Modifikuoti svoriai '!$C$5:$C$29,0),MATCH(A809,'Modifikuoti svoriai '!$D$4:$K$4,0)),\"\")","v":""},null,null,null,null,null,null,null,null,null,null,null,null,null,"","","","","","","","",""]
[null,null,{"$f":"IFERROR(INDEX('Modifikuoti svoriai '!$D$5:$K$29,MATCH(B810,'Modifikuoti svoriai '!$C$5:$C$29,0),MATCH(A810,'Modifikuoti svoriai '!$D$4:$K$4,0)),\"\")","v":""},null,null,null,null,null,null,null,null,null,null,null,null,null,"","","","","","","","",""]
[null,null,{"$f":"IFERROR(INDEX('Modifikuoti svoriai '!$D$5:$K$29,MATCH(B811,'Modifikuoti svoriai '!$C$5:$C$29,0),MATCH(A811,'Modifikuoti svoriai '!$D$4:$K$4,0)),\"\")","v":""},null,null,null,null,null,null,null,null,null,null,null,null,null,"","","","","","","","",""]
[null,null,{"$f":"IFERROR(INDEX('Modifikuoti svoriai '!$D$5:$K$29,MATCH(B812,'Modifikuoti svoriai '!$C$5:$C$29,0),MATCH(A812,'Modifikuoti svoriai '!$D$4:$K$4,0)),\"\")","v":""},null,null,null,null,null,null,null,null,null,null,null,null,null,"","","","","","","","",""]
[null,null,{"$f":"IFERROR(INDEX('Modifikuoti svoriai '!$D$5:$K$29,MATCH(B813,'Modifikuoti svoriai '!$C$5:$C$29,0),MATCH(A813,'Modifikuoti svoriai '!$D$4:$K$4,0)),\"\")","v":""},null,null,null,null,null,null,null,null,null,null,null,null,null,"","","","","","","","",""]
[null,null,{"$f":"IFERROR(INDEX('Modifikuoti svoriai '!$D$5:$K$29,MATCH(B814,'Modifikuoti svoriai '!$C$5:$C$29,0),MATCH(A814,'Modifikuoti svoriai '!$D$4:$K$4,0)),\"\")","v":""},null,null,null,null,null,null,null,null,null,null,null,null,null,"","","","","","","","",""]
[null,null,{"$f":"IFERROR(INDEX('Modifikuoti svoriai '!$D$5:$K$29,MATCH(B815,'Modifikuoti svoriai '!$C$5:$C$29,0),MATCH(A815,'Modifikuoti svoriai '!$D$4:$K$4,0)),\"\")","v":""},null,null,null,null,null,null,null,null,null,null,null,null,null,{"$f":"IF(Q$6<YEAR($K815),\"Pastato tarnavimo laikotarpis nepasibaigė\",IF(Q$6=YEAR($K815),\"Pastato tarnavimo laikotarpio pabaiga\",IF($K815<>0,\"Pastato tarnavimo laikotarpis pasibaigė\",\"\")))","v":""},"","","","","","","",""]
[null,null,{"$f":"IFERROR(INDEX('Modifikuoti svoriai '!$D$5:$K$29,MATCH(B816,'Modifikuoti svoriai '!$C$5:$C$29,0),MATCH(A816,'Modifikuoti svoriai '!$D$4:$K$4,0)),\"\")","v":""},null,null,null,null,null,null,null,null,null,null,null,null,null,"","","","","","","","",""]
[null,null,{"$f":"IFERROR(INDEX('Modifikuoti svoriai '!$D$5:$K$29,MATCH(B817,'Modifikuoti svoriai '!$C$5:$C$29,0),MATCH(A817,'Modifikuoti svoriai '!$D$4:$K$4,0)),\"\")","v":""},null,null,null,null,null,null,null,null,null,null,null,null,null,"","","","","","","","",""]
[null,null,{"$f":"IFERROR(INDEX('Modifikuoti svoriai '!$D$5:$K$29,MATCH(B818,'Modifikuoti svoriai '!$C$5:$C$29,0),MATCH(A818,'Modifikuoti svoriai '!$D$4:$K$4,0)),\"\")","v":""},null,null,null,null,null,null,null,null,null,null,null,null,null,"","","","","","","","",""]
[null,null,{"$f":"IFERROR(INDEX('Modifikuoti svoriai '!$D$5:$K$29,MATCH(B819,'Modifikuoti svoriai '!$C$5:$C$29,0),MATCH(A819,'Modifikuoti svoriai '!$D$4:$K$4,0)),\"\")","v":""},null,null,null,null,null,null,null,null,null,null,null,null,null,"","","","","","","","",""]
[null,null,{"$f":"IFERROR(INDEX('Modifikuoti svoriai '!$D$5:$K$29,MATCH(B820,'Modifikuoti svoriai '!$C$5:$C$29,0),MATCH(A820,'Modifikuoti svoriai '!$D$4:$K$4,0)),\"\")","v":""},null,null,null,null,null,null,null,null,null,null,null,null,null,"","","","","","","","",""]
[null,null,{"$f":"IFERROR(INDEX('Modifikuoti svoriai '!$D$5:$K$29,MATCH(B821,'Modifikuoti svoriai '!$C$5:$C$29,0),MATCH(A821,'Modifikuoti svoriai '!$D$4:$K$4,0)),\"\")","v":""},null,null,null,null,null,null,null,null,null,null,null,null,null,"","","","","","","","",""]
[null,null,{"$f":"IFERROR(INDEX('Modifikuoti svoriai '!$D$5:$K$29,MATCH(B822,'Modifikuoti svoriai '!$C$5:$C$29,0),MATCH(A822,'Modifikuoti svoriai '!$D$4:$K$4,0)),\"\")","v":""},null,null,null,null,null,null,null,null,null,null,null,null,null,"","","","","","","","",""]
[null,null,{"$f":"IFERROR(INDEX('Modifikuoti svoriai '!$D$5:$K$29,MATCH(B823,'Modifikuoti svoriai '!$C$5:$C$29,0),MATCH(A823,'Modifikuoti svoriai '!$D$4:$K$4,0)),\"\")","v":""},null,null,null,null,null,null,null,null,null,null,null,null,null,"","","","","","","","",""]
[null,null,{"$f":"IFERROR(INDEX('Modifikuoti svoriai '!$D$5:$K$29,MATCH(B824,'Modifikuoti svoriai '!$C$5:$C$29,0),MATCH(A824,'Modifikuoti svoriai '!$D$4:$K$4,0)),\"\")","v":""},null,null,null,null,null,null,null,null,null,null,null,null,null,"","","","","","","","",""]
[null,null,{"$f":"IFERROR(INDEX('Modifikuoti svoriai '!$D$5:$K$29,MATCH(B825,'Modifikuoti svoriai '!$C$5:$C$29,0),MATCH(A825,'Modifikuoti svoriai '!$D$4:$K$4,0)),\"\")","v":""},null,null,null,null,null,null,null,null,null,null,null,null,null,"","","","","","","","",""]
[null,null,{"$f":"IFERROR(INDEX('Modifikuoti svoriai '!$D$5:$K$29,MATCH(B826,'Modifikuoti svoriai '!$C$5:$C$29,0),MATCH(A826,'Modifikuoti svoriai '!$D$4:$K$4,0)),\"\")","v":""},null,null,null,null,null,null,null,null,null,null,null,null,null,"","","","","","","","",""]
[null,null,{"$f":"IFERROR(INDEX('Modifikuoti svoriai '!$D$5:$K$29,MATCH(B827,'Modifikuoti svoriai '!$C$5:$C$29,0),MATCH(A827,'Modifikuoti svoriai '!$D$4:$K$4,0)),\"\")","v":""},null,null,null,null,null,null,null,null,null,null,null,null,null,"","","","","","","","",""]
[null,null,{"$f":"IFERROR(INDEX('Modifikuoti svoriai '!$D$5:$K$29,MATCH(B828,'Modifikuoti svoriai '!$C$5:$C$29,0),MATCH(A828,'Modifikuoti svoriai '!$D$4:$K$4,0)),\"\")","v":""},null,null,null,null,null,null,null,null,null,null,null,null,null,"","","","","","","","",""]
[null,null,{"$f":"IFERROR(INDEX('Modifikuoti svoriai '!$D$5:$K$29,MATCH(B829,'Modifikuoti svoriai '!$C$5:$C$29,0),MATCH(A829,'Modifikuoti svoriai '!$D$4:$K$4,0)),\"\")","v":""},null,null,null,null,null,null,null,null,null,null,null,null,null,"","","","","","","","",""]
[null,null,{"$f":"IFERROR(INDEX('Modifikuoti svoriai '!$D$5:$K$29,MATCH(B830,'Modifikuoti svoriai '!$C$5:$C$29,0),MATCH(A830,'Modifikuoti svoriai '!$D$4:$K$4,0)),\"\")","v":""},null,null,null,null,null,null,null,null,null,null,null,null,null,"","","","","","","","",""]
[null,null,{"$f":"IFERROR(INDEX('Modifikuoti svoriai '!$D$5:$K$29,MATCH(B831,'Modifikuoti svoriai '!$C$5:$C$29,0),MATCH(A831,'Modifikuoti svoriai '!$D$4:$K$4,0)),\"\")","v":""},null,null,null,null,null,null,null,null,null,null,null,null,null,{"$f":"IF(Q$6<YEAR($K831),\"Pastato tarnavimo laikotarpis nepasibaigė\",IF(Q$6=YEAR($K831),\"Pastato tarnavimo laikotarpio pabaiga\",IF($K831<>0,\"Pastato tarnavimo laikotarpis pasibaigė\",\"\")))","v":""},"","","","","","","",""]
[null,null,{"$f":"IFERROR(INDEX('Modifikuoti svoriai '!$D$5:$K$29,MATCH(B832,'Modifikuoti svoriai '!$C$5:$C$29,0),MATCH(A832,'Modifikuoti svoriai '!$D$4:$K$4,0)),\"\")","v":""},null,null,null,null,null,null,null,null,null,null,null,null,null,"","","","","","","","",""]
[null,null,{"$f":"IFERROR(INDEX('Modifikuoti svoriai '!$D$5:$K$29,MATCH(B833,'Modifikuoti svoriai '!$C$5:$C$29,0),MATCH(A833,'Modifikuoti svoriai '!$D$4:$K$4,0)),\"\")","v":""},null,null,null,null,null,null,null,null,null,null,null,null,null,"","","","","","","","",""]
[null,null,{"$f":"IFERROR(INDEX('Modifikuoti svoriai '!$D$5:$K$29,MATCH(B834,'Modifikuoti svoriai '!$C$5:$C$29,0),MATCH(A834,'Modifikuoti svoriai '!$D$4:$K$4,0)),\"\")","v":""},null,null,null,null,null,null,null,null,null,null,null,null,null,"","","","","","","","",""]
[null,null,{"$f":"IFERROR(INDEX('Modifikuoti svoriai '!$D$5:$K$29,MATCH(B835,'Modifikuoti svoriai '!$C$5:$C$29,0),MATCH(A835,'Modifikuoti svoriai '!$D$4:$K$4,0)),\"\")","v":""},null,null,null,null,null,null,null,null,null,null,null,null,null,"","","","","","","","",""]
[null,null,{"$f":"IFERROR(INDEX('Modifikuoti svoriai '!$D$5:$K$29,MATCH(B836,'Modifikuoti svoriai '!$C$5:$C$29,0),MATCH(A836,'Modifikuoti svoriai '!$D$4:$K$4,0)),\"\")","v":""},null,null,null,null,null,null,null,null,null,null,null,null,null,"","","","","","","","",""]
[null,null,{"$f":"IFERROR(INDEX('Modifikuoti svoriai '!$D$5:$K$29,MATCH(B837,'Modifikuoti svoriai '!$C$5:$C$29,0),MATCH(A837,'Modifikuoti svoriai '!$D$4:$K$4,0)),\"\")","v":""},null,null,null,null,null,null,null,null,null,null,null,null,null,"","","","","","","","",""]
[null,null,{"$f":"IFERROR(INDEX('Modifikuoti svoriai '!$D$5:$K$29,MATCH(B838,'Modifikuoti svoriai '!$C$5:$C$29,0),MATCH(A838,'Modifikuoti svoriai '!$D$4:$K$4,0)),\"\")","v":""},null,null,null,null,null,null,null,null,null,null,null,null,null,"","","","","","","","",""]
[null,null,{"$f":"IFERROR(INDEX('Modifikuoti svoriai '!$D$5:$K$29,MATCH(B839,'Modifikuoti svoriai '!$C$5:$C$29,0),MATCH(A839,'Modifikuoti svoriai '!$D$4:$K$4,0)),\"\")","v":""},null,null,null,null,null,null,null,null,null,null,null,null,null,"","","","","","","","",""]
[null,null,{"$f":"IFERROR(INDEX('Modifikuoti svoriai '!$D$5:$K$29,MATCH(B840,'Modifikuoti svoriai '!$C$5:$C$29,0),MATCH(A840,'Modifikuoti svoriai '!$D$4:$K$4,0)),\"\")","v":""},null,null,null,null,null,null,null,null,null,null,null,null,null,"","","","","","","","",""]
[null,null,{"$f":"IFERROR(INDEX('Modifikuoti svoriai '!$D$5:$K$29,MATCH(B841,'Modifikuoti svoriai '!$C$5:$C$29,0),MATCH(A841,'Modifikuoti svoriai '!$D$4:$K$4,0)),\"\")","v":""},null,null,null,null,null,null,null,null,null,null,null,null,null,"","","","","","","","",""]
[null,null,{"$f":"IFERROR(INDEX('Modifikuoti svoriai '!$D$5:$K$29,MATCH(B842,'Modifikuoti svoriai '!$C$5:$C$29,0),MATCH(A842,'Modifikuoti svoriai '!$D$4:$K$4,0)),\"\")","v":""},null,null,null,null,null,null,null,null,null,null,null,null,null,"","","","","","","","",""]
[null,null,{"$f":"IFERROR(INDEX('Modifikuoti svoriai '!$D$5:$K$29,MATCH(B843,'Modifikuoti svoriai '!$C$5:$C$29,0),MATCH(A843,'Modifikuoti svoriai '!$D$4:$K$4,0)),\"\")","v":""},null,null,null,null,null,null,null,null,null,null,null,null,null,"","","","","","","","",""]
[null,null,{"$f":"IFERROR(INDEX('Modifikuoti svoriai '!$D$5:$K$29,MATCH(B844,'Modifikuoti svoriai '!$C$5:$C$29,0),MATCH(A844,'Modifikuoti svoriai '!$D$4:$K$4,0)),\"\")","v":""},null,null,null,null,null,null,null,null,null,null,null,null,null,"","","","","","","","",""]
[null,null,{"$f":"IFERROR(INDEX('Modifikuoti svoriai '!$D$5:$K$29,MATCH(B845,'Modifikuoti svoriai '!$C$5:$C$29,0),MATCH(A845,'Modifikuoti svoriai '!$D$4:$K$4,0)),\"\")","v":""},null,null,null,null,null,null,null,null,null,null,null,null,null,"","","","","","","","",""]
[null,null,{"$f":"IFERROR(INDEX('Modifikuoti svoriai '!$D$5:$K$29,MATCH(B846,'Modifikuoti svoriai '!$C$5:$C$29,0),MATCH(A846,'Modifikuoti svoriai '!$D$4:$K$4,0)),\"\")","v":""},null,null,null,null,null,null,null,null,null,null,null,null,null,"","","","","","","","",""]
[null,null,{"$f":"IFERROR(INDEX('Modifikuoti svoriai '!$D$5:$K$29,MATCH(B847,'Modifikuoti svoriai '!$C$5:$C$29,0),MATCH(A847,'Modifikuoti svoriai '!$D$4:$K$4,0)),\"\")","v":""},null,null,null,null,null,null,null,null,null,null,null,null,null,{"$f":"IF(Q$6<YEAR($K847),\"Pastato tarnavimo laikotarpis nepasibaigė\",IF(Q$6=YEAR($K847),\"Pastato tarnavimo laikotarpio pabaiga\",IF($K847<>0,\"Pastato tarnavimo laikotarpis pasibaigė\",\"\")))","v":""},"","","","","","","",""]
[null,null,{"$f":"IFERROR(INDEX('Modifikuoti svoriai '!$D$5:$K$29,MATCH(B848,'Modifikuoti svoriai '!$C$5:$C$29,0),MATCH(A848,'Modifikuoti svoriai '!$D$4:$K$4,0)),\"\")","v":""},null,null,null,null,null,null,null,null,null,null,null,null,null,"","","","","","","","",""]
[null,null,{"$f":"IFERROR(INDEX('Modifikuoti svoriai '!$D$5:$K$29,MATCH(B849,'Modifikuoti svoriai '!$C$5:$C$29,0),MATCH(A849,'Modifikuoti svoriai '!$D$4:$K$4,0)),\"\")","v":""},null,null,null,null,null,null,null,null,null,null,null,null,null,"","","","","","","","",""]
[null,null,{"$f":"IFERROR(INDEX('Modifikuoti svoriai '!$D$5:$K$29,MATCH(B850,'Modifikuoti svoriai '!$C$5:$C$29,0),MATCH(A850,'Modifikuoti svoriai '!$D$4:$K$4,0)),\"\")","v":""},null,null,null,null,null,null,null,null,null,null,null,null,null,"","","","","","","","",""]
[null,null,{"$f":"IFERROR(INDEX('Modifikuoti svoriai '!$D$5:$K$29,MATCH(B851,'Modifikuoti svoriai '!$C$5:$C$29,0),MATCH(A851,'Modifikuoti svoriai '!$D$4:$K$4,0)),\"\")","v":""},null,null,null,null,null,null,null,null,null,null,null,null,null,"","","","","","","","",""]
[null,null,{"$f":"IFERROR(INDEX('Modifikuoti svoriai '!$D$5:$K$29,MATCH(B852,'Modifikuoti svoriai '!$C$5:$C$29,0),MATCH(A852,'Modifikuoti svoriai '!$D$4:$K$4,0)),\"\")","v":""},null,null,null,null,null,null,null,null,null,null,null,null,null,"","","","","","","","",""]
[null,null,{"$f":"IFERROR(INDEX('Modifikuoti svoriai '!$D$5:$K$29,MATCH(B853,'Modifikuoti svoriai '!$C$5:$C$29,0),MATCH(A853,'Modifikuoti svoriai '!$D$4:$K$4,0)),\"\")","v":""},null,null,null,null,null,null,null,null,null,null,null,null,null,"","","","","","","","",""]
[null,null,{"$f":"IFERROR(INDEX('Modifikuoti svoriai '!$D$5:$K$29,MATCH(B854,'Modifikuoti svoriai '!$C$5:$C$29,0),MATCH(A854,'Modifikuoti svoriai '!$D$4:$K$4,0)),\"\")","v":""},null,null,null,null,null,null,null,null,null,null,null,null,null,"","","","","","","","",""]
[null,null,{"$f":"IFERROR(INDEX('Modifikuoti svoriai '!$D$5:$K$29,MATCH(B855,'Modifikuoti svoriai '!$C$5:$C$29,0),MATCH(A855,'Modifikuoti svoriai '!$D$4:$K$4,0)),\"\")","v":""},null,null,null,null,null,null,null,null,null,null,null,null,null,"","","","","","","","",""]
[null,null,{"$f":"IFERROR(INDEX('Modifikuoti svoriai '!$D$5:$K$29,MATCH(B856,'Modifikuoti svoriai '!$C$5:$C$29,0),MATCH(A856,'Modifikuoti svoriai '!$D$4:$K$4,0)),\"\")","v":""},null,null,null,null,null,null,null,null,null,null,null,null,null,"","","","","","","","",""]
[null,null,{"$f":"IFERROR(INDEX('Modifikuoti svoriai '!$D$5:$K$29,MATCH(B857,'Modifikuoti svoriai '!$C$5:$C$29,0),MATCH(A857,'Modifikuoti svoriai '!$D$4:$K$4,0)),\"\")","v":""},null,null,null,null,null,null,null,null,null,null,null,null,null,"","","","","","","","",""]
[null,null,{"$f":"IFERROR(INDEX('Modifikuoti svoriai '!$D$5:$K$29,MATCH(B858,'Modifikuoti svoriai '!$C$5:$C$29,0),MATCH(A858,'Modifikuoti svoriai '!$D$4:$K$4,0)),\"\")","v":""},null,null,null,null,null,null,null,null,null,null,null,null,null,"","","","","","","","",""]
[null,null,{"$f":"IFERROR(INDEX('Modifikuoti svoriai '!$D$5:$K$29,MATCH(B859,'Modifikuoti svoriai '!$C$5:$C$29,0),MATCH(A859,'Modifikuoti svoriai '!$D$4:$K$4,0)),\"\")","v":""},null,null,null,null,null,null,null,null,null,null,null,null,null,"","","","","","","","",""]
[null,null,{"$f":"IFERROR(INDEX('Modifikuoti svoriai '!$D$5:$K$29,MATCH(B860,'Modifikuoti svoriai '!$C$5:$C$29,0),MATCH(A860,'Modifikuoti svoriai '!$D$4:$K$4,0)),\"\")","v":""},null,null,null,null,null,null,null,null,null,null,null,null,null,"","","","","","","","",""]
[null,null,{"$f":"IFERROR(INDEX('Modifikuoti svoriai '!$D$5:$K$29,MATCH(B861,'Modifikuoti svoriai '!$C$5:$C$29,0),MATCH(A861,'Modifikuoti svoriai '!$D$4:$K$4,0)),\"\")","v":""},null,null,null,null,null,null,null,null,null,null,null,null,null,"","","","","","","","",""]
[null,null,{"$f":"IFERROR(INDEX('Modifikuoti svoriai '!$D$5:$K$29,MATCH(B862,'Modifikuoti svoriai '!$C$5:$C$29,0),MATCH(A862,'Modifikuoti svoriai '!$D$4:$K$4,0)),\"\")","v":""},null,null,null,null,null,null,null,null,null,null,null,null,null,"","","","","","","","",""]
[null,null,{"$f":"IFERROR(INDEX('Modifikuoti svoriai '!$D$5:$K$29,MATCH(B863,'Modifikuoti svoriai '!$C$5:$C$29,0),MATCH(A863,'Modifikuoti svoriai '!$D$4:$K$4,0)),\"\")","v":""},null,null,null,null,null,null,null,null,null,null,null,null,null,{"$f":"IF(Q$6<YEAR($K863),\"Pastato tarnavimo laikotarpis nepasibaigė\",IF(Q$6=YEAR($K863),\"Pastato tarnavimo laikotarpio pabaiga\",IF($K863<>0,\"Pastato tarnavimo laikotarpis pasibaigė\",\"\")))","v":""},"","","","","","","",""]
[null,null,{"$f":"IFERROR(INDEX('Modifikuoti svoriai '!$D$5:$K$29,MATCH(B864,'Modifikuoti svoriai '!$C$5:$C$29,0),MATCH(A864,'Modifikuoti svoriai '!$D$4:$K$4,0)),\"\")","v":""},null,null,null,null,null,null,null,null,null,null,null,null,null,"","","","","","","","",""]
[null,null,{"$f":"IFERROR(INDEX('Modifikuoti svoriai '!$D$5:$K$29,MATCH(B865,'Modifikuoti svoriai '!$C$5:$C$29,0),MATCH(A865,'Modifikuoti svoriai '!$D$4:$K$4,0)),\"\")","v":""},null,null,null,null,null,null,null,null,null,null,null,null,null,"","","","","","","","",""]
[null,null,{"$f":"IFERROR(INDEX('Modifikuoti svoriai '!$D$5:$K$29,MATCH(B866,'Modifikuoti svoriai '!$C$5:$C$29,0),MATCH(A866,'Modifikuoti svoriai '!$D$4:$K$4,0)),\"\")","v":""},null,null,null,null,null,null,null,null,null,null,null,null,null,"","","","","","","","",""]
[null,null,{"$f":"IFERROR(INDEX('Modifikuoti svoriai '!$D$5:$K$29,MATCH(B867,'Modifikuoti svoriai '!$C$5:$C$29,0),MATCH(A867,'Modifikuoti svoriai '!$D$4:$K$4,0)),\"\")","v":""},null,null,null,null,null,null,null,null,null,null,null,null,null,"","","","","","","","",""]
[null,null,{"$f":"IFERROR(INDEX('Modifikuoti svoriai '!$D$5:$K$29,MATCH(B868,'Modifikuoti svoriai '!$C$5:$C$29,0),MATCH(A868,'Modifikuoti svoriai '!$D$4:$K$4,0)),\"\")","v":""},null,null,null,null,null,null,null,null,null,null,null,null,null,"","","","","","","","",""]
[null,null,{"$f":"IFERROR(INDEX('Modifikuoti svoriai '!$D$5:$K$29,MATCH(B869,'Modifikuoti svoriai '!$C$5:$C$29,0),MATCH(A869,'Modifikuoti svoriai '!$D$4:$K$4,0)),\"\")","v":""},null,null,null,null,null,null,null,null,null,null,null,null,null,"","","","","","","","",""]
[null,null,{"$f":"IFERROR(INDEX('Modifikuoti svoriai '!$D$5:$K$29,MATCH(B870,'Modifikuoti svoriai '!$C$5:$C$29,0),MATCH(A870,'Modifikuoti svoriai '!$D$4:$K$4,0)),\"\")","v":""},null,null,null,null,null,null,null,null,null,null,null,null,null,"","","","","","","","",""]
[null,null,{"$f":"IFERROR(INDEX('Modifikuoti svoriai '!$D$5:$K$29,MATCH(B871,'Modifikuoti svoriai '!$C$5:$C$29,0),MATCH(A871,'Modifikuoti svoriai '!$D$4:$K$4,0)),\"\")","v":""},null,null,null,null,null,null,null,null,null,null,null,null,null,"","","","","","","","",""]
[null,null,{"$f":"IFERROR(INDEX('Modifikuoti svoriai '!$D$5:$K$29,MATCH(B872,'Modifikuoti svoriai '!$C$5:$C$29,0),MATCH(A872,'Modifikuoti svoriai '!$D$4:$K$4,0)),\"\")","v":""},null,null,null,null,null,null,null,null,null,null,null,null,null,"","","","","","","","",""]
[null,null,{"$f":"IFERROR(INDEX('Modifikuoti svoriai '!$D$5:$K$29,MATCH(B873,'Modifikuoti svoriai '!$C$5:$C$29,0),MATCH(A873,'Modifikuoti svoriai '!$D$4:$K$4,0)),\"\")","v":""},null,null,null,null,null,null,null,null,null,null,null,null,null,"","","","","","","","",""]
[null,null,{"$f":"IFERROR(INDEX('Modifikuoti svoriai '!$D$5:$K$29,MATCH(B874,'Modifikuoti svoriai '!$C$5:$C$29,0),MATCH(A874,'Modifikuoti svoriai '!$D$4:$K$4,0)),\"\")","v":""},null,null,null,null,null,null,null,null,null,null,null,null,null,"","","","","","","","",""]
[null,null,{"$f":"IFERROR(INDEX('Modifikuoti svoriai '!$D$5:$K$29,MATCH(B875,'Modifikuoti svoriai '!$C$5:$C$29,0),MATCH(A875,'Modifikuoti svoriai '!$D$4:$K$4,0)),\"\")","v":""},null,null,null,null,null,null,null,null,null,null,null,null,null,"","","","","","","","",""]
[null,null,{"$f":"IFERROR(INDEX('Modifikuoti svoriai '!$D$5:$K$29,MATCH(B876,'Modifikuoti svoriai '!$C$5:$C$29,0),MATCH(A876,'Modifikuoti svoriai '!$D$4:$K$4,0)),\"\")","v":""},null,null,null,null,null,null,null,null,null,null,null,null,null,"","","","","","","","",""]
[null,null,{"$f":"IFERROR(INDEX('Modifikuoti svoriai '!$D$5:$K$29,MATCH(B877,'Modifikuoti svoriai '!$C$5:$C$29,0),MATCH(A877,'Modifikuoti svoriai '!$D$4:$K$4,0)),\"\")","v":""},null,null,null,null,null,null,null,null,null,null,null,null,null,"","","","","","","","",""]
[null,null,{"$f":"IFERROR(INDEX('Modifikuoti svoriai '!$D$5:$K$29,MATCH(B878,'Modifikuoti svoriai '!$C$5:$C$29,0),MATCH(A878,'Modifikuoti svoriai '!$D$4:$K$4,0)),\"\")","v":""},null,null,null,null,null,null,null,null,null,null,null,null,null,"","","","","","","","",""]
[null,null,{"$f":"IFERROR(INDEX('Modifikuoti svoriai '!$D$5:$K$29,MATCH(B879,'Modifikuoti svoriai '!$C$5:$C$29,0),MATCH(A879,'Modifikuoti svoriai '!$D$4:$K$4,0)),\"\")","v":""},null,null,null,null,null,null,null,null,null,null,null,null,null,{"$f":"IF(Q$6<YEAR($K879),\"Pastato tarnavimo laikotarpis nepasibaigė\",IF(Q$6=YEAR($K879),\"Pastato tarnavimo laikotarpio pabaiga\",IF($K879<>0,\"Pastato tarnavimo laikotarpis pasibaigė\",\"\")))","v":""},"","","","","","","",""]
[null,null,{"$f":"IFERROR(INDEX('Modifikuoti svoriai '!$D$5:$K$29,MATCH(B880,'Modifikuoti svoriai '!$C$5:$C$29,0),MATCH(A880,'Modifikuoti svoriai '!$D$4:$K$4,0)),\"\")","v":""},null,null,null,null,null,null,null,null,null,null,null,null,null,"","","","","","","","",""]
[null,null,{"$f":"IFERROR(INDEX('Modifikuoti svoriai '!$D$5:$K$29,MATCH(B881,'Modifikuoti svoriai '!$C$5:$C$29,0),MATCH(A881,'Modifikuoti svoriai '!$D$4:$K$4,0)),\"\")","v":""},null,null,null,null,null,null,null,null,null,null,null,null,null,"","","","","","","","",""]
[null,null,{"$f":"IFERROR(INDEX('Modifikuoti svoriai '!$D$5:$K$29,MATCH(B882,'Modifikuoti svoriai '!$C$5:$C$29,0),MATCH(A882,'Modifikuoti svoriai '!$D$4:$K$4,0)),\"\")","v":""},null,null,null,null,null,null,null,null,null,null,null,null,null,"","","","","","","","",""]
[null,null,{"$f":"IFERROR(INDEX('Modifikuoti svoriai '!$D$5:$K$29,MATCH(B883,'Modifikuoti svoriai '!$C$5:$C$29,0),MATCH(A883,'Modifikuoti svoriai '!$D$4:$K$4,0)),\"\")","v":""},null,null,null,null,null,null,null,null,null,null,null,null,null,"","","","","","","","",""]
[null,null,{"$f":"IFERROR(INDEX('Modifikuoti svoriai '!$D$5:$K$29,MATCH(B884,'Modifikuoti svoriai '!$C$5:$C$29,0),MATCH(A884,'Modifikuoti svoriai '!$D$4:$K$4,0)),\"\")","v":""},null,null,null,null,null,null,null,null,null,null,null,null,null,"","","","","","","","",""]
[null,null,{"$f":"IFERROR(INDEX('Modifikuoti svoriai '!$D$5:$K$29,MATCH(B885,'Modifikuoti svoriai '!$C$5:$C$29,0),MATCH(A885,'Modifikuoti svoriai '!$D$4:$K$4,0)),\"\")","v":""},null,null,null,null,null,null,null,null,null,null,null,null,null,"","","","","","","","",""]
[null,null,{"$f":"IFERROR(INDEX('Modifikuoti svoriai '!$D$5:$K$29,MATCH(B886,'Modifikuoti svoriai '!$C$5:$C$29,0),MATCH(A886,'Modifikuoti svoriai '!$D$4:$K$4,0)),\"\")","v":""},null,null,null,null,null,null,null,null,null,null,null,null,null,"","","","","","","","",""]
[null,null,{"$f":"IFERROR(INDEX('Modifikuoti svoriai '!$D$5:$K$29,MATCH(B887,'Modifikuoti svoriai '!$C$5:$C$29,0),MATCH(A887,'Modifikuoti svoriai '!$D$4:$K$4,0)),\"\")","v":""},null,null,null,null,null,null,null,null,null,null,null,null,null,"","","","","","","","",""]
[null,null,{"$f":"IFERROR(INDEX('Modifikuoti svoriai '!$D$5:$K$29,MATCH(B888,'Modifikuoti svoriai '!$C$5:$C$29,0),MATCH(A888,'Modifikuoti svoriai '!$D$4:$K$4,0)),\"\")","v":""},null,null,null,null,null,null,null,null,null,null,null,null,null,"","","","","","","","",""]
[null,null,{"$f":"IFERROR(INDEX('Modifikuoti svoriai '!$D$5:$K$29,MATCH(B889,'Modifikuoti svoriai '!$C$5:$C$29,0),MATCH(A889,'Modifikuoti svoriai '!$D$4:$K$4,0)),\"\")","v":""},null,null,null,null,null,null,null,null,null,null,null,null,null,"","","","","","","","",""]
[null,null,{"$f":"IFERROR(INDEX('Modifikuoti svoriai '!$D$5:$K$29,MATCH(B890,'Modifikuoti svoriai '!$C$5:$C$29,0),MATCH(A890,'Modifikuoti svoriai '!$D$4:$K$4,0)),\"\")","v":""},null,null,null,null,null,null,null,null,null,null,null,null,null,"","","","","","","","",""]
[null,null,{"$f":"IFERROR(INDEX('Modifikuoti svoriai '!$D$5:$K$29,MATCH(B891,'Modifikuoti svoriai '!$C$5:$C$29,0),MATCH(A891,'Modifikuoti svoriai '!$D$4:$K$4,0)),\"\")","v":""},null,null,null,null,null,null,null,null,null,null,null,null,null,"","","","","","","","",""]
[null,null,{"$f":"IFERROR(INDEX('Modifikuoti svoriai '!$D$5:$K$29,MATCH(B892,'Modifikuoti svoriai '!$C$5:$C$29,0),MATCH(A892,'Modifikuoti svoriai '!$D$4:$K$4,0)),\"\")","v":""},null,null,null,null,null,null,null,null,null,null,null,null,null,"","","","","","","","",""]
[null,null,{"$f":"IFERROR(INDEX('Modifikuoti svoriai '!$D$5:$K$29,MATCH(B893,'Modifikuoti svoriai '!$C$5:$C$29,0),MATCH(A893,'Modifikuoti svoriai '!$D$4:$K$4,0)),\"\")","v":""},null,null,null,null,null,null,null,null,null,null,null,null,null,"","","","","","","","",""]
[null,null,{"$f":"IFERROR(INDEX('Modifikuoti svoriai '!$D$5:$K$29,MATCH(B894,'Modifikuoti svoriai '!$C$5:$C$29,0),MATCH(A894,'Modifikuoti svoriai '!$D$4:$K$4,0)),\"\")","v":""},null,null,null,null,null,null,null,null,null,null,null,null,null,"","","","","","","","",""]
[null,null,{"$f":"IFERROR(INDEX('Modifikuoti svoriai '!$D$5:$K$29,MATCH(B895,'Modifikuoti svoriai '!$C$5:$C$29,0),MATCH(A895,'Modifikuoti svoriai '!$D$4:$K$4,0)),\"\")","v":""},null,null,null,null,null,null,null,null,null,null,null,null,null,{"$f":"IF(Q$6<YEAR($K895),\"Pastato tarnavimo laikotarpis nepasibaigė\",IF(Q$6=YEAR($K895),\"Pastato tarnavimo laikotarpio pabaiga\",IF($K895<>0,\"Pastato tarnavimo laikotarpis pasibaigė\",\"\")))","v":""},"","","","","","","",""]
[null,null,{"$f":"IFERROR(INDEX('Modifikuoti svoriai '!$D$5:$K$29,MATCH(B896,'Modifikuoti svoriai '!$C$5:$C$29,0),MATCH(A896,'Modifikuoti svoriai '!$D$4:$K$4,0)),\"\")","v":""},null,null,null,null,null,null,null,null,null,null,null,null,null,"","","","","","","","",""]
[null,null,{"$f":"IFERROR(INDEX('Modifikuoti svoriai '!$D$5:$K$29,MATCH(B897,'Modifikuoti svoriai '!$C$5:$C$29,0),MATCH(A897,'Modifikuoti svoriai '!$D$4:$K$4,0)),\"\")","v":""},null,null,null,null,null,null,null,null,null,null,null,null,null,"","","","","","","","",""]
[null,null,{"$f":"IFERROR(INDEX('Modifikuoti svoriai '!$D$5:$K$29,MATCH(B898,'Modifikuoti svoriai '!$C$5:$C$29,0),MATCH(A898,'Modifikuoti svoriai '!$D$4:$K$4,0)),\"\")","v":""},null,null,null,null,null,null,null,null,null,null,null,null,null,"","","","","","","","",""]
[null,null,{"$f":"IFERROR(INDEX('Modifikuoti svoriai '!$D$5:$K$29,MATCH(B899,'Modifikuoti svoriai '!$C$5:$C$29,0),MATCH(A899,'Modifikuoti svoriai '!$D$4:$K$4,0)),\"\")","v":""},null,null,null,null,null,null,null,null,null,null,null,null,null,"","","","","","","","",""]
[null,null,{"$f":"IFERROR(INDEX('Modifikuoti svoriai '!$D$5:$K$29,MATCH(B900,'Modifikuoti svoriai '!$C$5:$C$29,0),MATCH(A900,'Modifikuoti svoriai '!$D$4:$K$4,0)),\"\")","v":""},null,null,null,null,null,null,null,null,null,null,null,null,null,"","","","","","","","",""]
[null,null,{"$f":"IFERROR(INDEX('Modifikuoti svoriai '!$D$5:$K$29,MATCH(B901,'Modifikuoti svoriai '!$C$5:$C$29,0),MATCH(A901,'Modifikuoti svoriai '!$D$4:$K$4,0)),\"\")","v":""},null,null,null,null,null,null,null,null,null,null,null,null,null,"","","","","","","","",""]
[null,null,{"$f":"IFERROR(INDEX('Modifikuoti svoriai '!$D$5:$K$29,MATCH(B902,'Modifikuoti svoriai '!$C$5:$C$29,0),MATCH(A902,'Modifikuoti svoriai '!$D$4:$K$4,0)),\"\")","v":""},null,null,null,null,null,null,null,null,null,null,null,null,null,"","","","","","","","",""]
[null,null,{"$f":"IFERROR(INDEX('Modifikuoti svoriai '!$D$5:$K$29,MATCH(B903,'Modifikuoti svoriai '!$C$5:$C$29,0),MATCH(A903,'Modifikuoti svoriai '!$D$4:$K$4,0)),\"\")","v":""},null,null,null,null,null,null,null,null,null,null,null,null,null,"","","","","","","","",""]
[null,null,{"$f":"IFERROR(INDEX('Modifikuoti svoriai '!$D$5:$K$29,MATCH(B904,'Modifikuoti svoriai '!$C$5:$C$29,0),MATCH(A904,'Modifikuoti svoriai '!$D$4:$K$4,0)),\"\")","v":""},null,null,null,null,null,null,null,null,null,null,null,null,null,"","","","","","","","",""]
[null,null,{"$f":"IFERROR(INDEX('Modifikuoti svoriai '!$D$5:$K$29,MATCH(B905,'Modifikuoti svoriai '!$C$5:$C$29,0),MATCH(A905,'Modifikuoti svoriai '!$D$4:$K$4,0)),\"\")","v":""},null,null,null,null,null,null,null,null,null,null,null,null,null,"","","","","","","","",""]
[null,null,{"$f":"IFERROR(INDEX('Modifikuoti svoriai '!$D$5:$K$29,MATCH(B906,'Modifikuoti svoriai '!$C$5:$C$29,0),MATCH(A906,'Modifikuoti svoriai '!$D$4:$K$4,0)),\"\")","v":""},null,null,null,null,null,null,null,null,null,null,null,null,null,"","","","","","","","",""]
[null,null,{"$f":"IFERROR(INDEX('Modifikuoti svoriai '!$D$5:$K$29,MATCH(B907,'Modifikuoti svoriai '!$C$5:$C$29,0),MATCH(A907,'Modifikuoti svoriai '!$D$4:$K$4,0)),\"\")","v":""},null,null,null,null,null,null,null,null,null,null,null,null,null,"","","","","","","","",""]
[null,null,{"$f":"IFERROR(INDEX('Modifikuoti svoriai '!$D$5:$K$29,MATCH(B908,'Modifikuoti svoriai '!$C$5:$C$29,0),MATCH(A908,'Modifikuoti svoriai '!$D$4:$K$4,0)),\"\")","v":""},null,null,null,null,null,null,null,null,null,null,null,null,null,"","","","","","","","",""]
[null,null,{"$f":"IFERROR(INDEX('Modifikuoti svoriai '!$D$5:$K$29,MATCH(B909,'Modifikuoti svoriai '!$C$5:$C$29,0),MATCH(A909,'Modifikuoti svoriai '!$D$4:$K$4,0)),\"\")","v":""},null,null,null,null,null,null,null,null,null,null,null,null,null,"","","","","","","","",""]
[null,null,{"$f":"IFERROR(INDEX('Modifikuoti svoriai '!$D$5:$K$29,MATCH(B910,'Modifikuoti svoriai '!$C$5:$C$29,0),MATCH(A910,'Modifikuoti svoriai '!$D$4:$K$4,0)),\"\")","v":""},null,null,null,null,null,null,null,null,null,null,null,null,null,"","","","","","","","",""]
[null,null,{"$f":"IFERROR(INDEX('Modifikuoti svoriai '!$D$5:$K$29,MATCH(B911,'Modifikuoti svoriai '!$C$5:$C$29,0),MATCH(A911,'Modifikuoti svoriai '!$D$4:$K$4,0)),\"\")","v":""},null,null,null,null,null,null,null,null,null,null,null,null,null,{"$f":"IF(Q$6<YEAR($K911),\"Pastato tarnavimo laikotarpis nepasibaigė\",IF(Q$6=YEAR($K911),\"Pastato tarnavimo laikotarpio pabaiga\",IF($K911<>0,\"Pastato tarnavimo laikotarpis pasibaigė\",\"\")))","v":""},"","","","","","","",""]
[null,null,{"$f":"IFERROR(INDEX('Modifikuoti svoriai '!$D$5:$K$29,MATCH(B912,'Modifikuoti svoriai '!$C$5:$C$29,0),MATCH(A912,'Modifikuoti svoriai '!$D$4:$K$4,0)),\"\")","v":""},null,null,null,null,null,null,null,null,null,null,null,null,null,"","","","","","","","",""]
[null,null,{"$f":"IFERROR(INDEX('Modifikuoti svoriai '!$D$5:$K$29,MATCH(B913,'Modifikuoti svoriai '!$C$5:$C$29,0),MATCH(A913,'Modifikuoti svoriai '!$D$4:$K$4,0)),\"\")","v":""},null,null,null,null,null,null,null,null,null,null,null,null,null,"","","","","","","","",""]
[null,null,{"$f":"IFERROR(INDEX('Modifikuoti svoriai '!$D$5:$K$29,MATCH(B914,'Modifikuoti svoriai '!$C$5:$C$29,0),MATCH(A914,'Modifikuoti svoriai '!$D$4:$K$4,0)),\"\")","v":""},null,null,null,null,null,null,null,null,null,null,null,null,null,"","","","","","","","",""]
[null,null,{"$f":"IFERROR(INDEX('Modifikuoti svoriai '!$D$5:$K$29,MATCH(B915,'Modifikuoti svoriai '!$C$5:$C$29,0),MATCH(A915,'Modifikuoti svoriai '!$D$4:$K$4,0)),\"\")","v":""},null,null,null,null,null,null,null,null,null,null,null,null,null,"","","","","","","","",""]
[null,null,{"$f":"IFERROR(INDEX('Modifikuoti svoriai '!$D$5:$K$29,MATCH(B916,'Modifikuoti svoriai '!$C$5:$C$29,0),MATCH(A916,'Modifikuoti svoriai '!$D$4:$K$4,0)),\"\")","v":""},null,null,null,null,null,null,null,null,null,null,null,null,null,"","","","","","","","",""]
[null,null,{"$f":"IFERROR(INDEX('Modifikuoti svoriai '!$D$5:$K$29,MATCH(B917,'Modifikuoti svoriai '!$C$5:$C$29,0),MATCH(A917,'Modifikuoti svoriai '!$D$4:$K$4,0)),\"\")","v":""},null,null,null,null,null,null,null,null,null,null,null,null,null,"","","","","","","","",""]
[null,null,{"$f":"IFERROR(INDEX('Modifikuoti svoriai '!$D$5:$K$29,MATCH(B918,'Modifikuoti svoriai '!$C$5:$C$29,0),MATCH(A918,'Modifikuoti svoriai '!$D$4:$K$4,0)),\"\")","v":""},null,null,null,null,null,null,null,null,null,null,null,null,null,"","","","","","","","",""]
[null,null,{"$f":"IFERROR(INDEX('Modifikuoti svoriai '!$D$5:$K$29,MATCH(B919,'Modifikuoti svoriai '!$C$5:$C$29,0),MATCH(A919,'Modifikuoti svoriai '!$D$4:$K$4,0)),\"\")","v":""},null,null,null,null,null,null,null,null,null,null,null,null,null,"","","","","","","","",""]
[null,null,{"$f":"IFERROR(INDEX('Modifikuoti svoriai '!$D$5:$K$29,MATCH(B920,'Modifikuoti svoriai '!$C$5:$C$29,0),MATCH(A920,'Modifikuoti svoriai '!$D$4:$K$4,0)),\"\")","v":""},null,null,null,null,null,null,null,null,null,null,null,null,null,"","","","","","","","",""]
[null,null,{"$f":"IFERROR(INDEX('Modifikuoti svoriai '!$D$5:$K$29,MATCH(B921,'Modifikuoti svoriai '!$C$5:$C$29,0),MATCH(A921,'Modifikuoti svoriai '!$D$4:$K$4,0)),\"\")","v":""},null,null,null,null,null,null,null,null,null,null,null,null,null,"","","","","","","","",""]
[null,null,{"$f":"IFERROR(INDEX('Modifikuoti svoriai '!$D$5:$K$29,MATCH(B922,'Modifikuoti svoriai '!$C$5:$C$29,0),MATCH(A922,'Modifikuoti svoriai '!$D$4:$K$4,0)),\"\")","v":""},null,null,null,null,null,null,null,null,null,null,null,null,null,"","","","","","","","",""]
[null,null,{"$f":"IFERROR(INDEX('Modifikuoti svoriai '!$D$5:$K$29,MATCH(B923,'Modifikuoti svoriai '!$C$5:$C$29,0),MATCH(A923,'Modifikuoti svoriai '!$D$4:$K$4,0)),\"\")","v":""},null,null,null,null,null,null,null,null,null,null,null,null,null,"","","","","","","","",""]
[null,null,{"$f":"IFERROR(INDEX('Modifikuoti svoriai '!$D$5:$K$29,MATCH(B924,'Modifikuoti svoriai '!$C$5:$C$29,0),MATCH(A924,'Modifikuoti svoriai '!$D$4:$K$4,0)),\"\")","v":""},null,null,null,null,null,null,null,null,null,null,null,null,null,"","","","","","","","",""]
[null,null,{"$f":"IFERROR(INDEX('Modifikuoti svoriai '!$D$5:$K$29,MATCH(B925,'Modifikuoti svoriai '!$C$5:$C$29,0),MATCH(A925,'Modifikuoti svoriai '!$D$4:$K$4,0)),\"\")","v":""},null,null,null,null,null,null,null,null,null,null,null,null,null,"","","","","","","","",""]
[null,null,{"$f":"IFERROR(INDEX('Modifikuoti svoriai '!$D$5:$K$29,MATCH(B926,'Modifikuoti svoriai '!$C$5:$C$29,0),MATCH(A926,'Modifikuoti svoriai '!$D$4:$K$4,0)),\"\")","v":""},null,null,null,null,null,null,null,null,null,null,null,null,null,"","","","","","","","",""]
[null,null,{"$f":"IFERROR(INDEX('Modifikuoti svoriai '!$D$5:$K$29,MATCH(B927,'Modifikuoti svoriai '!$C$5:$C$29,0),MATCH(A927,'Modifikuoti svoriai '!$D$4:$K$4,0)),\"\")","v":""},null,null,null,null,null,null,null,null,null,null,null,null,null,{"$f":"IF(Q$6<YEAR($K927),\"Pastato tarnavimo laikotarpis nepasibaigė\",IF(Q$6=YEAR($K927),\"Pastato tarnavimo laikotarpio pabaiga\",IF($K927<>0,\"Pastato tarnavimo laikotarpis pasibaigė\",\"\")))","v":""},"","","","","","","",""]
[null,null,{"$f":"IFERROR(INDEX('Modifikuoti svoriai '!$D$5:$K$29,MATCH(B928,'Modifikuoti svoriai '!$C$5:$C$29,0),MATCH(A928,'Modifikuoti svoriai '!$D$4:$K$4,0)),\"\")","v":""},null,null,null,null,null,null,null,null,null,null,null,null,null,"","","","","","","","",""]
[null,null,{"$f":"IFERROR(INDEX('Modifikuoti svoriai '!$D$5:$K$29,MATCH(B929,'Modifikuoti svoriai '!$C$5:$C$29,0),MATCH(A929,'Modifikuoti svoriai '!$D$4:$K$4,0)),\"\")","v":""},null,null,null,null,null,null,null,null,null,null,null,null,null,"","","","","","","","",""]
[null,null,{"$f":"IFERROR(INDEX('Modifikuoti svoriai '!$D$5:$K$29,MATCH(B930,'Modifikuoti svoriai '!$C$5:$C$29,0),MATCH(A930,'Modifikuoti svoriai '!$D$4:$K$4,0)),\"\")","v":""},null,null,null,null,null,null,null,null,null,null,null,null,null,"","","","","","","","",""]
[null,null,{"$f":"IFERROR(INDEX('Modifikuoti svoriai '!$D$5:$K$29,MATCH(B931,'Modifikuoti svoriai '!$C$5:$C$29,0),MATCH(A931,'Modifikuoti svoriai '!$D$4:$K$4,0)),\"\")","v":""},null,null,null,null,null,null,null,null,null,null,null,null,null,"","","","","","","","",""]
[null,null,{"$f":"IFERROR(INDEX('Modifikuoti svoriai '!$D$5:$K$29,MATCH(B932,'Modifikuoti svoriai '!$C$5:$C$29,0),MATCH(A932,'Modifikuoti svoriai '!$D$4:$K$4,0)),\"\")","v":""},null,null,null,null,null,null,null,null,null,null,null,null,null,"","","","","","","","",""]
[null,null,{"$f":"IFERROR(INDEX('Modifikuoti svoriai '!$D$5:$K$29,MATCH(B933,'Modifikuoti svoriai '!$C$5:$C$29,0),MATCH(A933,'Modifikuoti svoriai '!$D$4:$K$4,0)),\"\")","v":""},null,null,null,null,null,null,null,null,null,null,null,null,null,"","","","","","","","",""]
[null,null,{"$f":"IFERROR(INDEX('Modifikuoti svoriai '!$D$5:$K$29,MATCH(B934,'Modifikuoti svoriai '!$C$5:$C$29,0),MATCH(A934,'Modifikuoti svoriai '!$D$4:$K$4,0)),\"\")","v":""},null,null,null,null,null,null,null,null,null,null,null,null,null,"","","","","","","","",""]
[null,null,{"$f":"IFERROR(INDEX('Modifikuoti svoriai '!$D$5:$K$29,MATCH(B935,'Modifikuoti svoriai '!$C$5:$C$29,0),MATCH(A935,'Modifikuoti svoriai '!$D$4:$K$4,0)),\"\")","v":""},null,null,null,null,null,null,null,null,null,null,null,null,null,"","","","","","","","",""]
[null,null,{"$f":"IFERROR(INDEX('Modifikuoti svoriai '!$D$5:$K$29,MATCH(B936,'Modifikuoti svoriai '!$C$5:$C$29,0),MATCH(A936,'Modifikuoti svoriai '!$D$4:$K$4,0)),\"\")","v":""},null,null,null,null,null,null,null,null,null,null,null,null,null,"","","","","","","","",""]
[null,null,{"$f":"IFERROR(INDEX('Modifikuoti svoriai '!$D$5:$K$29,MATCH(B937,'Modifikuoti svoriai '!$C$5:$C$29,0),MATCH(A937,'Modifikuoti svoriai '!$D$4:$K$4,0)),\"\")","v":""},null,null,null,null,null,null,null,null,null,null,null,null,null,"","","","","","","","",""]
[null,null,{"$f":"IFERROR(INDEX('Modifikuoti svoriai '!$D$5:$K$29,MATCH(B938,'Modifikuoti svoriai '!$C$5:$C$29,0),MATCH(A938,'Modifikuoti svoriai '!$D$4:$K$4,0)),\"\")","v":""},null,null,null,null,null,null,null,null,null,null,null,null,null,"","","","","","","","",""]
[null,null,{"$f":"IFERROR(INDEX('Modifikuoti svoriai '!$D$5:$K$29,MATCH(B939,'Modifikuoti svoriai '!$C$5:$C$29,0),MATCH(A939,'Modifikuoti svoriai '!$D$4:$K$4,0)),\"\")","v":""},null,null,null,null,null,null,null,null,null,null,null,null,null,"","","","","","","","",""]
[null,null,{"$f":"IFERROR(INDEX('Modifikuoti svoriai '!$D$5:$K$29,MATCH(B940,'Modifikuoti svoriai '!$C$5:$C$29,0),MATCH(A940,'Modifikuoti svoriai '!$D$4:$K$4,0)),\"\")","v":""},null,null,null,null,null,null,null,null,null,null,null,null,null,"","","","","","","","",""]
[null,null,{"$f":"IFERROR(INDEX('Modifikuoti svoriai '!$D$5:$K$29,MATCH(B941,'Modifikuoti svoriai '!$C$5:$C$29,0),MATCH(A941,'Modifikuoti svoriai '!$D$4:$K$4,0)),\"\")","v":""},null,null,null,null,null,null,null,null,null,null,null,null,null,"","","","","","","","",""]
[null,null,{"$f":"IFERROR(INDEX('Modifikuoti svoriai '!$D$5:$K$29,MATCH(B942,'Modifikuoti svoriai '!$C$5:$C$29,0),MATCH(A942,'Modifikuoti svoriai '!$D$4:$K$4,0)),\"\")","v":""},null,null,null,null,null,null,null,null,null,null,null,null,null,"","","","","","","","",""]
[null,null,{"$f":"IFERROR(INDEX('Modifikuoti svoriai '!$D$5:$K$29,MATCH(B943,'Modifikuoti svoriai '!$C$5:$C$29,0),MATCH(A943,'Modifikuoti svoriai '!$D$4:$K$4,0)),\"\")","v":""},null,null,null,null,null,null,null,null,null,null,null,null,null,{"$f":"IF(Q$6<YEAR($K943),\"Pastato tarnavimo laikotarpis nepasibaigė\",IF(Q$6=YEAR($K943),\"Pastato tarnavimo laikotarpio pabaiga\",IF($K943<>0,\"Pastato tarnavimo laikotarpis pasibaigė\",\"\")))","v":""},"","","","","","","",""]
[null,null,{"$f":"IFERROR(INDEX('Modifikuoti svoriai '!$D$5:$K$29,MATCH(B944,'Modifikuoti svoriai '!$C$5:$C$29,0),MATCH(A944,'Modifikuoti svoriai '!$D$4:$K$4,0)),\"\")","v":""},null,null,null,null,null,null,null,null,null,null,null,null,null,"","","","","","","","",""]
[null,null,{"$f":"IFERROR(INDEX('Modifikuoti svoriai '!$D$5:$K$29,MATCH(B945,'Modifikuoti svoriai '!$C$5:$C$29,0),MATCH(A945,'Modifikuoti svoriai '!$D$4:$K$4,0)),\"\")","v":""},null,null,null,null,null,null,null,null,null,null,null,null,null,"","","","","","","","",""]
[null,null,{"$f":"IFERROR(INDEX('Modifikuoti svoriai '!$D$5:$K$29,MATCH(B946,'Modifikuoti svoriai '!$C$5:$C$29,0),MATCH(A946,'Modifikuoti svoriai '!$D$4:$K$4,0)),\"\")","v":""},null,null,null,null,null,null,null,null,null,null,null,null,null,"","","","","","","","",""]
[null,null,{"$f":"IFERROR(INDEX('Modifikuoti svoriai '!$D$5:$K$29,MATCH(B947,'Modifikuoti svoriai '!$C$5:$C$29,0),MATCH(A947,'Modifikuoti svoriai '!$D$4:$K$4,0)),\"\")","v":""},null,null,null,null,null,null,null,null,null,null,null,null,null,"","","","","","","","",""]
[null,null,{"$f":"IFERROR(INDEX('Modifikuoti svoriai '!$D$5:$K$29,MATCH(B948,'Modifikuoti svoriai '!$C$5:$C$29,0),MATCH(A948,'Modifikuoti svoriai '!$D$4:$K$4,0)),\"\")","v":""},null,null,null,null,null,null,null,null,null,null,null,null,null,"","","","","","","","",""]
[null,null,{"$f":"IFERROR(INDEX('Modifikuoti svoriai '!$D$5:$K$29,MATCH(B949,'Modifikuoti svoriai '!$C$5:$C$29,0),MATCH(A949,'Modifikuoti svoriai '!$D$4:$K$4,0)),\"\")","v":""},null,null,null,null,null,null,null,null,null,null,null,null,null,"","","","","","","","",""]
[null,null,{"$f":"IFERROR(INDEX('Modifikuoti svoriai '!$D$5:$K$29,MATCH(B950,'Modifikuoti svoriai '!$C$5:$C$29,0),MATCH(A950,'Modifikuoti svoriai '!$D$4:$K$4,0)),\"\")","v":""},null,null,null,null,null,null,null,null,null,null,null,null,null,"","","","","","","","",""]
[null,null,{"$f":"IFERROR(INDEX('Modifikuoti svoriai '!$D$5:$K$29,MATCH(B951,'Modifikuoti svoriai '!$C$5:$C$29,0),MATCH(A951,'Modifikuoti svoriai '!$D$4:$K$4,0)),\"\")","v":""},null,null,null,null,null,null,null,null,null,null,null,null,null,"","","","","","","","",""]
[null,null,{"$f":"IFERROR(INDEX('Modifikuoti svoriai '!$D$5:$K$29,MATCH(B952,'Modifikuoti svoriai '!$C$5:$C$29,0),MATCH(A952,'Modifikuoti svoriai '!$D$4:$K$4,0)),\"\")","v":""},null,null,null,null,null,null,null,null,null,null,null,null,null,"","","","","","","","",""]
[null,null,{"$f":"IFERROR(INDEX('Modifikuoti svoriai '!$D$5:$K$29,MATCH(B953,'Modifikuoti svoriai '!$C$5:$C$29,0),MATCH(A953,'Modifikuoti svoriai '!$D$4:$K$4,0)),\"\")","v":""},null,null,null,null,null,null,null,null,null,null,null,null,null,"","","","","","","","",""]
[null,null,{"$f":"IFERROR(INDEX('Modifikuoti svoriai '!$D$5:$K$29,MATCH(B954,'Modifikuoti svoriai '!$C$5:$C$29,0),MATCH(A954,'Modifikuoti svoriai '!$D$4:$K$4,0)),\"\")","v":""},null,null,null,null,null,null,null,null,null,null,null,null,null,"","","","","","","","",""]
[null,null,{"$f":"IFERROR(INDEX('Modifikuoti svoriai '!$D$5:$K$29,MATCH(B955,'Modifikuoti svoriai '!$C$5:$C$29,0),MATCH(A955,'Modifikuoti svoriai '!$D$4:$K$4,0)),\"\")","v":""},null,null,null,null,null,null,null,null,null,null,null,null,null,"","","","","","","","",""]
[null,null,{"$f":"IFERROR(INDEX('Modifikuoti svoriai '!$D$5:$K$29,MATCH(B956,'Modifikuoti svoriai '!$C$5:$C$29,0),MATCH(A956,'Modifikuoti svoriai '!$D$4:$K$4,0)),\"\")","v":""},null,null,null,null,null,null,null,null,null,null,null,null,null,"","","","","","","","",""]
[null,null,{"$f":"IFERROR(INDEX('Modifikuoti svoriai '!$D$5:$K$29,MATCH(B957,'Modifikuoti svoriai '!$C$5:$C$29,0),MATCH(A957,'Modifikuoti svoriai '!$D$4:$K$4,0)),\"\")","v":""},null,null,null,null,null,null,null,null,null,null,null,null,null,"","","","","","","","",""]
[null,null,{"$f":"IFERROR(INDEX('Modifikuoti svoriai '!$D$5:$K$29,MATCH(B958,'Modifikuoti svoriai '!$C$5:$C$29,0),MATCH(A958,'Modifikuoti svoriai '!$D$4:$K$4,0)),\"\")","v":""},null,null,null,null,null,null,null,null,null,null,null,null,null,"","","","","","","","",""]
[null,null,{"$f":"IFERROR(INDEX('Modifikuoti svoriai '!$D$5:$K$29,MATCH(B959,'Modifikuoti svoriai '!$C$5:$C$29,0),MATCH(A959,'Modifikuoti svoriai '!$D$4:$K$4,0)),\"\")","v":""},null,null,null,null,null,null,null,null,null,null,null,null,null,{"$f":"IF(Q$6<YEAR($K959),\"Pastato tarnavimo laikotarpis nepasibaigė\",IF(Q$6=YEAR($K959),\"Pastato tarnavimo laikotarpio pabaiga\",IF($K959<>0,\"Pastato tarnavimo laikotarpis pasibaigė\",\"\")))","v":""},"","","","","","","",""]
[null,null,{"$f":"IFERROR(INDEX('Modifikuoti svoriai '!$D$5:$K$29,MATCH(B960,'Modifikuoti svoriai '!$C$5:$C$29,0),MATCH(A960,'Modifikuoti svoriai '!$D$4:$K$4,0)),\"\")","v":""},null,null,null,null,null,null,null,null,null,null,null,null,null,"","","","","","","","",""]
[null,null,{"$f":"IFERROR(INDEX('Modifikuoti svoriai '!$D$5:$K$29,MATCH(B961,'Modifikuoti svoriai '!$C$5:$C$29,0),MATCH(A961,'Modifikuoti svoriai '!$D$4:$K$4,0)),\"\")","v":""},null,null,null,null,null,null,null,null,null,null,null,null,null,"","","","","","","","",""]
[null,null,{"$f":"IFERROR(INDEX('Modifikuoti svoriai '!$D$5:$K$29,MATCH(B962,'Modifikuoti svoriai '!$C$5:$C$29,0),MATCH(A962,'Modifikuoti svoriai '!$D$4:$K$4,0)),\"\")","v":""},null,null,null,null,null,null,null,null,null,null,null,null,null,"","","","","","","","",""]
[null,null,{"$f":"IFERROR(INDEX('Modifikuoti svoriai '!$D$5:$K$29,MATCH(B963,'Modifikuoti svoriai '!$C$5:$C$29,0),MATCH(A963,'Modifikuoti svoriai '!$D$4:$K$4,0)),\"\")","v":""},null,null,null,null,null,null,null,null,null,null,null,null,null,"","","","","","","","",""]
[null,null,{"$f":"IFERROR(INDEX('Modifikuoti svoriai '!$D$5:$K$29,MATCH(B964,'Modifikuoti svoriai '!$C$5:$C$29,0),MATCH(A964,'Modifikuoti svoriai '!$D$4:$K$4,0)),\"\")","v":""},null,null,null,null,null,null,null,null,null,null,null,null,null,"","","","","","","","",""]
[null,null,{"$f":"IFERROR(INDEX('Modifikuoti svoriai '!$D$5:$K$29,MATCH(B965,'Modifikuoti svoriai '!$C$5:$C$29,0),MATCH(A965,'Modifikuoti svoriai '!$D$4:$K$4,0)),\"\")","v":""},null,null,null,null,null,null,null,null,null,null,null,null,null,"","","","","","","","",""]
[null,null,{"$f":"IFERROR(INDEX('Modifikuoti svoriai '!$D$5:$K$29,MATCH(B966,'Modifikuoti svoriai '!$C$5:$C$29,0),MATCH(A966,'Modifikuoti svoriai '!$D$4:$K$4,0)),\"\")","v":""},null,null,null,null,null,null,null,null,null,null,null,null,null,"","","","","","","","",""]
[null,null,{"$f":"IFERROR(INDEX('Modifikuoti svoriai '!$D$5:$K$29,MATCH(B967,'Modifikuoti svoriai '!$C$5:$C$29,0),MATCH(A967,'Modifikuoti svoriai '!$D$4:$K$4,0)),\"\")","v":""},null,null,null,null,null,null,null,null,null,null,null,null,null,"","","","","","","","",""]
[null,null,{"$f":"IFERROR(INDEX('Modifikuoti svoriai '!$D$5:$K$29,MATCH(B968,'Modifikuoti svoriai '!$C$5:$C$29,0),MATCH(A968,'Modifikuoti svoriai '!$D$4:$K$4,0)),\"\")","v":""},null,null,null,null,null,null,null,null,null,null,null,null,null,"","","","","","","","",""]
[null,null,{"$f":"IFERROR(INDEX('Modifikuoti svoriai '!$D$5:$K$29,MATCH(B969,'Modifikuoti svoriai '!$C$5:$C$29,0),MATCH(A969,'Modifikuoti svoriai '!$D$4:$K$4,0)),\"\")","v":""},null,null,null,null,null,null,null,null,null,null,null,null,null,"","","","","","","","",""]
[null,null,{"$f":"IFERROR(INDEX('Modifikuoti svoriai '!$D$5:$K$29,MATCH(B970,'Modifikuoti svoriai '!$C$5:$C$29,0),MATCH(A970,'Modifikuoti svoriai '!$D$4:$K$4,0)),\"\")","v":""},null,null,null,null,null,null,null,null,null,null,null,null,null,"","","","","","","","",""]
[null,null,{"$f":"IFERROR(INDEX('Modifikuoti svoriai '!$D$5:$K$29,MATCH(B971,'Modifikuoti svoriai '!$C$5:$C$29,0),MATCH(A971,'Modifikuoti svoriai '!$D$4:$K$4,0)),\"\")","v":""},null,null,null,null,null,null,null,null,null,null,null,null,null,"","","","","","","","",""]
[null,null,{"$f":"IFERROR(INDEX('Modifikuoti svoriai '!$D$5:$K$29,MATCH(B972,'Modifikuoti svoriai '!$C$5:$C$29,0),MATCH(A972,'Modifikuoti svoriai '!$D$4:$K$4,0)),\"\")","v":""},null,null,null,null,null,null,null,null,null,null,null,null,null,"","","","","","","","",""]
[null,null,{"$f":"IFERROR(INDEX('Modifikuoti svoriai '!$D$5:$K$29,MATCH(B973,'Modifikuoti svoriai '!$C$5:$C$29,0),MATCH(A973,'Modifikuoti svoriai '!$D$4:$K$4,0)),\"\")","v":""},null,null,null,null,null,null,null,null,null,null,null,null,null,"","","","","","","","",""]
[null,null,{"$f":"IFERROR(INDEX('Modifikuoti svoriai '!$D$5:$K$29,MATCH(B974,'Modifikuoti svoriai '!$C$5:$C$29,0),MATCH(A974,'Modifikuoti svoriai '!$D$4:$K$4,0)),\"\")","v":""},null,null,null,null,null,null,null,null,null,null,null,null,null,"","","","","","","","",""]
[null,null,{"$f":"IFERROR(INDEX('Modifikuoti svoriai '!$D$5:$K$29,MATCH(B975,'Modifikuoti svoriai '!$C$5:$C$29,0),MATCH(A975,'Modifikuoti svoriai '!$D$4:$K$4,0)),\"\")","v":""},null,null,null,null,null,null,null,null,null,null,null,null,null,{"$f":"IF(Q$6<YEAR($K975),\"Pastato tarnavimo laikotarpis nepasibaigė\",IF(Q$6=YEAR($K975),\"Pastato tarnavimo laikotarpio pabaiga\",IF($K975<>0,\"Pastato tarnavimo laikotarpis pasibaigė\",\"\")))","v":""},"","","","","","","",""]
[null,null,{"$f":"IFERROR(INDEX('Modifikuoti svoriai '!$D$5:$K$29,MATCH(B976,'Modifikuoti svoriai '!$C$5:$C$29,0),MATCH(A976,'Modifikuoti svoriai '!$D$4:$K$4,0)),\"\")","v":""},null,null,null,null,null,null,null,null,null,null,null,null,null,"","","","","","","","",""]
[null,null,{"$f":"IFERROR(INDEX('Modifikuoti svoriai '!$D$5:$K$29,MATCH(B977,'Modifikuoti svoriai '!$C$5:$C$29,0),MATCH(A977,'Modifikuoti svoriai '!$D$4:$K$4,0)),\"\")","v":""},null,null,null,null,null,null,null,null,null,null,null,null,null,"","","","","","","","",""]
[null,null,{"$f":"IFERROR(INDEX('Modifikuoti svoriai '!$D$5:$K$29,MATCH(B978,'Modifikuoti svoriai '!$C$5:$C$29,0),MATCH(A978,'Modifikuoti svoriai '!$D$4:$K$4,0)),\"\")","v":""},null,null,null,null,null,null,null,null,null,null,null,null,null,"","","","","","","","",""]
[null,null,{"$f":"IFERROR(INDEX('Modifikuoti svoriai '!$D$5:$K$29,MATCH(B979,'Modifikuoti svoriai '!$C$5:$C$29,0),MATCH(A979,'Modifikuoti svoriai '!$D$4:$K$4,0)),\"\")","v":""},null,null,null,null,null,null,null,null,null,null,null,null,null,"","","","","","","","",""]
[null,null,{"$f":"IFERROR(INDEX('Modifikuoti svoriai '!$D$5:$K$29,MATCH(B980,'Modifikuoti svoriai '!$C$5:$C$29,0),MATCH(A980,'Modifikuoti svoriai '!$D$4:$K$4,0)),\"\")","v":""},null,null,null,null,null,null,null,null,null,null,null,null,null,"","","","","","","","",""]
[null,null,{"$f":"IFERROR(INDEX('Modifikuoti svoriai '!$D$5:$K$29,MATCH(B981,'Modifikuoti svoriai '!$C$5:$C$29,0),MATCH(A981,'Modifikuoti svoriai '!$D$4:$K$4,0)),\"\")","v":""},null,null,null,null,null,null,null,null,null,null,null,null,null,"","","","","","","","",""]
[null,null,{"$f":"IFERROR(INDEX('Modifikuoti svoriai '!$D$5:$K$29,MATCH(B982,'Modifikuoti svoriai '!$C$5:$C$29,0),MATCH(A982,'Modifikuoti svoriai '!$D$4:$K$4,0)),\"\")","v":""},null,null,null,null,null,null,null,null,null,null,null,null,null,"","","","","","","","",""]
[null,null,{"$f":"IFERROR(INDEX('Modifikuoti svoriai '!$D$5:$K$29,MATCH(B983,'Modifikuoti svoriai '!$C$5:$C$29,0),MATCH(A983,'Modifikuoti svoriai '!$D$4:$K$4,0)),\"\")","v":""},null,null,null,null,null,null,null,null,null,null,null,null,null,"","","","","","","","",""]
[null,null,{"$f":"IFERROR(INDEX('Modifikuoti svoriai '!$D$5:$K$29,MATCH(B984,'Modifikuoti svoriai '!$C$5:$C$29,0),MATCH(A984,'Modifikuoti svoriai '!$D$4:$K$4,0)),\"\")","v":""},null,null,null,null,null,null,null,null,null,null,null,null,null,"","","","","","","","",""]
[null,null,{"$f":"IFERROR(INDEX('Modifikuoti svoriai '!$D$5:$K$29,MATCH(B985,'Modifikuoti svoriai '!$C$5:$C$29,0),MATCH(A985,'Modifikuoti svoriai '!$D$4:$K$4,0)),\"\")","v":""},null,null,null,null,null,null,null,null,null,null,null,null,null,"","","","","","","","",""]
[null,null,{"$f":"IFERROR(INDEX('Modifikuoti svoriai '!$D$5:$K$29,MATCH(B986,'Modifikuoti svoriai '!$C$5:$C$29,0),MATCH(A986,'Modifikuoti svoriai '!$D$4:$K$4,0)),\"\")","v":""},null,null,null,null,null,null,null,null,null,null,null,null,null,"","","","","","","","",""]
[null,null,{"$f":"IFERROR(INDEX('Modifikuoti svoriai '!$D$5:$K$29,MATCH(B987,'Modifikuoti svoriai '!$C$5:$C$29,0),MATCH(A987,'Modifikuoti svoriai '!$D$4:$K$4,0)),\"\")","v":""},null,null,null,null,null,null,null,null,null,null,null,null,null,"","","","","","","","",""]
[null,null,{"$f":"IFERROR(INDEX('Modifikuoti svoriai '!$D$5:$K$29,MATCH(B988,'Modifikuoti svoriai '!$C$5:$C$29,0),MATCH(A988,'Modifikuoti svoriai '!$D$4:$K$4,0)),\"\")","v":""},null,null,null,null,null,null,null,null,null,null,null,null,null,"","","","","","","","",""]
[null,null,{"$f":"IFERROR(INDEX('Modifikuoti svoriai '!$D$5:$K$29,MATCH(B989,'Modifikuoti svoriai '!$C$5:$C$29,0),MATCH(A989,'Modifikuoti svoriai '!$D$4:$K$4,0)),\"\")","v":""},null,null,null,null,null,null,null,null,null,null,null,null,null,"","","","","","","","",""]
[null,null,{"$f":"IFERROR(INDEX('Modifikuoti svoriai '!$D$5:$K$29,MATCH(B990,'Modifikuoti svoriai '!$C$5:$C$29,0),MATCH(A990,'Modifikuoti svoriai '!$D$4:$K$4,0)),\"\")","v":""},null,null,null,null,null,null,null,null,null,null,null,null,null,"","","","","","","","",""]
[null,null,{"$f":"IFERROR(INDEX('Modifikuoti svoriai '!$D$5:$K$29,MATCH(B991,'Modifikuoti svoriai '!$C$5:$C$29,0),MATCH(A991,'Modifikuoti svoriai '!$D$4:$K$4,0)),\"\")","v":""},null,null,null,null,null,null,null,null,null,null,null,null,null,{"$f":"IF(Q$6<YEAR($K991),\"Pastato tarnavimo laikotarpis nepasibaigė\",IF(Q$6=YEAR($K991),\"Pastato tarnavimo laikotarpio pabaiga\",IF($K991<>0,\"Pastato tarnavimo laikotarpis pasibaigė\",\"\")))","v":""},"","","","","","","",""]
[null,null,{"$f":"IFERROR(INDEX('Modifikuoti svoriai '!$D$5:$K$29,MATCH(B992,'Modifikuoti svoriai '!$C$5:$C$29,0),MATCH(A992,'Modifikuoti svoriai '!$D$4:$K$4,0)),\"\")","v":""},null,null,null,null,null,null,null,null,null,null,null,null,null,"","","","","","","","",""]
[null,null,{"$f":"IFERROR(INDEX('Modifikuoti svoriai '!$D$5:$K$29,MATCH(B993,'Modifikuoti svoriai '!$C$5:$C$29,0),MATCH(A993,'Modifikuoti svoriai '!$D$4:$K$4,0)),\"\")","v":""},null,null,null,null,null,null,null,null,null,null,null,null,null,"","","","","","","","",""]
[null,null,{"$f":"IFERROR(INDEX('Modifikuoti svoriai '!$D$5:$K$29,MATCH(B994,'Modifikuoti svoriai '!$C$5:$C$29,0),MATCH(A994,'Modifikuoti svoriai '!$D$4:$K$4,0)),\"\")","v":""},null,null,null,null,null,null,null,null,null,null,null,null,null,"","","","","","","","",""]
[null,null,{"$f":"IFERROR(INDEX('Modifikuoti svoriai '!$D$5:$K$29,MATCH(B995,'Modifikuoti svoriai '!$C$5:$C$29,0),MATCH(A995,'Modifikuoti svoriai '!$D$4:$K$4,0)),\"\")","v":""},null,null,null,null,null,null,null,null,null,null,null,null,null,"","","","","","","","",""]
[null,null,{"$f":"IFERROR(INDEX('Modifikuoti svoriai '!$D$5:$K$29,MATCH(B996,'Modifikuoti svoriai '!$C$5:$C$29,0),MATCH(A996,'Modifikuoti svoriai '!$D$4:$K$4,0)),\"\")","v":""},null,null,null,null,null,null,null,null,null,null,null,null,null,"","","","","","","","",""]
[null,null,{"$f":"IFERROR(INDEX('Modifikuoti svoriai '!$D$5:$K$29,MATCH(B997,'Modifikuoti svoriai '!$C$5:$C$29,0),MATCH(A997,'Modifikuoti svoriai '!$D$4:$K$4,0)),\"\")","v":""},null,null,null,null,null,null,null,null,null,null,null,null,null,"","","","","","","","",""]
[null,null,{"$f":"IFERROR(INDEX('Modifikuoti svoriai '!$D$5:$K$29,MATCH(B998,'Modifikuoti svoriai '!$C$5:$C$29,0),MATCH(A998,'Modifikuoti svoriai '!$D$4:$K$4,0)),\"\")","v":""},null,null,null,null,null,null,null,null,null,null,null,null,null,"","","","","","","","",""]
[null,null,{"$f":"IFERROR(INDEX('Modifikuoti svoriai '!$D$5:$K$29,MATCH(B999,'Modifikuoti svoriai '!$C$5:$C$29,0),MATCH(A999,'Modifikuoti svoriai '!$D$4:$K$4,0)),\"\")","v":""},null,null,null,null,null,null,null,null,null,null,null,null,null,"","","","","","","","",""]
[null,null,{"$f":"IFERROR(INDEX('Modifikuoti svoriai '!$D$5:$K$29,MATCH(B1000,'Modifikuoti svoriai '!$C$5:$C$29,0),MATCH(A1000,'Modifikuoti svoriai '!$D$4:$K$4,0)),\"\")","v":""},null,null,null,null,null,null,null,null,null,null,null,null,null,"","","","","","","","",""]
[null,null,{"$f":"IFERROR(INDEX('Modifikuoti svoriai '!$D$5:$K$29,MATCH(B1001,'Modifikuoti svoriai '!$C$5:$C$29,0),MATCH(A1001,'Modifikuoti svoriai '!$D$4:$K$4,0)),\"\")","v":""},null,null,null,null,null,null,null,null,null,null,null,null,null,"","","","","","","","",""]
[null,null,{"$f":"IFERROR(INDEX('Modifikuoti svoriai '!$D$5:$K$29,MATCH(B1002,'Modifikuoti svoriai '!$C$5:$C$29,0),MATCH(A1002,'Modifikuoti svoriai '!$D$4:$K$4,0)),\"\")","v":""},null,null,null,null,null,null,null,null,null,null,null,null,null,"","","","","","","","",""]
[null,null,{"$f":"IFERROR(INDEX('Modifikuoti svoriai '!$D$5:$K$29,MATCH(B1003,'Modifikuoti svoriai '!$C$5:$C$29,0),MATCH(A1003,'Modifikuoti svoriai '!$D$4:$K$4,0)),\"\")","v":""},null,null,null,null,null,null,null,null,null,null,null,null,null,"","","","","","","","",""]
[null,null,{"$f":"IFERROR(INDEX('Modifikuoti svoriai '!$D$5:$K$29,MATCH(B1004,'Modifikuoti svoriai '!$C$5:$C$29,0),MATCH(A1004,'Modifikuoti svoriai '!$D$4:$K$4,0)),\"\")","v":""},null,null,null,null,null,null,null,null,null,null,null,null,null,"","","","","","","","",""]
[null,null,{"$f":"IFERROR(INDEX('Modifikuoti svoriai '!$D$5:$K$29,MATCH(B1005,'Modifikuoti svoriai '!$C$5:$C$29,0),MATCH(A1005,'Modifikuoti svoriai '!$D$4:$K$4,0)),\"\")","v":""},null,null,null,null,null,null,null,null,null,null,null,null,null,"","","","","","","","",""]
[null,null,{"$f":"IFERROR(INDEX('Modifikuoti svoriai '!$D$5:$K$29,MATCH(B1006,'Modifikuoti svoriai '!$C$5:$C$29,0),MATCH(A1006,'Modifikuoti svoriai '!$D$4:$K$4,0)),\"\")","v":""},null,null,null,null,null,null,null,null,null,null,null,null,null,"","","","","","","","",""]
[null,null,{"$f":"IFERROR(INDEX('Modifikuoti svoriai '!$D$5:$K$29,MATCH(B1007,'Modifikuoti svoriai '!$C$5:$C$29,0),MATCH(A1007,'Modifikuoti svoriai '!$D$4:$K$4,0)),\"\")","v":""},null,null,null,null,null,null,null,null,null,null,null,null,null,{"$f":"IF(Q$6<YEAR($K1007),\"Pastato tarnavimo laikotarpis nepasibaigė\",IF(Q$6=YEAR($K1007),\"Pastato tarnavimo laikotarpio pabaiga\",IF($K1007<>0,\"Pastato tarnavimo laikotarpis pasibaigė\",\"\")))","v":""},"","","","","","","",""]
[null,null,{"$f":"IFERROR(INDEX('Modifikuoti svoriai '!$D$5:$K$29,MATCH(B1008,'Modifikuoti svoriai '!$C$5:$C$29,0),MATCH(A1008,'Modifikuoti svoriai '!$D$4:$K$4,0)),\"\")","v":""},null,null,null,null,null,null,null,null,null,null,null,null,null,"","","","","","","","",""]
[null,null,{"$f":"IFERROR(INDEX('Modifikuoti svoriai '!$D$5:$K$29,MATCH(B1009,'Modifikuoti svoriai '!$C$5:$C$29,0),MATCH(A1009,'Modifikuoti svoriai '!$D$4:$K$4,0)),\"\")","v":""},null,null,null,null,null,null,null,null,null,null,null,null,null,"","","","","","","","",""]
[null,null,{"$f":"IFERROR(INDEX('Modifikuoti svoriai '!$D$5:$K$29,MATCH(B1010,'Modifikuoti svoriai '!$C$5:$C$29,0),MATCH(A1010,'Modifikuoti svoriai '!$D$4:$K$4,0)),\"\")","v":""},null,null,null,null,null,null,null,null,null,null,null,null,null,"","","","","","","","",""]
[null,null,{"$f":"IFERROR(INDEX('Modifikuoti svoriai '!$D$5:$K$29,MATCH(B1011,'Modifikuoti svoriai '!$C$5:$C$29,0),MATCH(A1011,'Modifikuoti svoriai '!$D$4:$K$4,0)),\"\")","v":""},null,null,null,null,null,null,null,null,null,null,null,null,null,"","","","","","","","",""]
[null,null,{"$f":"IFERROR(INDEX('Modifikuoti svoriai '!$D$5:$K$29,MATCH(B1012,'Modifikuoti svoriai '!$C$5:$C$29,0),MATCH(A1012,'Modifikuoti svoriai '!$D$4:$K$4,0)),\"\")","v":""},null,null,null,null,null,null,null,null,null,null,null,null,null,"","","","","","","","",""]
[null,null,{"$f":"IFERROR(INDEX('Modifikuoti svoriai '!$D$5:$K$29,MATCH(B1013,'Modifikuoti svoriai '!$C$5:$C$29,0),MATCH(A1013,'Modifikuoti svoriai '!$D$4:$K$4,0)),\"\")","v":""},null,null,null,null,null,null,null,null,null,null,null,null,null,"","","","","","","","",""]
[null,null,{"$f":"IFERROR(INDEX('Modifikuoti svoriai '!$D$5:$K$29,MATCH(B1014,'Modifikuoti svoriai '!$C$5:$C$29,0),MATCH(A1014,'Modifikuoti svoriai '!$D$4:$K$4,0)),\"\")","v":""},null,null,null,null,null,null,null,null,null,null,null,null,null,"","","","","","","","",""]
[null,null,{"$f":"IFERROR(INDEX('Modifikuoti svoriai '!$D$5:$K$29,MATCH(B1015,'Modifikuoti svoriai '!$C$5:$C$29,0),MATCH(A1015,'Modifikuoti svoriai '!$D$4:$K$4,0)),\"\")","v":""},null,null,null,null,null,null,null,null,null,null,null,null,null,"","","","","","","","",""]
[null,null,{"$f":"IFERROR(INDEX('Modifikuoti svoriai '!$D$5:$K$29,MATCH(B1016,'Modifikuoti svoriai '!$C$5:$C$29,0),MATCH(A1016,'Modifikuoti svoriai '!$D$4:$K$4,0)),\"\")","v":""},null,null,null,null,null,null,null,null,null,null,null,null,null,"","","","","","","","",""]
[null,null,{"$f":"IFERROR(INDEX('Modifikuoti svoriai '!$D$5:$K$29,MATCH(B1017,'Modifikuoti svoriai '!$C$5:$C$29,0),MATCH(A1017,'Modifikuoti svoriai '!$D$4:$K$4,0)),\"\")","v":""},null,null,null,null,null,null,null,null,null,null,null,null,null,"","","","","","","","",""]
[null,null,{"$f":"IFERROR(INDEX('Modifikuoti svoriai '!$D$5:$K$29,MATCH(B1018,'Modifikuoti svoriai '!$C$5:$C$29,0),MATCH(A1018,'Modifikuoti svoriai '!$D$4:$K$4,0)),\"\")","v":""},null,null,null,null,null,null,null,null,null,null,null,null,null,"","","","","","","","",""]
[null,null,{"$f":"IFERROR(INDEX('Modifikuoti svoriai '!$D$5:$K$29,MATCH(B1019,'Modifikuoti svoriai '!$C$5:$C$29,0),MATCH(A1019,'Modifikuoti svoriai '!$D$4:$K$4,0)),\"\")","v":""},null,null,null,null,null,null,null,null,null,null,null,null,null,"","","","","","","","",""]
[null,null,{"$f":"IFERROR(INDEX('Modifikuoti svoriai '!$D$5:$K$29,MATCH(B1020,'Modifikuoti svoriai '!$C$5:$C$29,0),MATCH(A1020,'Modifikuoti svoriai '!$D$4:$K$4,0)),\"\")","v":""},null,null,null,null,null,null,null,null,null,null,null,null,null,"","","","","","","","",""]
[null,null,{"$f":"IFERROR(INDEX('Modifikuoti svoriai '!$D$5:$K$29,MATCH(B1021,'Modifikuoti svoriai '!$C$5:$C$29,0),MATCH(A1021,'Modifikuoti svoriai '!$D$4:$K$4,0)),\"\")","v":""},null,null,null,null,null,null,null,null,null,null,null,null,null,"","","","","","","","",""]
[null,null,{"$f":"IFERROR(INDEX('Modifikuoti svoriai '!$D$5:$K$29,MATCH(B1022,'Modifikuoti svoriai '!$C$5:$C$29,0),MATCH(A1022,'Modifikuoti svoriai '!$D$4:$K$4,0)),\"\")","v":""},null,null,null,null,null,null,null,null,null,null,null,null,null,"","","","","","","","",""]
[null,null,{"$f":"IFERROR(INDEX('Modifikuoti svoriai '!$D$5:$K$29,MATCH(B1023,'Modifikuoti svoriai '!$C$5:$C$29,0),MATCH(A1023,'Modifikuoti svoriai '!$D$4:$K$4,0)),\"\")","v":""},null,null,null,null,null,null,null,null,null,null,null,null,null,{"$f":"IF(Q$6<YEAR($K1023),\"Pastato tarnavimo laikotarpis nepasibaigė\",IF(Q$6=YEAR($K1023),\"Pastato tarnavimo laikotarpio pabaiga\",IF($K1023<>0,\"Pastato tarnavimo laikotarpis pasibaigė\",\"\")))","v":""},"","","","","","","",""]
[null,null,{"$f":"IFERROR(INDEX('Modifikuoti svoriai '!$D$5:$K$29,MATCH(B1024,'Modifikuoti svoriai '!$C$5:$C$29,0),MATCH(A1024,'Modifikuoti svoriai '!$D$4:$K$4,0)),\"\")","v":""},null,null,null,null,null,null,null,null,null,null,null,null,null,"","","","","","","","",""]
[null,null,{"$f":"IFERROR(INDEX('Modifikuoti svoriai '!$D$5:$K$29,MATCH(B1025,'Modifikuoti svoriai '!$C$5:$C$29,0),MATCH(A1025,'Modifikuoti svoriai '!$D$4:$K$4,0)),\"\")","v":""},null,null,null,null,null,null,null,null,null,null,null,null,null,"","","","","","","","",""]
[null,null,{"$f":"IFERROR(INDEX('Modifikuoti svoriai '!$D$5:$K$29,MATCH(B1026,'Modifikuoti svoriai '!$C$5:$C$29,0),MATCH(A1026,'Modifikuoti svoriai '!$D$4:$K$4,0)),\"\")","v":""},null,null,null,null,null,null,null,null,null,null,null,null,null,"","","","","","","","",""]
[null,null,{"$f":"IFERROR(INDEX('Modifikuoti svoriai '!$D$5:$K$29,MATCH(B1027,'Modifikuoti svoriai '!$C$5:$C$29,0),MATCH(A1027,'Modifikuoti svoriai '!$D$4:$K$4,0)),\"\")","v":""},null,null,null,null,null,null,null,null,null,null,null,null,null,"","","","","","","","",""]
[null,null,{"$f":"IFERROR(INDEX('Modifikuoti svoriai '!$D$5:$K$29,MATCH(B1028,'Modifikuoti svoriai '!$C$5:$C$29,0),MATCH(A1028,'Modifikuoti svoriai '!$D$4:$K$4,0)),\"\")","v":""},null,null,null,null,null,null,null,null,null,null,null,null,null,"","","","","","","","",""]
[null,null,{"$f":"IFERROR(INDEX('Modifikuoti svoriai '!$D$5:$K$29,MATCH(B1029,'Modifikuoti svoriai '!$C$5:$C$29,0),MATCH(A1029,'Modifikuoti svoriai '!$D$4:$K$4,0)),\"\")","v":""},null,null,null,null,null,null,null,null,null,null,null,null,null,"","","","","","","","",""]
[null,null,{"$f":"IFERROR(INDEX('Modifikuoti svoriai '!$D$5:$K$29,MATCH(B1030,'Modifikuoti svoriai '!$C$5:$C$29,0),MATCH(A1030,'Modifikuoti svoriai '!$D$4:$K$4,0)),\"\")","v":""},null,null,null,null,null,null,null,null,null,null,null,null,null,"","","","","","","","",""]
[null,null,{"$f":"IFERROR(INDEX('Modifikuoti svoriai '!$D$5:$K$29,MATCH(B1031,'Modifikuoti svoriai '!$C$5:$C$29,0),MATCH(A1031,'Modifikuoti svoriai '!$D$4:$K$4,0)),\"\")","v":""},null,null,null,null,null,null,null,null,null,null,null,null,null,"","","","","","","","",""]
[null,null,{"$f":"IFERROR(INDEX('Modifikuoti svoriai '!$D$5:$K$29,MATCH(B1032,'Modifikuoti svoriai '!$C$5:$C$29,0),MATCH(A1032,'Modifikuoti svoriai '!$D$4:$K$4,0)),\"\")","v":""},null,null,null,null,null,null,null,null,null,null,null,null,null,"","","","","","","","",""]
[null,null,{"$f":"IFERROR(INDEX('Modifikuoti svoriai '!$D$5:$K$29,MATCH(B1033,'Modifikuoti svoriai '!$C$5:$C$29,0),MATCH(A1033,'Modifikuoti svoriai '!$D$4:$K$4,0)),\"\")","v":""},null,null,null,null,null,null,null,null,null,null,null,null,null,"","","","","","","","",""]
[null,null,{"$f":"IFERROR(INDEX('Modifikuoti svoriai '!$D$5:$K$29,MATCH(B1034,'Modifikuoti svoriai '!$C$5:$C$29,0),MATCH(A1034,'Modifikuoti svoriai '!$D$4:$K$4,0)),\"\")","v":""},null,null,null,null,null,null,null,null,null,null,null,null,null,"","","","","","","","",""]
[null,null,{"$f":"IFERROR(INDEX('Modifikuoti svoriai '!$D$5:$K$29,MATCH(B1035,'Modifikuoti svoriai '!$C$5:$C$29,0),MATCH(A1035,'Modifikuoti svoriai '!$D$4:$K$4,0)),\"\")","v":""},null,null,null,null,null,null,null,null,null,null,null,null,null,"","","","","","","","",""]
[null,null,{"$f":"IFERROR(INDEX('Modifikuoti svoriai '!$D$5:$K$29,MATCH(B1036,'Modifikuoti svoriai '!$C$5:$C$29,0),MATCH(A1036,'Modifikuoti svoriai '!$D$4:$K$4,0)),\"\")","v":""},null,null,null,null,null,null,null,null,null,null,null,null,null,"","","","","","","","",""]
[null,null,{"$f":"IFERROR(INDEX('Modifikuoti svoriai '!$D$5:$K$29,MATCH(B1037,'Modifikuoti svoriai '!$C$5:$C$29,0),MATCH(A1037,'Modifikuoti svoriai '!$D$4:$K$4,0)),\"\")","v":""},null,null,null,null,null,null,null,null,null,null,null,null,null,"","","","","","","","",""]
[null,null,{"$f":"IFERROR(INDEX('Modifikuoti svoriai '!$D$5:$K$29,MATCH(B1038,'Modifikuoti svoriai '!$C$5:$C$29,0),MATCH(A1038,'Modifikuoti svoriai '!$D$4:$K$4,0)),\"\")","v":""},null,null,null,null,null,null,null,null,null,null,null,null,null,"","","","","","","","",""]
[null,null,{"$f":"IFERROR(INDEX('Modifikuoti svoriai '!$D$5:$K$29,MATCH(B1039,'Modifikuoti svoriai '!$C$5:$C$29,0),MATCH(A1039,'Modifikuoti svoriai '!$D$4:$K$4,0)),\"\")","v":""},null,null,null,null,null,null,null,null,null,null,null,null,null,{"$f":"IF(Q$6<YEAR($K1039),\"Pastato tarnavimo laikotarpis nepasibaigė\",IF(Q$6=YEAR($K1039),\"Pastato tarnavimo laikotarpio pabaiga\",IF($K1039<>0,\"Pastato tarnavimo laikotarpis pasibaigė\",\"\")))","v":""},"","","","","","","",""]
[null,null,{"$f":"IFERROR(INDEX('Modifikuoti svoriai '!$D$5:$K$29,MATCH(B1040,'Modifikuoti svoriai '!$C$5:$C$29,0),MATCH(A1040,'Modifikuoti svoriai '!$D$4:$K$4,0)),\"\")","v":""},null,null,null,null,null,null,null,null,null,null,null,null,null,"","","","","","","","",""]
[null,null,{"$f":"IFERROR(INDEX('Modifikuoti svoriai '!$D$5:$K$29,MATCH(B1041,'Modifikuoti svoriai '!$C$5:$C$29,0),MATCH(A1041,'Modifikuoti svoriai '!$D$4:$K$4,0)),\"\")","v":""},null,null,null,null,null,null,null,null,null,null,null,null,null,"","","","","","","","",""]
[null,null,{"$f":"IFERROR(INDEX('Modifikuoti svoriai '!$D$5:$K$29,MATCH(B1042,'Modifikuoti svoriai '!$C$5:$C$29,0),MATCH(A1042,'Modifikuoti svoriai '!$D$4:$K$4,0)),\"\")","v":""},null,null,null,null,null,null,null,null,null,null,null,null,null,"","","","","","","","",""]
[null,null,{"$f":"IFERROR(INDEX('Modifikuoti svoriai '!$D$5:$K$29,MATCH(B1043,'Modifikuoti svoriai '!$C$5:$C$29,0),MATCH(A1043,'Modifikuoti svoriai '!$D$4:$K$4,0)),\"\")","v":""},null,null,null,null,null,null,null,null,null,null,null,null,null,"","","","","","","","",""]
[null,null,{"$f":"IFERROR(INDEX('Modifikuoti svoriai '!$D$5:$K$29,MATCH(B1044,'Modifikuoti svoriai '!$C$5:$C$29,0),MATCH(A1044,'Modifikuoti svoriai '!$D$4:$K$4,0)),\"\")","v":""},null,null,null,null,null,null,null,null,null,null,null,null,null,"","","","","","","","",""]
[null,null,{"$f":"IFERROR(INDEX('Modifikuoti svoriai '!$D$5:$K$29,MATCH(B1045,'Modifikuoti svoriai '!$C$5:$C$29,0),MATCH(A1045,'Modifikuoti svoriai '!$D$4:$K$4,0)),\"\")","v":""},null,null,null,null,null,null,null,null,null,null,null,null,null,"","","","","","","","",""]
[null,null,{"$f":"IFERROR(INDEX('Modifikuoti svoriai '!$D$5:$K$29,MATCH(B1046,'Modifikuoti svoriai '!$C$5:$C$29,0),MATCH(A1046,'Modifikuoti svoriai '!$D$4:$K$4,0)),\"\")","v":""},null,null,null,null,null,null,null,null,null,null,null,null,null,"","","","","","","","",""]
[null,null,{"$f":"IFERROR(INDEX('Modifikuoti svoriai '!$D$5:$K$29,MATCH(B1047,'Modifikuoti svoriai '!$C$5:$C$29,0),MATCH(A1047,'Modifikuoti svoriai '!$D$4:$K$4,0)),\"\")","v":""},null,null,null,null,null,null,null,null,null,null,null,null,null,"","","","","","","","",""]
[null,null,{"$f":"IFERROR(INDEX('Modifikuoti svoriai '!$D$5:$K$29,MATCH(B1048,'Modifikuoti svoriai '!$C$5:$C$29,0),MATCH(A1048,'Modifikuoti svoriai '!$D$4:$K$4,0)),\"\")","v":""},null,null,null,null,null,null,null,null,null,null,null,null,null,"","","","","","","","",""]
[null,null,{"$f":"IFERROR(INDEX('Modifikuoti svoriai '!$D$5:$K$29,MATCH(B1049,'Modifikuoti svoriai '!$C$5:$C$29,0),MATCH(A1049,'Modifikuoti svoriai '!$D$4:$K$4,0)),\"\")","v":""},null,null,null,null,null,null,null,null,null,null,null,null,null,"","","","","","","","",""]
[null,null,{"$f":"IFERROR(INDEX('Modifikuoti svoriai '!$D$5:$K$29,MATCH(B1050,'Modifikuoti svoriai '!$C$5:$C$29,0),MATCH(A1050,'Modifikuoti svoriai '!$D$4:$K$4,0)),\"\")","v":""},null,null,null,null,null,null,null,null,null,null,null,null,null,"","","","","","","","",""]
[null,null,{"$f":"IFERROR(INDEX('Modifikuoti svoriai '!$D$5:$K$29,MATCH(B1051,'Modifikuoti svoriai '!$C$5:$C$29,0),MATCH(A1051,'Modifikuoti svoriai '!$D$4:$K$4,0)),\"\")","v":""},null,null,null,null,null,null,null,null,null,null,null,null,null,"","","","","","","","",""]
[null,null,{"$f":"IFERROR(INDEX('Modifikuoti svoriai '!$D$5:$K$29,MATCH(B1052,'Modifikuoti svoriai '!$C$5:$C$29,0),MATCH(A1052,'Modifikuoti svoriai '!$D$4:$K$4,0)),\"\")","v":""},null,null,null,null,null,null,null,null,null,null,null,null,null,"","","","","","","","",""]
[null,null,{"$f":"IFERROR(INDEX('Modifikuoti svoriai '!$D$5:$K$29,MATCH(B1053,'Modifikuoti svoriai '!$C$5:$C$29,0),MATCH(A1053,'Modifikuoti svoriai '!$D$4:$K$4,0)),\"\")","v":""},null,null,null,null,null,null,null,null,null,null,null,null,null,"","","","","","","","",""]
[null,null,{"$f":"IFERROR(INDEX('Modifikuoti svoriai '!$D$5:$K$29,MATCH(B1054,'Modifikuoti svoriai '!$C$5:$C$29,0),MATCH(A1054,'Modifikuoti svoriai '!$D$4:$K$4,0)),\"\")","v":""},null,null,null,null,null,null,null,null,null,null,null,null,null,"","","","","","","","",""]
[null,null,{"$f":"IFERROR(INDEX('Modifikuoti svoriai '!$D$5:$K$29,MATCH(B1055,'Modifikuoti svoriai '!$C$5:$C$29,0),MATCH(A1055,'Modifikuoti svoriai '!$D$4:$K$4,0)),\"\")","v":""},null,null,null,null,null,null,null,null,null,null,null,null,null,{"$f":"IF(Q$6<YEAR($K1055),\"Pastato tarnavimo laikotarpis nepasibaigė\",IF(Q$6=YEAR($K1055),\"Pastato tarnavimo laikotarpio pabaiga\",IF($K1055<>0,\"Pastato tarnavimo laikotarpis pasibaigė\",\"\")))","v":""},"","","","","","","",""]
[null,null,{"$f":"IFERROR(INDEX('Modifikuoti svoriai '!$D$5:$K$29,MATCH(B1056,'Modifikuoti svoriai '!$C$5:$C$29,0),MATCH(A1056,'Modifikuoti svoriai '!$D$4:$K$4,0)),\"\")","v":""},null,null,null,null,null,null,null,null,null,null,null,null,null,"","","","","","","","",""]
[null,null,{"$f":"IFERROR(INDEX('Modifikuoti svoriai '!$D$5:$K$29,MATCH(B1057,'Modifikuoti svoriai '!$C$5:$C$29,0),MATCH(A1057,'Modifikuoti svoriai '!$D$4:$K$4,0)),\"\")","v":""},null,null,null,null,null,null,null,null,null,null,null,null,null,"","","","","","","","",""]
[null,null,{"$f":"IFERROR(INDEX('Modifikuoti svoriai '!$D$5:$K$29,MATCH(B1058,'Modifikuoti svoriai '!$C$5:$C$29,0),MATCH(A1058,'Modifikuoti svoriai '!$D$4:$K$4,0)),\"\")","v":""},null,null,null,null,null,null,null,null,null,null,null,null,null,"","","","","","","","",""]
[null,null,{"$f":"IFERROR(INDEX('Modifikuoti svoriai '!$D$5:$K$29,MATCH(B1059,'Modifikuoti svoriai '!$C$5:$C$29,0),MATCH(A1059,'Modifikuoti svoriai '!$D$4:$K$4,0)),\"\")","v":""},null,null,null,null,null,null,null,null,null,null,null,null,null,"","","","","","","","",""]
[null,null,{"$f":"IFERROR(INDEX('Modifikuoti svoriai '!$D$5:$K$29,MATCH(B1060,'Modifikuoti svoriai '!$C$5:$C$29,0),MATCH(A1060,'Modifikuoti svoriai '!$D$4:$K$4,0)),\"\")","v":""},null,null,null,null,null,null,null,null,null,null,null,null,null,"","","","","","","","",""]
[null,null,{"$f":"IFERROR(INDEX('Modifikuoti svoriai '!$D$5:$K$29,MATCH(B1061,'Modifikuoti svoriai '!$C$5:$C$29,0),MATCH(A1061,'Modifikuoti svoriai '!$D$4:$K$4,0)),\"\")","v":""},null,null,null,null,null,null,null,null,null,null,null,null,null,"","","","","","","","",""]
[null,null,{"$f":"IFERROR(INDEX('Modifikuoti svoriai '!$D$5:$K$29,MATCH(B1062,'Modifikuoti svoriai '!$C$5:$C$29,0),MATCH(A1062,'Modifikuoti svoriai '!$D$4:$K$4,0)),\"\")","v":""},null,null,null,null,null,null,null,null,null,null,null,null,null,"","","","","","","","",""]
[null,null,{"$f":"IFERROR(INDEX('Modifikuoti svoriai '!$D$5:$K$29,MATCH(B1063,'Modifikuoti svoriai '!$C$5:$C$29,0),MATCH(A1063,'Modifikuoti svoriai '!$D$4:$K$4,0)),\"\")","v":""},null,null,null,null,null,null,null,null,null,null,null,null,null,"","","","","","","","",""]
[null,null,{"$f":"IFERROR(INDEX('Modifikuoti svoriai '!$D$5:$K$29,MATCH(B1064,'Modifikuoti svoriai '!$C$5:$C$29,0),MATCH(A1064,'Modifikuoti svoriai '!$D$4:$K$4,0)),\"\")","v":""},null,null,null,null,null,null,null,null,null,null,null,null,null,"","","","","","","","",""]
[null,null,{"$f":"IFERROR(INDEX('Modifikuoti svoriai '!$D$5:$K$29,MATCH(B1065,'Modifikuoti svoriai '!$C$5:$C$29,0),MATCH(A1065,'Modifikuoti svoriai '!$D$4:$K$4,0)),\"\")","v":""},null,null,null,null,null,null,null,null,null,null,null,null,null,"","","","","","","","",""]
[null,null,{"$f":"IFERROR(INDEX('Modifikuoti svoriai '!$D$5:$K$29,MATCH(B1066,'Modifikuoti svoriai '!$C$5:$C$29,0),MATCH(A1066,'Modifikuoti svoriai '!$D$4:$K$4,0)),\"\")","v":""},null,null,null,null,null,null,null,null,null,null,null,null,null,"","","","","","","","",""]
[null,null,{"$f":"IFERROR(INDEX('Modifikuoti svoriai '!$D$5:$K$29,MATCH(B1067,'Modifikuoti svoriai '!$C$5:$C$29,0),MATCH(A1067,'Modifikuoti svoriai '!$D$4:$K$4,0)),\"\")","v":""},null,null,null,null,null,null,null,null,null,null,null,null,null,"","","","","","","","",""]
[null,null,{"$f":"IFERROR(INDEX('Modifikuoti svoriai '!$D$5:$K$29,MATCH(B1068,'Modifikuoti svoriai '!$C$5:$C$29,0),MATCH(A1068,'Modifikuoti svoriai '!$D$4:$K$4,0)),\"\")","v":""},null,null,null,null,null,null,null,null,null,null,null,null,null,"","","","","","","","",""]
[null,null,{"$f":"IFERROR(INDEX('Modifikuoti svoriai '!$D$5:$K$29,MATCH(B1069,'Modifikuoti svoriai '!$C$5:$C$29,0),MATCH(A1069,'Modifikuoti svoriai '!$D$4:$K$4,0)),\"\")","v":""},null,null,null,null,null,null,null,null,null,null,null,null,null,"","","","","","","","",""]
[null,null,{"$f":"IFERROR(INDEX('Modifikuoti svoriai '!$D$5:$K$29,MATCH(B1070,'Modifikuoti svoriai '!$C$5:$C$29,0),MATCH(A1070,'Modifikuoti svoriai '!$D$4:$K$4,0)),\"\")","v":""},null,null,null,null,null,null,null,null,null,null,null,null,null,"","","","","","","","",""]
[null,null,{"$f":"IFERROR(INDEX('Modifikuoti svoriai '!$D$5:$K$29,MATCH(B1071,'Modifikuoti svoriai '!$C$5:$C$29,0),MATCH(A1071,'Modifikuoti svoriai '!$D$4:$K$4,0)),\"\")","v":""},null,null,null,null,null,null,null,null,null,null,null,null,null,{"$f":"IF(Q$6<YEAR($K1071),\"Pastato tarnavimo laikotarpis nepasibaigė\",IF(Q$6=YEAR($K1071),\"Pastato tarnavimo laikotarpio pabaiga\",IF($K1071<>0,\"Pastato tarnavimo laikotarpis pasibaigė\",\"\")))","v":""},"","","","","","","",""]
[null,null,{"$f":"IFERROR(INDEX('Modifikuoti svoriai '!$D$5:$K$29,MATCH(B1072,'Modifikuoti svoriai '!$C$5:$C$29,0),MATCH(A1072,'Modifikuoti svoriai '!$D$4:$K$4,0)),\"\")","v":""},null,null,null,null,null,null,null,null,null,null,null,null,null,"","","","","","","","",""]
[null,null,{"$f":"IFERROR(INDEX('Modifikuoti svoriai '!$D$5:$K$29,MATCH(B1073,'Modifikuoti svoriai '!$C$5:$C$29,0),MATCH(A1073,'Modifikuoti svoriai '!$D$4:$K$4,0)),\"\")","v":""},null,null,null,null,null,null,null,null,null,null,null,null,null,"","","","","","","","",""]
[null,null,{"$f":"IFERROR(INDEX('Modifikuoti svoriai '!$D$5:$K$29,MATCH(B1074,'Modifikuoti svoriai '!$C$5:$C$29,0),MATCH(A1074,'Modifikuoti svoriai '!$D$4:$K$4,0)),\"\")","v":""},null,null,null,null,null,null,null,null,null,null,null,null,null,"","","","","","","","",""]
[null,null,{"$f":"IFERROR(INDEX('Modifikuoti svoriai '!$D$5:$K$29,MATCH(B1075,'Modifikuoti svoriai '!$C$5:$C$29,0),MATCH(A1075,'Modifikuoti svoriai '!$D$4:$K$4,0)),\"\")","v":""},null,null,null,null,null,null,null,null,null,null,null,null,null,"","","","","","","","",""]
[null,null,{"$f":"IFERROR(INDEX('Modifikuoti svoriai '!$D$5:$K$29,MATCH(B1076,'Modifikuoti svoriai '!$C$5:$C$29,0),MATCH(A1076,'Modifikuoti svoriai '!$D$4:$K$4,0)),\"\")","v":""},null,null,null,null,null,null,null,null,null,null,null,null,null,"","","","","","","","",""]
[null,null,{"$f":"IFERROR(INDEX('Modifikuoti svoriai '!$D$5:$K$29,MATCH(B1077,'Modifikuoti svoriai '!$C$5:$C$29,0),MATCH(A1077,'Modifikuoti svoriai '!$D$4:$K$4,0)),\"\")","v":""},null,null,null,null,null,null,null,null,null,null,null,null,null,"","","","","","","","",""]
[null,null,{"$f":"IFERROR(INDEX('Modifikuoti svoriai '!$D$5:$K$29,MATCH(B1078,'Modifikuoti svoriai '!$C$5:$C$29,0),MATCH(A1078,'Modifikuoti svoriai '!$D$4:$K$4,0)),\"\")","v":""},null,null,null,null,null,null,null,null,null,null,null,null,null,"","","","","","","","",""]
[null,null,{"$f":"IFERROR(INDEX('Modifikuoti svoriai '!$D$5:$K$29,MATCH(B1079,'Modifikuoti svoriai '!$C$5:$C$29,0),MATCH(A1079,'Modifikuoti svoriai '!$D$4:$K$4,0)),\"\")","v":""},null,null,null,null,null,null,null,null,null,null,null,null,null,"","","","","","","","",""]
[null,null,{"$f":"IFERROR(INDEX('Modifikuoti svoriai '!$D$5:$K$29,MATCH(B1080,'Modifikuoti svoriai '!$C$5:$C$29,0),MATCH(A1080,'Modifikuoti svoriai '!$D$4:$K$4,0)),\"\")","v":""},null,null,null,null,null,null,null,null,null,null,null,null,null,"","","","","","","","",""]
[null,null,{"$f":"IFERROR(INDEX('Modifikuoti svoriai '!$D$5:$K$29,MATCH(B1081,'Modifikuoti svoriai '!$C$5:$C$29,0),MATCH(A1081,'Modifikuoti svoriai '!$D$4:$K$4,0)),\"\")","v":""},null,null,null,null,null,null,null,null,null,null,null,null,null,"","","","","","","","",""]
[null,null,{"$f":"IFERROR(INDEX('Modifikuoti svoriai '!$D$5:$K$29,MATCH(B1082,'Modifikuoti svoriai '!$C$5:$C$29,0),MATCH(A1082,'Modifikuoti svoriai '!$D$4:$K$4,0)),\"\")","v":""},null,null,null,null,null,null,null,null,null,null,null,null,null,"","","","","","","","",""]
[null,null,{"$f":"IFERROR(INDEX('Modifikuoti svoriai '!$D$5:$K$29,MATCH(B1083,'Modifikuoti svoriai '!$C$5:$C$29,0),MATCH(A1083,'Modifikuoti svoriai '!$D$4:$K$4,0)),\"\")","v":""},null,null,null,null,null,null,null,null,null,null,null,null,null,"","","","","","","","",""]
[null,null,{"$f":"IFERROR(INDEX('Modifikuoti svoriai '!$D$5:$K$29,MATCH(B1084,'Modifikuoti svoriai '!$C$5:$C$29,0),MATCH(A1084,'Modifikuoti svoriai '!$D$4:$K$4,0)),\"\")","v":""},null,null,null,null,null,null,null,null,null,null,null,null,null,"","","","","","","","",""]
[null,null,{"$f":"IFERROR(INDEX('Modifikuoti svoriai '!$D$5:$K$29,MATCH(B1085,'Modifikuoti svoriai '!$C$5:$C$29,0),MATCH(A1085,'Modifikuoti svoriai '!$D$4:$K$4,0)),\"\")","v":""},null,null,null,null,null,null,null,null,null,null,null,null,null,"","","","","","","","",""]
[null,null,{"$f":"IFERROR(INDEX('Modifikuoti svoriai '!$D$5:$K$29,MATCH(B1086,'Modifikuoti svoriai '!$C$5:$C$29,0),MATCH(A1086,'Modifikuoti svoriai '!$D$4:$K$4,0)),\"\")","v":""},null,null,null,null,null,null,null,null,null,null,null,null,null,"","","","","","","","",""]
[null,null,{"$f":"IFERROR(INDEX('Modifikuoti svoriai '!$D$5:$K$29,MATCH(B1087,'Modifikuoti svoriai '!$C$5:$C$29,0),MATCH(A1087,'Modifikuoti svoriai '!$D$4:$K$4,0)),\"\")","v":""},null,null,null,null,null,null,null,null,null,null,null,null,null,{"$f":"IF(Q$6<YEAR($K1087),\"Pastato tarnavimo laikotarpis nepasibaigė\",IF(Q$6=YEAR($K1087),\"Pastato tarnavimo laikotarpio pabaiga\",IF($K1087<>0,\"Pastato tarnavimo laikotarpis pasibaigė\",\"\")))","v":""},"","","","","","","",""]
[null,null,{"$f":"IFERROR(INDEX('Modifikuoti svoriai '!$D$5:$K$29,MATCH(B1088,'Modifikuoti svoriai '!$C$5:$C$29,0),MATCH(A1088,'Modifikuoti svoriai '!$D$4:$K$4,0)),\"\")","v":""},null,null,null,null,null,null,null,null,null,null,null,null,null,"","","","","","","","",""]
[null,null,{"$f":"IFERROR(INDEX('Modifikuoti svoriai '!$D$5:$K$29,MATCH(B1089,'Modifikuoti svoriai '!$C$5:$C$29,0),MATCH(A1089,'Modifikuoti svoriai '!$D$4:$K$4,0)),\"\")","v":""},null,null,null,null,null,null,null,null,null,null,null,null,null,"","","","","","","","",""]
[null,null,{"$f":"IFERROR(INDEX('Modifikuoti svoriai '!$D$5:$K$29,MATCH(B1090,'Modifikuoti svoriai '!$C$5:$C$29,0),MATCH(A1090,'Modifikuoti svoriai '!$D$4:$K$4,0)),\"\")","v":""},null,null,null,null,null,null,null,null,null,null,null,null,null,"","","","","","","","",""]
[null,null,{"$f":"IFERROR(INDEX('Modifikuoti svoriai '!$D$5:$K$29,MATCH(B1091,'Modifikuoti svoriai '!$C$5:$C$29,0),MATCH(A1091,'Modifikuoti svoriai '!$D$4:$K$4,0)),\"\")","v":""},null,null,null,null,null,null,null,null,null,null,null,null,null,"","","","","","","","",""]
[null,null,{"$f":"IFERROR(INDEX('Modifikuoti svoriai '!$D$5:$K$29,MATCH(B1092,'Modifikuoti svoriai '!$C$5:$C$29,0),MATCH(A1092,'Modifikuoti svoriai '!$D$4:$K$4,0)),\"\")","v":""},null,null,null,null,null,null,null,null,null,null,null,null,null,"","","","","","","","",""]
[null,null,{"$f":"IFERROR(INDEX('Modifikuoti svoriai '!$D$5:$K$29,MATCH(B1093,'Modifikuoti svoriai '!$C$5:$C$29,0),MATCH(A1093,'Modifikuoti svoriai '!$D$4:$K$4,0)),\"\")","v":""},null,null,null,null,null,null,null,null,null,null,null,null,null,"","","","","","","","",""]
[null,null,{"$f":"IFERROR(INDEX('Modifikuoti svoriai '!$D$5:$K$29,MATCH(B1094,'Modifikuoti svoriai '!$C$5:$C$29,0),MATCH(A1094,'Modifikuoti svoriai '!$D$4:$K$4,0)),\"\")","v":""},null,null,null,null,null,null,null,null,null,null,null,null,null,"","","","","","","","",""]
[null,null,{"$f":"IFERROR(INDEX('Modifikuoti svoriai '!$D$5:$K$29,MATCH(B1095,'Modifikuoti svoriai '!$C$5:$C$29,0),MATCH(A1095,'Modifikuoti svoriai '!$D$4:$K$4,0)),\"\")","v":""},null,null,null,null,null,null,null,null,null,null,null,null,null,"","","","","","","","",""]
[null,null,{"$f":"IFERROR(INDEX('Modifikuoti svoriai '!$D$5:$K$29,MATCH(B1096,'Modifikuoti svoriai '!$C$5:$C$29,0),MATCH(A1096,'Modifikuoti svoriai '!$D$4:$K$4,0)),\"\")","v":""},null,null,null,null,null,null,null,null,null,null,null,null,null,"","","","","","","","",""]
[null,null,{"$f":"IFERROR(INDEX('Modifikuoti svoriai '!$D$5:$K$29,MATCH(B1097,'Modifikuoti svoriai '!$C$5:$C$29,0),MATCH(A1097,'Modifikuoti svoriai '!$D$4:$K$4,0)),\"\")","v":""},null,null,null,null,null,null,null,null,null,null,null,null,null,"","","","","","","","",""]
[null,null,{"$f":"IFERROR(INDEX('Modifikuoti svoriai '!$D$5:$K$29,MATCH(B1098,'Modifikuoti svoriai '!$C$5:$C$29,0),MATCH(A1098,'Modifikuoti svoriai '!$D$4:$K$4,0)),\"\")","v":""},null,null,null,null,null,null,null,null,null,null,null,null,null,"","","","","","","","",""]
[null,null,{"$f":"IFERROR(INDEX('Modifikuoti svoriai '!$D$5:$K$29,MATCH(B1099,'Modifikuoti svoriai '!$C$5:$C$29,0),MATCH(A1099,'Modifikuoti svoriai '!$D$4:$K$4,0)),\"\")","v":""},null,null,null,null,null,null,null,null,null,null,null,null,null,"","","","","","","","",""]
[null,null,{"$f":"IFERROR(INDEX('Modifikuoti svoriai '!$D$5:$K$29,MATCH(B1100,'Modifikuoti svoriai '!$C$5:$C$29,0),MATCH(A1100,'Modifikuoti svoriai '!$D$4:$K$4,0)),\"\")","v":""},null,null,null,null,null,null,null,null,null,null,null,null,null,"","","","","","","","",""]
[null,null,{"$f":"IFERROR(INDEX('Modifikuoti svoriai '!$D$5:$K$29,MATCH(B1101,'Modifikuoti svoriai '!$C$5:$C$29,0),MATCH(A1101,'Modifikuoti svoriai '!$D$4:$K$4,0)),\"\")","v":""},null,null,null,null,null,null,null,null,null,null,null,null,null,"","","","","","","","",""]
[null,null,{"$f":"IFERROR(INDEX('Modifikuoti svoriai '!$D$5:$K$29,MATCH(B1102,'Modifikuoti svoriai '!$C$5:$C$29,0),MATCH(A1102,'Modifikuoti svoriai '!$D$4:$K$4,0)),\"\")","v":""},null,null,null,null,null,null,null,null,null,null,null,null,null,"","","","","","","","",""]
[null,null,{"$f":"IFERROR(INDEX('Modifikuoti svoriai '!$D$5:$K$29,MATCH(B1103,'Modifikuoti svoriai '!$C$5:$C$29,0),MATCH(A1103,'Modifikuoti svoriai '!$D$4:$K$4,0)),\"\")","v":""},null,null,null,null,null,null,null,null,null,null,null,null,null,{"$f":"IF(Q$6<YEAR($K1103),\"Pastato tarnavimo laikotarpis nepasibaigė\",IF(Q$6=YEAR($K1103),\"Pastato tarnavimo laikotarpio pabaiga\",IF($K1103<>0,\"Pastato tarnavimo laikotarpis pasibaigė\",\"\")))","v":""},"","","","","","","",""]
[null,null,{"$f":"IFERROR(INDEX('Modifikuoti svoriai '!$D$5:$K$29,MATCH(B1104,'Modifikuoti svoriai '!$C$5:$C$29,0),MATCH(A1104,'Modifikuoti svoriai '!$D$4:$K$4,0)),\"\")","v":""},null,null,null,null,null,null,null,null,null,null,null,null,null,"","","","","","","","",""]
[null,null,{"$f":"IFERROR(INDEX('Modifikuoti svoriai '!$D$5:$K$29,MATCH(B1105,'Modifikuoti svoriai '!$C$5:$C$29,0),MATCH(A1105,'Modifikuoti svoriai '!$D$4:$K$4,0)),\"\")","v":""},null,null,null,null,null,null,null,null,null,null,null,null,null,"","","","","","","","",""]
[null,null,{"$f":"IFERROR(INDEX('Modifikuoti svoriai '!$D$5:$K$29,MATCH(B1106,'Modifikuoti svoriai '!$C$5:$C$29,0),MATCH(A1106,'Modifikuoti svoriai '!$D$4:$K$4,0)),\"\")","v":""},null,null,null,null,null,null,null,null,null,null,null,null,null,"","","","","","","","",""]
[null,null,{"$f":"IFERROR(INDEX('Modifikuoti svoriai '!$D$5:$K$29,MATCH(B1107,'Modifikuoti svoriai '!$C$5:$C$29,0),MATCH(A1107,'Modifikuoti svoriai '!$D$4:$K$4,0)),\"\")","v":""},null,null,null,null,null,null,null,null,null,null,null,null,null,"","","","","","","","",""]
[null,null,{"$f":"IFERROR(INDEX('Modifikuoti svoriai '!$D$5:$K$29,MATCH(B1108,'Modifikuoti svoriai '!$C$5:$C$29,0),MATCH(A1108,'Modifikuoti svoriai '!$D$4:$K$4,0)),\"\")","v":""},null,null,null,null,null,null,null,null,null,null,null,null,null,"","","","","","","","",""]
[null,null,{"$f":"IFERROR(INDEX('Modifikuoti svoriai '!$D$5:$K$29,MATCH(B1109,'Modifikuoti svoriai '!$C$5:$C$29,0),MATCH(A1109,'Modifikuoti svoriai '!$D$4:$K$4,0)),\"\")","v":""},null,null,null,null,null,null,null,null,null,null,null,null,null,"","","","","","","","",""]
[null,null,{"$f":"IFERROR(INDEX('Modifikuoti svoriai '!$D$5:$K$29,MATCH(B1110,'Modifikuoti svoriai '!$C$5:$C$29,0),MATCH(A1110,'Modifikuoti svoriai '!$D$4:$K$4,0)),\"\")","v":""},null,null,null,null,null,null,null,null,null,null,null,null,null,"","","","","","","","",""]
[null,null,{"$f":"IFERROR(INDEX('Modifikuoti svoriai '!$D$5:$K$29,MATCH(B1111,'Modifikuoti svoriai '!$C$5:$C$29,0),MATCH(A1111,'Modifikuoti svoriai '!$D$4:$K$4,0)),\"\")","v":""},null,null,null,null,null,null,null,null,null,null,null,null,null,"","","","","","","","",""]
[null,null,{"$f":"IFERROR(INDEX('Modifikuoti svoriai '!$D$5:$K$29,MATCH(B1112,'Modifikuoti svoriai '!$C$5:$C$29,0),MATCH(A1112,'Modifikuoti svoriai '!$D$4:$K$4,0)),\"\")","v":""},null,null,null,null,null,null,null,null,null,null,null,null,null,"","","","","","","","",""]
[null,null,{"$f":"IFERROR(INDEX('Modifikuoti svoriai '!$D$5:$K$29,MATCH(B1113,'Modifikuoti svoriai '!$C$5:$C$29,0),MATCH(A1113,'Modifikuoti svoriai '!$D$4:$K$4,0)),\"\")","v":""},null,null,null,null,null,null,null,null,null,null,null,null,null,"","","","","","","","",""]
[null,null,{"$f":"IFERROR(INDEX('Modifikuoti svoriai '!$D$5:$K$29,MATCH(B1114,'Modifikuoti svoriai '!$C$5:$C$29,0),MATCH(A1114,'Modifikuoti svoriai '!$D$4:$K$4,0)),\"\")","v":""},null,null,null,null,null,null,null,null,null,null,null,null,null,"","","","","","","","",""]
[null,null,{"$f":"IFERROR(INDEX('Modifikuoti svoriai '!$D$5:$K$29,MATCH(B1115,'Modifikuoti svoriai '!$C$5:$C$29,0),MATCH(A1115,'Modifikuoti svoriai '!$D$4:$K$4,0)),\"\")","v":""},null,null,null,null,null,null,null,null,null,null,null,null,null,"","","","","","","","",""]
[null,null,{"$f":"IFERROR(INDEX('Modifikuoti svoriai '!$D$5:$K$29,MATCH(B1116,'Modifikuoti svoriai '!$C$5:$C$29,0),MATCH(A1116,'Modifikuoti svoriai '!$D$4:$K$4,0)),\"\")","v":""},null,null,null,null,null,null,null,null,null,null,null,null,null,"","","","","","","","",""]
[null,null,{"$f":"IFERROR(INDEX('Modifikuoti svoriai '!$D$5:$K$29,MATCH(B1117,'Modifikuoti svoriai '!$C$5:$C$29,0),MATCH(A1117,'Modifikuoti svoriai '!$D$4:$K$4,0)),\"\")","v":""},null,null,null,null,null,null,null,null,null,null,null,null,null,"","","","","","","","",""]
[null,null,{"$f":"IFERROR(INDEX('Modifikuoti svoriai '!$D$5:$K$29,MATCH(B1118,'Modifikuoti svoriai '!$C$5:$C$29,0),MATCH(A1118,'Modifikuoti svoriai '!$D$4:$K$4,0)),\"\")","v":""},null,null,null,null,null,null,null,null,null,null,null,null,null,"","","","","","","","",""]
[null,null,{"$f":"IFERROR(INDEX('Modifikuoti svoriai '!$D$5:$K$29,MATCH(B1119,'Modifikuoti svoriai '!$C$5:$C$29,0),MATCH(A1119,'Modifikuoti svoriai '!$D$4:$K$4,0)),\"\")","v":""},null,null,null,null,null,null,null,null,null,null,null,null,null,{"$f":"IF(Q$6<YEAR($K1119),\"Pastato tarnavimo laikotarpis nepasibaigė\",IF(Q$6=YEAR($K1119),\"Pastato tarnavimo laikotarpio pabaiga\",IF($K1119<>0,\"Pastato tarnavimo laikotarpis pasibaigė\",\"\")))","v":""},"","","","","","","",""]
[null,null,{"$f":"IFERROR(INDEX('Modifikuoti svoriai '!$D$5:$K$29,MATCH(B1120,'Modifikuoti svoriai '!$C$5:$C$29,0),MATCH(A1120,'Modifikuoti svoriai '!$D$4:$K$4,0)),\"\")","v":""},null,null,null,null,null,null,null,null,null,null,null,null,null,"","","","","","","","",""]
[null,null,{"$f":"IFERROR(INDEX('Modifikuoti svoriai '!$D$5:$K$29,MATCH(B1121,'Modifikuoti svoriai '!$C$5:$C$29,0),MATCH(A1121,'Modifikuoti svoriai '!$D$4:$K$4,0)),\"\")","v":""},null,null,null,null,null,null,null,null,null,null,null,null,null,"","","","","","","","",""]
[null,null,{"$f":"IFERROR(INDEX('Modifikuoti svoriai '!$D$5:$K$29,MATCH(B1122,'Modifikuoti svoriai '!$C$5:$C$29,0),MATCH(A1122,'Modifikuoti svoriai '!$D$4:$K$4,0)),\"\")","v":""},null,null,null,null,null,null,null,null,null,null,null,null,null,"","","","","","","","",""]
[null,null,{"$f":"IFERROR(INDEX('Modifikuoti svoriai '!$D$5:$K$29,MATCH(B1123,'Modifikuoti svoriai '!$C$5:$C$29,0),MATCH(A1123,'Modifikuoti svoriai '!$D$4:$K$4,0)),\"\")","v":""},null,null,null,null,null,null,null,null,null,null,null,null,null,"","","","","","","","",""]
[null,null,{"$f":"IFERROR(INDEX('Modifikuoti svoriai '!$D$5:$K$29,MATCH(B1124,'Modifikuoti svoriai '!$C$5:$C$29,0),MATCH(A1124,'Modifikuoti svoriai '!$D$4:$K$4,0)),\"\")","v":""},null,null,null,null,null,null,null,null,null,null,null,null,null,"","","","","","","","",""]
[null,null,{"$f":"IFERROR(INDEX('Modifikuoti svoriai '!$D$5:$K$29,MATCH(B1125,'Modifikuoti svoriai '!$C$5:$C$29,0),MATCH(A1125,'Modifikuoti svoriai '!$D$4:$K$4,0)),\"\")","v":""},null,null,null,null,null,null,null,null,null,null,null,null,null,"","","","","","","","",""]
[null,null,{"$f":"IFERROR(INDEX('Modifikuoti svoriai '!$D$5:$K$29,MATCH(B1126,'Modifikuoti svoriai '!$C$5:$C$29,0),MATCH(A1126,'Modifikuoti svoriai '!$D$4:$K$4,0)),\"\")","v":""},null,null,null,null,null,null,null,null,null,null,null,null,null,"","","","","","","","",""]
[null,null,{"$f":"IFERROR(INDEX('Modifikuoti svoriai '!$D$5:$K$29,MATCH(B1127,'Modifikuoti svoriai '!$C$5:$C$29,0),MATCH(A1127,'Modifikuoti svoriai '!$D$4:$K$4,0)),\"\")","v":""},null,null,null,null,null,null,null,null,null,null,null,null,null,"","","","","","","","",""]
[null,null,{"$f":"IFERROR(INDEX('Modifikuoti svoriai '!$D$5:$K$29,MATCH(B1128,'Modifikuoti svoriai '!$C$5:$C$29,0),MATCH(A1128,'Modifikuoti svoriai '!$D$4:$K$4,0)),\"\")","v":""},null,null,null,null,null,null,null,null,null,null,null,null,null,"","","","","","","","",""]
[null,null,{"$f":"IFERROR(INDEX('Modifikuoti svoriai '!$D$5:$K$29,MATCH(B1129,'Modifikuoti svoriai '!$C$5:$C$29,0),MATCH(A1129,'Modifikuoti svoriai '!$D$4:$K$4,0)),\"\")","v":""},null,null,null,null,null,null,null,null,null,null,null,null,null,"","","","","","","","",""]
[null,null,{"$f":"IFERROR(INDEX('Modifikuoti svoriai '!$D$5:$K$29,MATCH(B1130,'Modifikuoti svoriai '!$C$5:$C$29,0),MATCH(A1130,'Modifikuoti svoriai '!$D$4:$K$4,0)),\"\")","v":""},null,null,null,null,null,null,null,null,null,null,null,null,null,"","","","","","","","",""]
[null,null,{"$f":"IFERROR(INDEX('Modifikuoti svoriai '!$D$5:$K$29,MATCH(B1131,'Modifikuoti svoriai '!$C$5:$C$29,0),MATCH(A1131,'Modifikuoti svoriai '!$D$4:$K$4,0)),\"\")","v":""},null,null,null,null,null,null,null,null,null,null,null,null,null,"","","","","","","","",""]
[null,null,{"$f":"IFERROR(INDEX('Modifikuoti svoriai '!$D$5:$K$29,MATCH(B1132,'Modifikuoti svoriai '!$C$5:$C$29,0),MATCH(A1132,'Modifikuoti svoriai '!$D$4:$K$4,0)),\"\")","v":""},null,null,null,null,null,null,null,null,null,null,null,null,null,"","","","","","","","",""]
[null,null,{"$f":"IFERROR(INDEX('Modifikuoti svoriai '!$D$5:$K$29,MATCH(B1133,'Modifikuoti svoriai '!$C$5:$C$29,0),MATCH(A1133,'Modifikuoti svoriai '!$D$4:$K$4,0)),\"\")","v":""},null,null,null,null,null,null,null,null,null,null,null,null,null,"","","","","","","","",""]
[null,null,{"$f":"IFERROR(INDEX('Modifikuoti svoriai '!$D$5:$K$29,MATCH(B1134,'Modifikuoti svoriai '!$C$5:$C$29,0),MATCH(A1134,'Modifikuoti svoriai '!$D$4:$K$4,0)),\"\")","v":""},null,null,null,null,null,null,null,null,null,null,null,null,null,"","","","","","","","",""]
[null,null,{"$f":"IFERROR(INDEX('Modifikuoti svoriai '!$D$5:$K$29,MATCH(B1135,'Modifikuoti svoriai '!$C$5:$C$29,0),MATCH(A1135,'Modifikuoti svoriai '!$D$4:$K$4,0)),\"\")","v":""},null,null,null,null,null,null,null,null,null,null,null,null,null,{"$f":"IF(Q$6<YEAR($K1135),\"Pastato tarnavimo laikotarpis nepasibaigė\",IF(Q$6=YEAR($K1135),\"Pastato tarnavimo laikotarpio pabaiga\",IF($K1135<>0,\"Pastato tarnavimo laikotarpis pasibaigė\",\"\")))","v":""},"","","","","","","",""]
[null,null,{"$f":"IFERROR(INDEX('Modifikuoti svoriai '!$D$5:$K$29,MATCH(B1136,'Modifikuoti svoriai '!$C$5:$C$29,0),MATCH(A1136,'Modifikuoti svoriai '!$D$4:$K$4,0)),\"\")","v":""},null,null,null,null,null,null,null,null,null,null,null,null,null,"","","","","","","","",""]
[null,null,{"$f":"IFERROR(INDEX('Modifikuoti svoriai '!$D$5:$K$29,MATCH(B1137,'Modifikuoti svoriai '!$C$5:$C$29,0),MATCH(A1137,'Modifikuoti svoriai '!$D$4:$K$4,0)),\"\")","v":""},null,null,null,null,null,null,null,null,null,null,null,null,null,"","","","","","","","",""]
[null,null,{"$f":"IFERROR(INDEX('Modifikuoti svoriai '!$D$5:$K$29,MATCH(B1138,'Modifikuoti svoriai '!$C$5:$C$29,0),MATCH(A1138,'Modifikuoti svoriai '!$D$4:$K$4,0)),\"\")","v":""},null,null,null,null,null,null,null,null,null,null,null,null,null,"","","","","","","","",""]
[null,null,{"$f":"IFERROR(INDEX('Modifikuoti svoriai '!$D$5:$K$29,MATCH(B1139,'Modifikuoti svoriai '!$C$5:$C$29,0),MATCH(A1139,'Modifikuoti svoriai '!$D$4:$K$4,0)),\"\")","v":""},null,null,null,null,null,null,null,null,null,null,null,null,null,"","","","","","","","",""]
[null,null,{"$f":"IFERROR(INDEX('Modifikuoti svoriai '!$D$5:$K$29,MATCH(B1140,'Modifikuoti svoriai '!$C$5:$C$29,0),MATCH(A1140,'Modifikuoti svoriai '!$D$4:$K$4,0)),\"\")","v":""},null,null,null,null,null,null,null,null,null,null,null,null,null,"","","","","","","","",""]
[null,null,{"$f":"IFERROR(INDEX('Modifikuoti svoriai '!$D$5:$K$29,MATCH(B1141,'Modifikuoti svoriai '!$C$5:$C$29,0),MATCH(A1141,'Modifikuoti svoriai '!$D$4:$K$4,0)),\"\")","v":""},null,null,null,null,null,null,null,null,null,null,null,null,null,"","","","","","","","",""]
[null,null,{"$f":"IFERROR(INDEX('Modifikuoti svoriai '!$D$5:$K$29,MATCH(B1142,'Modifikuoti svoriai '!$C$5:$C$29,0),MATCH(A1142,'Modifikuoti svoriai '!$D$4:$K$4,0)),\"\")","v":""},null,null,null,null,null,null,null,null,null,null,null,null,null,"","","","","","","","",""]
[null,null,{"$f":"IFERROR(INDEX('Modifikuoti svoriai '!$D$5:$K$29,MATCH(B1143,'Modifikuoti svoriai '!$C$5:$C$29,0),MATCH(A1143,'Modifikuoti svoriai '!$D$4:$K$4,0)),\"\")","v":""},null,null,null,null,null,null,null,null,null,null,null,null,null,"","","","","","","","",""]
[null,null,{"$f":"IFERROR(INDEX('Modifikuoti svoriai '!$D$5:$K$29,MATCH(B1144,'Modifikuoti svoriai '!$C$5:$C$29,0),MATCH(A1144,'Modifikuoti svoriai '!$D$4:$K$4,0)),\"\")","v":""},null,null,null,null,null,null,null,null,null,null,null,null,null,"","","","","","","","",""]
[null,null,{"$f":"IFERROR(INDEX('Modifikuoti svoriai '!$D$5:$K$29,MATCH(B1145,'Modifikuoti svoriai '!$C$5:$C$29,0),MATCH(A1145,'Modifikuoti svoriai '!$D$4:$K$4,0)),\"\")","v":""},null,null,null,null,null,null,null,null,null,null,null,null,null,"","","","","","","","",""]
[null,null,{"$f":"IFERROR(INDEX('Modifikuoti svoriai '!$D$5:$K$29,MATCH(B1146,'Modifikuoti svoriai '!$C$5:$C$29,0),MATCH(A1146,'Modifikuoti svoriai '!$D$4:$K$4,0)),\"\")","v":""},null,null,null,null,null,null,null,null,null,null,null,null,null,"","","","","","","","",""]
[null,null,{"$f":"IFERROR(INDEX('Modifikuoti svoriai '!$D$5:$K$29,MATCH(B1147,'Modifikuoti svoriai '!$C$5:$C$29,0),MATCH(A1147,'Modifikuoti svoriai '!$D$4:$K$4,0)),\"\")","v":""},null,null,null,null,null,null,null,null,null,null,null,null,null,"","","","","","","","",""]
[null,null,{"$f":"IFERROR(INDEX('Modifikuoti svoriai '!$D$5:$K$29,MATCH(B1148,'Modifikuoti svoriai '!$C$5:$C$29,0),MATCH(A1148,'Modifikuoti svoriai '!$D$4:$K$4,0)),\"\")","v":""},null,null,null,null,null,null,null,null,null,null,null,null,null,"","","","","","","","",""]
[null,null,{"$f":"IFERROR(INDEX('Modifikuoti svoriai '!$D$5:$K$29,MATCH(B1149,'Modifikuoti svoriai '!$C$5:$C$29,0),MATCH(A1149,'Modifikuoti svoriai '!$D$4:$K$4,0)),\"\")","v":""},null,null,null,null,null,null,null,null,null,null,null,null,null,"","","","","","","","",""]
[null,null,{"$f":"IFERROR(INDEX('Modifikuoti svoriai '!$D$5:$K$29,MATCH(B1150,'Modifikuoti svoriai '!$C$5:$C$29,0),MATCH(A1150,'Modifikuoti svoriai '!$D$4:$K$4,0)),\"\")","v":""},null,null,null,null,null,null,null,null,null,null,null,null,null,"","","","","","","","",""]
[null,null,{"$f":"IFERROR(INDEX('Modifikuoti svoriai '!$D$5:$K$29,MATCH(B1151,'Modifikuoti svoriai '!$C$5:$C$29,0),MATCH(A1151,'Modifikuoti svoriai '!$D$4:$K$4,0)),\"\")","v":""},null,null,null,null,null,null,null,null,null,null,null,null,null,{"$f":"IF(Q$6<YEAR($K1151),\"Pastato tarnavimo laikotarpis nepasibaigė\",IF(Q$6=YEAR($K1151),\"Pastato tarnavimo laikotarpio pabaiga\",IF($K1151<>0,\"Pastato tarnavimo laikotarpis pasibaigė\",\"\")))","v":""},"","","","","","","",""]
[null,null,{"$f":"IFERROR(INDEX('Modifikuoti svoriai '!$D$5:$K$29,MATCH(B1152,'Modifikuoti svoriai '!$C$5:$C$29,0),MATCH(A1152,'Modifikuoti svoriai '!$D$4:$K$4,0)),\"\")","v":""},null,null,null,null,null,null,null,null,null,null,null,null,null,"","","","","","","","",""]
[null,null,{"$f":"IFERROR(INDEX('Modifikuoti svoriai '!$D$5:$K$29,MATCH(B1153,'Modifikuoti svoriai '!$C$5:$C$29,0),MATCH(A1153,'Modifikuoti svoriai '!$D$4:$K$4,0)),\"\")","v":""},null,null,null,null,null,null,null,null,null,null,null,null,null,"","","","","","","","",""]
[null,null,{"$f":"IFERROR(INDEX('Modifikuoti svoriai '!$D$5:$K$29,MATCH(B1154,'Modifikuoti svoriai '!$C$5:$C$29,0),MATCH(A1154,'Modifikuoti svoriai '!$D$4:$K$4,0)),\"\")","v":""},null,null,null,null,null,null,null,null,null,null,null,null,null,"","","","","","","","",""]
[null,null,{"$f":"IFERROR(INDEX('Modifikuoti svoriai '!$D$5:$K$29,MATCH(B1155,'Modifikuoti svoriai '!$C$5:$C$29,0),MATCH(A1155,'Modifikuoti svoriai '!$D$4:$K$4,0)),\"\")","v":""},null,null,null,null,null,null,null,null,null,null,null,null,null,"","","","","","","","",""]
[null,null,{"$f":"IFERROR(INDEX('Modifikuoti svoriai '!$D$5:$K$29,MATCH(B1156,'Modifikuoti svoriai '!$C$5:$C$29,0),MATCH(A1156,'Modifikuoti svoriai '!$D$4:$K$4,0)),\"\")","v":""},null,null,null,null,null,null,null,null,null,null,null,null,null,"","","","","","","","",""]
[null,null,{"$f":"IFERROR(INDEX('Modifikuoti svoriai '!$D$5:$K$29,MATCH(B1157,'Modifikuoti svoriai '!$C$5:$C$29,0),MATCH(A1157,'Modifikuoti svoriai '!$D$4:$K$4,0)),\"\")","v":""},null,null,null,null,null,null,null,null,null,null,null,null,null,"","","","","","","","",""]
[null,null,{"$f":"IFERROR(INDEX('Modifikuoti svoriai '!$D$5:$K$29,MATCH(B1158,'Modifikuoti svoriai '!$C$5:$C$29,0),MATCH(A1158,'Modifikuoti svoriai '!$D$4:$K$4,0)),\"\")","v":""},null,null,null,null,null,null,null,null,null,null,null,null,null,"","","","","","","","",""]
[null,null,{"$f":"IFERROR(INDEX('Modifikuoti svoriai '!$D$5:$K$29,MATCH(B1159,'Modifikuoti svoriai '!$C$5:$C$29,0),MATCH(A1159,'Modifikuoti svoriai '!$D$4:$K$4,0)),\"\")","v":""},null,null,null,null,null,null,null,null,null,null,null,null,null,"","","","","","","","",""]
[null,null,{"$f":"IFERROR(INDEX('Modifikuoti svoriai '!$D$5:$K$29,MATCH(B1160,'Modifikuoti svoriai '!$C$5:$C$29,0),MATCH(A1160,'Modifikuoti svoriai '!$D$4:$K$4,0)),\"\")","v":""},null,null,null,null,null,null,null,null,null,null,null,null,null,"","","","","","","","",""]
[null,null,{"$f":"IFERROR(INDEX('Modifikuoti svoriai '!$D$5:$K$29,MATCH(B1161,'Modifikuoti svoriai '!$C$5:$C$29,0),MATCH(A1161,'Modifikuoti svoriai '!$D$4:$K$4,0)),\"\")","v":""},null,null,null,null,null,null,null,null,null,null,null,null,null,"","","","","","","","",""]
[null,null,{"$f":"IFERROR(INDEX('Modifikuoti svoriai '!$D$5:$K$29,MATCH(B1162,'Modifikuoti svoriai '!$C$5:$C$29,0),MATCH(A1162,'Modifikuoti svoriai '!$D$4:$K$4,0)),\"\")","v":""},null,null,null,null,null,null,null,null,null,null,null,null,null,"","","","","","","","",""]
[null,null,{"$f":"IFERROR(INDEX('Modifikuoti svoriai '!$D$5:$K$29,MATCH(B1163,'Modifikuoti svoriai '!$C$5:$C$29,0),MATCH(A1163,'Modifikuoti svoriai '!$D$4:$K$4,0)),\"\")","v":""},null,null,null,null,null,null,null,null,null,null,null,null,null,"","","","","","","","",""]
[null,null,{"$f":"IFERROR(INDEX('Modifikuoti svoriai '!$D$5:$K$29,MATCH(B1164,'Modifikuoti svoriai '!$C$5:$C$29,0),MATCH(A1164,'Modifikuoti svoriai '!$D$4:$K$4,0)),\"\")","v":""},null,null,null,null,null,null,null,null,null,null,null,null,null,"","","","","","","","",""]
[null,null,{"$f":"IFERROR(INDEX('Modifikuoti svoriai '!$D$5:$K$29,MATCH(B1165,'Modifikuoti svoriai '!$C$5:$C$29,0),MATCH(A1165,'Modifikuoti svoriai '!$D$4:$K$4,0)),\"\")","v":""},null,null,null,null,null,null,null,null,null,null,null,null,null,"","","","","","","","",""]
[null,null,{"$f":"IFERROR(INDEX('Modifikuoti svoriai '!$D$5:$K$29,MATCH(B1166,'Modifikuoti svoriai '!$C$5:$C$29,0),MATCH(A1166,'Modifikuoti svoriai '!$D$4:$K$4,0)),\"\")","v":""},null,null,null,null,null,null,null,null,null,null,null,null,null,"","","","","","","","",""]
[null,null,{"$f":"IFERROR(INDEX('Modifikuoti svoriai '!$D$5:$K$29,MATCH(B1167,'Modifikuoti svoriai '!$C$5:$C$29,0),MATCH(A1167,'Modifikuoti svoriai '!$D$4:$K$4,0)),\"\")","v":""},null,null,null,null,null,null,null,null,null,null,null,null,null,{"$f":"IF(Q$6<YEAR($K1167),\"Pastato tarnavimo laikotarpis nepasibaigė\",IF(Q$6=YEAR($K1167),\"Pastato tarnavimo laikotarpio pabaiga\",IF($K1167<>0,\"Pastato tarnavimo laikotarpis pasibaigė\",\"\")))","v":""},"","","","","","","",""]
[null,null,{"$f":"IFERROR(INDEX('Modifikuoti svoriai '!$D$5:$K$29,MATCH(B1168,'Modifikuoti svoriai '!$C$5:$C$29,0),MATCH(A1168,'Modifikuoti svoriai '!$D$4:$K$4,0)),\"\")","v":""},null,null,null,null,null,null,null,null,null,null,null,null,null,"","","","","","","","",""]
[null,null,{"$f":"IFERROR(INDEX('Modifikuoti svoriai '!$D$5:$K$29,MATCH(B1169,'Modifikuoti svoriai '!$C$5:$C$29,0),MATCH(A1169,'Modifikuoti svoriai '!$D$4:$K$4,0)),\"\")","v":""},null,null,null,null,null,null,null,null,null,null,null,null,null,"","","","","","","","",""]
[null,null,{"$f":"IFERROR(INDEX('Modifikuoti svoriai '!$D$5:$K$29,MATCH(B1170,'Modifikuoti svoriai '!$C$5:$C$29,0),MATCH(A1170,'Modifikuoti svoriai '!$D$4:$K$4,0)),\"\")","v":""},null,null,null,null,null,null,null,null,null,null,null,null,null,"","","","","","","","",""]
[null,null,{"$f":"IFERROR(INDEX('Modifikuoti svoriai '!$D$5:$K$29,MATCH(B1171,'Modifikuoti svoriai '!$C$5:$C$29,0),MATCH(A1171,'Modifikuoti svoriai '!$D$4:$K$4,0)),\"\")","v":""},null,null,null,null,null,null,null,null,null,null,null,null,null,"","","","","","","","",""]
[null,null,{"$f":"IFERROR(INDEX('Modifikuoti svoriai '!$D$5:$K$29,MATCH(B1172,'Modifikuoti svoriai '!$C$5:$C$29,0),MATCH(A1172,'Modifikuoti svoriai '!$D$4:$K$4,0)),\"\")","v":""},null,null,null,null,null,null,null,null,null,null,null,null,null,"","","","","","","","",""]
[null,null,{"$f":"IFERROR(INDEX('Modifikuoti svoriai '!$D$5:$K$29,MATCH(B1173,'Modifikuoti svoriai '!$C$5:$C$29,0),MATCH(A1173,'Modifikuoti svoriai '!$D$4:$K$4,0)),\"\")","v":""},null,null,null,null,null,null,null,null,null,null,null,null,null,"","","","","","","","",""]
[null,null,{"$f":"IFERROR(INDEX('Modifikuoti svoriai '!$D$5:$K$29,MATCH(B1174,'Modifikuoti svoriai '!$C$5:$C$29,0),MATCH(A1174,'Modifikuoti svoriai '!$D$4:$K$4,0)),\"\")","v":""},null,null,null,null,null,null,null,null,null,null,null,null,null,"","","","","","","","",""]
[null,null,{"$f":"IFERROR(INDEX('Modifikuoti svoriai '!$D$5:$K$29,MATCH(B1175,'Modifikuoti svoriai '!$C$5:$C$29,0),MATCH(A1175,'Modifikuoti svoriai '!$D$4:$K$4,0)),\"\")","v":""},null,null,null,null,null,null,null,null,null,null,null,null,null,"","","","","","","","",""]
[null,null,{"$f":"IFERROR(INDEX('Modifikuoti svoriai '!$D$5:$K$29,MATCH(B1176,'Modifikuoti svoriai '!$C$5:$C$29,0),MATCH(A1176,'Modifikuoti svoriai '!$D$4:$K$4,0)),\"\")","v":""},null,null,null,null,null,null,null,null,null,null,null,null,null,"","","","","","","","",""]
[null,null,{"$f":"IFERROR(INDEX('Modifikuoti svoriai '!$D$5:$K$29,MATCH(B1177,'Modifikuoti svoriai '!$C$5:$C$29,0),MATCH(A1177,'Modifikuoti svoriai '!$D$4:$K$4,0)),\"\")","v":""},null,null,null,null,null,null,null,null,null,null,null,null,null,"","","","","","","","",""]
[null,null,{"$f":"IFERROR(INDEX('Modifikuoti svoriai '!$D$5:$K$29,MATCH(B1178,'Modifikuoti svoriai '!$C$5:$C$29,0),MATCH(A1178,'Modifikuoti svoriai '!$D$4:$K$4,0)),\"\")","v":""},null,null,null,null,null,null,null,null,null,null,null,null,null,"","","","","","","","",""]
[null,null,{"$f":"IFERROR(INDEX('Modifikuoti svoriai '!$D$5:$K$29,MATCH(B1179,'Modifikuoti svoriai '!$C$5:$C$29,0),MATCH(A1179,'Modifikuoti svoriai '!$D$4:$K$4,0)),\"\")","v":""},null,null,null,null,null,null,null,null,null,null,null,null,null,"","","","","","","","",""]
[null,null,{"$f":"IFERROR(INDEX('Modifikuoti svoriai '!$D$5:$K$29,MATCH(B1180,'Modifikuoti svoriai '!$C$5:$C$29,0),MATCH(A1180,'Modifikuoti svoriai '!$D$4:$K$4,0)),\"\")","v":""},null,null,null,null,null,null,null,null,null,null,null,null,null,"","","","","","","","",""]
[null,null,{"$f":"IFERROR(INDEX('Modifikuoti svoriai '!$D$5:$K$29,MATCH(B1181,'Modifikuoti svoriai '!$C$5:$C$29,0),MATCH(A1181,'Modifikuoti svoriai '!$D$4:$K$4,0)),\"\")","v":""},null,null,null,null,null,null,null,null,null,null,null,null,null,"","","","","","","","",""]
[null,null,{"$f":"IFERROR(INDEX('Modifikuoti svoriai '!$D$5:$K$29,MATCH(B1182,'Modifikuoti svoriai '!$C$5:$C$29,0),MATCH(A1182,'Modifikuoti svoriai '!$D$4:$K$4,0)),\"\")","v":""},null,null,null,null,null,null,null,null,null,null,null,null,null,"","","","","","","","",""]
[null,null,{"$f":"IFERROR(INDEX('Modifikuoti svoriai '!$D$5:$K$29,MATCH(B1183,'Modifikuoti svoriai '!$C$5:$C$29,0),MATCH(A1183,'Modifikuoti svoriai '!$D$4:$K$4,0)),\"\")","v":""},null,null,null,null,null,null,null,null,null,null,null,null,null,{"$f":"IF(Q$6<YEAR($K1183),\"Pastato tarnavimo laikotarpis nepasibaigė\",IF(Q$6=YEAR($K1183),\"Pastato tarnavimo laikotarpio pabaiga\",IF($K1183<>0,\"Pastato tarnavimo laikotarpis pasibaigė\",\"\")))","v":""},"","","","","","","",""]
[null,null,{"$f":"IFERROR(INDEX('Modifikuoti svoriai '!$D$5:$K$29,MATCH(B1184,'Modifikuoti svoriai '!$C$5:$C$29,0),MATCH(A1184,'Modifikuoti svoriai '!$D$4:$K$4,0)),\"\")","v":""},null,null,null,null,null,null,null,null,null,null,null,null,null,"","","","","","","","",""]
[null,null,{"$f":"IFERROR(INDEX('Modifikuoti svoriai '!$D$5:$K$29,MATCH(B1185,'Modifikuoti svoriai '!$C$5:$C$29,0),MATCH(A1185,'Modifikuoti svoriai '!$D$4:$K$4,0)),\"\")","v":""},null,null,null,null,null,null,null,null,null,null,null,null,null,"","","","","","","","",""]
[null,null,{"$f":"IFERROR(INDEX('Modifikuoti svoriai '!$D$5:$K$29,MATCH(B1186,'Modifikuoti svoriai '!$C$5:$C$29,0),MATCH(A1186,'Modifikuoti svoriai '!$D$4:$K$4,0)),\"\")","v":""},null,null,null,null,null,null,null,null,null,null,null,null,null,"","","","","","","","",""]
[null,null,{"$f":"IFERROR(INDEX('Modifikuoti svoriai '!$D$5:$K$29,MATCH(B1187,'Modifikuoti svoriai '!$C$5:$C$29,0),MATCH(A1187,'Modifikuoti svoriai '!$D$4:$K$4,0)),\"\")","v":""},null,null,null,null,null,null,null,null,null,null,null,null,null,"","","","","","","","",""]
[null,null,{"$f":"IFERROR(INDEX('Modifikuoti svoriai '!$D$5:$K$29,MATCH(B1188,'Modifikuoti svoriai '!$C$5:$C$29,0),MATCH(A1188,'Modifikuoti svoriai '!$D$4:$K$4,0)),\"\")","v":""},null,null,null,null,null,null,null,null,null,null,null,null,null,"","","","","","","","",""]
[null,null,{"$f":"IFERROR(INDEX('Modifikuoti svoriai '!$D$5:$K$29,MATCH(B1189,'Modifikuoti svoriai '!$C$5:$C$29,0),MATCH(A1189,'Modifikuoti svoriai '!$D$4:$K$4,0)),\"\")","v":""},null,null,null,null,null,null,null,null,null,null,null,null,null,"","","","","","","","",""]
[null,null,{"$f":"IFERROR(INDEX('Modifikuoti svoriai '!$D$5:$K$29,MATCH(B1190,'Modifikuoti svoriai '!$C$5:$C$29,0),MATCH(A1190,'Modifikuoti svoriai '!$D$4:$K$4,0)),\"\")","v":""},null,null,null,null,null,null,null,null,null,null,null,null,null,"","","","","","","","",""]
[null,null,{"$f":"IFERROR(INDEX('Modifikuoti svoriai '!$D$5:$K$29,MATCH(B1191,'Modifikuoti svoriai '!$C$5:$C$29,0),MATCH(A1191,'Modifikuoti svoriai '!$D$4:$K$4,0)),\"\")","v":""},null,null,null,null,null,null,null,null,null,null,null,null,null,"","","","","","","","",""]
[null,null,{"$f":"IFERROR(INDEX('Modifikuoti svoriai '!$D$5:$K$29,MATCH(B1192,'Modifikuoti svoriai '!$C$5:$C$29,0),MATCH(A1192,'Modifikuoti svoriai '!$D$4:$K$4,0)),\"\")","v":""},null,null,null,null,null,null,null,null,null,null,null,null,null,"","","","","","","","",""]
[null,null,{"$f":"IFERROR(INDEX('Modifikuoti svoriai '!$D$5:$K$29,MATCH(B1193,'Modifikuoti svoriai '!$C$5:$C$29,0),MATCH(A1193,'Modifikuoti svoriai '!$D$4:$K$4,0)),\"\")","v":""},null,null,null,null,null,null,null,null,null,null,null,null,null,"","","","","","","","",""]
[null,null,{"$f":"IFERROR(INDEX('Modifikuoti svoriai '!$D$5:$K$29,MATCH(B1194,'Modifikuoti svoriai '!$C$5:$C$29,0),MATCH(A1194,'Modifikuoti svoriai '!$D$4:$K$4,0)),\"\")","v":""},null,null,null,null,null,null,null,null,null,null,null,null,null,"","","","","","","","",""]
[null,null,{"$f":"IFERROR(INDEX('Modifikuoti svoriai '!$D$5:$K$29,MATCH(B1195,'Modifikuoti svoriai '!$C$5:$C$29,0),MATCH(A1195,'Modifikuoti svoriai '!$D$4:$K$4,0)),\"\")","v":""},null,null,null,null,null,null,null,null,null,null,null,null,null,"","","","","","","","",""]
[null,null,{"$f":"IFERROR(INDEX('Modifikuoti svoriai '!$D$5:$K$29,MATCH(B1196,'Modifikuoti svoriai '!$C$5:$C$29,0),MATCH(A1196,'Modifikuoti svoriai '!$D$4:$K$4,0)),\"\")","v":""},null,null,null,null,null,null,null,null,null,null,null,null,null,"","","","","","","","",""]
[null,null,{"$f":"IFERROR(INDEX('Modifikuoti svoriai '!$D$5:$K$29,MATCH(B1197,'Modifikuoti svoriai '!$C$5:$C$29,0),MATCH(A1197,'Modifikuoti svoriai '!$D$4:$K$4,0)),\"\")","v":""},null,null,null,null,null,null,null,null,null,null,null,null,null,"","","","","","","","",""]
[null,null,{"$f":"IFERROR(INDEX('Modifikuoti svoriai '!$D$5:$K$29,MATCH(B1198,'Modifikuoti svoriai '!$C$5:$C$29,0),MATCH(A1198,'Modifikuoti svoriai '!$D$4:$K$4,0)),\"\")","v":""},null,null,null,null,null,null,null,null,null,null,null,null,null,"","","","","","","","",""]
[null,null,{"$f":"IFERROR(INDEX('Modifikuoti svoriai '!$D$5:$K$29,MATCH(B1199,'Modifikuoti svoriai '!$C$5:$C$29,0),MATCH(A1199,'Modifikuoti svoriai '!$D$4:$K$4,0)),\"\")","v":""},null,null,null,null,null,null,null,null,null,null,null,null,null,{"$f":"IF(Q$6<YEAR($K1199),\"Pastato tarnavimo laikotarpis nepasibaigė\",IF(Q$6=YEAR($K1199),\"Pastato tarnavimo laikotarpio pabaiga\",IF($K1199<>0,\"Pastato tarnavimo laikotarpis pasibaigė\",\"\")))","v":""},"","","","","","","",""]
[null,null,{"$f":"IFERROR(INDEX('Modifikuoti svoriai '!$D$5:$K$29,MATCH(B1200,'Modifikuoti svoriai '!$C$5:$C$29,0),MATCH(A1200,'Modifikuoti svoriai '!$D$4:$K$4,0)),\"\")","v":""},null,null,null,null,null,null,null,null,null,null,null,null,null,"","","","","","","","",""]
[null,null,{"$f":"IFERROR(INDEX('Modifikuoti svoriai '!$D$5:$K$29,MATCH(B1201,'Modifikuoti svoriai '!$C$5:$C$29,0),MATCH(A1201,'Modifikuoti svoriai '!$D$4:$K$4,0)),\"\")","v":""},null,null,null,null,null,null,null,null,null,null,null,null,null,"","","","","","","","",""]
[null,null,{"$f":"IFERROR(INDEX('Modifikuoti svoriai '!$D$5:$K$29,MATCH(B1202,'Modifikuoti svoriai '!$C$5:$C$29,0),MATCH(A1202,'Modifikuoti svoriai '!$D$4:$K$4,0)),\"\")","v":""},null,null,null,null,null,null,null,null,null,null,null,null,null,"","","","","","","","",""]
[null,null,{"$f":"IFERROR(INDEX('Modifikuoti svoriai '!$D$5:$K$29,MATCH(B1203,'Modifikuoti svoriai '!$C$5:$C$29,0),MATCH(A1203,'Modifikuoti svoriai '!$D$4:$K$4,0)),\"\")","v":""},null,null,null,null,null,null,null,null,null,null,null,null,null,"","","","","","","","",""]
[null,null,{"$f":"IFERROR(INDEX('Modifikuoti svoriai '!$D$5:$K$29,MATCH(B1204,'Modifikuoti svoriai '!$C$5:$C$29,0),MATCH(A1204,'Modifikuoti svoriai '!$D$4:$K$4,0)),\"\")","v":""},null,null,null,null,null,null,null,null,null,null,null,null,null,"","","","","","","","",""]
[null,null,{"$f":"IFERROR(INDEX('Modifikuoti svoriai '!$D$5:$K$29,MATCH(B1205,'Modifikuoti svoriai '!$C$5:$C$29,0),MATCH(A1205,'Modifikuoti svoriai '!$D$4:$K$4,0)),\"\")","v":""},null,null,null,null,null,null,null,null,null,null,null,null,null,"","","","","","","","",""]
[null,null,{"$f":"IFERROR(INDEX('Modifikuoti svoriai '!$D$5:$K$29,MATCH(B1206,'Modifikuoti svoriai '!$C$5:$C$29,0),MATCH(A1206,'Modifikuoti svoriai '!$D$4:$K$4,0)),\"\")","v":""},null,null,null,null,null,null,null,null,null,null,null,null,null,"","","","","","","","",""]
[null,null,{"$f":"IFERROR(INDEX('Modifikuoti svoriai '!$D$5:$K$29,MATCH(B1207,'Modifikuoti svoriai '!$C$5:$C$29,0),MATCH(A1207,'Modifikuoti svoriai '!$D$4:$K$4,0)),\"\")","v":""},null,null,null,null,null,null,null,null,null,null,null,null,null,"","","","","","","","",""]
[null,null,{"$f":"IFERROR(INDEX('Modifikuoti svoriai '!$D$5:$K$29,MATCH(B1208,'Modifikuoti svoriai '!$C$5:$C$29,0),MATCH(A1208,'Modifikuoti svoriai '!$D$4:$K$4,0)),\"\")","v":""},null,null,null,null,null,null,null,null,null,null,null,null,null,"","","","","","","","",""]
[null,null,{"$f":"IFERROR(INDEX('Modifikuoti svoriai '!$D$5:$K$29,MATCH(B1209,'Modifikuoti svoriai '!$C$5:$C$29,0),MATCH(A1209,'Modifikuoti svoriai '!$D$4:$K$4,0)),\"\")","v":""},null,null,null,null,null,null,null,null,null,null,null,null,null,"","","","","","","","",""]
[null,null,{"$f":"IFERROR(INDEX('Modifikuoti svoriai '!$D$5:$K$29,MATCH(B1210,'Modifikuoti svoriai '!$C$5:$C$29,0),MATCH(A1210,'Modifikuoti svoriai '!$D$4:$K$4,0)),\"\")","v":""},null,null,null,null,null,null,null,null,null,null,null,null,null,"","","","","","","","",""]
[null,null,{"$f":"IFERROR(INDEX('Modifikuoti svoriai '!$D$5:$K$29,MATCH(B1211,'Modifikuoti svoriai '!$C$5:$C$29,0),MATCH(A1211,'Modifikuoti svoriai '!$D$4:$K$4,0)),\"\")","v":""},null,null,null,null,null,null,null,null,null,null,null,null,null,"","","","","","","","",""]
[null,null,{"$f":"IFERROR(INDEX('Modifikuoti svoriai '!$D$5:$K$29,MATCH(B1212,'Modifikuoti svoriai '!$C$5:$C$29,0),MATCH(A1212,'Modifikuoti svoriai '!$D$4:$K$4,0)),\"\")","v":""},null,null,null,null,null,null,null,null,null,null,null,null,null,"","","","","","","","",""]
[null,null,{"$f":"IFERROR(INDEX('Modifikuoti svoriai '!$D$5:$K$29,MATCH(B1213,'Modifikuoti svoriai '!$C$5:$C$29,0),MATCH(A1213,'Modifikuoti svoriai '!$D$4:$K$4,0)),\"\")","v":""},null,null,null,null,null,null,null,null,null,null,null,null,null,"","","","","","","","",""]
[null,null,{"$f":"IFERROR(INDEX('Modifikuoti svoriai '!$D$5:$K$29,MATCH(B1214,'Modifikuoti svoriai '!$C$5:$C$29,0),MATCH(A1214,'Modifikuoti svoriai '!$D$4:$K$4,0)),\"\")","v":""},null,null,null,null,null,null,null,null,null,null,null,null,null,"","","","","","","","",""]
[null,null,{"$f":"IFERROR(INDEX('Modifikuoti svoriai '!$D$5:$K$29,MATCH(B1215,'Modifikuoti svoriai '!$C$5:$C$29,0),MATCH(A1215,'Modifikuoti svoriai '!$D$4:$K$4,0)),\"\")","v":""},null,null,null,null,null,null,null,null,null,null,null,null,null,{"$f":"IF(Q$6<YEAR($K1215),\"Pastato tarnavimo laikotarpis nepasibaigė\",IF(Q$6=YEAR($K1215),\"Pastato tarnavimo laikotarpio pabaiga\",IF($K1215<>0,\"Pastato tarnavimo laikotarpis pasibaigė\",\"\")))","v":""},"","","","","","","",""]
[null,null,{"$f":"IFERROR(INDEX('Modifikuoti svoriai '!$D$5:$K$29,MATCH(B1216,'Modifikuoti svoriai '!$C$5:$C$29,0),MATCH(A1216,'Modifikuoti svoriai '!$D$4:$K$4,0)),\"\")","v":""},null,null,null,null,null,null,null,null,null,null,null,null,null,"","","","","","","","",""]
[null,null,{"$f":"IFERROR(INDEX('Modifikuoti svoriai '!$D$5:$K$29,MATCH(B1217,'Modifikuoti svoriai '!$C$5:$C$29,0),MATCH(A1217,'Modifikuoti svoriai '!$D$4:$K$4,0)),\"\")","v":""},null,null,null,null,null,null,null,null,null,null,null,null,null,"","","","","","","","",""]
[null,null,{"$f":"IFERROR(INDEX('Modifikuoti svoriai '!$D$5:$K$29,MATCH(B1218,'Modifikuoti svoriai '!$C$5:$C$29,0),MATCH(A1218,'Modifikuoti svoriai '!$D$4:$K$4,0)),\"\")","v":""},null,null,null,null,null,null,null,null,null,null,null,null,null,"","","","","","","","",""]
[null,null,{"$f":"IFERROR(INDEX('Modifikuoti svoriai '!$D$5:$K$29,MATCH(B1219,'Modifikuoti svoriai '!$C$5:$C$29,0),MATCH(A1219,'Modifikuoti svoriai '!$D$4:$K$4,0)),\"\")","v":""},null,null,null,null,null,null,null,null,null,null,null,null,null,"","","","","","","","",""]
[null,null,{"$f":"IFERROR(INDEX('Modifikuoti svoriai '!$D$5:$K$29,MATCH(B1220,'Modifikuoti svoriai '!$C$5:$C$29,0),MATCH(A1220,'Modifikuoti svoriai '!$D$4:$K$4,0)),\"\")","v":""},null,null,null,null,null,null,null,null,null,null,null,null,null,"","","","","","","","",""]
[null,null,{"$f":"IFERROR(INDEX('Modifikuoti svoriai '!$D$5:$K$29,MATCH(B1221,'Modifikuoti svoriai '!$C$5:$C$29,0),MATCH(A1221,'Modifikuoti svoriai '!$D$4:$K$4,0)),\"\")","v":""},null,null,null,null,null,null,null,null,null,null,null,null,null,"","","","","","","","",""]
[null,null,{"$f":"IFERROR(INDEX('Modifikuoti svoriai '!$D$5:$K$29,MATCH(B1222,'Modifikuoti svoriai '!$C$5:$C$29,0),MATCH(A1222,'Modifikuoti svoriai '!$D$4:$K$4,0)),\"\")","v":""},null,null,null,null,null,null,null,null,null,null,null,null,null,"","","","","","","","",""]
[null,null,{"$f":"IFERROR(INDEX('Modifikuoti svoriai '!$D$5:$K$29,MATCH(B1223,'Modifikuoti svoriai '!$C$5:$C$29,0),MATCH(A1223,'Modifikuoti svoriai '!$D$4:$K$4,0)),\"\")","v":""},null,null,null,null,null,null,null,null,null,null,null,null,null,"","","","","","","","",""]
[null,null,{"$f":"IFERROR(INDEX('Modifikuoti svoriai '!$D$5:$K$29,MATCH(B1224,'Modifikuoti svoriai '!$C$5:$C$29,0),MATCH(A1224,'Modifikuoti svoriai '!$D$4:$K$4,0)),\"\")","v":""},null,null,null,null,null,null,null,null,null,null,null,null,null,"","","","","","","","",""]
[null,null,{"$f":"IFERROR(INDEX('Modifikuoti svoriai '!$D$5:$K$29,MATCH(B1225,'Modifikuoti svoriai '!$C$5:$C$29,0),MATCH(A1225,'Modifikuoti svoriai '!$D$4:$K$4,0)),\"\")","v":""},null,null,null,null,null,null,null,null,null,null,null,null,null,"","","","","","","","",""]
[null,null,{"$f":"IFERROR(INDEX('Modifikuoti svoriai '!$D$5:$K$29,MATCH(B1226,'Modifikuoti svoriai '!$C$5:$C$29,0),MATCH(A1226,'Modifikuoti svoriai '!$D$4:$K$4,0)),\"\")","v":""},null,null,null,null,null,null,null,null,null,null,null,null,null,"","","","","","","","",""]
[null,null,{"$f":"IFERROR(INDEX('Modifikuoti svoriai '!$D$5:$K$29,MATCH(B1227,'Modifikuoti svoriai '!$C$5:$C$29,0),MATCH(A1227,'Modifikuoti svoriai '!$D$4:$K$4,0)),\"\")","v":""},null,null,null,null,null,null,null,null,null,null,null,null,null,"","","","","","","","",""]
[null,null,{"$f":"IFERROR(INDEX('Modifikuoti svoriai '!$D$5:$K$29,MATCH(B1228,'Modifikuoti svoriai '!$C$5:$C$29,0),MATCH(A1228,'Modifikuoti svoriai '!$D$4:$K$4,0)),\"\")","v":""},null,null,null,null,null,null,null,null,null,null,null,null,null,"","","","","","","","",""]
[null,null,{"$f":"IFERROR(INDEX('Modifikuoti svoriai '!$D$5:$K$29,MATCH(B1229,'Modifikuoti svoriai '!$C$5:$C$29,0),MATCH(A1229,'Modifikuoti svoriai '!$D$4:$K$4,0)),\"\")","v":""},null,null,null,null,null,null,null,null,null,null,null,null,null,"","","","","","","","",""]
[null,null,{"$f":"IFERROR(INDEX('Modifikuoti svoriai '!$D$5:$K$29,MATCH(B1230,'Modifikuoti svoriai '!$C$5:$C$29,0),MATCH(A1230,'Modifikuoti svoriai '!$D$4:$K$4,0)),\"\")","v":""},null,null,null,null,null,null,null,null,null,null,null,null,null,"","","","","","","","",""]
[null,null,{"$f":"IFERROR(INDEX('Modifikuoti svoriai '!$D$5:$K$29,MATCH(B1231,'Modifikuoti svoriai '!$C$5:$C$29,0),MATCH(A1231,'Modifikuoti svoriai '!$D$4:$K$4,0)),\"\")","v":""},null,null,null,null,null,null,null,null,null,null,null,null,null,{"$f":"IF(Q$6<YEAR($K1231),\"Pastato tarnavimo laikotarpis nepasibaigė\",IF(Q$6=YEAR($K1231),\"Pastato tarnavimo laikotarpio pabaiga\",IF($K1231<>0,\"Pastato tarnavimo laikotarpis pasibaigė\",\"\")))","v":""},"","","","","","","",""]
[null,null,{"$f":"IFERROR(INDEX('Modifikuoti svoriai '!$D$5:$K$29,MATCH(B1232,'Modifikuoti svoriai '!$C$5:$C$29,0),MATCH(A1232,'Modifikuoti svoriai '!$D$4:$K$4,0)),\"\")","v":""},null,null,null,null,null,null,null,null,null,null,null,null,null,"","","","","","","","",""]
[null,null,{"$f":"IFERROR(INDEX('Modifikuoti svoriai '!$D$5:$K$29,MATCH(B1233,'Modifikuoti svoriai '!$C$5:$C$29,0),MATCH(A1233,'Modifikuoti svoriai '!$D$4:$K$4,0)),\"\")","v":""},null,null,null,null,null,null,null,null,null,null,null,null,null,"","","","","","","","",""]
[null,null,{"$f":"IFERROR(INDEX('Modifikuoti svoriai '!$D$5:$K$29,MATCH(B1234,'Modifikuoti svoriai '!$C$5:$C$29,0),MATCH(A1234,'Modifikuoti svoriai '!$D$4:$K$4,0)),\"\")","v":""},null,null,null,null,null,null,null,null,null,null,null,null,null,"","","","","","","","",""]
[null,null,{"$f":"IFERROR(INDEX('Modifikuoti svoriai '!$D$5:$K$29,MATCH(B1235,'Modifikuoti svoriai '!$C$5:$C$29,0),MATCH(A1235,'Modifikuoti svoriai '!$D$4:$K$4,0)),\"\")","v":""},null,null,null,null,null,null,null,null,null,null,null,null,null,"","","","","","","","",""]
[null,null,{"$f":"IFERROR(INDEX('Modifikuoti svoriai '!$D$5:$K$29,MATCH(B1236,'Modifikuoti svoriai '!$C$5:$C$29,0),MATCH(A1236,'Modifikuoti svoriai '!$D$4:$K$4,0)),\"\")","v":""},null,null,null,null,null,null,null,null,null,null,null,null,null,"","","","","","","","",""]
[null,null,{"$f":"IFERROR(INDEX('Modifikuoti svoriai '!$D$5:$K$29,MATCH(B1237,'Modifikuoti svoriai '!$C$5:$C$29,0),MATCH(A1237,'Modifikuoti svoriai '!$D$4:$K$4,0)),\"\")","v":""},null,null,null,null,null,null,null,null,null,null,null,null,null,"","","","","","","","",""]
[null,null,{"$f":"IFERROR(INDEX('Modifikuoti svoriai '!$D$5:$K$29,MATCH(B1238,'Modifikuoti svoriai '!$C$5:$C$29,0),MATCH(A1238,'Modifikuoti svoriai '!$D$4:$K$4,0)),\"\")","v":""},null,null,null,null,null,null,null,null,null,null,null,null,null,"","","","","","","","",""]
[null,null,{"$f":"IFERROR(INDEX('Modifikuoti svoriai '!$D$5:$K$29,MATCH(B1239,'Modifikuoti svoriai '!$C$5:$C$29,0),MATCH(A1239,'Modifikuoti svoriai '!$D$4:$K$4,0)),\"\")","v":""},null,null,null,null,null,null,null,null,null,null,null,null,null,"","","","","","","","",""]
[null,null,{"$f":"IFERROR(INDEX('Modifikuoti svoriai '!$D$5:$K$29,MATCH(B1240,'Modifikuoti svoriai '!$C$5:$C$29,0),MATCH(A1240,'Modifikuoti svoriai '!$D$4:$K$4,0)),\"\")","v":""},null,null,null,null,null,null,null,null,null,null,null,null,null,"","","","","","","","",""]
[null,null,{"$f":"IFERROR(INDEX('Modifikuoti svoriai '!$D$5:$K$29,MATCH(B1241,'Modifikuoti svoriai '!$C$5:$C$29,0),MATCH(A1241,'Modifikuoti svoriai '!$D$4:$K$4,0)),\"\")","v":""},null,null,null,null,null,null,null,null,null,null,null,null,null,"","","","","","","","",""]
[null,null,{"$f":"IFERROR(INDEX('Modifikuoti svoriai '!$D$5:$K$29,MATCH(B1242,'Modifikuoti svoriai '!$C$5:$C$29,0),MATCH(A1242,'Modifikuoti svoriai '!$D$4:$K$4,0)),\"\")","v":""},null,null,null,null,null,null,null,null,null,null,null,null,null,"","","","","","","","",""]
[null,null,{"$f":"IFERROR(INDEX('Modifikuoti svoriai '!$D$5:$K$29,MATCH(B1243,'Modifikuoti svoriai '!$C$5:$C$29,0),MATCH(A1243,'Modifikuoti svoriai '!$D$4:$K$4,0)),\"\")","v":""},null,null,null,null,null,null,null,null,null,null,null,null,null,"","","","","","","","",""]
[null,null,{"$f":"IFERROR(INDEX('Modifikuoti svoriai '!$D$5:$K$29,MATCH(B1244,'Modifikuoti svoriai '!$C$5:$C$29,0),MATCH(A1244,'Modifikuoti svoriai '!$D$4:$K$4,0)),\"\")","v":""},null,null,null,null,null,null,null,null,null,null,null,null,null,"","","","","","","","",""]
[null,null,{"$f":"IFERROR(INDEX('Modifikuoti svoriai '!$D$5:$K$29,MATCH(B1245,'Modifikuoti svoriai '!$C$5:$C$29,0),MATCH(A1245,'Modifikuoti svoriai '!$D$4:$K$4,0)),\"\")","v":""},null,null,null,null,null,null,null,null,null,null,null,null,null,"","","","","","","","",""]
[null,null,{"$f":"IFERROR(INDEX('Modifikuoti svoriai '!$D$5:$K$29,MATCH(B1246,'Modifikuoti svoriai '!$C$5:$C$29,0),MATCH(A1246,'Modifikuoti svoriai '!$D$4:$K$4,0)),\"\")","v":""},null,null,null,null,null,null,null,null,null,null,null,null,null,"","","","","","","","",""]
[null,null,{"$f":"IFERROR(INDEX('Modifikuoti svoriai '!$D$5:$K$29,MATCH(B1247,'Modifikuoti svoriai '!$C$5:$C$29,0),MATCH(A1247,'Modifikuoti svoriai '!$D$4:$K$4,0)),\"\")","v":""},null,null,null,null,null,null,null,null,null,null,null,null,null,{"$f":"IF(Q$6<YEAR($K1247),\"Pastato tarnavimo laikotarpis nepasibaigė\",IF(Q$6=YEAR($K1247),\"Pastato tarnavimo laikotarpio pabaiga\",IF($K1247<>0,\"Pastato tarnavimo laikotarpis pasibaigė\",\"\")))","v":""},"","","","","","","",""]
[null,null,{"$f":"IFERROR(INDEX('Modifikuoti svoriai '!$D$5:$K$29,MATCH(B1248,'Modifikuoti svoriai '!$C$5:$C$29,0),MATCH(A1248,'Modifikuoti svoriai '!$D$4:$K$4,0)),\"\")","v":""},null,null,null,null,null,null,null,null,null,null,null,null,null,"","","","","","","","",""]
[null,null,{"$f":"IFERROR(INDEX('Modifikuoti svoriai '!$D$5:$K$29,MATCH(B1249,'Modifikuoti svoriai '!$C$5:$C$29,0),MATCH(A1249,'Modifikuoti svoriai '!$D$4:$K$4,0)),\"\")","v":""},null,null,null,null,null,null,null,null,null,null,null,null,null,"","","","","","","","",""]
[null,null,{"$f":"IFERROR(INDEX('Modifikuoti svoriai '!$D$5:$K$29,MATCH(B1250,'Modifikuoti svoriai '!$C$5:$C$29,0),MATCH(A1250,'Modifikuoti svoriai '!$D$4:$K$4,0)),\"\")","v":""},null,null,null,null,null,null,null,null,null,null,null,null,null,"","","","","","","","",""]
[null,null,{"$f":"IFERROR(INDEX('Modifikuoti svoriai '!$D$5:$K$29,MATCH(B1251,'Modifikuoti svoriai '!$C$5:$C$29,0),MATCH(A1251,'Modifikuoti svoriai '!$D$4:$K$4,0)),\"\")","v":""},null,null,null,null,null,null,null,null,null,null,null,null,null,"","","","","","","","",""]
[null,null,{"$f":"IFERROR(INDEX('Modifikuoti svoriai '!$D$5:$K$29,MATCH(B1252,'Modifikuoti svoriai '!$C$5:$C$29,0),MATCH(A1252,'Modifikuoti svoriai '!$D$4:$K$4,0)),\"\")","v":""},null,null,null,null,null,null,null,null,null,null,null,null,null,"","","","","","","","",""]
[null,null,{"$f":"IFERROR(INDEX('Modifikuoti svoriai '!$D$5:$K$29,MATCH(B1253,'Modifikuoti svoriai '!$C$5:$C$29,0),MATCH(A1253,'Modifikuoti svoriai '!$D$4:$K$4,0)),\"\")","v":""},null,null,null,null,null,null,null,null,null,null,null,null,null,"","","","","","","","",""]
[null,null,{"$f":"IFERROR(INDEX('Modifikuoti svoriai '!$D$5:$K$29,MATCH(B1254,'Modifikuoti svoriai '!$C$5:$C$29,0),MATCH(A1254,'Modifikuoti svoriai '!$D$4:$K$4,0)),\"\")","v":""},null,null,null,null,null,null,null,null,null,null,null,null,null,"","","","","","","","",""]
[null,null,{"$f":"IFERROR(INDEX('Modifikuoti svoriai '!$D$5:$K$29,MATCH(B1255,'Modifikuoti svoriai '!$C$5:$C$29,0),MATCH(A1255,'Modifikuoti svoriai '!$D$4:$K$4,0)),\"\")","v":""},null,null,null,null,null,null,null,null,null,null,null,null,null,"","","","","","","","",""]
[null,null,{"$f":"IFERROR(INDEX('Modifikuoti svoriai '!$D$5:$K$29,MATCH(B1256,'Modifikuoti svoriai '!$C$5:$C$29,0),MATCH(A1256,'Modifikuoti svoriai '!$D$4:$K$4,0)),\"\")","v":""},null,null,null,null,null,null,null,null,null,null,null,null,null,"","","","","","","","",""]
[null,null,{"$f":"IFERROR(INDEX('Modifikuoti svoriai '!$D$5:$K$29,MATCH(B1257,'Modifikuoti svoriai '!$C$5:$C$29,0),MATCH(A1257,'Modifikuoti svoriai '!$D$4:$K$4,0)),\"\")","v":""},null,null,null,null,null,null,null,null,null,null,null,null,null,"","","","","","","","",""]
[null,null,{"$f":"IFERROR(INDEX('Modifikuoti svoriai '!$D$5:$K$29,MATCH(B1258,'Modifikuoti svoriai '!$C$5:$C$29,0),MATCH(A1258,'Modifikuoti svoriai '!$D$4:$K$4,0)),\"\")","v":""},null,null,null,null,null,null,null,null,null,null,null,null,null,"","","","","","","","",""]
[null,null,{"$f":"IFERROR(INDEX('Modifikuoti svoriai '!$D$5:$K$29,MATCH(B1259,'Modifikuoti svoriai '!$C$5:$C$29,0),MATCH(A1259,'Modifikuoti svoriai '!$D$4:$K$4,0)),\"\")","v":""},null,null,null,null,null,null,null,null,null,null,null,null,null,"","","","","","","","",""]
[null,null,{"$f":"IFERROR(INDEX('Modifikuoti svoriai '!$D$5:$K$29,MATCH(B1260,'Modifikuoti svoriai '!$C$5:$C$29,0),MATCH(A1260,'Modifikuoti svoriai '!$D$4:$K$4,0)),\"\")","v":""},null,null,null,null,null,null,null,null,null,null,null,null,null,"","","","","","","","",""]
[null,null,{"$f":"IFERROR(INDEX('Modifikuoti svoriai '!$D$5:$K$29,MATCH(B1261,'Modifikuoti svoriai '!$C$5:$C$29,0),MATCH(A1261,'Modifikuoti svoriai '!$D$4:$K$4,0)),\"\")","v":""},null,null,null,null,null,null,null,null,null,null,null,null,null,"","","","","","","","",""]
[null,null,{"$f":"IFERROR(INDEX('Modifikuoti svoriai '!$D$5:$K$29,MATCH(B1262,'Modifikuoti svoriai '!$C$5:$C$29,0),MATCH(A1262,'Modifikuoti svoriai '!$D$4:$K$4,0)),\"\")","v":""},null,null,null,null,null,null,null,null,null,null,null,null,null,"","","","","","","","",""]
[null,null,{"$f":"IFERROR(INDEX('Modifikuoti svoriai '!$D$5:$K$29,MATCH(B1263,'Modifikuoti svoriai '!$C$5:$C$29,0),MATCH(A1263,'Modifikuoti svoriai '!$D$4:$K$4,0)),\"\")","v":""},null,null,null,null,null,null,null,null,null,null,null,null,null,{"$f":"IF(Q$6<YEAR($K1263),\"Pastato tarnavimo laikotarpis nepasibaigė\",IF(Q$6=YEAR($K1263),\"Pastato tarnavimo laikotarpio pabaiga\",IF($K1263<>0,\"Pastato tarnavimo laikotarpis pasibaigė\",\"\")))","v":""},"","","","","","","",""]
[null,null,{"$f":"IFERROR(INDEX('Modifikuoti svoriai '!$D$5:$K$29,MATCH(B1264,'Modifikuoti svoriai '!$C$5:$C$29,0),MATCH(A1264,'Modifikuoti svoriai '!$D$4:$K$4,0)),\"\")","v":""},null,null,null,null,null,null,null,null,null,null,null,null,null,"","","","","","","","",""]
[null,null,{"$f":"IFERROR(INDEX('Modifikuoti svoriai '!$D$5:$K$29,MATCH(B1265,'Modifikuoti svoriai '!$C$5:$C$29,0),MATCH(A1265,'Modifikuoti svoriai '!$D$4:$K$4,0)),\"\")","v":""},null,null,null,null,null,null,null,null,null,null,null,null,null,"","","","","","","","",""]
[null,null,{"$f":"IFERROR(INDEX('Modifikuoti svoriai '!$D$5:$K$29,MATCH(B1266,'Modifikuoti svoriai '!$C$5:$C$29,0),MATCH(A1266,'Modifikuoti svoriai '!$D$4:$K$4,0)),\"\")","v":""},null,null,null,null,null,null,null,null,null,null,null,null,null,"","","","","","","","",""]
[null,null,{"$f":"IFERROR(INDEX('Modifikuoti svoriai '!$D$5:$K$29,MATCH(B1267,'Modifikuoti svoriai '!$C$5:$C$29,0),MATCH(A1267,'Modifikuoti svoriai '!$D$4:$K$4,0)),\"\")","v":""},null,null,null,null,null,null,null,null,null,null,null,null,null,"","","","","","","","",""]
[null,null,{"$f":"IFERROR(INDEX('Modifikuoti svoriai '!$D$5:$K$29,MATCH(B1268,'Modifikuoti svoriai '!$C$5:$C$29,0),MATCH(A1268,'Modifikuoti svoriai '!$D$4:$K$4,0)),\"\")","v":""},null,null,null,null,null,null,null,null,null,null,null,null,null,"","","","","","","","",""]
[null,null,{"$f":"IFERROR(INDEX('Modifikuoti svoriai '!$D$5:$K$29,MATCH(B1269,'Modifikuoti svoriai '!$C$5:$C$29,0),MATCH(A1269,'Modifikuoti svoriai '!$D$4:$K$4,0)),\"\")","v":""},null,null,null,null,null,null,null,null,null,null,null,null,null,"","","","","","","","",""]
[null,null,{"$f":"IFERROR(INDEX('Modifikuoti svoriai '!$D$5:$K$29,MATCH(B1270,'Modifikuoti svoriai '!$C$5:$C$29,0),MATCH(A1270,'Modifikuoti svoriai '!$D$4:$K$4,0)),\"\")","v":""},null,null,null,null,null,null,null,null,null,null,null,null,null,"","","","","","","","",""]
[null,null,{"$f":"IFERROR(INDEX('Modifikuoti svoriai '!$D$5:$K$29,MATCH(B1271,'Modifikuoti svoriai '!$C$5:$C$29,0),MATCH(A1271,'Modifikuoti svoriai '!$D$4:$K$4,0)),\"\")","v":""},null,null,null,null,null,null,null,null,null,null,null,null,null,"","","","","","","","",""]
[null,null,{"$f":"IFERROR(INDEX('Modifikuoti svoriai '!$D$5:$K$29,MATCH(B1272,'Modifikuoti svoriai '!$C$5:$C$29,0),MATCH(A1272,'Modifikuoti svoriai '!$D$4:$K$4,0)),\"\")","v":""},null,null,null,null,null,null,null,null,null,null,null,null,null,"","","","","","","","",""]
[null,null,{"$f":"IFERROR(INDEX('Modifikuoti svoriai '!$D$5:$K$29,MATCH(B1273,'Modifikuoti svoriai '!$C$5:$C$29,0),MATCH(A1273,'Modifikuoti svoriai '!$D$4:$K$4,0)),\"\")","v":""},null,null,null,null,null,null,null,null,null,null,null,null,null,"","","","","","","","",""]
[null,null,{"$f":"IFERROR(INDEX('Modifikuoti svoriai '!$D$5:$K$29,MATCH(B1274,'Modifikuoti svoriai '!$C$5:$C$29,0),MATCH(A1274,'Modifikuoti svoriai '!$D$4:$K$4,0)),\"\")","v":""},null,null,null,null,null,null,null,null,null,null,null,null,null,"","","","","","","","",""]
[null,null,{"$f":"IFERROR(INDEX('Modifikuoti svoriai '!$D$5:$K$29,MATCH(B1275,'Modifikuoti svoriai '!$C$5:$C$29,0),MATCH(A1275,'Modifikuoti svoriai '!$D$4:$K$4,0)),\"\")","v":""},null,null,null,null,null,null,null,null,null,null,null,null,null,"","","","","","","","",""]
[null,null,{"$f":"IFERROR(INDEX('Modifikuoti svoriai '!$D$5:$K$29,MATCH(B1276,'Modifikuoti svoriai '!$C$5:$C$29,0),MATCH(A1276,'Modifikuoti svoriai '!$D$4:$K$4,0)),\"\")","v":""},null,null,null,null,null,null,null,null,null,null,null,null,null,"","","","","","","","",""]
[null,null,{"$f":"IFERROR(INDEX('Modifikuoti svoriai '!$D$5:$K$29,MATCH(B1277,'Modifikuoti svoriai '!$C$5:$C$29,0),MATCH(A1277,'Modifikuoti svoriai '!$D$4:$K$4,0)),\"\")","v":""},null,null,null,null,null,null,null,null,null,null,null,null,null,"","","","","","","","",""]
[null,null,{"$f":"IFERROR(INDEX('Modifikuoti svoriai '!$D$5:$K$29,MATCH(B1278,'Modifikuoti svoriai '!$C$5:$C$29,0),MATCH(A1278,'Modifikuoti svoriai '!$D$4:$K$4,0)),\"\")","v":""},null,null,null,null,null,null,null,null,null,null,null,null,null,"","","","","","","","",""]
[null,null,{"$f":"IFERROR(INDEX('Modifikuoti svoriai '!$D$5:$K$29,MATCH(B1279,'Modifikuoti svoriai '!$C$5:$C$29,0),MATCH(A1279,'Modifikuoti svoriai '!$D$4:$K$4,0)),\"\")","v":""},null,null,null,null,null,null,null,null,null,null,null,null,null,{"$f":"IF(Q$6<YEAR($K1279),\"Pastato tarnavimo laikotarpis nepasibaigė\",IF(Q$6=YEAR($K1279),\"Pastato tarnavimo laikotarpio pabaiga\",IF($K1279<>0,\"Pastato tarnavimo laikotarpis pasibaigė\",\"\")))","v":""},"","","","","","","",""]
[null,null,{"$f":"IFERROR(INDEX('Modifikuoti svoriai '!$D$5:$K$29,MATCH(B1280,'Modifikuoti svoriai '!$C$5:$C$29,0),MATCH(A1280,'Modifikuoti svoriai '!$D$4:$K$4,0)),\"\")","v":""},null,null,null,null,null,null,null,null,null,null,null,null,null,"","","","","","","","",""]
[null,null,{"$f":"IFERROR(INDEX('Modifikuoti svoriai '!$D$5:$K$29,MATCH(B1281,'Modifikuoti svoriai '!$C$5:$C$29,0),MATCH(A1281,'Modifikuoti svoriai '!$D$4:$K$4,0)),\"\")","v":""},null,null,null,null,null,null,null,null,null,null,null,null,null,"","","","","","","","",""]
[null,null,{"$f":"IFERROR(INDEX('Modifikuoti svoriai '!$D$5:$K$29,MATCH(B1282,'Modifikuoti svoriai '!$C$5:$C$29,0),MATCH(A1282,'Modifikuoti svoriai '!$D$4:$K$4,0)),\"\")","v":""},null,null,null,null,null,null,null,null,null,null,null,null,null,"","","","","","","","",""]
[null,null,{"$f":"IFERROR(INDEX('Modifikuoti svoriai '!$D$5:$K$29,MATCH(B1283,'Modifikuoti svoriai '!$C$5:$C$29,0),MATCH(A1283,'Modifikuoti svoriai '!$D$4:$K$4,0)),\"\")","v":""},null,null,null,null,null,null,null,null,null,null,null,null,null,"","","","","","","","",""]
[null,null,{"$f":"IFERROR(INDEX('Modifikuoti svoriai '!$D$5:$K$29,MATCH(B1284,'Modifikuoti svoriai '!$C$5:$C$29,0),MATCH(A1284,'Modifikuoti svoriai '!$D$4:$K$4,0)),\"\")","v":""},null,null,null,null,null,null,null,null,null,null,null,null,null,"","","","","","","","",""]
[null,null,{"$f":"IFERROR(INDEX('Modifikuoti svoriai '!$D$5:$K$29,MATCH(B1285,'Modifikuoti svoriai '!$C$5:$C$29,0),MATCH(A1285,'Modifikuoti svoriai '!$D$4:$K$4,0)),\"\")","v":""},null,null,null,null,null,null,null,null,null,null,null,null,null,"","","","","","","","",""]
[null,null,{"$f":"IFERROR(INDEX('Modifikuoti svoriai '!$D$5:$K$29,MATCH(B1286,'Modifikuoti svoriai '!$C$5:$C$29,0),MATCH(A1286,'Modifikuoti svoriai '!$D$4:$K$4,0)),\"\")","v":""},null,null,null,null,null,null,null,null,null,null,null,null,null,"","","","","","","","",""]
[null,null,{"$f":"IFERROR(INDEX('Modifikuoti svoriai '!$D$5:$K$29,MATCH(B1287,'Modifikuoti svoriai '!$C$5:$C$29,0),MATCH(A1287,'Modifikuoti svoriai '!$D$4:$K$4,0)),\"\")","v":""},null,null,null,null,null,null,null,null,null,null,null,null,null,"","","","","","","","",""]
[null,null,{"$f":"IFERROR(INDEX('Modifikuoti svoriai '!$D$5:$K$29,MATCH(B1288,'Modifikuoti svoriai '!$C$5:$C$29,0),MATCH(A1288,'Modifikuoti svoriai '!$D$4:$K$4,0)),\"\")","v":""},null,null,null,null,null,null,null,null,null,null,null,null,null,"","","","","","","","",""]
[null,null,{"$f":"IFERROR(INDEX('Modifikuoti svoriai '!$D$5:$K$29,MATCH(B1289,'Modifikuoti svoriai '!$C$5:$C$29,0),MATCH(A1289,'Modifikuoti svoriai '!$D$4:$K$4,0)),\"\")","v":""},null,null,null,null,null,null,null,null,null,null,null,null,null,"","","","","","","","",""]
[null,null,{"$f":"IFERROR(INDEX('Modifikuoti svoriai '!$D$5:$K$29,MATCH(B1290,'Modifikuoti svoriai '!$C$5:$C$29,0),MATCH(A1290,'Modifikuoti svoriai '!$D$4:$K$4,0)),\"\")","v":""},null,null,null,null,null,null,null,null,null,null,null,null,null,"","","","","","","","",""]
[null,null,{"$f":"IFERROR(INDEX('Modifikuoti svoriai '!$D$5:$K$29,MATCH(B1291,'Modifikuoti svoriai '!$C$5:$C$29,0),MATCH(A1291,'Modifikuoti svoriai '!$D$4:$K$4,0)),\"\")","v":""},null,null,null,null,null,null,null,null,null,null,null,null,null,"","","","","","","","",""]
[null,null,{"$f":"IFERROR(INDEX('Modifikuoti svoriai '!$D$5:$K$29,MATCH(B1292,'Modifikuoti svoriai '!$C$5:$C$29,0),MATCH(A1292,'Modifikuoti svoriai '!$D$4:$K$4,0)),\"\")","v":""},null,null,null,null,null,null,null,null,null,null,null,null,null,"","","","","","","","",""]
[null,null,{"$f":"IFERROR(INDEX('Modifikuoti svoriai '!$D$5:$K$29,MATCH(B1293,'Modifikuoti svoriai '!$C$5:$C$29,0),MATCH(A1293,'Modifikuoti svoriai '!$D$4:$K$4,0)),\"\")","v":""},null,null,null,null,null,null,null,null,null,null,null,null,null,"","","","","","","","",""]
[null,null,{"$f":"IFERROR(INDEX('Modifikuoti svoriai '!$D$5:$K$29,MATCH(B1294,'Modifikuoti svoriai '!$C$5:$C$29,0),MATCH(A1294,'Modifikuoti svoriai '!$D$4:$K$4,0)),\"\")","v":""},null,null,null,null,null,null,null,null,null,null,null,null,null,"","","","","","","","",""]
[null,null,{"$f":"IFERROR(INDEX('Modifikuoti svoriai '!$D$5:$K$29,MATCH(B1295,'Modifikuoti svoriai '!$C$5:$C$29,0),MATCH(A1295,'Modifikuoti svoriai '!$D$4:$K$4,0)),\"\")","v":""},null,null,null,null,null,null,null,null,null,null,null,null,null,{"$f":"IF(Q$6<YEAR($K1295),\"Pastato tarnavimo laikotarpis nepasibaigė\",IF(Q$6=YEAR($K1295),\"Pastato tarnavimo laikotarpio pabaiga\",IF($K1295<>0,\"Pastato tarnavimo laikotarpis pasibaigė\",\"\")))","v":""},"","","","","","","",""]
[null,null,{"$f":"IFERROR(INDEX('Modifikuoti svoriai '!$D$5:$K$29,MATCH(B1296,'Modifikuoti svoriai '!$C$5:$C$29,0),MATCH(A1296,'Modifikuoti svoriai '!$D$4:$K$4,0)),\"\")","v":""},null,null,null,null,null,null,null,null,null,null,null,null,null,"","","","","","","","",""]
[null,null,{"$f":"IFERROR(INDEX('Modifikuoti svoriai '!$D$5:$K$29,MATCH(B1297,'Modifikuoti svoriai '!$C$5:$C$29,0),MATCH(A1297,'Modifikuoti svoriai '!$D$4:$K$4,0)),\"\")","v":""},null,null,null,null,null,null,null,null,null,null,null,null,null,"","","","","","","","",""]
[null,null,{"$f":"IFERROR(INDEX('Modifikuoti svoriai '!$D$5:$K$29,MATCH(B1298,'Modifikuoti svoriai '!$C$5:$C$29,0),MATCH(A1298,'Modifikuoti svoriai '!$D$4:$K$4,0)),\"\")","v":""},null,null,null,null,null,null,null,null,null,null,null,null,null,"","","","","","","","",""]
[null,null,{"$f":"IFERROR(INDEX('Modifikuoti svoriai '!$D$5:$K$29,MATCH(B1299,'Modifikuoti svoriai '!$C$5:$C$29,0),MATCH(A1299,'Modifikuoti svoriai '!$D$4:$K$4,0)),\"\")","v":""},null,null,null,null,null,null,null,null,null,null,null,null,null,"","","","","","","","",""]
[null,null,{"$f":"IFERROR(INDEX('Modifikuoti svoriai '!$D$5:$K$29,MATCH(B1300,'Modifikuoti svoriai '!$C$5:$C$29,0),MATCH(A1300,'Modifikuoti svoriai '!$D$4:$K$4,0)),\"\")","v":""},null,null,null,null,null,null,null,null,null,null,null,null,null,"","","","","","","","",""]
[null,null,{"$f":"IFERROR(INDEX('Modifikuoti svoriai '!$D$5:$K$29,MATCH(B1301,'Modifikuoti svoriai '!$C$5:$C$29,0),MATCH(A1301,'Modifikuoti svoriai '!$D$4:$K$4,0)),\"\")","v":""},null,null,null,null,null,null,null,null,null,null,null,null,null,"","","","","","","","",""]
[null,null,{"$f":"IFERROR(INDEX('Modifikuoti svoriai '!$D$5:$K$29,MATCH(B1302,'Modifikuoti svoriai '!$C$5:$C$29,0),MATCH(A1302,'Modifikuoti svoriai '!$D$4:$K$4,0)),\"\")","v":""},null,null,null,null,null,null,null,null,null,null,null,null,null,"","","","","","","","",""]
[null,null,{"$f":"IFERROR(INDEX('Modifikuoti svoriai '!$D$5:$K$29,MATCH(B1303,'Modifikuoti svoriai '!$C$5:$C$29,0),MATCH(A1303,'Modifikuoti svoriai '!$D$4:$K$4,0)),\"\")","v":""},null,null,null,null,null,null,null,null,null,null,null,null,null,"","","","","","","","",""]
[null,null,{"$f":"IFERROR(INDEX('Modifikuoti svoriai '!$D$5:$K$29,MATCH(B1304,'Modifikuoti svoriai '!$C$5:$C$29,0),MATCH(A1304,'Modifikuoti svoriai '!$D$4:$K$4,0)),\"\")","v":""},null,null,null,null,null,null,null,null,null,null,null,null,null,"","","","","","","","",""]
[null,null,{"$f":"IFERROR(INDEX('Modifikuoti svoriai '!$D$5:$K$29,MATCH(B1305,'Modifikuoti svoriai '!$C$5:$C$29,0),MATCH(A1305,'Modifikuoti svoriai '!$D$4:$K$4,0)),\"\")","v":""},null,null,null,null,null,null,null,null,null,null,null,null,null,"","","","","","","","",""]
[null,null,{"$f":"IFERROR(INDEX('Modifikuoti svoriai '!$D$5:$K$29,MATCH(B1306,'Modifikuoti svoriai '!$C$5:$C$29,0),MATCH(A1306,'Modifikuoti svoriai '!$D$4:$K$4,0)),\"\")","v":""},null,null,null,null,null,null,null,null,null,null,null,null,null,"","","","","","","","",""]
[null,null,{"$f":"IFERROR(INDEX('Modifikuoti svoriai '!$D$5:$K$29,MATCH(B1307,'Modifikuoti svoriai '!$C$5:$C$29,0),MATCH(A1307,'Modifikuoti svoriai '!$D$4:$K$4,0)),\"\")","v":""},null,null,null,null,null,null,null,null,null,null,null,null,null,"","","","","","","","",""]
[null,null,{"$f":"IFERROR(INDEX('Modifikuoti svoriai '!$D$5:$K$29,MATCH(B1308,'Modifikuoti svoriai '!$C$5:$C$29,0),MATCH(A1308,'Modifikuoti svoriai '!$D$4:$K$4,0)),\"\")","v":""},null,null,null,null,null,null,null,null,null,null,null,null,null,"","","","","","","","",""]
[null,null,{"$f":"IFERROR(INDEX('Modifikuoti svoriai '!$D$5:$K$29,MATCH(B1309,'Modifikuoti svoriai '!$C$5:$C$29,0),MATCH(A1309,'Modifikuoti svoriai '!$D$4:$K$4,0)),\"\")","v":""},null,null,null,null,null,null,null,null,null,null,null,null,null,"","","","","","","","",""]
[null,null,{"$f":"IFERROR(INDEX('Modifikuoti svoriai '!$D$5:$K$29,MATCH(B1310,'Modifikuoti svoriai '!$C$5:$C$29,0),MATCH(A1310,'Modifikuoti svoriai '!$D$4:$K$4,0)),\"\")","v":""},null,null,null,null,null,null,null,null,null,null,null,null,null,"","","","","","","","",""]
[null,null,{"$f":"IFERROR(INDEX('Modifikuoti svoriai '!$D$5:$K$29,MATCH(B1311,'Modifikuoti svoriai '!$C$5:$C$29,0),MATCH(A1311,'Modifikuoti svoriai '!$D$4:$K$4,0)),\"\")","v":""},null,null,null,null,null,null,null,null,null,null,null,null,null,{"$f":"IF(Q$6<YEAR($K1311),\"Pastato tarnavimo laikotarpis nepasibaigė\",IF(Q$6=YEAR($K1311),\"Pastato tarnavimo laikotarpio pabaiga\",IF($K1311<>0,\"Pastato tarnavimo laikotarpis pasibaigė\",\"\")))","v":""},"","","","","","","",""]
[null,null,{"$f":"IFERROR(INDEX('Modifikuoti svoriai '!$D$5:$K$29,MATCH(B1312,'Modifikuoti svoriai '!$C$5:$C$29,0),MATCH(A1312,'Modifikuoti svoriai '!$D$4:$K$4,0)),\"\")","v":""},null,null,null,null,null,null,null,null,null,null,null,null,null,"","","","","","","","",""]
[null,null,{"$f":"IFERROR(INDEX('Modifikuoti svoriai '!$D$5:$K$29,MATCH(B1313,'Modifikuoti svoriai '!$C$5:$C$29,0),MATCH(A1313,'Modifikuoti svoriai '!$D$4:$K$4,0)),\"\")","v":""},null,null,null,null,null,null,null,null,null,null,null,null,null,"","","","","","","","",""]
[null,null,{"$f":"IFERROR(INDEX('Modifikuoti svoriai '!$D$5:$K$29,MATCH(B1314,'Modifikuoti svoriai '!$C$5:$C$29,0),MATCH(A1314,'Modifikuoti svoriai '!$D$4:$K$4,0)),\"\")","v":""},null,null,null,null,null,null,null,null,null,null,null,null,null,"","","","","","","","",""]
[null,null,{"$f":"IFERROR(INDEX('Modifikuoti svoriai '!$D$5:$K$29,MATCH(B1315,'Modifikuoti svoriai '!$C$5:$C$29,0),MATCH(A1315,'Modifikuoti svoriai '!$D$4:$K$4,0)),\"\")","v":""},null,null,null,null,null,null,null,null,null,null,null,null,null,"","","","","","","","",""]
[null,null,{"$f":"IFERROR(INDEX('Modifikuoti svoriai '!$D$5:$K$29,MATCH(B1316,'Modifikuoti svoriai '!$C$5:$C$29,0),MATCH(A1316,'Modifikuoti svoriai '!$D$4:$K$4,0)),\"\")","v":""},null,null,null,null,null,null,null,null,null,null,null,null,null,"","","","","","","","",""]
[null,null,{"$f":"IFERROR(INDEX('Modifikuoti svoriai '!$D$5:$K$29,MATCH(B1317,'Modifikuoti svoriai '!$C$5:$C$29,0),MATCH(A1317,'Modifikuoti svoriai '!$D$4:$K$4,0)),\"\")","v":""},null,null,null,null,null,null,null,null,null,null,null,null,null,"","","","","","","","",""]
[null,null,{"$f":"IFERROR(INDEX('Modifikuoti svoriai '!$D$5:$K$29,MATCH(B1318,'Modifikuoti svoriai '!$C$5:$C$29,0),MATCH(A1318,'Modifikuoti svoriai '!$D$4:$K$4,0)),\"\")","v":""},null,null,null,null,null,null,null,null,null,null,null,null,null,"","","","","","","","",""]
[null,null,{"$f":"IFERROR(INDEX('Modifikuoti svoriai '!$D$5:$K$29,MATCH(B1319,'Modifikuoti svoriai '!$C$5:$C$29,0),MATCH(A1319,'Modifikuoti svoriai '!$D$4:$K$4,0)),\"\")","v":""},null,null,null,null,null,null,null,null,null,null,null,null,null,"","","","","","","","",""]
[null,null,{"$f":"IFERROR(INDEX('Modifikuoti svoriai '!$D$5:$K$29,MATCH(B1320,'Modifikuoti svoriai '!$C$5:$C$29,0),MATCH(A1320,'Modifikuoti svoriai '!$D$4:$K$4,0)),\"\")","v":""},null,null,null,null,null,null,null,null,null,null,null,null,null,"","","","","","","","",""]
[null,null,{"$f":"IFERROR(INDEX('Modifikuoti svoriai '!$D$5:$K$29,MATCH(B1321,'Modifikuoti svoriai '!$C$5:$C$29,0),MATCH(A1321,'Modifikuoti svoriai '!$D$4:$K$4,0)),\"\")","v":""},null,null,null,null,null,null,null,null,null,null,null,null,null,"","","","","","","","",""]
[null,null,{"$f":"IFERROR(INDEX('Modifikuoti svoriai '!$D$5:$K$29,MATCH(B1322,'Modifikuoti svoriai '!$C$5:$C$29,0),MATCH(A1322,'Modifikuoti svoriai '!$D$4:$K$4,0)),\"\")","v":""},null,null,null,null,null,null,null,null,null,null,null,null,null,"","","","","","","","",""]
[null,null,{"$f":"IFERROR(INDEX('Modifikuoti svoriai '!$D$5:$K$29,MATCH(B1323,'Modifikuoti svoriai '!$C$5:$C$29,0),MATCH(A1323,'Modifikuoti svoriai '!$D$4:$K$4,0)),\"\")","v":""},null,null,null,null,null,null,null,null,null,null,null,null,null,"","","","","","","","",""]
[null,null,{"$f":"IFERROR(INDEX('Modifikuoti svoriai '!$D$5:$K$29,MATCH(B1324,'Modifikuoti svoriai '!$C$5:$C$29,0),MATCH(A1324,'Modifikuoti svoriai '!$D$4:$K$4,0)),\"\")","v":""},null,null,null,null,null,null,null,null,null,null,null,null,null,"","","","","","","","",""]
[null,null,{"$f":"IFERROR(INDEX('Modifikuoti svoriai '!$D$5:$K$29,MATCH(B1325,'Modifikuoti svoriai '!$C$5:$C$29,0),MATCH(A1325,'Modifikuoti svoriai '!$D$4:$K$4,0)),\"\")","v":""},null,null,null,null,null,null,null,null,null,null,null,null,null,"","","","","","","","",""]
[null,null,{"$f":"IFERROR(INDEX('Modifikuoti svoriai '!$D$5:$K$29,MATCH(B1326,'Modifikuoti svoriai '!$C$5:$C$29,0),MATCH(A1326,'Modifikuoti svoriai '!$D$4:$K$4,0)),\"\")","v":""},null,null,null,null,null,null,null,null,null,null,null,null,null,"","","","","","","","",""]
[null,null,{"$f":"IFERROR(INDEX('Modifikuoti svoriai '!$D$5:$K$29,MATCH(B1327,'Modifikuoti svoriai '!$C$5:$C$29,0),MATCH(A1327,'Modifikuoti svoriai '!$D$4:$K$4,0)),\"\")","v":""},null,null,null,null,null,null,null,null,null,null,null,null,null,{"$f":"IF(Q$6<YEAR($K1327),\"Pastato tarnavimo laikotarpis nepasibaigė\",IF(Q$6=YEAR($K1327),\"Pastato tarnavimo laikotarpio pabaiga\",IF($K1327<>0,\"Pastato tarnavimo laikotarpis pasibaigė\",\"\")))","v":""},"","","","","","","",""]
[null,null,{"$f":"IFERROR(INDEX('Modifikuoti svoriai '!$D$5:$K$29,MATCH(B1328,'Modifikuoti svoriai '!$C$5:$C$29,0),MATCH(A1328,'Modifikuoti svoriai '!$D$4:$K$4,0)),\"\")","v":""},null,null,null,null,null,null,null,null,null,null,null,null,null,"","","","","","","","",""]
[null,null,{"$f":"IFERROR(INDEX('Modifikuoti svoriai '!$D$5:$K$29,MATCH(B1329,'Modifikuoti svoriai '!$C$5:$C$29,0),MATCH(A1329,'Modifikuoti svoriai '!$D$4:$K$4,0)),\"\")","v":""},null,null,null,null,null,null,null,null,null,null,null,null,null,"","","","","","","","",""]
[null,null,{"$f":"IFERROR(INDEX('Modifikuoti svoriai '!$D$5:$K$29,MATCH(B1330,'Modifikuoti svoriai '!$C$5:$C$29,0),MATCH(A1330,'Modifikuoti svoriai '!$D$4:$K$4,0)),\"\")","v":""},null,null,null,null,null,null,null,null,null,null,null,null,null,"","","","","","","","",""]
[null,null,{"$f":"IFERROR(INDEX('Modifikuoti svoriai '!$D$5:$K$29,MATCH(B1331,'Modifikuoti svoriai '!$C$5:$C$29,0),MATCH(A1331,'Modifikuoti svoriai '!$D$4:$K$4,0)),\"\")","v":""},null,null,null,null,null,null,null,null,null,null,null,null,null,"","","","","","","","",""]
[null,null,{"$f":"IFERROR(INDEX('Modifikuoti svoriai '!$D$5:$K$29,MATCH(B1332,'Modifikuoti svoriai '!$C$5:$C$29,0),MATCH(A1332,'Modifikuoti svoriai '!$D$4:$K$4,0)),\"\")","v":""},null,null,null,null,null,null,null,null,null,null,null,null,null,"","","","","","","","",""]
[null,null,{"$f":"IFERROR(INDEX('Modifikuoti svoriai '!$D$5:$K$29,MATCH(B1333,'Modifikuoti svoriai '!$C$5:$C$29,0),MATCH(A1333,'Modifikuoti svoriai '!$D$4:$K$4,0)),\"\")","v":""},null,null,null,null,null,null,null,null,null,null,null,null,null,"","","","","","","","",""]
[null,null,{"$f":"IFERROR(INDEX('Modifikuoti svoriai '!$D$5:$K$29,MATCH(B1334,'Modifikuoti svoriai '!$C$5:$C$29,0),MATCH(A1334,'Modifikuoti svoriai '!$D$4:$K$4,0)),\"\")","v":""},null,null,null,null,null,null,null,null,null,null,null,null,null,"","","","","","","","",""]
[null,null,{"$f":"IFERROR(INDEX('Modifikuoti svoriai '!$D$5:$K$29,MATCH(B1335,'Modifikuoti svoriai '!$C$5:$C$29,0),MATCH(A1335,'Modifikuoti svoriai '!$D$4:$K$4,0)),\"\")","v":""},null,null,null,null,null,null,null,null,null,null,null,null,null,"","","","","","","","",""]
[null,null,{"$f":"IFERROR(INDEX('Modifikuoti svoriai '!$D$5:$K$29,MATCH(B1336,'Modifikuoti svoriai '!$C$5:$C$29,0),MATCH(A1336,'Modifikuoti svoriai '!$D$4:$K$4,0)),\"\")","v":""},null,null,null,null,null,null,null,null,null,null,null,null,null,"","","","","","","","",""]
[null,null,{"$f":"IFERROR(INDEX('Modifikuoti svoriai '!$D$5:$K$29,MATCH(B1337,'Modifikuoti svoriai '!$C$5:$C$29,0),MATCH(A1337,'Modifikuoti svoriai '!$D$4:$K$4,0)),\"\")","v":""},null,null,null,null,null,null,null,null,null,null,null,null,null,"","","","","","","","",""]
[null,null,{"$f":"IFERROR(INDEX('Modifikuoti svoriai '!$D$5:$K$29,MATCH(B1338,'Modifikuoti svoriai '!$C$5:$C$29,0),MATCH(A1338,'Modifikuoti svoriai '!$D$4:$K$4,0)),\"\")","v":""},null,null,null,null,null,null,null,null,null,null,null,null,null,"","","","","","","","",""]
[null,null,{"$f":"IFERROR(INDEX('Modifikuoti svoriai '!$D$5:$K$29,MATCH(B1339,'Modifikuoti svoriai '!$C$5:$C$29,0),MATCH(A1339,'Modifikuoti svoriai '!$D$4:$K$4,0)),\"\")","v":""},null,null,null,null,null,null,null,null,null,null,null,null,null,"","","","","","","","",""]
[null,null,{"$f":"IFERROR(INDEX('Modifikuoti svoriai '!$D$5:$K$29,MATCH(B1340,'Modifikuoti svoriai '!$C$5:$C$29,0),MATCH(A1340,'Modifikuoti svoriai '!$D$4:$K$4,0)),\"\")","v":""},null,null,null,null,null,null,null,null,null,null,null,null,null,"","","","","","","","",""]
[null,null,{"$f":"IFERROR(INDEX('Modifikuoti svoriai '!$D$5:$K$29,MATCH(B1341,'Modifikuoti svoriai '!$C$5:$C$29,0),MATCH(A1341,'Modifikuoti svoriai '!$D$4:$K$4,0)),\"\")","v":""},null,null,null,null,null,null,null,null,null,null,null,null,null,"","","","","","","","",""]
[null,null,{"$f":"IFERROR(INDEX('Modifikuoti svoriai '!$D$5:$K$29,MATCH(B1342,'Modifikuoti svoriai '!$C$5:$C$29,0),MATCH(A1342,'Modifikuoti svoriai '!$D$4:$K$4,0)),\"\")","v":""},null,null,null,null,null,null,null,null,null,null,null,null,null,"","","","","","","","",""]
[null,null,{"$f":"IFERROR(INDEX('Modifikuoti svoriai '!$D$5:$K$29,MATCH(B1343,'Modifikuoti svoriai '!$C$5:$C$29,0),MATCH(A1343,'Modifikuoti svoriai '!$D$4:$K$4,0)),\"\")","v":""},null,null,null,null,null,null,null,null,null,null,null,null,null,{"$f":"IF(Q$6<YEAR($K1343),\"Pastato tarnavimo laikotarpis nepasibaigė\",IF(Q$6=YEAR($K1343),\"Pastato tarnavimo laikotarpio pabaiga\",IF($K1343<>0,\"Pastato tarnavimo laikotarpis pasibaigė\",\"\")))","v":""},"","","","","","","",""]
[null,null,{"$f":"IFERROR(INDEX('Modifikuoti svoriai '!$D$5:$K$29,MATCH(B1344,'Modifikuoti svoriai '!$C$5:$C$29,0),MATCH(A1344,'Modifikuoti svoriai '!$D$4:$K$4,0)),\"\")","v":""},null,null,null,null,null,null,null,null,null,null,null,null,null,"","","","","","","","",""]
[null,null,{"$f":"IFERROR(INDEX('Modifikuoti svoriai '!$D$5:$K$29,MATCH(B1345,'Modifikuoti svoriai '!$C$5:$C$29,0),MATCH(A1345,'Modifikuoti svoriai '!$D$4:$K$4,0)),\"\")","v":""},null,null,null,null,null,null,null,null,null,null,null,null,null,"","","","","","","","",""]
[null,null,{"$f":"IFERROR(INDEX('Modifikuoti svoriai '!$D$5:$K$29,MATCH(B1346,'Modifikuoti svoriai '!$C$5:$C$29,0),MATCH(A1346,'Modifikuoti svoriai '!$D$4:$K$4,0)),\"\")","v":""},null,null,null,null,null,null,null,null,null,null,null,null,null,"","","","","","","","",""]
[null,null,{"$f":"IFERROR(INDEX('Modifikuoti svoriai '!$D$5:$K$29,MATCH(B1347,'Modifikuoti svoriai '!$C$5:$C$29,0),MATCH(A1347,'Modifikuoti svoriai '!$D$4:$K$4,0)),\"\")","v":""},null,null,null,null,null,null,null,null,null,null,null,null,null,"","","","","","","","",""]
[null,null,{"$f":"IFERROR(INDEX('Modifikuoti svoriai '!$D$5:$K$29,MATCH(B1348,'Modifikuoti svoriai '!$C$5:$C$29,0),MATCH(A1348,'Modifikuoti svoriai '!$D$4:$K$4,0)),\"\")","v":""},null,null,null,null,null,null,null,null,null,null,null,null,null,"","","","","","","","",""]
[null,null,{"$f":"IFERROR(INDEX('Modifikuoti svoriai '!$D$5:$K$29,MATCH(B1349,'Modifikuoti svoriai '!$C$5:$C$29,0),MATCH(A1349,'Modifikuoti svoriai '!$D$4:$K$4,0)),\"\")","v":""},null,null,null,null,null,null,null,null,null,null,null,null,null,"","","","","","","","",""]
[null,null,{"$f":"IFERROR(INDEX('Modifikuoti svoriai '!$D$5:$K$29,MATCH(B1350,'Modifikuoti svoriai '!$C$5:$C$29,0),MATCH(A1350,'Modifikuoti svoriai '!$D$4:$K$4,0)),\"\")","v":""},null,null,null,null,null,null,null,null,null,null,null,null,null,"","","","","","","","",""]
[null,null,{"$f":"IFERROR(INDEX('Modifikuoti svoriai '!$D$5:$K$29,MATCH(B1351,'Modifikuoti svoriai '!$C$5:$C$29,0),MATCH(A1351,'Modifikuoti svoriai '!$D$4:$K$4,0)),\"\")","v":""},null,null,null,null,null,null,null,null,null,null,null,null,null,"","","","","","","","",""]
[null,null,{"$f":"IFERROR(INDEX('Modifikuoti svoriai '!$D$5:$K$29,MATCH(B1352,'Modifikuoti svoriai '!$C$5:$C$29,0),MATCH(A1352,'Modifikuoti svoriai '!$D$4:$K$4,0)),\"\")","v":""},null,null,null,null,null,null,null,null,null,null,null,null,null,"","","","","","","","",""]
[null,null,{"$f":"IFERROR(INDEX('Modifikuoti svoriai '!$D$5:$K$29,MATCH(B1353,'Modifikuoti svoriai '!$C$5:$C$29,0),MATCH(A1353,'Modifikuoti svoriai '!$D$4:$K$4,0)),\"\")","v":""},null,null,null,null,null,null,null,null,null,null,null,null,null,"","","","","","","","",""]
[null,null,{"$f":"IFERROR(INDEX('Modifikuoti svoriai '!$D$5:$K$29,MATCH(B1354,'Modifikuoti svoriai '!$C$5:$C$29,0),MATCH(A1354,'Modifikuoti svoriai '!$D$4:$K$4,0)),\"\")","v":""},null,null,null,null,null,null,null,null,null,null,null,null,null,"","","","","","","","",""]
[null,null,{"$f":"IFERROR(INDEX('Modifikuoti svoriai '!$D$5:$K$29,MATCH(B1355,'Modifikuoti svoriai '!$C$5:$C$29,0),MATCH(A1355,'Modifikuoti svoriai '!$D$4:$K$4,0)),\"\")","v":""},null,null,null,null,null,null,null,null,null,null,null,null,null,"","","","","","","","",""]
[null,null,{"$f":"IFERROR(INDEX('Modifikuoti svoriai '!$D$5:$K$29,MATCH(B1356,'Modifikuoti svoriai '!$C$5:$C$29,0),MATCH(A1356,'Modifikuoti svoriai '!$D$4:$K$4,0)),\"\")","v":""},null,null,null,null,null,null,null,null,null,null,null,null,null,"","","","","","","","",""]
[null,null,{"$f":"IFERROR(INDEX('Modifikuoti svoriai '!$D$5:$K$29,MATCH(B1357,'Modifikuoti svoriai '!$C$5:$C$29,0),MATCH(A1357,'Modifikuoti svoriai '!$D$4:$K$4,0)),\"\")","v":""},null,null,null,null,null,null,null,null,null,null,null,null,null,"","","","","","","","",""]
[null,null,{"$f":"IFERROR(INDEX('Modifikuoti svoriai '!$D$5:$K$29,MATCH(B1358,'Modifikuoti svoriai '!$C$5:$C$29,0),MATCH(A1358,'Modifikuoti svoriai '!$D$4:$K$4,0)),\"\")","v":""},null,null,null,null,null,null,null,null,null,null,null,null,null,"","","","","","","","",""]
[null,null,{"$f":"IFERROR(INDEX('Modifikuoti svoriai '!$D$5:$K$29,MATCH(B1359,'Modifikuoti svoriai '!$C$5:$C$29,0),MATCH(A1359,'Modifikuoti svoriai '!$D$4:$K$4,0)),\"\")","v":""},null,null,null,null,null,null,null,null,null,null,null,null,null,{"$f":"IF(Q$6<YEAR($K1359),\"Pastato tarnavimo laikotarpis nepasibaigė\",IF(Q$6=YEAR($K1359),\"Pastato tarnavimo laikotarpio pabaiga\",IF($K1359<>0,\"Pastato tarnavimo laikotarpis pasibaigė\",\"\")))","v":""},"","","","","","","",""]
[null,null,{"$f":"IFERROR(INDEX('Modifikuoti svoriai '!$D$5:$K$29,MATCH(B1360,'Modifikuoti svoriai '!$C$5:$C$29,0),MATCH(A1360,'Modifikuoti svoriai '!$D$4:$K$4,0)),\"\")","v":""},null,null,null,null,null,null,null,null,null,null,null,null,null,"","","","","","","","",""]
[null,null,{"$f":"IFERROR(INDEX('Modifikuoti svoriai '!$D$5:$K$29,MATCH(B1361,'Modifikuoti svoriai '!$C$5:$C$29,0),MATCH(A1361,'Modifikuoti svoriai '!$D$4:$K$4,0)),\"\")","v":""},null,null,null,null,null,null,null,null,null,null,null,null,null,"","","","","","","","",""]
[null,null,{"$f":"IFERROR(INDEX('Modifikuoti svoriai '!$D$5:$K$29,MATCH(B1362,'Modifikuoti svoriai '!$C$5:$C$29,0),MATCH(A1362,'Modifikuoti svoriai '!$D$4:$K$4,0)),\"\")","v":""},null,null,null,null,null,null,null,null,null,null,null,null,null,"","","","","","","","",""]
[null,null,{"$f":"IFERROR(INDEX('Modifikuoti svoriai '!$D$5:$K$29,MATCH(B1363,'Modifikuoti svoriai '!$C$5:$C$29,0),MATCH(A1363,'Modifikuoti svoriai '!$D$4:$K$4,0)),\"\")","v":""},null,null,null,null,null,null,null,null,null,null,null,null,null,"","","","","","","","",""]
[null,null,{"$f":"IFERROR(INDEX('Modifikuoti svoriai '!$D$5:$K$29,MATCH(B1364,'Modifikuoti svoriai '!$C$5:$C$29,0),MATCH(A1364,'Modifikuoti svoriai '!$D$4:$K$4,0)),\"\")","v":""},null,null,null,null,null,null,null,null,null,null,null,null,null,"","","","","","","","",""]
[null,null,{"$f":"IFERROR(INDEX('Modifikuoti svoriai '!$D$5:$K$29,MATCH(B1365,'Modifikuoti svoriai '!$C$5:$C$29,0),MATCH(A1365,'Modifikuoti svoriai '!$D$4:$K$4,0)),\"\")","v":""},null,null,null,null,null,null,null,null,null,null,null,null,null,"","","","","","","","",""]
[null,null,{"$f":"IFERROR(INDEX('Modifikuoti svoriai '!$D$5:$K$29,MATCH(B1366,'Modifikuoti svoriai '!$C$5:$C$29,0),MATCH(A1366,'Modifikuoti svoriai '!$D$4:$K$4,0)),\"\")","v":""},null,null,null,null,null,null,null,null,null,null,null,null,null,"","","","","","","","",""]
[null,null,{"$f":"IFERROR(INDEX('Modifikuoti svoriai '!$D$5:$K$29,MATCH(B1367,'Modifikuoti svoriai '!$C$5:$C$29,0),MATCH(A1367,'Modifikuoti svoriai '!$D$4:$K$4,0)),\"\")","v":""},null,null,null,null,null,null,null,null,null,null,null,null,null,"","","","","","","","",""]
[null,null,{"$f":"IFERROR(INDEX('Modifikuoti svoriai '!$D$5:$K$29,MATCH(B1368,'Modifikuoti svoriai '!$C$5:$C$29,0),MATCH(A1368,'Modifikuoti svoriai '!$D$4:$K$4,0)),\"\")","v":""},null,null,null,null,null,null,null,null,null,null,null,null,null,"","","","","","","","",""]
[null,null,{"$f":"IFERROR(INDEX('Modifikuoti svoriai '!$D$5:$K$29,MATCH(B1369,'Modifikuoti svoriai '!$C$5:$C$29,0),MATCH(A1369,'Modifikuoti svoriai '!$D$4:$K$4,0)),\"\")","v":""},null,null,null,null,null,null,null,null,null,null,null,null,null,"","","","","","","","",""]
[null,null,{"$f":"IFERROR(INDEX('Modifikuoti svoriai '!$D$5:$K$29,MATCH(B1370,'Modifikuoti svoriai '!$C$5:$C$29,0),MATCH(A1370,'Modifikuoti svoriai '!$D$4:$K$4,0)),\"\")","v":""},null,null,null,null,null,null,null,null,null,null,null,null,null,"","","","","","","","",""]
[null,null,{"$f":"IFERROR(INDEX('Modifikuoti svoriai '!$D$5:$K$29,MATCH(B1371,'Modifikuoti svoriai '!$C$5:$C$29,0),MATCH(A1371,'Modifikuoti svoriai '!$D$4:$K$4,0)),\"\")","v":""},null,null,null,null,null,null,null,null,null,null,null,null,null,"","","","","","","","",""]
[null,null,{"$f":"IFERROR(INDEX('Modifikuoti svoriai '!$D$5:$K$29,MATCH(B1372,'Modifikuoti svoriai '!$C$5:$C$29,0),MATCH(A1372,'Modifikuoti svoriai '!$D$4:$K$4,0)),\"\")","v":""},null,null,null,null,null,null,null,null,null,null,null,null,null,"","","","","","","","",""]
[null,null,{"$f":"IFERROR(INDEX('Modifikuoti svoriai '!$D$5:$K$29,MATCH(B1373,'Modifikuoti svoriai '!$C$5:$C$29,0),MATCH(A1373,'Modifikuoti svoriai '!$D$4:$K$4,0)),\"\")","v":""},null,null,null,null,null,null,null,null,null,null,null,null,null,"","","","","","","","",""]
[null,null,{"$f":"IFERROR(INDEX('Modifikuoti svoriai '!$D$5:$K$29,MATCH(B1374,'Modifikuoti svoriai '!$C$5:$C$29,0),MATCH(A1374,'Modifikuoti svoriai '!$D$4:$K$4,0)),\"\")","v":""},null,null,null,null,null,null,null,null,null,null,null,null,null,"","","","","","","","",""]
[null,null,{"$f":"IFERROR(INDEX('Modifikuoti svoriai '!$D$5:$K$29,MATCH(B1375,'Modifikuoti svoriai '!$C$5:$C$29,0),MATCH(A1375,'Modifikuoti svoriai '!$D$4:$K$4,0)),\"\")","v":""},null,null,null,null,null,null,null,null,null,null,null,null,null,{"$f":"IF(Q$6<YEAR($K1375),\"Pastato tarnavimo laikotarpis nepasibaigė\",IF(Q$6=YEAR($K1375),\"Pastato tarnavimo laikotarpio pabaiga\",IF($K1375<>0,\"Pastato tarnavimo laikotarpis pasibaigė\",\"\")))","v":""},"","","","","","","",""]
[null,null,{"$f":"IFERROR(INDEX('Modifikuoti svoriai '!$D$5:$K$29,MATCH(B1376,'Modifikuoti svoriai '!$C$5:$C$29,0),MATCH(A1376,'Modifikuoti svoriai '!$D$4:$K$4,0)),\"\")","v":""},null,null,null,null,null,null,null,null,null,null,null,null,null,"","","","","","","","",""]
[null,null,{"$f":"IFERROR(INDEX('Modifikuoti svoriai '!$D$5:$K$29,MATCH(B1377,'Modifikuoti svoriai '!$C$5:$C$29,0),MATCH(A1377,'Modifikuoti svoriai '!$D$4:$K$4,0)),\"\")","v":""},null,null,null,null,null,null,null,null,null,null,null,null,null,"","","","","","","","",""]
[null,null,{"$f":"IFERROR(INDEX('Modifikuoti svoriai '!$D$5:$K$29,MATCH(B1378,'Modifikuoti svoriai '!$C$5:$C$29,0),MATCH(A1378,'Modifikuoti svoriai '!$D$4:$K$4,0)),\"\")","v":""},null,null,null,null,null,null,null,null,null,null,null,null,null,"","","","","","","","",""]
[null,null,{"$f":"IFERROR(INDEX('Modifikuoti svoriai '!$D$5:$K$29,MATCH(B1379,'Modifikuoti svoriai '!$C$5:$C$29,0),MATCH(A1379,'Modifikuoti svoriai '!$D$4:$K$4,0)),\"\")","v":""},null,null,null,null,null,null,null,null,null,null,null,null,null,"","","","","","","","",""]
[null,null,{"$f":"IFERROR(INDEX('Modifikuoti svoriai '!$D$5:$K$29,MATCH(B1380,'Modifikuoti svoriai '!$C$5:$C$29,0),MATCH(A1380,'Modifikuoti svoriai '!$D$4:$K$4,0)),\"\")","v":""},null,null,null,null,null,null,null,null,null,null,null,null,null,"","","","","","","","",""]
[null,null,{"$f":"IFERROR(INDEX('Modifikuoti svoriai '!$D$5:$K$29,MATCH(B1381,'Modifikuoti svoriai '!$C$5:$C$29,0),MATCH(A1381,'Modifikuoti svoriai '!$D$4:$K$4,0)),\"\")","v":""},null,null,null,null,null,null,null,null,null,null,null,null,null,"","","","","","","","",""]
[null,null,{"$f":"IFERROR(INDEX('Modifikuoti svoriai '!$D$5:$K$29,MATCH(B1382,'Modifikuoti svoriai '!$C$5:$C$29,0),MATCH(A1382,'Modifikuoti svoriai '!$D$4:$K$4,0)),\"\")","v":""},null,null,null,null,null,null,null,null,null,null,null,null,null,"","","","","","","","",""]
[null,null,{"$f":"IFERROR(INDEX('Modifikuoti svoriai '!$D$5:$K$29,MATCH(B1383,'Modifikuoti svoriai '!$C$5:$C$29,0),MATCH(A1383,'Modifikuoti svoriai '!$D$4:$K$4,0)),\"\")","v":""},null,null,null,null,null,null,null,null,null,null,null,null,null,"","","","","","","","",""]
[null,null,{"$f":"IFERROR(INDEX('Modifikuoti svoriai '!$D$5:$K$29,MATCH(B1384,'Modifikuoti svoriai '!$C$5:$C$29,0),MATCH(A1384,'Modifikuoti svoriai '!$D$4:$K$4,0)),\"\")","v":""},null,null,null,null,null,null,null,null,null,null,null,null,null,"","","","","","","","",""]
[null,null,{"$f":"IFERROR(INDEX('Modifikuoti svoriai '!$D$5:$K$29,MATCH(B1385,'Modifikuoti svoriai '!$C$5:$C$29,0),MATCH(A1385,'Modifikuoti svoriai '!$D$4:$K$4,0)),\"\")","v":""},null,null,null,null,null,null,null,null,null,null,null,null,null,"","","","","","","","",""]
[null,null,{"$f":"IFERROR(INDEX('Modifikuoti svoriai '!$D$5:$K$29,MATCH(B1386,'Modifikuoti svoriai '!$C$5:$C$29,0),MATCH(A1386,'Modifikuoti svoriai '!$D$4:$K$4,0)),\"\")","v":""},null,null,null,null,null,null,null,null,null,null,null,null,null,"","","","","","","","",""]
[null,null,{"$f":"IFERROR(INDEX('Modifikuoti svoriai '!$D$5:$K$29,MATCH(B1387,'Modifikuoti svoriai '!$C$5:$C$29,0),MATCH(A1387,'Modifikuoti svoriai '!$D$4:$K$4,0)),\"\")","v":""},null,null,null,null,null,null,null,null,null,null,null,null,null,"","","","","","","","",""]
[null,null,{"$f":"IFERROR(INDEX('Modifikuoti svoriai '!$D$5:$K$29,MATCH(B1388,'Modifikuoti svoriai '!$C$5:$C$29,0),MATCH(A1388,'Modifikuoti svoriai '!$D$4:$K$4,0)),\"\")","v":""},null,null,null,null,null,null,null,null,null,null,null,null,null,"","","","","","","","",""]
[null,null,{"$f":"IFERROR(INDEX('Modifikuoti svoriai '!$D$5:$K$29,MATCH(B1389,'Modifikuoti svoriai '!$C$5:$C$29,0),MATCH(A1389,'Modifikuoti svoriai '!$D$4:$K$4,0)),\"\")","v":""},null,null,null,null,null,null,null,null,null,null,null,null,null,"","","","","","","","",""]
[null,null,{"$f":"IFERROR(INDEX('Modifikuoti svoriai '!$D$5:$K$29,MATCH(B1390,'Modifikuoti svoriai '!$C$5:$C$29,0),MATCH(A1390,'Modifikuoti svoriai '!$D$4:$K$4,0)),\"\")","v":""},null,null,null,null,null,null,null,null,null,null,null,null,null,"","","","","","","","",""]
[null,null,{"$f":"IFERROR(INDEX('Modifikuoti svoriai '!$D$5:$K$29,MATCH(B1391,'Modifikuoti svoriai '!$C$5:$C$29,0),MATCH(A1391,'Modifikuoti svoriai '!$D$4:$K$4,0)),\"\")","v":""},null,null,null,null,null,null,null,null,null,null,null,null,null,{"$f":"IF(Q$6<YEAR($K1391),\"Pastato tarnavimo laikotarpis nepasibaigė\",IF(Q$6=YEAR($K1391),\"Pastato tarnavimo laikotarpio pabaiga\",IF($K1391<>0,\"Pastato tarnavimo laikotarpis pasibaigė\",\"\")))","v":""},"","","","","","","",""]
[null,null,{"$f":"IFERROR(INDEX('Modifikuoti svoriai '!$D$5:$K$29,MATCH(B1392,'Modifikuoti svoriai '!$C$5:$C$29,0),MATCH(A1392,'Modifikuoti svoriai '!$D$4:$K$4,0)),\"\")","v":""},null,null,null,null,null,null,null,null,null,null,null,null,null,"","","","","","","","",""]
[null,null,{"$f":"IFERROR(INDEX('Modifikuoti svoriai '!$D$5:$K$29,MATCH(B1393,'Modifikuoti svoriai '!$C$5:$C$29,0),MATCH(A1393,'Modifikuoti svoriai '!$D$4:$K$4,0)),\"\")","v":""},null,null,null,null,null,null,null,null,null,null,null,null,null,"","","","","","","","",""]
[null,null,{"$f":"IFERROR(INDEX('Modifikuoti svoriai '!$D$5:$K$29,MATCH(B1394,'Modifikuoti svoriai '!$C$5:$C$29,0),MATCH(A1394,'Modifikuoti svoriai '!$D$4:$K$4,0)),\"\")","v":""},null,null,null,null,null,null,null,null,null,null,null,null,null,"","","","","","","","",""]
[null,null,{"$f":"IFERROR(INDEX('Modifikuoti svoriai '!$D$5:$K$29,MATCH(B1395,'Modifikuoti svoriai '!$C$5:$C$29,0),MATCH(A1395,'Modifikuoti svoriai '!$D$4:$K$4,0)),\"\")","v":""},null,null,null,null,null,null,null,null,null,null,null,null,null,"","","","","","","","",""]
[null,null,{"$f":"IFERROR(INDEX('Modifikuoti svoriai '!$D$5:$K$29,MATCH(B1396,'Modifikuoti svoriai '!$C$5:$C$29,0),MATCH(A1396,'Modifikuoti svoriai '!$D$4:$K$4,0)),\"\")","v":""},null,null,null,null,null,null,null,null,null,null,null,null,null,"","","","","","","","",""]
[null,null,{"$f":"IFERROR(INDEX('Modifikuoti svoriai '!$D$5:$K$29,MATCH(B1397,'Modifikuoti svoriai '!$C$5:$C$29,0),MATCH(A1397,'Modifikuoti svoriai '!$D$4:$K$4,0)),\"\")","v":""},null,null,null,null,null,null,null,null,null,null,null,null,null,"","","","","","","","",""]
[null,null,{"$f":"IFERROR(INDEX('Modifikuoti svoriai '!$D$5:$K$29,MATCH(B1398,'Modifikuoti svoriai '!$C$5:$C$29,0),MATCH(A1398,'Modifikuoti svoriai '!$D$4:$K$4,0)),\"\")","v":""},null,null,null,null,null,null,null,null,null,null,null,null,null,"","","","","","","","",""]
[null,null,{"$f":"IFERROR(INDEX('Modifikuoti svoriai '!$D$5:$K$29,MATCH(B1399,'Modifikuoti svoriai '!$C$5:$C$29,0),MATCH(A1399,'Modifikuoti svoriai '!$D$4:$K$4,0)),\"\")","v":""},null,null,null,null,null,null,null,null,null,null,null,null,null,"","","","","","","","",""]
[null,null,{"$f":"IFERROR(INDEX('Modifikuoti svoriai '!$D$5:$K$29,MATCH(B1400,'Modifikuoti svoriai '!$C$5:$C$29,0),MATCH(A1400,'Modifikuoti svoriai '!$D$4:$K$4,0)),\"\")","v":""},null,null,null,null,null,null,null,null,null,null,null,null,null,"","","","","","","","",""]
[null,null,{"$f":"IFERROR(INDEX('Modifikuoti svoriai '!$D$5:$K$29,MATCH(B1401,'Modifikuoti svoriai '!$C$5:$C$29,0),MATCH(A1401,'Modifikuoti svoriai '!$D$4:$K$4,0)),\"\")","v":""},null,null,null,null,null,null,null,null,null,null,null,null,null,"","","","","","","","",""]
[null,null,{"$f":"IFERROR(INDEX('Modifikuoti svoriai '!$D$5:$K$29,MATCH(B1402,'Modifikuoti svoriai '!$C$5:$C$29,0),MATCH(A1402,'Modifikuoti svoriai '!$D$4:$K$4,0)),\"\")","v":""},null,null,null,null,null,null,null,null,null,null,null,null,null,"","","","","","","","",""]
[null,null,{"$f":"IFERROR(INDEX('Modifikuoti svoriai '!$D$5:$K$29,MATCH(B1403,'Modifikuoti svoriai '!$C$5:$C$29,0),MATCH(A1403,'Modifikuoti svoriai '!$D$4:$K$4,0)),\"\")","v":""},null,null,null,null,null,null,null,null,null,null,null,null,null,"","","","","","","","",""]
[null,null,{"$f":"IFERROR(INDEX('Modifikuoti svoriai '!$D$5:$K$29,MATCH(B1404,'Modifikuoti svoriai '!$C$5:$C$29,0),MATCH(A1404,'Modifikuoti svoriai '!$D$4:$K$4,0)),\"\")","v":""},null,null,null,null,null,null,null,null,null,null,null,null,null,"","","","","","","","",""]
[null,null,{"$f":"IFERROR(INDEX('Modifikuoti svoriai '!$D$5:$K$29,MATCH(B1405,'Modifikuoti svoriai '!$C$5:$C$29,0),MATCH(A1405,'Modifikuoti svoriai '!$D$4:$K$4,0)),\"\")","v":""},null,null,null,null,null,null,null,null,null,null,null,null,null,"","","","","","","","",""]
[null,null,{"$f":"IFERROR(INDEX('Modifikuoti svoriai '!$D$5:$K$29,MATCH(B1406,'Modifikuoti svoriai '!$C$5:$C$29,0),MATCH(A1406,'Modifikuoti svoriai '!$D$4:$K$4,0)),\"\")","v":""},null,null,null,null,null,null,null,null,null,null,null,null,null,"","","","","","","","",""]
[null,null,{"$f":"IFERROR(INDEX('Modifikuoti svoriai '!$D$5:$K$29,MATCH(B1407,'Modifikuoti svoriai '!$C$5:$C$29,0),MATCH(A1407,'Modifikuoti svoriai '!$D$4:$K$4,0)),\"\")","v":""},null,null,null,null,null,null,null,null,null,null,null,null,null,{"$f":"IF(Q$6<YEAR($K1407),\"Pastato tarnavimo laikotarpis nepasibaigė\",IF(Q$6=YEAR($K1407),\"Pastato tarnavimo laikotarpio pabaiga\",IF($K1407<>0,\"Pastato tarnavimo laikotarpis pasibaigė\",\"\")))","v":""},"","","","","","","",""]
[null,null,{"$f":"IFERROR(INDEX('Modifikuoti svoriai '!$D$5:$K$29,MATCH(B1408,'Modifikuoti svoriai '!$C$5:$C$29,0),MATCH(A1408,'Modifikuoti svoriai '!$D$4:$K$4,0)),\"\")","v":""},null,null,null,null,null,null,null,null,null,null,null,null,null,"","","","","","","","",""]
[null,null,{"$f":"IFERROR(INDEX('Modifikuoti svoriai '!$D$5:$K$29,MATCH(B1409,'Modifikuoti svoriai '!$C$5:$C$29,0),MATCH(A1409,'Modifikuoti svoriai '!$D$4:$K$4,0)),\"\")","v":""},null,null,null,null,null,null,null,null,null,null,null,null,null,"","","","","","","","",""]
[null,null,{"$f":"IFERROR(INDEX('Modifikuoti svoriai '!$D$5:$K$29,MATCH(B1410,'Modifikuoti svoriai '!$C$5:$C$29,0),MATCH(A1410,'Modifikuoti svoriai '!$D$4:$K$4,0)),\"\")","v":""},null,null,null,null,null,null,null,null,null,null,null,null,null,"","","","","","","","",""]
[null,null,{"$f":"IFERROR(INDEX('Modifikuoti svoriai '!$D$5:$K$29,MATCH(B1411,'Modifikuoti svoriai '!$C$5:$C$29,0),MATCH(A1411,'Modifikuoti svoriai '!$D$4:$K$4,0)),\"\")","v":""},null,null,null,null,null,null,null,null,null,null,null,null,null,"","","","","","","","",""]
[null,null,{"$f":"IFERROR(INDEX('Modifikuoti svoriai '!$D$5:$K$29,MATCH(B1412,'Modifikuoti svoriai '!$C$5:$C$29,0),MATCH(A1412,'Modifikuoti svoriai '!$D$4:$K$4,0)),\"\")","v":""},null,null,null,null,null,null,null,null,null,null,null,null,null,"","","","","","","","",""]
[null,null,{"$f":"IFERROR(INDEX('Modifikuoti svoriai '!$D$5:$K$29,MATCH(B1413,'Modifikuoti svoriai '!$C$5:$C$29,0),MATCH(A1413,'Modifikuoti svoriai '!$D$4:$K$4,0)),\"\")","v":""},null,null,null,null,null,null,null,null,null,null,null,null,null,"","","","","","","","",""]
[null,null,{"$f":"IFERROR(INDEX('Modifikuoti svoriai '!$D$5:$K$29,MATCH(B1414,'Modifikuoti svoriai '!$C$5:$C$29,0),MATCH(A1414,'Modifikuoti svoriai '!$D$4:$K$4,0)),\"\")","v":""},null,null,null,null,null,null,null,null,null,null,null,null,null,"","","","","","","","",""]
[null,null,{"$f":"IFERROR(INDEX('Modifikuoti svoriai '!$D$5:$K$29,MATCH(B1415,'Modifikuoti svoriai '!$C$5:$C$29,0),MATCH(A1415,'Modifikuoti svoriai '!$D$4:$K$4,0)),\"\")","v":""},null,null,null,null,null,null,null,null,null,null,null,null,null,"","","","","","","","",""]
[null,null,{"$f":"IFERROR(INDEX('Modifikuoti svoriai '!$D$5:$K$29,MATCH(B1416,'Modifikuoti svoriai '!$C$5:$C$29,0),MATCH(A1416,'Modifikuoti svoriai '!$D$4:$K$4,0)),\"\")","v":""},null,null,null,null,null,null,null,null,null,null,null,null,null,"","","","","","","","",""]
[null,null,{"$f":"IFERROR(INDEX('Modifikuoti svoriai '!$D$5:$K$29,MATCH(B1417,'Modifikuoti svoriai '!$C$5:$C$29,0),MATCH(A1417,'Modifikuoti svoriai '!$D$4:$K$4,0)),\"\")","v":""},null,null,null,null,null,null,null,null,null,null,null,null,null,"","","","","","","","",""]
[null,null,{"$f":"IFERROR(INDEX('Modifikuoti svoriai '!$D$5:$K$29,MATCH(B1418,'Modifikuoti svoriai '!$C$5:$C$29,0),MATCH(A1418,'Modifikuoti svoriai '!$D$4:$K$4,0)),\"\")","v":""},null,null,null,null,null,null,null,null,null,null,null,null,null,"","","","","","","","",""]
[null,null,{"$f":"IFERROR(INDEX('Modifikuoti svoriai '!$D$5:$K$29,MATCH(B1419,'Modifikuoti svoriai '!$C$5:$C$29,0),MATCH(A1419,'Modifikuoti svoriai '!$D$4:$K$4,0)),\"\")","v":""},null,null,null,null,null,null,null,null,null,null,null,null,null,"","","","","","","","",""]
[null,null,{"$f":"IFERROR(INDEX('Modifikuoti svoriai '!$D$5:$K$29,MATCH(B1420,'Modifikuoti svoriai '!$C$5:$C$29,0),MATCH(A1420,'Modifikuoti svoriai '!$D$4:$K$4,0)),\"\")","v":""},null,null,null,null,null,null,null,null,null,null,null,null,null,"","","","","","","","",""]
[null,null,{"$f":"IFERROR(INDEX('Modifikuoti svoriai '!$D$5:$K$29,MATCH(B1421,'Modifikuoti svoriai '!$C$5:$C$29,0),MATCH(A1421,'Modifikuoti svoriai '!$D$4:$K$4,0)),\"\")","v":""},null,null,null,null,null,null,null,null,null,null,null,null,null,"","","","","","","","",""]
[null,null,{"$f":"IFERROR(INDEX('Modifikuoti svoriai '!$D$5:$K$29,MATCH(B1422,'Modifikuoti svoriai '!$C$5:$C$29,0),MATCH(A1422,'Modifikuoti svoriai '!$D$4:$K$4,0)),\"\")","v":""},null,null,null,null,null,null,null,null,null,null,null,null,null,"","","","","","","","",""]
[null,null,{"$f":"IFERROR(INDEX('Modifikuoti svoriai '!$D$5:$K$29,MATCH(B1423,'Modifikuoti svoriai '!$C$5:$C$29,0),MATCH(A1423,'Modifikuoti svoriai '!$D$4:$K$4,0)),\"\")","v":""},null,null,null,null,null,null,null,null,null,null,null,null,null,{"$f":"IF(Q$6<YEAR($K1423),\"Pastato tarnavimo laikotarpis nepasibaigė\",IF(Q$6=YEAR($K1423),\"Pastato tarnavimo laikotarpio pabaiga\",IF($K1423<>0,\"Pastato tarnavimo laikotarpis pasibaigė\",\"\")))","v":""},"","","","","","","",""]
[null,null,{"$f":"IFERROR(INDEX('Modifikuoti svoriai '!$D$5:$K$29,MATCH(B1424,'Modifikuoti svoriai '!$C$5:$C$29,0),MATCH(A1424,'Modifikuoti svoriai '!$D$4:$K$4,0)),\"\")","v":""},null,null,null,null,null,null,null,null,null,null,null,null,null,"","","","","","","","",""]
[null,null,{"$f":"IFERROR(INDEX('Modifikuoti svoriai '!$D$5:$K$29,MATCH(B1425,'Modifikuoti svoriai '!$C$5:$C$29,0),MATCH(A1425,'Modifikuoti svoriai '!$D$4:$K$4,0)),\"\")","v":""},null,null,null,null,null,null,null,null,null,null,null,null,null,"","","","","","","","",""]
[null,null,{"$f":"IFERROR(INDEX('Modifikuoti svoriai '!$D$5:$K$29,MATCH(B1426,'Modifikuoti svoriai '!$C$5:$C$29,0),MATCH(A1426,'Modifikuoti svoriai '!$D$4:$K$4,0)),\"\")","v":""},null,null,null,null,null,null,null,null,null,null,null,null,null,"","","","","","","","",""]
[null,null,{"$f":"IFERROR(INDEX('Modifikuoti svoriai '!$D$5:$K$29,MATCH(B1427,'Modifikuoti svoriai '!$C$5:$C$29,0),MATCH(A1427,'Modifikuoti svoriai '!$D$4:$K$4,0)),\"\")","v":""},null,null,null,null,null,null,null,null,null,null,null,null,null,"","","","","","","","",""]
[null,null,{"$f":"IFERROR(INDEX('Modifikuoti svoriai '!$D$5:$K$29,MATCH(B1428,'Modifikuoti svoriai '!$C$5:$C$29,0),MATCH(A1428,'Modifikuoti svoriai '!$D$4:$K$4,0)),\"\")","v":""},null,null,null,null,null,null,null,null,null,null,null,null,null,"","","","","","","","",""]
[null,null,{"$f":"IFERROR(INDEX('Modifikuoti svoriai '!$D$5:$K$29,MATCH(B1429,'Modifikuoti svoriai '!$C$5:$C$29,0),MATCH(A1429,'Modifikuoti svoriai '!$D$4:$K$4,0)),\"\")","v":""},null,null,null,null,null,null,null,null,null,null,null,null,null,"","","","","","","","",""]
[null,null,{"$f":"IFERROR(INDEX('Modifikuoti svoriai '!$D$5:$K$29,MATCH(B1430,'Modifikuoti svoriai '!$C$5:$C$29,0),MATCH(A1430,'Modifikuoti svoriai '!$D$4:$K$4,0)),\"\")","v":""},null,null,null,null,null,null,null,null,null,null,null,null,null,"","","","","","","","",""]
[null,null,{"$f":"IFERROR(INDEX('Modifikuoti svoriai '!$D$5:$K$29,MATCH(B1431,'Modifikuoti svoriai '!$C$5:$C$29,0),MATCH(A1431,'Modifikuoti svoriai '!$D$4:$K$4,0)),\"\")","v":""},null,null,null,null,null,null,null,null,null,null,null,null,null,"","","","","","","","",""]
[null,null,{"$f":"IFERROR(INDEX('Modifikuoti svoriai '!$D$5:$K$29,MATCH(B1432,'Modifikuoti svoriai '!$C$5:$C$29,0),MATCH(A1432,'Modifikuoti svoriai '!$D$4:$K$4,0)),\"\")","v":""},null,null,null,null,null,null,null,null,null,null,null,null,null,"","","","","","","","",""]
[null,null,{"$f":"IFERROR(INDEX('Modifikuoti svoriai '!$D$5:$K$29,MATCH(B1433,'Modifikuoti svoriai '!$C$5:$C$29,0),MATCH(A1433,'Modifikuoti svoriai '!$D$4:$K$4,0)),\"\")","v":""},null,null,null,null,null,null,null,null,null,null,null,null,null,"","","","","","","","",""]
[null,null,{"$f":"IFERROR(INDEX('Modifikuoti svoriai '!$D$5:$K$29,MATCH(B1434,'Modifikuoti svoriai '!$C$5:$C$29,0),MATCH(A1434,'Modifikuoti svoriai '!$D$4:$K$4,0)),\"\")","v":""},null,null,null,null,null,null,null,null,null,null,null,null,null,"","","","","","","","",""]
[null,null,{"$f":"IFERROR(INDEX('Modifikuoti svoriai '!$D$5:$K$29,MATCH(B1435,'Modifikuoti svoriai '!$C$5:$C$29,0),MATCH(A1435,'Modifikuoti svoriai '!$D$4:$K$4,0)),\"\")","v":""},null,null,null,null,null,null,null,null,null,null,null,null,null,"","","","","","","","",""]
[null,null,{"$f":"IFERROR(INDEX('Modifikuoti svoriai '!$D$5:$K$29,MATCH(B1436,'Modifikuoti svoriai '!$C$5:$C$29,0),MATCH(A1436,'Modifikuoti svoriai '!$D$4:$K$4,0)),\"\")","v":""},null,null,null,null,null,null,null,null,null,null,null,null,null,"","","","","","","","",""]
[null,null,{"$f":"IFERROR(INDEX('Modifikuoti svoriai '!$D$5:$K$29,MATCH(B1437,'Modifikuoti svoriai '!$C$5:$C$29,0),MATCH(A1437,'Modifikuoti svoriai '!$D$4:$K$4,0)),\"\")","v":""},null,null,null,null,null,null,null,null,null,null,null,null,null,"","","","","","","","",""]
[null,null,{"$f":"IFERROR(INDEX('Modifikuoti svoriai '!$D$5:$K$29,MATCH(B1438,'Modifikuoti svoriai '!$C$5:$C$29,0),MATCH(A1438,'Modifikuoti svoriai '!$D$4:$K$4,0)),\"\")","v":""},null,null,null,null,null,null,null,null,null,null,null,null,null,"","","","","","","","",""]
[null,null,{"$f":"IFERROR(INDEX('Modifikuoti svoriai '!$D$5:$K$29,MATCH(B1439,'Modifikuoti svoriai '!$C$5:$C$29,0),MATCH(A1439,'Modifikuoti svoriai '!$D$4:$K$4,0)),\"\")","v":""},null,null,null,null,null,null,null,null,null,null,null,null,null,{"$f":"IF(Q$6<YEAR($K1439),\"Pastato tarnavimo laikotarpis nepasibaigė\",IF(Q$6=YEAR($K1439),\"Pastato tarnavimo laikotarpio pabaiga\",IF($K1439<>0,\"Pastato tarnavimo laikotarpis pasibaigė\",\"\")))","v":""},"","","","","","","",""]
[null,null,{"$f":"IFERROR(INDEX('Modifikuoti svoriai '!$D$5:$K$29,MATCH(B1440,'Modifikuoti svoriai '!$C$5:$C$29,0),MATCH(A1440,'Modifikuoti svoriai '!$D$4:$K$4,0)),\"\")","v":""},null,null,null,null,null,null,null,null,null,null,null,null,null,"","","","","","","","",""]
[null,null,{"$f":"IFERROR(INDEX('Modifikuoti svoriai '!$D$5:$K$29,MATCH(B1441,'Modifikuoti svoriai '!$C$5:$C$29,0),MATCH(A1441,'Modifikuoti svoriai '!$D$4:$K$4,0)),\"\")","v":""},null,null,null,null,null,null,null,null,null,null,null,null,null,"","","","","","","","",""]
[null,null,{"$f":"IFERROR(INDEX('Modifikuoti svoriai '!$D$5:$K$29,MATCH(B1442,'Modifikuoti svoriai '!$C$5:$C$29,0),MATCH(A1442,'Modifikuoti svoriai '!$D$4:$K$4,0)),\"\")","v":""},null,null,null,null,null,null,null,null,null,null,null,null,null,"","","","","","","","",""]
[null,null,{"$f":"IFERROR(INDEX('Modifikuoti svoriai '!$D$5:$K$29,MATCH(B1443,'Modifikuoti svoriai '!$C$5:$C$29,0),MATCH(A1443,'Modifikuoti svoriai '!$D$4:$K$4,0)),\"\")","v":""},null,null,null,null,null,null,null,null,null,null,null,null,null,"","","","","","","","",""]
[null,null,{"$f":"IFERROR(INDEX('Modifikuoti svoriai '!$D$5:$K$29,MATCH(B1444,'Modifikuoti svoriai '!$C$5:$C$29,0),MATCH(A1444,'Modifikuoti svoriai '!$D$4:$K$4,0)),\"\")","v":""},null,null,null,null,null,null,null,null,null,null,null,null,null,"","","","","","","","",""]
[null,null,{"$f":"IFERROR(INDEX('Modifikuoti svoriai '!$D$5:$K$29,MATCH(B1445,'Modifikuoti svoriai '!$C$5:$C$29,0),MATCH(A1445,'Modifikuoti svoriai '!$D$4:$K$4,0)),\"\")","v":""},null,null,null,null,null,null,null,null,null,null,null,null,null,"","","","","","","","",""]
[null,null,{"$f":"IFERROR(INDEX('Modifikuoti svoriai '!$D$5:$K$29,MATCH(B1446,'Modifikuoti svoriai '!$C$5:$C$29,0),MATCH(A1446,'Modifikuoti svoriai '!$D$4:$K$4,0)),\"\")","v":""},null,null,null,null,null,null,null,null,null,null,null,null,null,"","","","","","","","",""]
[null,null,{"$f":"IFERROR(INDEX('Modifikuoti svoriai '!$D$5:$K$29,MATCH(B1447,'Modifikuoti svoriai '!$C$5:$C$29,0),MATCH(A1447,'Modifikuoti svoriai '!$D$4:$K$4,0)),\"\")","v":""},null,null,null,null,null,null,null,null,null,null,null,null,null,"","","","","","","","",""]
[null,null,{"$f":"IFERROR(INDEX('Modifikuoti svoriai '!$D$5:$K$29,MATCH(B1448,'Modifikuoti svoriai '!$C$5:$C$29,0),MATCH(A1448,'Modifikuoti svoriai '!$D$4:$K$4,0)),\"\")","v":""},null,null,null,null,null,null,null,null,null,null,null,null,null,"","","","","","","","",""]
[null,null,{"$f":"IFERROR(INDEX('Modifikuoti svoriai '!$D$5:$K$29,MATCH(B1449,'Modifikuoti svoriai '!$C$5:$C$29,0),MATCH(A1449,'Modifikuoti svoriai '!$D$4:$K$4,0)),\"\")","v":""},null,null,null,null,null,null,null,null,null,null,null,null,null,"","","","","","","","",""]
[null,null,{"$f":"IFERROR(INDEX('Modifikuoti svoriai '!$D$5:$K$29,MATCH(B1450,'Modifikuoti svoriai '!$C$5:$C$29,0),MATCH(A1450,'Modifikuoti svoriai '!$D$4:$K$4,0)),\"\")","v":""},null,null,null,null,null,null,null,null,null,null,null,null,null,"","","","","","","","",""]
[null,null,{"$f":"IFERROR(INDEX('Modifikuoti svoriai '!$D$5:$K$29,MATCH(B1451,'Modifikuoti svoriai '!$C$5:$C$29,0),MATCH(A1451,'Modifikuoti svoriai '!$D$4:$K$4,0)),\"\")","v":""},null,null,null,null,null,null,null,null,null,null,null,null,null,"","","","","","","","",""]
[null,null,{"$f":"IFERROR(INDEX('Modifikuoti svoriai '!$D$5:$K$29,MATCH(B1452,'Modifikuoti svoriai '!$C$5:$C$29,0),MATCH(A1452,'Modifikuoti svoriai '!$D$4:$K$4,0)),\"\")","v":""},null,null,null,null,null,null,null,null,null,null,null,null,null,"","","","","","","","",""]
[null,null,{"$f":"IFERROR(INDEX('Modifikuoti svoriai '!$D$5:$K$29,MATCH(B1453,'Modifikuoti svoriai '!$C$5:$C$29,0),MATCH(A1453,'Modifikuoti svoriai '!$D$4:$K$4,0)),\"\")","v":""},null,null,null,null,null,null,null,null,null,null,null,null,null,"","","","","","","","",""]
[null,null,{"$f":"IFERROR(INDEX('Modifikuoti svoriai '!$D$5:$K$29,MATCH(B1454,'Modifikuoti svoriai '!$C$5:$C$29,0),MATCH(A1454,'Modifikuoti svoriai '!$D$4:$K$4,0)),\"\")","v":""},null,null,null,null,null,null,null,null,null,null,null,null,null,"","","","","","","","",""]
[null,null,{"$f":"IFERROR(INDEX('Modifikuoti svoriai '!$D$5:$K$29,MATCH(B1455,'Modifikuoti svoriai '!$C$5:$C$29,0),MATCH(A1455,'Modifikuoti svoriai '!$D$4:$K$4,0)),\"\")","v":""},null,null,null,null,null,null,null,null,null,null,null,null,null,{"$f":"IF(Q$6<YEAR($K1455),\"Pastato tarnavimo laikotarpis nepasibaigė\",IF(Q$6=YEAR($K1455),\"Pastato tarnavimo laikotarpio pabaiga\",IF($K1455<>0,\"Pastato tarnavimo laikotarpis pasibaigė\",\"\")))","v":""},"","","","","","","",""]
[null,null,{"$f":"IFERROR(INDEX('Modifikuoti svoriai '!$D$5:$K$29,MATCH(B1456,'Modifikuoti svoriai '!$C$5:$C$29,0),MATCH(A1456,'Modifikuoti svoriai '!$D$4:$K$4,0)),\"\")","v":""},null,null,null,null,null,null,null,null,null,null,null,null,null,"","","","","","","","",""]
[null,null,{"$f":"IFERROR(INDEX('Modifikuoti svoriai '!$D$5:$K$29,MATCH(B1457,'Modifikuoti svoriai '!$C$5:$C$29,0),MATCH(A1457,'Modifikuoti svoriai '!$D$4:$K$4,0)),\"\")","v":""},null,null,null,null,null,null,null,null,null,null,null,null,null,"","","","","","","","",""]
[null,null,{"$f":"IFERROR(INDEX('Modifikuoti svoriai '!$D$5:$K$29,MATCH(B1458,'Modifikuoti svoriai '!$C$5:$C$29,0),MATCH(A1458,'Modifikuoti svoriai '!$D$4:$K$4,0)),\"\")","v":""},null,null,null,null,null,null,null,null,null,null,null,null,null,"","","","","","","","",""]
[null,null,{"$f":"IFERROR(INDEX('Modifikuoti svoriai '!$D$5:$K$29,MATCH(B1459,'Modifikuoti svoriai '!$C$5:$C$29,0),MATCH(A1459,'Modifikuoti svoriai '!$D$4:$K$4,0)),\"\")","v":""},null,null,null,null,null,null,null,null,null,null,null,null,null,"","","","","","","","",""]
[null,null,{"$f":"IFERROR(INDEX('Modifikuoti svoriai '!$D$5:$K$29,MATCH(B1460,'Modifikuoti svoriai '!$C$5:$C$29,0),MATCH(A1460,'Modifikuoti svoriai '!$D$4:$K$4,0)),\"\")","v":""},null,null,null,null,null,null,null,null,null,null,null,null,null,"","","","","","","","",""]
[null,null,{"$f":"IFERROR(INDEX('Modifikuoti svoriai '!$D$5:$K$29,MATCH(B1461,'Modifikuoti svoriai '!$C$5:$C$29,0),MATCH(A1461,'Modifikuoti svoriai '!$D$4:$K$4,0)),\"\")","v":""},null,null,null,null,null,null,null,null,null,null,null,null,null,"","","","","","","","",""]
[null,null,{"$f":"IFERROR(INDEX('Modifikuoti svoriai '!$D$5:$K$29,MATCH(B1462,'Modifikuoti svoriai '!$C$5:$C$29,0),MATCH(A1462,'Modifikuoti svoriai '!$D$4:$K$4,0)),\"\")","v":""},null,null,null,null,null,null,null,null,null,null,null,null,null,"","","","","","","","",""]
[null,null,{"$f":"IFERROR(INDEX('Modifikuoti svoriai '!$D$5:$K$29,MATCH(B1463,'Modifikuoti svoriai '!$C$5:$C$29,0),MATCH(A1463,'Modifikuoti svoriai '!$D$4:$K$4,0)),\"\")","v":""},null,null,null,null,null,null,null,null,null,null,null,null,null,"","","","","","","","",""]
[null,null,{"$f":"IFERROR(INDEX('Modifikuoti svoriai '!$D$5:$K$29,MATCH(B1464,'Modifikuoti svoriai '!$C$5:$C$29,0),MATCH(A1464,'Modifikuoti svoriai '!$D$4:$K$4,0)),\"\")","v":""},null,null,null,null,null,null,null,null,null,null,null,null,null,"","","","","","","","",""]
[null,null,{"$f":"IFERROR(INDEX('Modifikuoti svoriai '!$D$5:$K$29,MATCH(B1465,'Modifikuoti svoriai '!$C$5:$C$29,0),MATCH(A1465,'Modifikuoti svoriai '!$D$4:$K$4,0)),\"\")","v":""},null,null,null,null,null,null,null,null,null,null,null,null,null,"","","","","","","","",""]
[null,null,{"$f":"IFERROR(INDEX('Modifikuoti svoriai '!$D$5:$K$29,MATCH(B1466,'Modifikuoti svoriai '!$C$5:$C$29,0),MATCH(A1466,'Modifikuoti svoriai '!$D$4:$K$4,0)),\"\")","v":""},null,null,null,null,null,null,null,null,null,null,null,null,null,"","","","","","","","",""]
[null,null,{"$f":"IFERROR(INDEX('Modifikuoti svoriai '!$D$5:$K$29,MATCH(B1467,'Modifikuoti svoriai '!$C$5:$C$29,0),MATCH(A1467,'Modifikuoti svoriai '!$D$4:$K$4,0)),\"\")","v":""},null,null,null,null,null,null,null,null,null,null,null,null,null,"","","","","","","","",""]
[null,null,{"$f":"IFERROR(INDEX('Modifikuoti svoriai '!$D$5:$K$29,MATCH(B1468,'Modifikuoti svoriai '!$C$5:$C$29,0),MATCH(A1468,'Modifikuoti svoriai '!$D$4:$K$4,0)),\"\")","v":""},null,null,null,null,null,null,null,null,null,null,null,null,null,"","","","","","","","",""]
[null,null,{"$f":"IFERROR(INDEX('Modifikuoti svoriai '!$D$5:$K$29,MATCH(B1469,'Modifikuoti svoriai '!$C$5:$C$29,0),MATCH(A1469,'Modifikuoti svoriai '!$D$4:$K$4,0)),\"\")","v":""},null,null,null,null,null,null,null,null,null,null,null,null,null,"","","","","","","","",""]
[null,null,{"$f":"IFERROR(INDEX('Modifikuoti svoriai '!$D$5:$K$29,MATCH(B1470,'Modifikuoti svoriai '!$C$5:$C$29,0),MATCH(A1470,'Modifikuoti svoriai '!$D$4:$K$4,0)),\"\")","v":""},null,null,null,null,null,null,null,null,null,null,null,null,null,"","","","","","","","",""]
[null,null,{"$f":"IFERROR(INDEX('Modifikuoti svoriai '!$D$5:$K$29,MATCH(B1471,'Modifikuoti svoriai '!$C$5:$C$29,0),MATCH(A1471,'Modifikuoti svoriai '!$D$4:$K$4,0)),\"\")","v":""},null,null,null,null,null,null,null,null,null,null,null,null,null,{"$f":"IF(Q$6<YEAR($K1471),\"Pastato tarnavimo laikotarpis nepasibaigė\",IF(Q$6=YEAR($K1471),\"Pastato tarnavimo laikotarpio pabaiga\",IF($K1471<>0,\"Pastato tarnavimo laikotarpis pasibaigė\",\"\")))","v":""},"","","","","","","",""]
[null,null,{"$f":"IFERROR(INDEX('Modifikuoti svoriai '!$D$5:$K$29,MATCH(B1472,'Modifikuoti svoriai '!$C$5:$C$29,0),MATCH(A1472,'Modifikuoti svoriai '!$D$4:$K$4,0)),\"\")","v":""},null,null,null,null,null,null,null,null,null,null,null,null,null,"","","","","","","","",""]
[null,null,{"$f":"IFERROR(INDEX('Modifikuoti svoriai '!$D$5:$K$29,MATCH(B1473,'Modifikuoti svoriai '!$C$5:$C$29,0),MATCH(A1473,'Modifikuoti svoriai '!$D$4:$K$4,0)),\"\")","v":""},null,null,null,null,null,null,null,null,null,null,null,null,null,"","","","","","","","",""]
[null,null,{"$f":"IFERROR(INDEX('Modifikuoti svoriai '!$D$5:$K$29,MATCH(B1474,'Modifikuoti svoriai '!$C$5:$C$29,0),MATCH(A1474,'Modifikuoti svoriai '!$D$4:$K$4,0)),\"\")","v":""},null,null,null,null,null,null,null,null,null,null,null,null,null,"","","","","","","","",""]
[null,null,{"$f":"IFERROR(INDEX('Modifikuoti svoriai '!$D$5:$K$29,MATCH(B1475,'Modifikuoti svoriai '!$C$5:$C$29,0),MATCH(A1475,'Modifikuoti svoriai '!$D$4:$K$4,0)),\"\")","v":""},null,null,null,null,null,null,null,null,null,null,null,null,null,"","","","","","","","",""]
[null,null,{"$f":"IFERROR(INDEX('Modifikuoti svoriai '!$D$5:$K$29,MATCH(B1476,'Modifikuoti svoriai '!$C$5:$C$29,0),MATCH(A1476,'Modifikuoti svoriai '!$D$4:$K$4,0)),\"\")","v":""},null,null,null,null,null,null,null,null,null,null,null,null,null,"","","","","","","","",""]
[null,null,{"$f":"IFERROR(INDEX('Modifikuoti svoriai '!$D$5:$K$29,MATCH(B1477,'Modifikuoti svoriai '!$C$5:$C$29,0),MATCH(A1477,'Modifikuoti svoriai '!$D$4:$K$4,0)),\"\")","v":""},null,null,null,null,null,null,null,null,null,null,null,null,null,"","","","","","","","",""]
[null,null,{"$f":"IFERROR(INDEX('Modifikuoti svoriai '!$D$5:$K$29,MATCH(B1478,'Modifikuoti svoriai '!$C$5:$C$29,0),MATCH(A1478,'Modifikuoti svoriai '!$D$4:$K$4,0)),\"\")","v":""},null,null,null,null,null,null,null,null,null,null,null,null,null,"","","","","","","","",""]
[null,null,{"$f":"IFERROR(INDEX('Modifikuoti svoriai '!$D$5:$K$29,MATCH(B1479,'Modifikuoti svoriai '!$C$5:$C$29,0),MATCH(A1479,'Modifikuoti svoriai '!$D$4:$K$4,0)),\"\")","v":""},null,null,null,null,null,null,null,null,null,null,null,null,null,"","","","","","","","",""]
[null,null,{"$f":"IFERROR(INDEX('Modifikuoti svoriai '!$D$5:$K$29,MATCH(B1480,'Modifikuoti svoriai '!$C$5:$C$29,0),MATCH(A1480,'Modifikuoti svoriai '!$D$4:$K$4,0)),\"\")","v":""},null,null,null,null,null,null,null,null,null,null,null,null,null,"","","","","","","","",""]
[null,null,{"$f":"IFERROR(INDEX('Modifikuoti svoriai '!$D$5:$K$29,MATCH(B1481,'Modifikuoti svoriai '!$C$5:$C$29,0),MATCH(A1481,'Modifikuoti svoriai '!$D$4:$K$4,0)),\"\")","v":""},null,null,null,null,null,null,null,null,null,null,null,null,null,"","","","","","","","",""]
[null,null,{"$f":"IFERROR(INDEX('Modifikuoti svoriai '!$D$5:$K$29,MATCH(B1482,'Modifikuoti svoriai '!$C$5:$C$29,0),MATCH(A1482,'Modifikuoti svoriai '!$D$4:$K$4,0)),\"\")","v":""},null,null,null,null,null,null,null,null,null,null,null,null,null,"","","","","","","","",""]
[null,null,{"$f":"IFERROR(INDEX('Modifikuoti svoriai '!$D$5:$K$29,MATCH(B1483,'Modifikuoti svoriai '!$C$5:$C$29,0),MATCH(A1483,'Modifikuoti svoriai '!$D$4:$K$4,0)),\"\")","v":""},null,null,null,null,null,null,null,null,null,null,null,null,null,"","","","","","","","",""]
[null,null,{"$f":"IFERROR(INDEX('Modifikuoti svoriai '!$D$5:$K$29,MATCH(B1484,'Modifikuoti svoriai '!$C$5:$C$29,0),MATCH(A1484,'Modifikuoti svoriai '!$D$4:$K$4,0)),\"\")","v":""},null,null,null,null,null,null,null,null,null,null,null,null,null,"","","","","","","","",""]
[null,null,{"$f":"IFERROR(INDEX('Modifikuoti svoriai '!$D$5:$K$29,MATCH(B1485,'Modifikuoti svoriai '!$C$5:$C$29,0),MATCH(A1485,'Modifikuoti svoriai '!$D$4:$K$4,0)),\"\")","v":""},null,null,null,null,null,null,null,null,null,null,null,null,null,"","","","","","","","",""]
[null,null,{"$f":"IFERROR(INDEX('Modifikuoti svoriai '!$D$5:$K$29,MATCH(B1486,'Modifikuoti svoriai '!$C$5:$C$29,0),MATCH(A1486,'Modifikuoti svoriai '!$D$4:$K$4,0)),\"\")","v":""},null,null,null,null,null,null,null,null,null,null,null,null,null,"","","","","","","","",""]
[null,null,{"$f":"IFERROR(INDEX('Modifikuoti svoriai '!$D$5:$K$29,MATCH(B1487,'Modifikuoti svoriai '!$C$5:$C$29,0),MATCH(A1487,'Modifikuoti svoriai '!$D$4:$K$4,0)),\"\")","v":""},null,null,null,null,null,null,null,null,null,null,null,null,null,{"$f":"IF(Q$6<YEAR($K1487),\"Pastato tarnavimo laikotarpis nepasibaigė\",IF(Q$6=YEAR($K1487),\"Pastato tarnavimo laikotarpio pabaiga\",IF($K1487<>0,\"Pastato tarnavimo laikotarpis pasibaigė\",\"\")))","v":""},"","","","","","","",""]
[null,null,{"$f":"IFERROR(INDEX('Modifikuoti svoriai '!$D$5:$K$29,MATCH(B1488,'Modifikuoti svoriai '!$C$5:$C$29,0),MATCH(A1488,'Modifikuoti svoriai '!$D$4:$K$4,0)),\"\")","v":""},null,null,null,null,null,null,null,null,null,null,null,null,null,"","","","","","","","",""]
[null,null,{"$f":"IFERROR(INDEX('Modifikuoti svoriai '!$D$5:$K$29,MATCH(B1489,'Modifikuoti svoriai '!$C$5:$C$29,0),MATCH(A1489,'Modifikuoti svoriai '!$D$4:$K$4,0)),\"\")","v":""},null,null,null,null,null,null,null,null,null,null,null,null,null,"","","","","","","","",""]
[null,null,{"$f":"IFERROR(INDEX('Modifikuoti svoriai '!$D$5:$K$29,MATCH(B1490,'Modifikuoti svoriai '!$C$5:$C$29,0),MATCH(A1490,'Modifikuoti svoriai '!$D$4:$K$4,0)),\"\")","v":""},null,null,null,null,null,null,null,null,null,null,null,null,null,"","","","","","","","",""]
[null,null,{"$f":"IFERROR(INDEX('Modifikuoti svoriai '!$D$5:$K$29,MATCH(B1491,'Modifikuoti svoriai '!$C$5:$C$29,0),MATCH(A1491,'Modifikuoti svoriai '!$D$4:$K$4,0)),\"\")","v":""},null,null,null,null,null,null,null,null,null,null,null,null,null,"","","","","","","","",""]
[null,null,{"$f":"IFERROR(INDEX('Modifikuoti svoriai '!$D$5:$K$29,MATCH(B1492,'Modifikuoti svoriai '!$C$5:$C$29,0),MATCH(A1492,'Modifikuoti svoriai '!$D$4:$K$4,0)),\"\")","v":""},null,null,null,null,null,null,null,null,null,null,null,null,null,"","","","","","","","",""]
[null,null,{"$f":"IFERROR(INDEX('Modifikuoti svoriai '!$D$5:$K$29,MATCH(B1493,'Modifikuoti svoriai '!$C$5:$C$29,0),MATCH(A1493,'Modifikuoti svoriai '!$D$4:$K$4,0)),\"\")","v":""},null,null,null,null,null,null,null,null,null,null,null,null,null,"","","","","","","","",""]
[null,null,{"$f":"IFERROR(INDEX('Modifikuoti svoriai '!$D$5:$K$29,MATCH(B1494,'Modifikuoti svoriai '!$C$5:$C$29,0),MATCH(A1494,'Modifikuoti svoriai '!$D$4:$K$4,0)),\"\")","v":""},null,null,null,null,null,null,null,null,null,null,null,null,null,"","","","","","","","",""]
[null,null,{"$f":"IFERROR(INDEX('Modifikuoti svoriai '!$D$5:$K$29,MATCH(B1495,'Modifikuoti svoriai '!$C$5:$C$29,0),MATCH(A1495,'Modifikuoti svoriai '!$D$4:$K$4,0)),\"\")","v":""},null,null,null,null,null,null,null,null,null,null,null,null,null,"","","","","","","","",""]
[null,null,{"$f":"IFERROR(INDEX('Modifikuoti svoriai '!$D$5:$K$29,MATCH(B1496,'Modifikuoti svoriai '!$C$5:$C$29,0),MATCH(A1496,'Modifikuoti svoriai '!$D$4:$K$4,0)),\"\")","v":""},null,null,null,null,null,null,null,null,null,null,null,null,null,"","","","","","","","",""]
[null,null,{"$f":"IFERROR(INDEX('Modifikuoti svoriai '!$D$5:$K$29,MATCH(B1497,'Modifikuoti svoriai '!$C$5:$C$29,0),MATCH(A1497,'Modifikuoti svoriai '!$D$4:$K$4,0)),\"\")","v":""},null,null,null,null,null,null,null,null,null,null,null,null,null,"","","","","","","","",""]
[null,null,{"$f":"IFERROR(INDEX('Modifikuoti svoriai '!$D$5:$K$29,MATCH(B1498,'Modifikuoti svoriai '!$C$5:$C$29,0),MATCH(A1498,'Modifikuoti svoriai '!$D$4:$K$4,0)),\"\")","v":""},null,null,null,null,null,null,null,null,null,null,null,null,null,"","","","","","","","",""]
[null,null,{"$f":"IFERROR(INDEX('Modifikuoti svoriai '!$D$5:$K$29,MATCH(B1499,'Modifikuoti svoriai '!$C$5:$C$29,0),MATCH(A1499,'Modifikuoti svoriai '!$D$4:$K$4,0)),\"\")","v":""},null,null,null,null,null,null,null,null,null,null,null,null,null,"","","","","","","","",""]
[null,null,{"$f":"IFERROR(INDEX('Modifikuoti svoriai '!$D$5:$K$29,MATCH(B1500,'Modifikuoti svoriai '!$C$5:$C$29,0),MATCH(A1500,'Modifikuoti svoriai '!$D$4:$K$4,0)),\"\")","v":""},null,null,null,null,null,null,null,null,null,null,null,null,null,"","","","","","","","",""]
[null,null,{"$f":"IFERROR(INDEX('Modifikuoti svoriai '!$D$5:$K$29,MATCH(B1501,'Modifikuoti svoriai '!$C$5:$C$29,0),MATCH(A1501,'Modifikuoti svoriai '!$D$4:$K$4,0)),\"\")","v":""},null,null,null,null,null,null,null,null,null,null,null,null,null,"","","","","","","","",""]
[null,null,{"$f":"IFERROR(INDEX('Modifikuoti svoriai '!$D$5:$K$29,MATCH(B1502,'Modifikuoti svoriai '!$C$5:$C$29,0),MATCH(A1502,'Modifikuoti svoriai '!$D$4:$K$4,0)),\"\")","v":""},null,null,null,null,null,null,null,null,null,null,null,null,null,"","","","","","","","",""]
[null,null,{"$f":"IFERROR(INDEX('Modifikuoti svoriai '!$D$5:$K$29,MATCH(B1503,'Modifikuoti svoriai '!$C$5:$C$29,0),MATCH(A1503,'Modifikuoti svoriai '!$D$4:$K$4,0)),\"\")","v":""},null,null,null,null,null,null,null,null,null,null,null,null,null,{"$f":"IF(Q$6<YEAR($K1503),\"Pastato tarnavimo laikotarpis nepasibaigė\",IF(Q$6=YEAR($K1503),\"Pastato tarnavimo laikotarpio pabaiga\",IF($K1503<>0,\"Pastato tarnavimo laikotarpis pasibaigė\",\"\")))","v":""},"","","","","","","",""]
[null,null,{"$f":"IFERROR(INDEX('Modifikuoti svoriai '!$D$5:$K$29,MATCH(B1504,'Modifikuoti svoriai '!$C$5:$C$29,0),MATCH(A1504,'Modifikuoti svoriai '!$D$4:$K$4,0)),\"\")","v":""},null,null,null,null,null,null,null,null,null,null,null,null,null,"","","","","","","","",""]
[null,null,{"$f":"IFERROR(INDEX('Modifikuoti svoriai '!$D$5:$K$29,MATCH(B1505,'Modifikuoti svoriai '!$C$5:$C$29,0),MATCH(A1505,'Modifikuoti svoriai '!$D$4:$K$4,0)),\"\")","v":""},null,null,null,null,null,null,null,null,null,null,null,null,null,"","","","","","","","",""]
[null,null,{"$f":"IFERROR(INDEX('Modifikuoti svoriai '!$D$5:$K$29,MATCH(B1506,'Modifikuoti svoriai '!$C$5:$C$29,0),MATCH(A1506,'Modifikuoti svoriai '!$D$4:$K$4,0)),\"\")","v":""},null,null,null,null,null,null,null,null,null,null,null,null,null,"","","","","","","","",""]
[null,null,{"$f":"IFERROR(INDEX('Modifikuoti svoriai '!$D$5:$K$29,MATCH(B1507,'Modifikuoti svoriai '!$C$5:$C$29,0),MATCH(A1507,'Modifikuoti svoriai '!$D$4:$K$4,0)),\"\")","v":""},null,null,null,null,null,null,null,null,null,null,null,null,null,"","","","","","","","",""]
[null,null,{"$f":"IFERROR(INDEX('Modifikuoti svoriai '!$D$5:$K$29,MATCH(B1508,'Modifikuoti svoriai '!$C$5:$C$29,0),MATCH(A1508,'Modifikuoti svoriai '!$D$4:$K$4,0)),\"\")","v":""},null,null,null,null,null,null,null,null,null,null,null,null,null,"","","","","","","","",""]
[null,null,{"$f":"IFERROR(INDEX('Modifikuoti svoriai '!$D$5:$K$29,MATCH(B1509,'Modifikuoti svoriai '!$C$5:$C$29,0),MATCH(A1509,'Modifikuoti svoriai '!$D$4:$K$4,0)),\"\")","v":""},null,null,null,null,null,null,null,null,null,null,null,null,null,"","","","","","","","",""]
[null,null,{"$f":"IFERROR(INDEX('Modifikuoti svoriai '!$D$5:$K$29,MATCH(B1510,'Modifikuoti svoriai '!$C$5:$C$29,0),MATCH(A1510,'Modifikuoti svoriai '!$D$4:$K$4,0)),\"\")","v":""},null,null,null,null,null,null,null,null,null,null,null,null,null,"","","","","","","","",""]
[null,null,{"$f":"IFERROR(INDEX('Modifikuoti svoriai '!$D$5:$K$29,MATCH(B1511,'Modifikuoti svoriai '!$C$5:$C$29,0),MATCH(A1511,'Modifikuoti svoriai '!$D$4:$K$4,0)),\"\")","v":""},null,null,null,null,null,null,null,null,null,null,null,null,null,"","","","","","","","",""]
[null,null,{"$f":"IFERROR(INDEX('Modifikuoti svoriai '!$D$5:$K$29,MATCH(B1512,'Modifikuoti svoriai '!$C$5:$C$29,0),MATCH(A1512,'Modifikuoti svoriai '!$D$4:$K$4,0)),\"\")","v":""},null,null,null,null,null,null,null,null,null,null,null,null,null,"","","","","","","","",""]
[null,null,{"$f":"IFERROR(INDEX('Modifikuoti svoriai '!$D$5:$K$29,MATCH(B1513,'Modifikuoti svoriai '!$C$5:$C$29,0),MATCH(A1513,'Modifikuoti svoriai '!$D$4:$K$4,0)),\"\")","v":""},null,null,null,null,null,null,null,null,null,null,null,null,null,"","","","","","","","",""]
[null,null,{"$f":"IFERROR(INDEX('Modifikuoti svoriai '!$D$5:$K$29,MATCH(B1514,'Modifikuoti svoriai '!$C$5:$C$29,0),MATCH(A1514,'Modifikuoti svoriai '!$D$4:$K$4,0)),\"\")","v":""},null,null,null,null,null,null,null,null,null,null,null,null,null,"","","","","","","","",""]
[null,null,{"$f":"IFERROR(INDEX('Modifikuoti svoriai '!$D$5:$K$29,MATCH(B1515,'Modifikuoti svoriai '!$C$5:$C$29,0),MATCH(A1515,'Modifikuoti svoriai '!$D$4:$K$4,0)),\"\")","v":""},null,null,null,null,null,null,null,null,null,null,null,null,null,"","","","","","","","",""]
[null,null,{"$f":"IFERROR(INDEX('Modifikuoti svoriai '!$D$5:$K$29,MATCH(B1516,'Modifikuoti svoriai '!$C$5:$C$29,0),MATCH(A1516,'Modifikuoti svoriai '!$D$4:$K$4,0)),\"\")","v":""},null,null,null,null,null,null,null,null,null,null,null,null,null,"","","","","","","","",""]
[null,null,{"$f":"IFERROR(INDEX('Modifikuoti svoriai '!$D$5:$K$29,MATCH(B1517,'Modifikuoti svoriai '!$C$5:$C$29,0),MATCH(A1517,'Modifikuoti svoriai '!$D$4:$K$4,0)),\"\")","v":""},null,null,null,null,null,null,null,null,null,null,null,null,null,"","","","","","","","",""]
[null,null,{"$f":"IFERROR(INDEX('Modifikuoti svoriai '!$D$5:$K$29,MATCH(B1518,'Modifikuoti svoriai '!$C$5:$C$29,0),MATCH(A1518,'Modifikuoti svoriai '!$D$4:$K$4,0)),\"\")","v":""},null,null,null,null,null,null,null,null,null,null,null,null,null,"","","","","","","","",""]
[null,null,{"$f":"IFERROR(INDEX('Modifikuoti svoriai '!$D$5:$K$29,MATCH(B1519,'Modifikuoti svoriai '!$C$5:$C$29,0),MATCH(A1519,'Modifikuoti svoriai '!$D$4:$K$4,0)),\"\")","v":""},null,null,null,null,null,null,null,null,null,null,null,null,null,{"$f":"IF(Q$6<YEAR($K1519),\"Pastato tarnavimo laikotarpis nepasibaigė\",IF(Q$6=YEAR($K1519),\"Pastato tarnavimo laikotarpio pabaiga\",IF($K1519<>0,\"Pastato tarnavimo laikotarpis pasibaigė\",\"\")))","v":""},"","","","","","","",""]
[null,null,{"$f":"IFERROR(INDEX('Modifikuoti svoriai '!$D$5:$K$29,MATCH(B1520,'Modifikuoti svoriai '!$C$5:$C$29,0),MATCH(A1520,'Modifikuoti svoriai '!$D$4:$K$4,0)),\"\")","v":""},null,null,null,null,null,null,null,null,null,null,null,null,null,"","","","","","","","",""]
[null,null,{"$f":"IFERROR(INDEX('Modifikuoti svoriai '!$D$5:$K$29,MATCH(B1521,'Modifikuoti svoriai '!$C$5:$C$29,0),MATCH(A1521,'Modifikuoti svoriai '!$D$4:$K$4,0)),\"\")","v":""},null,null,null,null,null,null,null,null,null,null,null,null,null,"","","","","","","","",""]
[null,null,{"$f":"IFERROR(INDEX('Modifikuoti svoriai '!$D$5:$K$29,MATCH(B1522,'Modifikuoti svoriai '!$C$5:$C$29,0),MATCH(A1522,'Modifikuoti svoriai '!$D$4:$K$4,0)),\"\")","v":""},null,null,null,null,null,null,null,null,null,null,null,null,null,"","","","","","","","",""]
[null,null,{"$f":"IFERROR(INDEX('Modifikuoti svoriai '!$D$5:$K$29,MATCH(B1523,'Modifikuoti svoriai '!$C$5:$C$29,0),MATCH(A1523,'Modifikuoti svoriai '!$D$4:$K$4,0)),\"\")","v":""},null,null,null,null,null,null,null,null,null,null,null,null,null,"","","","","","","","",""]
[null,null,{"$f":"IFERROR(INDEX('Modifikuoti svoriai '!$D$5:$K$29,MATCH(B1524,'Modifikuoti svoriai '!$C$5:$C$29,0),MATCH(A1524,'Modifikuoti svoriai '!$D$4:$K$4,0)),\"\")","v":""},null,null,null,null,null,null,null,null,null,null,null,null,null,"","","","","","","","",""]
[null,null,{"$f":"IFERROR(INDEX('Modifikuoti svoriai '!$D$5:$K$29,MATCH(B1525,'Modifikuoti svoriai '!$C$5:$C$29,0),MATCH(A1525,'Modifikuoti svoriai '!$D$4:$K$4,0)),\"\")","v":""},null,null,null,null,null,null,null,null,null,null,null,null,null,"","","","","","","","",""]
[null,null,{"$f":"IFERROR(INDEX('Modifikuoti svoriai '!$D$5:$K$29,MATCH(B1526,'Modifikuoti svoriai '!$C$5:$C$29,0),MATCH(A1526,'Modifikuoti svoriai '!$D$4:$K$4,0)),\"\")","v":""},null,null,null,null,null,null,null,null,null,null,null,null,null,"","","","","","","","",""]
[null,null,{"$f":"IFERROR(INDEX('Modifikuoti svoriai '!$D$5:$K$29,MATCH(B1527,'Modifikuoti svoriai '!$C$5:$C$29,0),MATCH(A1527,'Modifikuoti svoriai '!$D$4:$K$4,0)),\"\")","v":""},null,null,null,null,null,null,null,null,null,null,null,null,null,"","","","","","","","",""]
[null,null,{"$f":"IFERROR(INDEX('Modifikuoti svoriai '!$D$5:$K$29,MATCH(B1528,'Modifikuoti svoriai '!$C$5:$C$29,0),MATCH(A1528,'Modifikuoti svoriai '!$D$4:$K$4,0)),\"\")","v":""},null,null,null,null,null,null,null,null,null,null,null,null,null,"","","","","","","","",""]
[null,null,{"$f":"IFERROR(INDEX('Modifikuoti svoriai '!$D$5:$K$29,MATCH(B1529,'Modifikuoti svoriai '!$C$5:$C$29,0),MATCH(A1529,'Modifikuoti svoriai '!$D$4:$K$4,0)),\"\")","v":""},null,null,null,null,null,null,null,null,null,null,null,null,null,"","","","","","","","",""]
[null,null,{"$f":"IFERROR(INDEX('Modifikuoti svoriai '!$D$5:$K$29,MATCH(B1530,'Modifikuoti svoriai '!$C$5:$C$29,0),MATCH(A1530,'Modifikuoti svoriai '!$D$4:$K$4,0)),\"\")","v":""},null,null,null,null,null,null,null,null,null,null,null,null,null,"","","","","","","","",""]
[null,null,{"$f":"IFERROR(INDEX('Modifikuoti svoriai '!$D$5:$K$29,MATCH(B1531,'Modifikuoti svoriai '!$C$5:$C$29,0),MATCH(A1531,'Modifikuoti svoriai '!$D$4:$K$4,0)),\"\")","v":""},null,null,null,null,null,null,null,null,null,null,null,null,null,"","","","","","","","",""]
[null,null,{"$f":"IFERROR(INDEX('Modifikuoti svoriai '!$D$5:$K$29,MATCH(B1532,'Modifikuoti svoriai '!$C$5:$C$29,0),MATCH(A1532,'Modifikuoti svoriai '!$D$4:$K$4,0)),\"\")","v":""},null,null,null,null,null,null,null,null,null,null,null,null,null,"","","","","","","","",""]
[null,null,{"$f":"IFERROR(INDEX('Modifikuoti svoriai '!$D$5:$K$29,MATCH(B1533,'Modifikuoti svoriai '!$C$5:$C$29,0),MATCH(A1533,'Modifikuoti svoriai '!$D$4:$K$4,0)),\"\")","v":""},null,null,null,null,null,null,null,null,null,null,null,null,null,"","","","","","","","",""]
[null,null,{"$f":"IFERROR(INDEX('Modifikuoti svoriai '!$D$5:$K$29,MATCH(B1534,'Modifikuoti svoriai '!$C$5:$C$29,0),MATCH(A1534,'Modifikuoti svoriai '!$D$4:$K$4,0)),\"\")","v":""},null,null,null,null,null,null,null,null,null,null,null,null,null,"","","","","","","","",""]
[null,null,{"$f":"IFERROR(INDEX('Modifikuoti svoriai '!$D$5:$K$29,MATCH(B1535,'Modifikuoti svoriai '!$C$5:$C$29,0),MATCH(A1535,'Modifikuoti svoriai '!$D$4:$K$4,0)),\"\")","v":""},null,null,null,null,null,null,null,null,null,null,null,null,null,{"$f":"IF(Q$6<YEAR($K1535),\"Pastato tarnavimo laikotarpis nepasibaigė\",IF(Q$6=YEAR($K1535),\"Pastato tarnavimo laikotarpio pabaiga\",IF($K1535<>0,\"Pastato tarnavimo laikotarpis pasibaigė\",\"\")))","v":""},"","","","","","","",""]
[null,null,{"$f":"IFERROR(INDEX('Modifikuoti svoriai '!$D$5:$K$29,MATCH(B1536,'Modifikuoti svoriai '!$C$5:$C$29,0),MATCH(A1536,'Modifikuoti svoriai '!$D$4:$K$4,0)),\"\")","v":""},null,null,null,null,null,null,null,null,null,null,null,null,null,"","","","","","","","",""]
[null,null,{"$f":"IFERROR(INDEX('Modifikuoti svoriai '!$D$5:$K$29,MATCH(B1537,'Modifikuoti svoriai '!$C$5:$C$29,0),MATCH(A1537,'Modifikuoti svoriai '!$D$4:$K$4,0)),\"\")","v":""},null,null,null,null,null,null,null,null,null,null,null,null,null,"","","","","","","","",""]
[null,null,{"$f":"IFERROR(INDEX('Modifikuoti svoriai '!$D$5:$K$29,MATCH(B1538,'Modifikuoti svoriai '!$C$5:$C$29,0),MATCH(A1538,'Modifikuoti svoriai '!$D$4:$K$4,0)),\"\")","v":""},null,null,null,null,null,null,null,null,null,null,null,null,null,"","","","","","","","",""]
[null,null,{"$f":"IFERROR(INDEX('Modifikuoti svoriai '!$D$5:$K$29,MATCH(B1539,'Modifikuoti svoriai '!$C$5:$C$29,0),MATCH(A1539,'Modifikuoti svoriai '!$D$4:$K$4,0)),\"\")","v":""},null,null,null,null,null,null,null,null,null,null,null,null,null,"","","","","","","","",""]
[null,null,{"$f":"IFERROR(INDEX('Modifikuoti svoriai '!$D$5:$K$29,MATCH(B1540,'Modifikuoti svoriai '!$C$5:$C$29,0),MATCH(A1540,'Modifikuoti svoriai '!$D$4:$K$4,0)),\"\")","v":""},null,null,null,null,null,null,null,null,null,null,null,null,null,"","","","","","","","",""]
[null,null,{"$f":"IFERROR(INDEX('Modifikuoti svoriai '!$D$5:$K$29,MATCH(B1541,'Modifikuoti svoriai '!$C$5:$C$29,0),MATCH(A1541,'Modifikuoti svoriai '!$D$4:$K$4,0)),\"\")","v":""},null,null,null,null,null,null,null,null,null,null,null,null,null,"","","","","","","","",""]
[null,null,{"$f":"IFERROR(INDEX('Modifikuoti svoriai '!$D$5:$K$29,MATCH(B1542,'Modifikuoti svoriai '!$C$5:$C$29,0),MATCH(A1542,'Modifikuoti svoriai '!$D$4:$K$4,0)),\"\")","v":""},null,null,null,null,null,null,null,null,null,null,null,null,null,"","","","","","","","",""]
[null,null,{"$f":"IFERROR(INDEX('Modifikuoti svoriai '!$D$5:$K$29,MATCH(B1543,'Modifikuoti svoriai '!$C$5:$C$29,0),MATCH(A1543,'Modifikuoti svoriai '!$D$4:$K$4,0)),\"\")","v":""},null,null,null,null,null,null,null,null,null,null,null,null,null,"","","","","","","","",""]
[null,null,{"$f":"IFERROR(INDEX('Modifikuoti svoriai '!$D$5:$K$29,MATCH(B1544,'Modifikuoti svoriai '!$C$5:$C$29,0),MATCH(A1544,'Modifikuoti svoriai '!$D$4:$K$4,0)),\"\")","v":""},null,null,null,null,null,null,null,null,null,null,null,null,null,"","","","","","","","",""]
[null,null,{"$f":"IFERROR(INDEX('Modifikuoti svoriai '!$D$5:$K$29,MATCH(B1545,'Modifikuoti svoriai '!$C$5:$C$29,0),MATCH(A1545,'Modifikuoti svoriai '!$D$4:$K$4,0)),\"\")","v":""},null,null,null,null,null,null,null,null,null,null,null,null,null,"","","","","","","","",""]
[null,null,{"$f":"IFERROR(INDEX('Modifikuoti svoriai '!$D$5:$K$29,MATCH(B1546,'Modifikuoti svoriai '!$C$5:$C$29,0),MATCH(A1546,'Modifikuoti svoriai '!$D$4:$K$4,0)),\"\")","v":""},null,null,null,null,null,null,null,null,null,null,null,null,null,"","","","","","","","",""]
[null,null,{"$f":"IFERROR(INDEX('Modifikuoti svoriai '!$D$5:$K$29,MATCH(B1547,'Modifikuoti svoriai '!$C$5:$C$29,0),MATCH(A1547,'Modifikuoti svoriai '!$D$4:$K$4,0)),\"\")","v":""},null,null,null,null,null,null,null,null,null,null,null,null,null,"","","","","","","","",""]
[null,null,{"$f":"IFERROR(INDEX('Modifikuoti svoriai '!$D$5:$K$29,MATCH(B1548,'Modifikuoti svoriai '!$C$5:$C$29,0),MATCH(A1548,'Modifikuoti svoriai '!$D$4:$K$4,0)),\"\")","v":""},null,null,null,null,null,null,null,null,null,null,null,null,null,"","","","","","","","",""]
[null,null,{"$f":"IFERROR(INDEX('Modifikuoti svoriai '!$D$5:$K$29,MATCH(B1549,'Modifikuoti svoriai '!$C$5:$C$29,0),MATCH(A1549,'Modifikuoti svoriai '!$D$4:$K$4,0)),\"\")","v":""},null,null,null,null,null,null,null,null,null,null,null,null,null,"","","","","","","","",""]
[null,null,{"$f":"IFERROR(INDEX('Modifikuoti svoriai '!$D$5:$K$29,MATCH(B1550,'Modifikuoti svoriai '!$C$5:$C$29,0),MATCH(A1550,'Modifikuoti svoriai '!$D$4:$K$4,0)),\"\")","v":""},null,null,null,null,null,null,null,null,null,null,null,null,null,"","","","","","","","",""]
[null,null,{"$f":"IFERROR(INDEX('Modifikuoti svoriai '!$D$5:$K$29,MATCH(B1551,'Modifikuoti svoriai '!$C$5:$C$29,0),MATCH(A1551,'Modifikuoti svoriai '!$D$4:$K$4,0)),\"\")","v":""},null,null,null,null,null,null,null,null,null,null,null,null,null,{"$f":"IF(Q$6<YEAR($K1551),\"Pastato tarnavimo laikotarpis nepasibaigė\",IF(Q$6=YEAR($K1551),\"Pastato tarnavimo laikotarpio pabaiga\",IF($K1551<>0,\"Pastato tarnavimo laikotarpis pasibaigė\",\"\")))","v":""},"","","","","","","",""]
[null,null,{"$f":"IFERROR(INDEX('Modifikuoti svoriai '!$D$5:$K$29,MATCH(B1552,'Modifikuoti svoriai '!$C$5:$C$29,0),MATCH(A1552,'Modifikuoti svoriai '!$D$4:$K$4,0)),\"\")","v":""},null,null,null,null,null,null,null,null,null,null,null,null,null,"","","","","","","","",""]
[null,null,{"$f":"IFERROR(INDEX('Modifikuoti svoriai '!$D$5:$K$29,MATCH(B1553,'Modifikuoti svoriai '!$C$5:$C$29,0),MATCH(A1553,'Modifikuoti svoriai '!$D$4:$K$4,0)),\"\")","v":""},null,null,null,null,null,null,null,null,null,null,null,null,null,"","","","","","","","",""]
[null,null,{"$f":"IFERROR(INDEX('Modifikuoti svoriai '!$D$5:$K$29,MATCH(B1554,'Modifikuoti svoriai '!$C$5:$C$29,0),MATCH(A1554,'Modifikuoti svoriai '!$D$4:$K$4,0)),\"\")","v":""},null,null,null,null,null,null,null,null,null,null,null,null,null,"","","","","","","","",""]
[null,null,{"$f":"IFERROR(INDEX('Modifikuoti svoriai '!$D$5:$K$29,MATCH(B1555,'Modifikuoti svoriai '!$C$5:$C$29,0),MATCH(A1555,'Modifikuoti svoriai '!$D$4:$K$4,0)),\"\")","v":""},null,null,null,null,null,null,null,null,null,null,null,null,null,"","","","","","","","",""]
[null,null,{"$f":"IFERROR(INDEX('Modifikuoti svoriai '!$D$5:$K$29,MATCH(B1556,'Modifikuoti svoriai '!$C$5:$C$29,0),MATCH(A1556,'Modifikuoti svoriai '!$D$4:$K$4,0)),\"\")","v":""},null,null,null,null,null,null,null,null,null,null,null,null,null,"","","","","","","","",""]
[null,null,{"$f":"IFERROR(INDEX('Modifikuoti svoriai '!$D$5:$K$29,MATCH(B1557,'Modifikuoti svoriai '!$C$5:$C$29,0),MATCH(A1557,'Modifikuoti svoriai '!$D$4:$K$4,0)),\"\")","v":""},null,null,null,null,null,null,null,null,null,null,null,null,null,"","","","","","","","",""]
[null,null,{"$f":"IFERROR(INDEX('Modifikuoti svoriai '!$D$5:$K$29,MATCH(B1558,'Modifikuoti svoriai '!$C$5:$C$29,0),MATCH(A1558,'Modifikuoti svoriai '!$D$4:$K$4,0)),\"\")","v":""},null,null,null,null,null,null,null,null,null,null,null,null,null,"","","","","","","","",""]
[null,null,{"$f":"IFERROR(INDEX('Modifikuoti svoriai '!$D$5:$K$29,MATCH(B1559,'Modifikuoti svoriai '!$C$5:$C$29,0),MATCH(A1559,'Modifikuoti svoriai '!$D$4:$K$4,0)),\"\")","v":""},null,null,null,null,null,null,null,null,null,null,null,null,null,"","","","","","","","",""]
[null,null,{"$f":"IFERROR(INDEX('Modifikuoti svoriai '!$D$5:$K$29,MATCH(B1560,'Modifikuoti svoriai '!$C$5:$C$29,0),MATCH(A1560,'Modifikuoti svoriai '!$D$4:$K$4,0)),\"\")","v":""},null,null,null,null,null,null,null,null,null,null,null,null,null,"","","","","","","","",""]
[null,null,{"$f":"IFERROR(INDEX('Modifikuoti svoriai '!$D$5:$K$29,MATCH(B1561,'Modifikuoti svoriai '!$C$5:$C$29,0),MATCH(A1561,'Modifikuoti svoriai '!$D$4:$K$4,0)),\"\")","v":""},null,null,null,null,null,null,null,null,null,null,null,null,null,"","","","","","","","",""]
[null,null,{"$f":"IFERROR(INDEX('Modifikuoti svoriai '!$D$5:$K$29,MATCH(B1562,'Modifikuoti svoriai '!$C$5:$C$29,0),MATCH(A1562,'Modifikuoti svoriai '!$D$4:$K$4,0)),\"\")","v":""},null,null,null,null,null,null,null,null,null,null,null,null,null,"","","","","","","","",""]
[null,null,{"$f":"IFERROR(INDEX('Modifikuoti svoriai '!$D$5:$K$29,MATCH(B1563,'Modifikuoti svoriai '!$C$5:$C$29,0),MATCH(A1563,'Modifikuoti svoriai '!$D$4:$K$4,0)),\"\")","v":""},null,null,null,null,null,null,null,null,null,null,null,null,null,"","","","","","","","",""]
[null,null,{"$f":"IFERROR(INDEX('Modifikuoti svoriai '!$D$5:$K$29,MATCH(B1564,'Modifikuoti svoriai '!$C$5:$C$29,0),MATCH(A1564,'Modifikuoti svoriai '!$D$4:$K$4,0)),\"\")","v":""},null,null,null,null,null,null,null,null,null,null,null,null,null,"","","","","","","","",""]
[null,null,{"$f":"IFERROR(INDEX('Modifikuoti svoriai '!$D$5:$K$29,MATCH(B1565,'Modifikuoti svoriai '!$C$5:$C$29,0),MATCH(A1565,'Modifikuoti svoriai '!$D$4:$K$4,0)),\"\")","v":""},null,null,null,null,null,null,null,null,null,null,null,null,null,"","","","","","","","",""]
[null,null,{"$f":"IFERROR(INDEX('Modifikuoti svoriai '!$D$5:$K$29,MATCH(B1566,'Modifikuoti svoriai '!$C$5:$C$29,0),MATCH(A1566,'Modifikuoti svoriai '!$D$4:$K$4,0)),\"\")","v":""},null,null,null,null,null,null,null,null,null,null,null,null,null,"","","","","","","","",""]
[null,null,{"$f":"IFERROR(INDEX('Modifikuoti svoriai '!$D$5:$K$29,MATCH(B1567,'Modifikuoti svoriai '!$C$5:$C$29,0),MATCH(A1567,'Modifikuoti svoriai '!$D$4:$K$4,0)),\"\")","v":""},null,null,null,null,null,null,null,null,null,null,null,null,null,{"$f":"IF(Q$6<YEAR($K1567),\"Pastato tarnavimo laikotarpis nepasibaigė\",IF(Q$6=YEAR($K1567),\"Pastato tarnavimo laikotarpio pabaiga\",IF($K1567<>0,\"Pastato tarnavimo laikotarpis pasibaigė\",\"\")))","v":""},"","","","","","","",""]
[null,null,{"$f":"IFERROR(INDEX('Modifikuoti svoriai '!$D$5:$K$29,MATCH(B1568,'Modifikuoti svoriai '!$C$5:$C$29,0),MATCH(A1568,'Modifikuoti svoriai '!$D$4:$K$4,0)),\"\")","v":""},null,null,null,null,null,null,null,null,null,null,null,null,null,"","","","","","","","",""]
[null,null,{"$f":"IFERROR(INDEX('Modifikuoti svoriai '!$D$5:$K$29,MATCH(B1569,'Modifikuoti svoriai '!$C$5:$C$29,0),MATCH(A1569,'Modifikuoti svoriai '!$D$4:$K$4,0)),\"\")","v":""},null,null,null,null,null,null,null,null,null,null,null,null,null,"","","","","","","","",""]
[null,null,{"$f":"IFERROR(INDEX('Modifikuoti svoriai '!$D$5:$K$29,MATCH(B1570,'Modifikuoti svoriai '!$C$5:$C$29,0),MATCH(A1570,'Modifikuoti svoriai '!$D$4:$K$4,0)),\"\")","v":""},null,null,null,null,null,null,null,null,null,null,null,null,null,"","","","","","","","",""]
[null,null,{"$f":"IFERROR(INDEX('Modifikuoti svoriai '!$D$5:$K$29,MATCH(B1571,'Modifikuoti svoriai '!$C$5:$C$29,0),MATCH(A1571,'Modifikuoti svoriai '!$D$4:$K$4,0)),\"\")","v":""},null,null,null,null,null,null,null,null,null,null,null,null,null,"","","","","","","","",""]
[null,null,{"$f":"IFERROR(INDEX('Modifikuoti svoriai '!$D$5:$K$29,MATCH(B1572,'Modifikuoti svoriai '!$C$5:$C$29,0),MATCH(A1572,'Modifikuoti svoriai '!$D$4:$K$4,0)),\"\")","v":""},null,null,null,null,null,null,null,null,null,null,null,null,null,"","","","","","","","",""]
[null,null,{"$f":"IFERROR(INDEX('Modifikuoti svoriai '!$D$5:$K$29,MATCH(B1573,'Modifikuoti svoriai '!$C$5:$C$29,0),MATCH(A1573,'Modifikuoti svoriai '!$D$4:$K$4,0)),\"\")","v":""},null,null,null,null,null,null,null,null,null,null,null,null,null,"","","","","","","","",""]
[null,null,{"$f":"IFERROR(INDEX('Modifikuoti svoriai '!$D$5:$K$29,MATCH(B1574,'Modifikuoti svoriai '!$C$5:$C$29,0),MATCH(A1574,'Modifikuoti svoriai '!$D$4:$K$4,0)),\"\")","v":""},null,null,null,null,null,null,null,null,null,null,null,null,null,"","","","","","","","",""]
[null,null,{"$f":"IFERROR(INDEX('Modifikuoti svoriai '!$D$5:$K$29,MATCH(B1575,'Modifikuoti svoriai '!$C$5:$C$29,0),MATCH(A1575,'Modifikuoti svoriai '!$D$4:$K$4,0)),\"\")","v":""},null,null,null,null,null,null,null,null,null,null,null,null,null,"","","","","","","","",""]
[null,null,{"$f":"IFERROR(INDEX('Modifikuoti svoriai '!$D$5:$K$29,MATCH(B1576,'Modifikuoti svoriai '!$C$5:$C$29,0),MATCH(A1576,'Modifikuoti svoriai '!$D$4:$K$4,0)),\"\")","v":""},null,null,null,null,null,null,null,null,null,null,null,null,null,"","","","","","","","",""]
[null,null,{"$f":"IFERROR(INDEX('Modifikuoti svoriai '!$D$5:$K$29,MATCH(B1577,'Modifikuoti svoriai '!$C$5:$C$29,0),MATCH(A1577,'Modifikuoti svoriai '!$D$4:$K$4,0)),\"\")","v":""},null,null,null,null,null,null,null,null,null,null,null,null,null,"","","","","","","","",""]
[null,null,{"$f":"IFERROR(INDEX('Modifikuoti svoriai '!$D$5:$K$29,MATCH(B1578,'Modifikuoti svoriai '!$C$5:$C$29,0),MATCH(A1578,'Modifikuoti svoriai '!$D$4:$K$4,0)),\"\")","v":""},null,null,null,null,null,null,null,null,null,null,null,null,null,"","","","","","","","",""]
[null,null,{"$f":"IFERROR(INDEX('Modifikuoti svoriai '!$D$5:$K$29,MATCH(B1579,'Modifikuoti svoriai '!$C$5:$C$29,0),MATCH(A1579,'Modifikuoti svoriai '!$D$4:$K$4,0)),\"\")","v":""},null,null,null,null,null,null,null,null,null,null,null,null,null,"","","","","","","","",""]
[null,null,{"$f":"IFERROR(INDEX('Modifikuoti svoriai '!$D$5:$K$29,MATCH(B1580,'Modifikuoti svoriai '!$C$5:$C$29,0),MATCH(A1580,'Modifikuoti svoriai '!$D$4:$K$4,0)),\"\")","v":""},null,null,null,null,null,null,null,null,null,null,null,null,null,"","","","","","","","",""]
[null,null,{"$f":"IFERROR(INDEX('Modifikuoti svoriai '!$D$5:$K$29,MATCH(B1581,'Modifikuoti svoriai '!$C$5:$C$29,0),MATCH(A1581,'Modifikuoti svoriai '!$D$4:$K$4,0)),\"\")","v":""},null,null,null,null,null,null,null,null,null,null,null,null,null,"","","","","","","","",""]
[null,null,{"$f":"IFERROR(INDEX('Modifikuoti svoriai '!$D$5:$K$29,MATCH(B1582,'Modifikuoti svoriai '!$C$5:$C$29,0),MATCH(A1582,'Modifikuoti svoriai '!$D$4:$K$4,0)),\"\")","v":""},null,null,null,null,null,null,null,null,null,null,null,null,null,"","","","","","","","",""]
[null,null,{"$f":"IFERROR(INDEX('Modifikuoti svoriai '!$D$5:$K$29,MATCH(B1583,'Modifikuoti svoriai '!$C$5:$C$29,0),MATCH(A1583,'Modifikuoti svoriai '!$D$4:$K$4,0)),\"\")","v":""},null,null,null,null,null,null,null,null,null,null,null,null,null,{"$f":"IF(Q$6<YEAR($K1583),\"Pastato tarnavimo laikotarpis nepasibaigė\",IF(Q$6=YEAR($K1583),\"Pastato tarnavimo laikotarpio pabaiga\",IF($K1583<>0,\"Pastato tarnavimo laikotarpis pasibaigė\",\"\")))","v":""},"","","","","","","",""]
[null,null,{"$f":"IFERROR(INDEX('Modifikuoti svoriai '!$D$5:$K$29,MATCH(B1584,'Modifikuoti svoriai '!$C$5:$C$29,0),MATCH(A1584,'Modifikuoti svoriai '!$D$4:$K$4,0)),\"\")","v":""},null,null,null,null,null,null,null,null,null,null,null,null,null,"","","","","","","","",""]
[null,null,{"$f":"IFERROR(INDEX('Modifikuoti svoriai '!$D$5:$K$29,MATCH(B1585,'Modifikuoti svoriai '!$C$5:$C$29,0),MATCH(A1585,'Modifikuoti svoriai '!$D$4:$K$4,0)),\"\")","v":""},null,null,null,null,null,null,null,null,null,null,null,null,null,"","","","","","","","",""]
[null,null,{"$f":"IFERROR(INDEX('Modifikuoti svoriai '!$D$5:$K$29,MATCH(B1586,'Modifikuoti svoriai '!$C$5:$C$29,0),MATCH(A1586,'Modifikuoti svoriai '!$D$4:$K$4,0)),\"\")","v":""},null,null,null,null,null,null,null,null,null,null,null,null,null,"","","","","","","","",""]
[null,null,{"$f":"IFERROR(INDEX('Modifikuoti svoriai '!$D$5:$K$29,MATCH(B1587,'Modifikuoti svoriai '!$C$5:$C$29,0),MATCH(A1587,'Modifikuoti svoriai '!$D$4:$K$4,0)),\"\")","v":""},null,null,null,null,null,null,null,null,null,null,null,null,null,"","","","","","","","",""]
[null,null,{"$f":"IFERROR(INDEX('Modifikuoti svoriai '!$D$5:$K$29,MATCH(B1588,'Modifikuoti svoriai '!$C$5:$C$29,0),MATCH(A1588,'Modifikuoti svoriai '!$D$4:$K$4,0)),\"\")","v":""},null,null,null,null,null,null,null,null,null,null,null,null,null,"","","","","","","","",""]
[null,null,{"$f":"IFERROR(INDEX('Modifikuoti svoriai '!$D$5:$K$29,MATCH(B1589,'Modifikuoti svoriai '!$C$5:$C$29,0),MATCH(A1589,'Modifikuoti svoriai '!$D$4:$K$4,0)),\"\")","v":""},null,null,null,null,null,null,null,null,null,null,null,null,null,"","","","","","","","",""]
[null,null,{"$f":"IFERROR(INDEX('Modifikuoti svoriai '!$D$5:$K$29,MATCH(B1590,'Modifikuoti svoriai '!$C$5:$C$29,0),MATCH(A1590,'Modifikuoti svoriai '!$D$4:$K$4,0)),\"\")","v":""},null,null,null,null,null,null,null,null,null,null,null,null,null,"","","","","","","","",""]
[null,null,{"$f":"IFERROR(INDEX('Modifikuoti svoriai '!$D$5:$K$29,MATCH(B1591,'Modifikuoti svoriai '!$C$5:$C$29,0),MATCH(A1591,'Modifikuoti svoriai '!$D$4:$K$4,0)),\"\")","v":""},null,null,null,null,null,null,null,null,null,null,null,null,null,"","","","","","","","",""]
[null,null,{"$f":"IFERROR(INDEX('Modifikuoti svoriai '!$D$5:$K$29,MATCH(B1592,'Modifikuoti svoriai '!$C$5:$C$29,0),MATCH(A1592,'Modifikuoti svoriai '!$D$4:$K$4,0)),\"\")","v":""},null,null,null,null,null,null,null,null,null,null,null,null,null,"","","","","","","","",""]
[null,null,{"$f":"IFERROR(INDEX('Modifikuoti svoriai '!$D$5:$K$29,MATCH(B1593,'Modifikuoti svoriai '!$C$5:$C$29,0),MATCH(A1593,'Modifikuoti svoriai '!$D$4:$K$4,0)),\"\")","v":""},null,null,null,null,null,null,null,null,null,null,null,null,null,"","","","","","","","",""]
[null,null,{"$f":"IFERROR(INDEX('Modifikuoti svoriai '!$D$5:$K$29,MATCH(B1594,'Modifikuoti svoriai '!$C$5:$C$29,0),MATCH(A1594,'Modifikuoti svoriai '!$D$4:$K$4,0)),\"\")","v":""},null,null,null,null,null,null,null,null,null,null,null,null,null,"","","","","","","","",""]
[null,null,{"$f":"IFERROR(INDEX('Modifikuoti svoriai '!$D$5:$K$29,MATCH(B1595,'Modifikuoti svoriai '!$C$5:$C$29,0),MATCH(A1595,'Modifikuoti svoriai '!$D$4:$K$4,0)),\"\")","v":""},null,null,null,null,null,null,null,null,null,null,null,null,null,"","","","","","","","",""]
[null,null,{"$f":"IFERROR(INDEX('Modifikuoti svoriai '!$D$5:$K$29,MATCH(B1596,'Modifikuoti svoriai '!$C$5:$C$29,0),MATCH(A1596,'Modifikuoti svoriai '!$D$4:$K$4,0)),\"\")","v":""},null,null,null,null,null,null,null,null,null,null,null,null,null,"","","","","","","","",""]
[null,null,{"$f":"IFERROR(INDEX('Modifikuoti svoriai '!$D$5:$K$29,MATCH(B1597,'Modifikuoti svoriai '!$C$5:$C$29,0),MATCH(A1597,'Modifikuoti svoriai '!$D$4:$K$4,0)),\"\")","v":""},null,null,null,null,null,null,null,null,null,null,null,null,null,"","","","","","","","",""]
[null,null,{"$f":"IFERROR(INDEX('Modifikuoti svoriai '!$D$5:$K$29,MATCH(B1598,'Modifikuoti svoriai '!$C$5:$C$29,0),MATCH(A1598,'Modifikuoti svoriai '!$D$4:$K$4,0)),\"\")","v":""},null,null,null,null,null,null,null,null,null,null,null,null,null,"","","","","","","","",""]
[null,null,{"$f":"IFERROR(INDEX('Modifikuoti svoriai '!$D$5:$K$29,MATCH(B1599,'Modifikuoti svoriai '!$C$5:$C$29,0),MATCH(A1599,'Modifikuoti svoriai '!$D$4:$K$4,0)),\"\")","v":""},null,null,null,null,null,null,null,null,null,null,null,null,null,{"$f":"IF(Q$6<YEAR($K1599),\"Pastato tarnavimo laikotarpis nepasibaigė\",IF(Q$6=YEAR($K1599),\"Pastato tarnavimo laikotarpio pabaiga\",IF($K1599<>0,\"Pastato tarnavimo laikotarpis pasibaigė\",\"\")))","v":""},"","","","","","","",""]
[null,null,{"$f":"IFERROR(INDEX('Modifikuoti svoriai '!$D$5:$K$29,MATCH(B1600,'Modifikuoti svoriai '!$C$5:$C$29,0),MATCH(A1600,'Modifikuoti svoriai '!$D$4:$K$4,0)),\"\")","v":""},null,null,null,null,null,null,null,null,null,null,null,null,null,"","","","","","","","",""]
[null,null,{"$f":"IFERROR(INDEX('Modifikuoti svoriai '!$D$5:$K$29,MATCH(B1601,'Modifikuoti svoriai '!$C$5:$C$29,0),MATCH(A1601,'Modifikuoti svoriai '!$D$4:$K$4,0)),\"\")","v":""},null,null,null,null,null,null,null,null,null,null,null,null,null,"","","","","","","","",""]
[null,null,{"$f":"IFERROR(INDEX('Modifikuoti svoriai '!$D$5:$K$29,MATCH(B1602,'Modifikuoti svoriai '!$C$5:$C$29,0),MATCH(A1602,'Modifikuoti svoriai '!$D$4:$K$4,0)),\"\")","v":""},null,null,null,null,null,null,null,null,null,null,null,null,null,"","","","","","","","",""]
[null,null,{"$f":"IFERROR(INDEX('Modifikuoti svoriai '!$D$5:$K$29,MATCH(B1603,'Modifikuoti svoriai '!$C$5:$C$29,0),MATCH(A1603,'Modifikuoti svoriai '!$D$4:$K$4,0)),\"\")","v":""},null,null,null,null,null,null,null,null,null,null,null,null,null,"","","","","","","","",""]
[null,null,{"$f":"IFERROR(INDEX('Modifikuoti svoriai '!$D$5:$K$29,MATCH(B1604,'Modifikuoti svoriai '!$C$5:$C$29,0),MATCH(A1604,'Modifikuoti svoriai '!$D$4:$K$4,0)),\"\")","v":""},null,null,null,null,null,null,null,null,null,null,null,null,null,"","","","","","","","",""]
[null,null,{"$f":"IFERROR(INDEX('Modifikuoti svoriai '!$D$5:$K$29,MATCH(B1605,'Modifikuoti svoriai '!$C$5:$C$29,0),MATCH(A1605,'Modifikuoti svoriai '!$D$4:$K$4,0)),\"\")","v":""},null,null,null,null,null,null,null,null,null,null,null,null,null,"","","","","","","","",""]
[null,null,{"$f":"IFERROR(INDEX('Modifikuoti svoriai '!$D$5:$K$29,MATCH(B1606,'Modifikuoti svoriai '!$C$5:$C$29,0),MATCH(A1606,'Modifikuoti svoriai '!$D$4:$K$4,0)),\"\")","v":""},null,null,null,null,null,null,null,null,null,null,null,null,null,"","","","","","","","",""]
[null,null,{"$f":"IFERROR(INDEX('Modifikuoti svoriai '!$D$5:$K$29,MATCH(B1607,'Modifikuoti svoriai '!$C$5:$C$29,0),MATCH(A1607,'Modifikuoti svoriai '!$D$4:$K$4,0)),\"\")","v":""},null,null,null,null,null,null,null,null,null,null,null,null,null,"","","","","","","","",""]
[null,null,{"$f":"IFERROR(INDEX('Modifikuoti svoriai '!$D$5:$K$29,MATCH(B1608,'Modifikuoti svoriai '!$C$5:$C$29,0),MATCH(A1608,'Modifikuoti svoriai '!$D$4:$K$4,0)),\"\")","v":""},null,null,null,null,null,null,null,null,null,null,null,null,null,"","","","","","","","",""]
[null,null,{"$f":"IFERROR(INDEX('Modifikuoti svoriai '!$D$5:$K$29,MATCH(B1609,'Modifikuoti svoriai '!$C$5:$C$29,0),MATCH(A1609,'Modifikuoti svoriai '!$D$4:$K$4,0)),\"\")","v":""},null,null,null,null,null,null,null,null,null,null,null,null,null,"","","","","","","","",""]
[null,null,{"$f":"IFERROR(INDEX('Modifikuoti svoriai '!$D$5:$K$29,MATCH(B1610,'Modifikuoti svoriai '!$C$5:$C$29,0),MATCH(A1610,'Modifikuoti svoriai '!$D$4:$K$4,0)),\"\")","v":""},null,null,null,null,null,null,null,null,null,null,null,null,null,"","","","","","","","",""]
[null,null,{"$f":"IFERROR(INDEX('Modifikuoti svoriai '!$D$5:$K$29,MATCH(B1611,'Modifikuoti svoriai '!$C$5:$C$29,0),MATCH(A1611,'Modifikuoti svoriai '!$D$4:$K$4,0)),\"\")","v":""},null,null,null,null,null,null,null,null,null,null,null,null,null,"","","","","","","","",""]
[null,null,{"$f":"IFERROR(INDEX('Modifikuoti svoriai '!$D$5:$K$29,MATCH(B1612,'Modifikuoti svoriai '!$C$5:$C$29,0),MATCH(A1612,'Modifikuoti svoriai '!$D$4:$K$4,0)),\"\")","v":""},null,null,null,null,null,null,null,null,null,null,null,null,null,"","","","","","","","",""]
[null,null,{"$f":"IFERROR(INDEX('Modifikuoti svoriai '!$D$5:$K$29,MATCH(B1613,'Modifikuoti svoriai '!$C$5:$C$29,0),MATCH(A1613,'Modifikuoti svoriai '!$D$4:$K$4,0)),\"\")","v":""},null,null,null,null,null,null,null,null,null,null,null,null,null,"","","","","","","","",""]
[null,null,{"$f":"IFERROR(INDEX('Modifikuoti svoriai '!$D$5:$K$29,MATCH(B1614,'Modifikuoti svoriai '!$C$5:$C$29,0),MATCH(A1614,'Modifikuoti svoriai '!$D$4:$K$4,0)),\"\")","v":""},null,null,null,null,null,null,null,null,null,null,null,null,null,"","","","","","","","",""]
[null,null,{"$f":"IFERROR(INDEX('Modifikuoti svoriai '!$D$5:$K$29,MATCH(B1615,'Modifikuoti svoriai '!$C$5:$C$29,0),MATCH(A1615,'Modifikuoti svoriai '!$D$4:$K$4,0)),\"\")","v":""},null,null,null,null,null,null,null,null,null,null,null,null,null,{"$f":"IF(Q$6<YEAR($K1615),\"Pastato tarnavimo laikotarpis nepasibaigė\",IF(Q$6=YEAR($K1615),\"Pastato tarnavimo laikotarpio pabaiga\",IF($K1615<>0,\"Pastato tarnavimo laikotarpis pasibaigė\",\"\")))","v":""},"","","","","","","",""]
[null,null,{"$f":"IFERROR(INDEX('Modifikuoti svoriai '!$D$5:$K$29,MATCH(B1616,'Modifikuoti svoriai '!$C$5:$C$29,0),MATCH(A1616,'Modifikuoti svoriai '!$D$4:$K$4,0)),\"\")","v":""},null,null,null,null,null,null,null,null,null,null,null,null,null,"","","","","","","","",""]
[null,null,{"$f":"IFERROR(INDEX('Modifikuoti svoriai '!$D$5:$K$29,MATCH(B1617,'Modifikuoti svoriai '!$C$5:$C$29,0),MATCH(A1617,'Modifikuoti svoriai '!$D$4:$K$4,0)),\"\")","v":""},null,null,null,null,null,null,null,null,null,null,null,null,null,"","","","","","","","",""]
[null,null,{"$f":"IFERROR(INDEX('Modifikuoti svoriai '!$D$5:$K$29,MATCH(B1618,'Modifikuoti svoriai '!$C$5:$C$29,0),MATCH(A1618,'Modifikuoti svoriai '!$D$4:$K$4,0)),\"\")","v":""},null,null,null,null,null,null,null,null,null,null,null,null,null,"","","","","","","","",""]
[null,null,{"$f":"IFERROR(INDEX('Modifikuoti svoriai '!$D$5:$K$29,MATCH(B1619,'Modifikuoti svoriai '!$C$5:$C$29,0),MATCH(A1619,'Modifikuoti svoriai '!$D$4:$K$4,0)),\"\")","v":""},null,null,null,null,null,null,null,null,null,null,null,null,null,"","","","","","","","",""]
[null,null,{"$f":"IFERROR(INDEX('Modifikuoti svoriai '!$D$5:$K$29,MATCH(B1620,'Modifikuoti svoriai '!$C$5:$C$29,0),MATCH(A1620,'Modifikuoti svoriai '!$D$4:$K$4,0)),\"\")","v":""},null,null,null,null,null,null,null,null,null,null,null,null,null,"","","","","","","","",""]
[null,null,{"$f":"IFERROR(INDEX('Modifikuoti svoriai '!$D$5:$K$29,MATCH(B1621,'Modifikuoti svoriai '!$C$5:$C$29,0),MATCH(A1621,'Modifikuoti svoriai '!$D$4:$K$4,0)),\"\")","v":""},null,null,null,null,null,null,null,null,null,null,null,null,null,"","","","","","","","",""]
[null,null,{"$f":"IFERROR(INDEX('Modifikuoti svoriai '!$D$5:$K$29,MATCH(B1622,'Modifikuoti svoriai '!$C$5:$C$29,0),MATCH(A1622,'Modifikuoti svoriai '!$D$4:$K$4,0)),\"\")","v":""},null,null,null,null,null,null,null,null,null,null,null,null,null,"","","","","","","","",""]
[null,null,{"$f":"IFERROR(INDEX('Modifikuoti svoriai '!$D$5:$K$29,MATCH(B1623,'Modifikuoti svoriai '!$C$5:$C$29,0),MATCH(A1623,'Modifikuoti svoriai '!$D$4:$K$4,0)),\"\")","v":""},null,null,null,null,null,null,null,null,null,null,null,null,null,"","","","","","","","",""]
[null,null,{"$f":"IFERROR(INDEX('Modifikuoti svoriai '!$D$5:$K$29,MATCH(B1624,'Modifikuoti svoriai '!$C$5:$C$29,0),MATCH(A1624,'Modifikuoti svoriai '!$D$4:$K$4,0)),\"\")","v":""},null,null,null,null,null,null,null,null,null,null,null,null,null,"","","","","","","","",""]
[null,null,{"$f":"IFERROR(INDEX('Modifikuoti svoriai '!$D$5:$K$29,MATCH(B1625,'Modifikuoti svoriai '!$C$5:$C$29,0),MATCH(A1625,'Modifikuoti svoriai '!$D$4:$K$4,0)),\"\")","v":""},null,null,null,null,null,null,null,null,null,null,null,null,null,"","","","","","","","",""]
[null,null,{"$f":"IFERROR(INDEX('Modifikuoti svoriai '!$D$5:$K$29,MATCH(B1626,'Modifikuoti svoriai '!$C$5:$C$29,0),MATCH(A1626,'Modifikuoti svoriai '!$D$4:$K$4,0)),\"\")","v":""},null,null,null,null,null,null,null,null,null,null,null,null,null,"","","","","","","","",""]
[null,null,{"$f":"IFERROR(INDEX('Modifikuoti svoriai '!$D$5:$K$29,MATCH(B1627,'Modifikuoti svoriai '!$C$5:$C$29,0),MATCH(A1627,'Modifikuoti svoriai '!$D$4:$K$4,0)),\"\")","v":""},null,null,null,null,null,null,null,null,null,null,null,null,null,"","","","","","","","",""]
[null,null,{"$f":"IFERROR(INDEX('Modifikuoti svoriai '!$D$5:$K$29,MATCH(B1628,'Modifikuoti svoriai '!$C$5:$C$29,0),MATCH(A1628,'Modifikuoti svoriai '!$D$4:$K$4,0)),\"\")","v":""},null,null,null,null,null,null,null,null,null,null,null,null,null,"","","","","","","","",""]
[null,null,{"$f":"IFERROR(INDEX('Modifikuoti svoriai '!$D$5:$K$29,MATCH(B1629,'Modifikuoti svoriai '!$C$5:$C$29,0),MATCH(A1629,'Modifikuoti svoriai '!$D$4:$K$4,0)),\"\")","v":""},null,null,null,null,null,null,null,null,null,null,null,null,null,"","","","","","","","",""]
[null,null,{"$f":"IFERROR(INDEX('Modifikuoti svoriai '!$D$5:$K$29,MATCH(B1630,'Modifikuoti svoriai '!$C$5:$C$29,0),MATCH(A1630,'Modifikuoti svoriai '!$D$4:$K$4,0)),\"\")","v":""},null,null,null,null,null,null,null,null,null,null,null,null,null,"","","","","","","","",""]
[null,null,{"$f":"IFERROR(INDEX('Modifikuoti svoriai '!$D$5:$K$29,MATCH(B1631,'Modifikuoti svoriai '!$C$5:$C$29,0),MATCH(A1631,'Modifikuoti svoriai '!$D$4:$K$4,0)),\"\")","v":""},null,null,null,null,null,null,null,null,null,null,null,null,null,{"$f":"IF(Q$6<YEAR($K1631),\"Pastato tarnavimo laikotarpis nepasibaigė\",IF(Q$6=YEAR($K1631),\"Pastato tarnavimo laikotarpio pabaiga\",IF($K1631<>0,\"Pastato tarnavimo laikotarpis pasibaigė\",\"\")))","v":""},"","","","","","","",""]
[null,null,{"$f":"IFERROR(INDEX('Modifikuoti svoriai '!$D$5:$K$29,MATCH(B1632,'Modifikuoti svoriai '!$C$5:$C$29,0),MATCH(A1632,'Modifikuoti svoriai '!$D$4:$K$4,0)),\"\")","v":""},null,null,null,null,null,null,null,null,null,null,null,null,null,"","","","","","","","",""]
[null,null,{"$f":"IFERROR(INDEX('Modifikuoti svoriai '!$D$5:$K$29,MATCH(B1633,'Modifikuoti svoriai '!$C$5:$C$29,0),MATCH(A1633,'Modifikuoti svoriai '!$D$4:$K$4,0)),\"\")","v":""},null,null,null,null,null,null,null,null,null,null,null,null,null,"","","","","","","","",""]
[null,null,{"$f":"IFERROR(INDEX('Modifikuoti svoriai '!$D$5:$K$29,MATCH(B1634,'Modifikuoti svoriai '!$C$5:$C$29,0),MATCH(A1634,'Modifikuoti svoriai '!$D$4:$K$4,0)),\"\")","v":""},null,null,null,null,null,null,null,null,null,null,null,null,null,"","","","","","","","",""]
[null,null,{"$f":"IFERROR(INDEX('Modifikuoti svoriai '!$D$5:$K$29,MATCH(B1635,'Modifikuoti svoriai '!$C$5:$C$29,0),MATCH(A1635,'Modifikuoti svoriai '!$D$4:$K$4,0)),\"\")","v":""},null,null,null,null,null,null,null,null,null,null,null,null,null,"","","","","","","","",""]
[null,null,{"$f":"IFERROR(INDEX('Modifikuoti svoriai '!$D$5:$K$29,MATCH(B1636,'Modifikuoti svoriai '!$C$5:$C$29,0),MATCH(A1636,'Modifikuoti svoriai '!$D$4:$K$4,0)),\"\")","v":""},null,null,null,null,null,null,null,null,null,null,null,null,null,"","","","","","","","",""]
[null,null,{"$f":"IFERROR(INDEX('Modifikuoti svoriai '!$D$5:$K$29,MATCH(B1637,'Modifikuoti svoriai '!$C$5:$C$29,0),MATCH(A1637,'Modifikuoti svoriai '!$D$4:$K$4,0)),\"\")","v":""},null,null,null,null,null,null,null,null,null,null,null,null,null,"","","","","","","","",""]
[null,null,{"$f":"IFERROR(INDEX('Modifikuoti svoriai '!$D$5:$K$29,MATCH(B1638,'Modifikuoti svoriai '!$C$5:$C$29,0),MATCH(A1638,'Modifikuoti svoriai '!$D$4:$K$4,0)),\"\")","v":""},null,null,null,null,null,null,null,null,null,null,null,null,null,"","","","","","","","",""]
[null,null,{"$f":"IFERROR(INDEX('Modifikuoti svoriai '!$D$5:$K$29,MATCH(B1639,'Modifikuoti svoriai '!$C$5:$C$29,0),MATCH(A1639,'Modifikuoti svoriai '!$D$4:$K$4,0)),\"\")","v":""},null,null,null,null,null,null,null,null,null,null,null,null,null,"","","","","","","","",""]
[null,null,{"$f":"IFERROR(INDEX('Modifikuoti svoriai '!$D$5:$K$29,MATCH(B1640,'Modifikuoti svoriai '!$C$5:$C$29,0),MATCH(A1640,'Modifikuoti svoriai '!$D$4:$K$4,0)),\"\")","v":""},null,null,null,null,null,null,null,null,null,null,null,null,null,"","","","","","","","",""]
[null,null,{"$f":"IFERROR(INDEX('Modifikuoti svoriai '!$D$5:$K$29,MATCH(B1641,'Modifikuoti svoriai '!$C$5:$C$29,0),MATCH(A1641,'Modifikuoti svoriai '!$D$4:$K$4,0)),\"\")","v":""},null,null,null,null,null,null,null,null,null,null,null,null,null,"","","","","","","","",""]
[null,null,{"$f":"IFERROR(INDEX('Modifikuoti svoriai '!$D$5:$K$29,MATCH(B1642,'Modifikuoti svoriai '!$C$5:$C$29,0),MATCH(A1642,'Modifikuoti svoriai '!$D$4:$K$4,0)),\"\")","v":""},null,null,null,null,null,null,null,null,null,null,null,null,null,"","","","","","","","",""]
[null,null,{"$f":"IFERROR(INDEX('Modifikuoti svoriai '!$D$5:$K$29,MATCH(B1643,'Modifikuoti svoriai '!$C$5:$C$29,0),MATCH(A1643,'Modifikuoti svoriai '!$D$4:$K$4,0)),\"\")","v":""},null,null,null,null,null,null,null,null,null,null,null,null,null,"","","","","","","","",""]
[null,null,{"$f":"IFERROR(INDEX('Modifikuoti svoriai '!$D$5:$K$29,MATCH(B1644,'Modifikuoti svoriai '!$C$5:$C$29,0),MATCH(A1644,'Modifikuoti svoriai '!$D$4:$K$4,0)),\"\")","v":""},null,null,null,null,null,null,null,null,null,null,null,null,null,"","","","","","","","",""]
[null,null,{"$f":"IFERROR(INDEX('Modifikuoti svoriai '!$D$5:$K$29,MATCH(B1645,'Modifikuoti svoriai '!$C$5:$C$29,0),MATCH(A1645,'Modifikuoti svoriai '!$D$4:$K$4,0)),\"\")","v":""},null,null,null,null,null,null,null,null,null,null,null,null,null,"","","","","","","","",""]
[null,null,{"$f":"IFERROR(INDEX('Modifikuoti svoriai '!$D$5:$K$29,MATCH(B1646,'Modifikuoti svoriai '!$C$5:$C$29,0),MATCH(A1646,'Modifikuoti svoriai '!$D$4:$K$4,0)),\"\")","v":""},null,null,null,null,null,null,null,null,null,null,null,null,null,"","","","","","","","",""]
[null,null,{"$f":"IFERROR(INDEX('Modifikuoti svoriai '!$D$5:$K$29,MATCH(B1647,'Modifikuoti svoriai '!$C$5:$C$29,0),MATCH(A1647,'Modifikuoti svoriai '!$D$4:$K$4,0)),\"\")","v":""},null,null,null,null,null,null,null,null,null,null,null,null,null,{"$f":"IF(Q$6<YEAR($K1647),\"Pastato tarnavimo laikotarpis nepasibaigė\",IF(Q$6=YEAR($K1647),\"Pastato tarnavimo laikotarpio pabaiga\",IF($K1647<>0,\"Pastato tarnavimo laikotarpis pasibaigė\",\"\")))","v":""},"","","","","","","",""]
[null,null,{"$f":"IFERROR(INDEX('Modifikuoti svoriai '!$D$5:$K$29,MATCH(B1648,'Modifikuoti svoriai '!$C$5:$C$29,0),MATCH(A1648,'Modifikuoti svoriai '!$D$4:$K$4,0)),\"\")","v":""},null,null,null,null,null,null,null,null,null,null,null,null,null,"","","","","","","","",""]
[null,null,{"$f":"IFERROR(INDEX('Modifikuoti svoriai '!$D$5:$K$29,MATCH(B1649,'Modifikuoti svoriai '!$C$5:$C$29,0),MATCH(A1649,'Modifikuoti svoriai '!$D$4:$K$4,0)),\"\")","v":""},null,null,null,null,null,null,null,null,null,null,null,null,null,"","","","","","","","",""]
[null,null,{"$f":"IFERROR(INDEX('Modifikuoti svoriai '!$D$5:$K$29,MATCH(B1650,'Modifikuoti svoriai '!$C$5:$C$29,0),MATCH(A1650,'Modifikuoti svoriai '!$D$4:$K$4,0)),\"\")","v":""},null,null,null,null,null,null,null,null,null,null,null,null,null,"","","","","","","","",""]
[null,null,{"$f":"IFERROR(INDEX('Modifikuoti svoriai '!$D$5:$K$29,MATCH(B1651,'Modifikuoti svoriai '!$C$5:$C$29,0),MATCH(A1651,'Modifikuoti svoriai '!$D$4:$K$4,0)),\"\")","v":""},null,null,null,null,null,null,null,null,null,null,null,null,null,"","","","","","","","",""]
[null,null,{"$f":"IFERROR(INDEX('Modifikuoti svoriai '!$D$5:$K$29,MATCH(B1652,'Modifikuoti svoriai '!$C$5:$C$29,0),MATCH(A1652,'Modifikuoti svoriai '!$D$4:$K$4,0)),\"\")","v":""},null,null,null,null,null,null,null,null,null,null,null,null,null,"","","","","","","","",""]
[null,null,{"$f":"IFERROR(INDEX('Modifikuoti svoriai '!$D$5:$K$29,MATCH(B1653,'Modifikuoti svoriai '!$C$5:$C$29,0),MATCH(A1653,'Modifikuoti svoriai '!$D$4:$K$4,0)),\"\")","v":""},null,null,null,null,null,null,null,null,null,null,null,null,null,"","","","","","","","",""]
[null,null,{"$f":"IFERROR(INDEX('Modifikuoti svoriai '!$D$5:$K$29,MATCH(B1654,'Modifikuoti svoriai '!$C$5:$C$29,0),MATCH(A1654,'Modifikuoti svoriai '!$D$4:$K$4,0)),\"\")","v":""},null,null,null,null,null,null,null,null,null,null,null,null,null,"","","","","","","","",""]
[null,null,{"$f":"IFERROR(INDEX('Modifikuoti svoriai '!$D$5:$K$29,MATCH(B1655,'Modifikuoti svoriai '!$C$5:$C$29,0),MATCH(A1655,'Modifikuoti svoriai '!$D$4:$K$4,0)),\"\")","v":""},null,null,null,null,null,null,null,null,null,null,null,null,null,"","","","","","","","",""]
[null,null,{"$f":"IFERROR(INDEX('Modifikuoti svoriai '!$D$5:$K$29,MATCH(B1656,'Modifikuoti svoriai '!$C$5:$C$29,0),MATCH(A1656,'Modifikuoti svoriai '!$D$4:$K$4,0)),\"\")","v":""},null,null,null,null,null,null,null,null,null,null,null,null,null,"","","","","","","","",""]
[null,null,{"$f":"IFERROR(INDEX('Modifikuoti svoriai '!$D$5:$K$29,MATCH(B1657,'Modifikuoti svoriai '!$C$5:$C$29,0),MATCH(A1657,'Modifikuoti svoriai '!$D$4:$K$4,0)),\"\")","v":""},null,null,null,null,null,null,null,null,null,null,null,null,null,"","","","","","","","",""]
[null,null,{"$f":"IFERROR(INDEX('Modifikuoti svoriai '!$D$5:$K$29,MATCH(B1658,'Modifikuoti svoriai '!$C$5:$C$29,0),MATCH(A1658,'Modifikuoti svoriai '!$D$4:$K$4,0)),\"\")","v":""},null,null,null,null,null,null,null,null,null,null,null,null,null,"","","","","","","","",""]
[null,null,{"$f":"IFERROR(INDEX('Modifikuoti svoriai '!$D$5:$K$29,MATCH(B1659,'Modifikuoti svoriai '!$C$5:$C$29,0),MATCH(A1659,'Modifikuoti svoriai '!$D$4:$K$4,0)),\"\")","v":""},null,null,null,null,null,null,null,null,null,null,null,null,null,"","","","","","","","",""]
[null,null,{"$f":"IFERROR(INDEX('Modifikuoti svoriai '!$D$5:$K$29,MATCH(B1660,'Modifikuoti svoriai '!$C$5:$C$29,0),MATCH(A1660,'Modifikuoti svoriai '!$D$4:$K$4,0)),\"\")","v":""},null,null,null,null,null,null,null,null,null,null,null,null,null,"","","","","","","","",""]
[null,null,{"$f":"IFERROR(INDEX('Modifikuoti svoriai '!$D$5:$K$29,MATCH(B1661,'Modifikuoti svoriai '!$C$5:$C$29,0),MATCH(A1661,'Modifikuoti svoriai '!$D$4:$K$4,0)),\"\")","v":""},null,null,null,null,null,null,null,null,null,null,null,null,null,"","","","","","","","",""]
[null,null,{"$f":"IFERROR(INDEX('Modifikuoti svoriai '!$D$5:$K$29,MATCH(B1662,'Modifikuoti svoriai '!$C$5:$C$29,0),MATCH(A1662,'Modifikuoti svoriai '!$D$4:$K$4,0)),\"\")","v":""},null,null,null,null,null,null,null,null,null,null,null,null,null,"","","","","","","","",""]
[null,null,{"$f":"IFERROR(INDEX('Modifikuoti svoriai '!$D$5:$K$29,MATCH(B1663,'Modifikuoti svoriai '!$C$5:$C$29,0),MATCH(A1663,'Modifikuoti svoriai '!$D$4:$K$4,0)),\"\")","v":""},null,null,null,null,null,null,null,null,null,null,null,null,null,{"$f":"IF(Q$6<YEAR($K1663),\"Pastato tarnavimo laikotarpis nepasibaigė\",IF(Q$6=YEAR($K1663),\"Pastato tarnavimo laikotarpio pabaiga\",IF($K1663<>0,\"Pastato tarnavimo laikotarpis pasibaigė\",\"\")))","v":""},"","","","","","","",""]
[null,null,{"$f":"IFERROR(INDEX('Modifikuoti svoriai '!$D$5:$K$29,MATCH(B1664,'Modifikuoti svoriai '!$C$5:$C$29,0),MATCH(A1664,'Modifikuoti svoriai '!$D$4:$K$4,0)),\"\")","v":""},null,null,null,null,null,null,null,null,null,null,null,null,null,"","","","","","","","",""]
[null,null,{"$f":"IFERROR(INDEX('Modifikuoti svoriai '!$D$5:$K$29,MATCH(B1665,'Modifikuoti svoriai '!$C$5:$C$29,0),MATCH(A1665,'Modifikuoti svoriai '!$D$4:$K$4,0)),\"\")","v":""},null,null,null,null,null,null,null,null,null,null,null,null,null,"","","","","","","","",""]
[null,null,{"$f":"IFERROR(INDEX('Modifikuoti svoriai '!$D$5:$K$29,MATCH(B1666,'Modifikuoti svoriai '!$C$5:$C$29,0),MATCH(A1666,'Modifikuoti svoriai '!$D$4:$K$4,0)),\"\")","v":""},null,null,null,null,null,null,null,null,null,null,null,null,null,"","","","","","","","",""]
[null,null,{"$f":"IFERROR(INDEX('Modifikuoti svoriai '!$D$5:$K$29,MATCH(B1667,'Modifikuoti svoriai '!$C$5:$C$29,0),MATCH(A1667,'Modifikuoti svoriai '!$D$4:$K$4,0)),\"\")","v":""},null,null,null,null,null,null,null,null,null,null,null,null,null,"","","","","","","","",""]
[null,null,{"$f":"IFERROR(INDEX('Modifikuoti svoriai '!$D$5:$K$29,MATCH(B1668,'Modifikuoti svoriai '!$C$5:$C$29,0),MATCH(A1668,'Modifikuoti svoriai '!$D$4:$K$4,0)),\"\")","v":""},null,null,null,null,null,null,null,null,null,null,null,null,null,"","","","","","","","",""]
[null,null,{"$f":"IFERROR(INDEX('Modifikuoti svoriai '!$D$5:$K$29,MATCH(B1669,'Modifikuoti svoriai '!$C$5:$C$29,0),MATCH(A1669,'Modifikuoti svoriai '!$D$4:$K$4,0)),\"\")","v":""},null,null,null,null,null,null,null,null,null,null,null,null,null,"","","","","","","","",""]
[null,null,{"$f":"IFERROR(INDEX('Modifikuoti svoriai '!$D$5:$K$29,MATCH(B1670,'Modifikuoti svoriai '!$C$5:$C$29,0),MATCH(A1670,'Modifikuoti svoriai '!$D$4:$K$4,0)),\"\")","v":""},null,null,null,null,null,null,null,null,null,null,null,null,null,"","","","","","","","",""]
[null,null,{"$f":"IFERROR(INDEX('Modifikuoti svoriai '!$D$5:$K$29,MATCH(B1671,'Modifikuoti svoriai '!$C$5:$C$29,0),MATCH(A1671,'Modifikuoti svoriai '!$D$4:$K$4,0)),\"\")","v":""},null,null,null,null,null,null,null,null,null,null,null,null,null,"","","","","","","","",""]
[null,null,{"$f":"IFERROR(INDEX('Modifikuoti svoriai '!$D$5:$K$29,MATCH(B1672,'Modifikuoti svoriai '!$C$5:$C$29,0),MATCH(A1672,'Modifikuoti svoriai '!$D$4:$K$4,0)),\"\")","v":""},null,null,null,null,null,null,null,null,null,null,null,null,null,"","","","","","","","",""]
[null,null,{"$f":"IFERROR(INDEX('Modifikuoti svoriai '!$D$5:$K$29,MATCH(B1673,'Modifikuoti svoriai '!$C$5:$C$29,0),MATCH(A1673,'Modifikuoti svoriai '!$D$4:$K$4,0)),\"\")","v":""},null,null,null,null,null,null,null,null,null,null,null,null,null,"","","","","","","","",""]
[null,null,{"$f":"IFERROR(INDEX('Modifikuoti svoriai '!$D$5:$K$29,MATCH(B1674,'Modifikuoti svoriai '!$C$5:$C$29,0),MATCH(A1674,'Modifikuoti svoriai '!$D$4:$K$4,0)),\"\")","v":""},null,null,null,null,null,null,null,null,null,null,null,null,null,"","","","","","","","",""]
[null,null,{"$f":"IFERROR(INDEX('Modifikuoti svoriai '!$D$5:$K$29,MATCH(B1675,'Modifikuoti svoriai '!$C$5:$C$29,0),MATCH(A1675,'Modifikuoti svoriai '!$D$4:$K$4,0)),\"\")","v":""},null,null,null,null,null,null,null,null,null,null,null,null,null,"","","","","","","","",""]
[null,null,{"$f":"IFERROR(INDEX('Modifikuoti svoriai '!$D$5:$K$29,MATCH(B1676,'Modifikuoti svoriai '!$C$5:$C$29,0),MATCH(A1676,'Modifikuoti svoriai '!$D$4:$K$4,0)),\"\")","v":""},null,null,null,null,null,null,null,null,null,null,null,null,null,"","","","","","","","",""]
[null,null,{"$f":"IFERROR(INDEX('Modifikuoti svoriai '!$D$5:$K$29,MATCH(B1677,'Modifikuoti svoriai '!$C$5:$C$29,0),MATCH(A1677,'Modifikuoti svoriai '!$D$4:$K$4,0)),\"\")","v":""},null,null,null,null,null,null,null,null,null,null,null,null,null,"","","","","","","","",""]
[null,null,{"$f":"IFERROR(INDEX('Modifikuoti svoriai '!$D$5:$K$29,MATCH(B1678,'Modifikuoti svoriai '!$C$5:$C$29,0),MATCH(A1678,'Modifikuoti svoriai '!$D$4:$K$4,0)),\"\")","v":""},null,null,null,null,null,null,null,null,null,null,null,null,null,"","","","","","","","",""]
[null,null,{"$f":"IFERROR(INDEX('Modifikuoti svoriai '!$D$5:$K$29,MATCH(B1679,'Modifikuoti svoriai '!$C$5:$C$29,0),MATCH(A1679,'Modifikuoti svoriai '!$D$4:$K$4,0)),\"\")","v":""},null,null,null,null,null,null,null,null,null,null,null,null,null,{"$f":"IF(Q$6<YEAR($K1679),\"Pastato tarnavimo laikotarpis nepasibaigė\",IF(Q$6=YEAR($K1679),\"Pastato tarnavimo laikotarpio pabaiga\",IF($K1679<>0,\"Pastato tarnavimo laikotarpis pasibaigė\",\"\")))","v":""},"","","","","","","",""]
[null,null,{"$f":"IFERROR(INDEX('Modifikuoti svoriai '!$D$5:$K$29,MATCH(B1680,'Modifikuoti svoriai '!$C$5:$C$29,0),MATCH(A1680,'Modifikuoti svoriai '!$D$4:$K$4,0)),\"\")","v":""},null,null,null,null,null,null,null,null,null,null,null,null,null,"","","","","","","","",""]
[null,null,{"$f":"IFERROR(INDEX('Modifikuoti svoriai '!$D$5:$K$29,MATCH(B1681,'Modifikuoti svoriai '!$C$5:$C$29,0),MATCH(A1681,'Modifikuoti svoriai '!$D$4:$K$4,0)),\"\")","v":""},null,null,null,null,null,null,null,null,null,null,null,null,null,"","","","","","","","",""]
[null,null,{"$f":"IFERROR(INDEX('Modifikuoti svoriai '!$D$5:$K$29,MATCH(B1682,'Modifikuoti svoriai '!$C$5:$C$29,0),MATCH(A1682,'Modifikuoti svoriai '!$D$4:$K$4,0)),\"\")","v":""},null,null,null,null,null,null,null,null,null,null,null,null,null,"","","","","","","","",""]
[null,null,{"$f":"IFERROR(INDEX('Modifikuoti svoriai '!$D$5:$K$29,MATCH(B1683,'Modifikuoti svoriai '!$C$5:$C$29,0),MATCH(A1683,'Modifikuoti svoriai '!$D$4:$K$4,0)),\"\")","v":""},null,null,null,null,null,null,null,null,null,null,null,null,null,"","","","","","","","",""]
[null,null,{"$f":"IFERROR(INDEX('Modifikuoti svoriai '!$D$5:$K$29,MATCH(B1684,'Modifikuoti svoriai '!$C$5:$C$29,0),MATCH(A1684,'Modifikuoti svoriai '!$D$4:$K$4,0)),\"\")","v":""},null,null,null,null,null,null,null,null,null,null,null,null,null,"","","","","","","","",""]
[null,null,{"$f":"IFERROR(INDEX('Modifikuoti svoriai '!$D$5:$K$29,MATCH(B1685,'Modifikuoti svoriai '!$C$5:$C$29,0),MATCH(A1685,'Modifikuoti svoriai '!$D$4:$K$4,0)),\"\")","v":""},null,null,null,null,null,null,null,null,null,null,null,null,null,"","","","","","","","",""]
[null,null,{"$f":"IFERROR(INDEX('Modifikuoti svoriai '!$D$5:$K$29,MATCH(B1686,'Modifikuoti svoriai '!$C$5:$C$29,0),MATCH(A1686,'Modifikuoti svoriai '!$D$4:$K$4,0)),\"\")","v":""},null,null,null,null,null,null,null,null,null,null,null,null,null,"","","","","","","","",""]
[null,null,{"$f":"IFERROR(INDEX('Modifikuoti svoriai '!$D$5:$K$29,MATCH(B1687,'Modifikuoti svoriai '!$C$5:$C$29,0),MATCH(A1687,'Modifikuoti svoriai '!$D$4:$K$4,0)),\"\")","v":""},null,null,null,null,null,null,null,null,null,null,null,null,null,"","","","","","","","",""]
[null,null,{"$f":"IFERROR(INDEX('Modifikuoti svoriai '!$D$5:$K$29,MATCH(B1688,'Modifikuoti svoriai '!$C$5:$C$29,0),MATCH(A1688,'Modifikuoti svoriai '!$D$4:$K$4,0)),\"\")","v":""},null,null,null,null,null,null,null,null,null,null,null,null,null,"","","","","","","","",""]
[null,null,{"$f":"IFERROR(INDEX('Modifikuoti svoriai '!$D$5:$K$29,MATCH(B1689,'Modifikuoti svoriai '!$C$5:$C$29,0),MATCH(A1689,'Modifikuoti svoriai '!$D$4:$K$4,0)),\"\")","v":""},null,null,null,null,null,null,null,null,null,null,null,null,null,"","","","","","","","",""]
[null,null,{"$f":"IFERROR(INDEX('Modifikuoti svoriai '!$D$5:$K$29,MATCH(B1690,'Modifikuoti svoriai '!$C$5:$C$29,0),MATCH(A1690,'Modifikuoti svoriai '!$D$4:$K$4,0)),\"\")","v":""},null,null,null,null,null,null,null,null,null,null,null,null,null,"","","","","","","","",""]
[null,null,{"$f":"IFERROR(INDEX('Modifikuoti svoriai '!$D$5:$K$29,MATCH(B1691,'Modifikuoti svoriai '!$C$5:$C$29,0),MATCH(A1691,'Modifikuoti svoriai '!$D$4:$K$4,0)),\"\")","v":""},null,null,null,null,null,null,null,null,null,null,null,null,null,"","","","","","","","",""]
[null,null,{"$f":"IFERROR(INDEX('Modifikuoti svoriai '!$D$5:$K$29,MATCH(B1692,'Modifikuoti svoriai '!$C$5:$C$29,0),MATCH(A1692,'Modifikuoti svoriai '!$D$4:$K$4,0)),\"\")","v":""},null,null,null,null,null,null,null,null,null,null,null,null,null,"","","","","","","","",""]
[null,null,{"$f":"IFERROR(INDEX('Modifikuoti svoriai '!$D$5:$K$29,MATCH(B1693,'Modifikuoti svoriai '!$C$5:$C$29,0),MATCH(A1693,'Modifikuoti svoriai '!$D$4:$K$4,0)),\"\")","v":""},null,null,null,null,null,null,null,null,null,null,null,null,null,"","","","","","","","",""]
[null,null,{"$f":"IFERROR(INDEX('Modifikuoti svoriai '!$D$5:$K$29,MATCH(B1694,'Modifikuoti svoriai '!$C$5:$C$29,0),MATCH(A1694,'Modifikuoti svoriai '!$D$4:$K$4,0)),\"\")","v":""},null,null,null,null,null,null,null,null,null,null,null,null,null,"","","","","","","","",""]
[null,null,{"$f":"IFERROR(INDEX('Modifikuoti svoriai '!$D$5:$K$29,MATCH(B1695,'Modifikuoti svoriai '!$C$5:$C$29,0),MATCH(A1695,'Modifikuoti svoriai '!$D$4:$K$4,0)),\"\")","v":""},null,null,null,null,null,null,null,null,null,null,null,null,null,{"$f":"IF(Q$6<YEAR($K1695),\"Pastato tarnavimo laikotarpis nepasibaigė\",IF(Q$6=YEAR($K1695),\"Pastato tarnavimo laikotarpio pabaiga\",IF($K1695<>0,\"Pastato tarnavimo laikotarpis pasibaigė\",\"\")))","v":""},"","","","","","","",""]
[null,null,{"$f":"IFERROR(INDEX('Modifikuoti svoriai '!$D$5:$K$29,MATCH(B1696,'Modifikuoti svoriai '!$C$5:$C$29,0),MATCH(A1696,'Modifikuoti svoriai '!$D$4:$K$4,0)),\"\")","v":""},null,null,null,null,null,null,null,null,null,null,null,null,null,"","","","","","","","",""]
[null,null,{"$f":"IFERROR(INDEX('Modifikuoti svoriai '!$D$5:$K$29,MATCH(B1697,'Modifikuoti svoriai '!$C$5:$C$29,0),MATCH(A1697,'Modifikuoti svoriai '!$D$4:$K$4,0)),\"\")","v":""},null,null,null,null,null,null,null,null,null,null,null,null,null,"","","","","","","","",""]
[null,null,{"$f":"IFERROR(INDEX('Modifikuoti svoriai '!$D$5:$K$29,MATCH(B1698,'Modifikuoti svoriai '!$C$5:$C$29,0),MATCH(A1698,'Modifikuoti svoriai '!$D$4:$K$4,0)),\"\")","v":""},null,null,null,null,null,null,null,null,null,null,null,null,null,"","","","","","","","",""]
[null,null,{"$f":"IFERROR(INDEX('Modifikuoti svoriai '!$D$5:$K$29,MATCH(B1699,'Modifikuoti svoriai '!$C$5:$C$29,0),MATCH(A1699,'Modifikuoti svoriai '!$D$4:$K$4,0)),\"\")","v":""},null,null,null,null,null,null,null,null,null,null,null,null,null,"","","","","","","","",""]
[null,null,{"$f":"IFERROR(INDEX('Modifikuoti svoriai '!$D$5:$K$29,MATCH(B1700,'Modifikuoti svoriai '!$C$5:$C$29,0),MATCH(A1700,'Modifikuoti svoriai '!$D$4:$K$4,0)),\"\")","v":""},null,null,null,null,null,null,null,null,null,null,null,null,null,"","","","","","","","",""]
[null,null,{"$f":"IFERROR(INDEX('Modifikuoti svoriai '!$D$5:$K$29,MATCH(B1701,'Modifikuoti svoriai '!$C$5:$C$29,0),MATCH(A1701,'Modifikuoti svoriai '!$D$4:$K$4,0)),\"\")","v":""},null,null,null,null,null,null,null,null,null,null,null,null,null,"","","","","","","","",""]
[null,null,{"$f":"IFERROR(INDEX('Modifikuoti svoriai '!$D$5:$K$29,MATCH(B1702,'Modifikuoti svoriai '!$C$5:$C$29,0),MATCH(A1702,'Modifikuoti svoriai '!$D$4:$K$4,0)),\"\")","v":""},null,null,null,null,null,null,null,null,null,null,null,null,null,"","","","","","","","",""]
[null,null,{"$f":"IFERROR(INDEX('Modifikuoti svoriai '!$D$5:$K$29,MATCH(B1703,'Modifikuoti svoriai '!$C$5:$C$29,0),MATCH(A1703,'Modifikuoti svoriai '!$D$4:$K$4,0)),\"\")","v":""},null,null,null,null,null,null,null,null,null,null,null,null,null,"","","","","","","","",""]
[null,null,{"$f":"IFERROR(INDEX('Modifikuoti svoriai '!$D$5:$K$29,MATCH(B1704,'Modifikuoti svoriai '!$C$5:$C$29,0),MATCH(A1704,'Modifikuoti svoriai '!$D$4:$K$4,0)),\"\")","v":""},null,null,null,null,null,null,null,null,null,null,null,null,null,"","","","","","","","",""]
[null,null,{"$f":"IFERROR(INDEX('Modifikuoti svoriai '!$D$5:$K$29,MATCH(B1705,'Modifikuoti svoriai '!$C$5:$C$29,0),MATCH(A1705,'Modifikuoti svoriai '!$D$4:$K$4,0)),\"\")","v":""},null,null,null,null,null,null,null,null,null,null,null,null,null,"","","","","","","","",""]
[null,null,{"$f":"IFERROR(INDEX('Modifikuoti svoriai '!$D$5:$K$29,MATCH(B1706,'Modifikuoti svoriai '!$C$5:$C$29,0),MATCH(A1706,'Modifikuoti svoriai '!$D$4:$K$4,0)),\"\")","v":""},null,null,null,null,null,null,null,null,null,null,null,null,null,"","","","","","","","",""]
[null,null,{"$f":"IFERROR(INDEX('Modifikuoti svoriai '!$D$5:$K$29,MATCH(B1707,'Modifikuoti svoriai '!$C$5:$C$29,0),MATCH(A1707,'Modifikuoti svoriai '!$D$4:$K$4,0)),\"\")","v":""},null,null,null,null,null,null,null,null,null,null,null,null,null,"","","","","","","","",""]
[null,null,{"$f":"IFERROR(INDEX('Modifikuoti svoriai '!$D$5:$K$29,MATCH(B1708,'Modifikuoti svoriai '!$C$5:$C$29,0),MATCH(A1708,'Modifikuoti svoriai '!$D$4:$K$4,0)),\"\")","v":""},null,null,null,null,null,null,null,null,null,null,null,null,null,"","","","","","","","",""]
[null,null,{"$f":"IFERROR(INDEX('Modifikuoti svoriai '!$D$5:$K$29,MATCH(B1709,'Modifikuoti svoriai '!$C$5:$C$29,0),MATCH(A1709,'Modifikuoti svoriai '!$D$4:$K$4,0)),\"\")","v":""},null,null,null,null,null,null,null,null,null,null,null,null,null,"","","","","","","","",""]
[null,null,{"$f":"IFERROR(INDEX('Modifikuoti svoriai '!$D$5:$K$29,MATCH(B1710,'Modifikuoti svoriai '!$C$5:$C$29,0),MATCH(A1710,'Modifikuoti svoriai '!$D$4:$K$4,0)),\"\")","v":""},null,null,null,null,null,null,null,null,null,null,null,null,null,"","","","","","","","",""]
[null,null,{"$f":"IFERROR(INDEX('Modifikuoti svoriai '!$D$5:$K$29,MATCH(B1711,'Modifikuoti svoriai '!$C$5:$C$29,0),MATCH(A1711,'Modifikuoti svoriai '!$D$4:$K$4,0)),\"\")","v":""},null,null,null,null,null,null,null,null,null,null,null,null,null,{"$f":"IF(Q$6<YEAR($K1711),\"Pastato tarnavimo laikotarpis nepasibaigė\",IF(Q$6=YEAR($K1711),\"Pastato tarnavimo laikotarpio pabaiga\",IF($K1711<>0,\"Pastato tarnavimo laikotarpis pasibaigė\",\"\")))","v":""},"","","","","","","",""]
[null,null,{"$f":"IFERROR(INDEX('Modifikuoti svoriai '!$D$5:$K$29,MATCH(B1712,'Modifikuoti svoriai '!$C$5:$C$29,0),MATCH(A1712,'Modifikuoti svoriai '!$D$4:$K$4,0)),\"\")","v":""},null,null,null,null,null,null,null,null,null,null,null,null,null,"","","","","","","","",""]
[null,null,{"$f":"IFERROR(INDEX('Modifikuoti svoriai '!$D$5:$K$29,MATCH(B1713,'Modifikuoti svoriai '!$C$5:$C$29,0),MATCH(A1713,'Modifikuoti svoriai '!$D$4:$K$4,0)),\"\")","v":""},null,null,null,null,null,null,null,null,null,null,null,null,null,"","","","","","","","",""]
[null,null,{"$f":"IFERROR(INDEX('Modifikuoti svoriai '!$D$5:$K$29,MATCH(B1714,'Modifikuoti svoriai '!$C$5:$C$29,0),MATCH(A1714,'Modifikuoti svoriai '!$D$4:$K$4,0)),\"\")","v":""},null,null,null,null,null,null,null,null,null,null,null,null,null,"","","","","","","","",""]
[null,null,{"$f":"IFERROR(INDEX('Modifikuoti svoriai '!$D$5:$K$29,MATCH(B1715,'Modifikuoti svoriai '!$C$5:$C$29,0),MATCH(A1715,'Modifikuoti svoriai '!$D$4:$K$4,0)),\"\")","v":""},null,null,null,null,null,null,null,null,null,null,null,null,null,"","","","","","","","",""]
[null,null,{"$f":"IFERROR(INDEX('Modifikuoti svoriai '!$D$5:$K$29,MATCH(B1716,'Modifikuoti svoriai '!$C$5:$C$29,0),MATCH(A1716,'Modifikuoti svoriai '!$D$4:$K$4,0)),\"\")","v":""},null,null,null,null,null,null,null,null,null,null,null,null,null,"","","","","","","","",""]
[null,null,{"$f":"IFERROR(INDEX('Modifikuoti svoriai '!$D$5:$K$29,MATCH(B1717,'Modifikuoti svoriai '!$C$5:$C$29,0),MATCH(A1717,'Modifikuoti svoriai '!$D$4:$K$4,0)),\"\")","v":""},null,null,null,null,null,null,null,null,null,null,null,null,null,"","","","","","","","",""]
[null,null,{"$f":"IFERROR(INDEX('Modifikuoti svoriai '!$D$5:$K$29,MATCH(B1718,'Modifikuoti svoriai '!$C$5:$C$29,0),MATCH(A1718,'Modifikuoti svoriai '!$D$4:$K$4,0)),\"\")","v":""},null,null,null,null,null,null,null,null,null,null,null,null,null,"","","","","","","","",""]
[null,null,{"$f":"IFERROR(INDEX('Modifikuoti svoriai '!$D$5:$K$29,MATCH(B1719,'Modifikuoti svoriai '!$C$5:$C$29,0),MATCH(A1719,'Modifikuoti svoriai '!$D$4:$K$4,0)),\"\")","v":""},null,null,null,null,null,null,null,null,null,null,null,null,null,"","","","","","","","",""]
[null,null,{"$f":"IFERROR(INDEX('Modifikuoti svoriai '!$D$5:$K$29,MATCH(B1720,'Modifikuoti svoriai '!$C$5:$C$29,0),MATCH(A1720,'Modifikuoti svoriai '!$D$4:$K$4,0)),\"\")","v":""},null,null,null,null,null,null,null,null,null,null,null,null,null,"","","","","","","","",""]
[null,null,{"$f":"IFERROR(INDEX('Modifikuoti svoriai '!$D$5:$K$29,MATCH(B1721,'Modifikuoti svoriai '!$C$5:$C$29,0),MATCH(A1721,'Modifikuoti svoriai '!$D$4:$K$4,0)),\"\")","v":""},null,null,null,null,null,null,null,null,null,null,null,null,null,"","","","","","","","",""]
[null,null,{"$f":"IFERROR(INDEX('Modifikuoti svoriai '!$D$5:$K$29,MATCH(B1722,'Modifikuoti svoriai '!$C$5:$C$29,0),MATCH(A1722,'Modifikuoti svoriai '!$D$4:$K$4,0)),\"\")","v":""},null,null,null,null,null,null,null,null,null,null,null,null,null,"","","","","","","","",""]
[null,null,{"$f":"IFERROR(INDEX('Modifikuoti svoriai '!$D$5:$K$29,MATCH(B1723,'Modifikuoti svoriai '!$C$5:$C$29,0),MATCH(A1723,'Modifikuoti svoriai '!$D$4:$K$4,0)),\"\")","v":""},null,null,null,null,null,null,null,null,null,null,null,null,null,"","","","","","","","",""]
[null,null,{"$f":"IFERROR(INDEX('Modifikuoti svoriai '!$D$5:$K$29,MATCH(B1724,'Modifikuoti svoriai '!$C$5:$C$29,0),MATCH(A1724,'Modifikuoti svoriai '!$D$4:$K$4,0)),\"\")","v":""},null,null,null,null,null,null,null,null,null,null,null,null,null,"","","","","","","","",""]
[null,null,{"$f":"IFERROR(INDEX('Modifikuoti svoriai '!$D$5:$K$29,MATCH(B1725,'Modifikuoti svoriai '!$C$5:$C$29,0),MATCH(A1725,'Modifikuoti svoriai '!$D$4:$K$4,0)),\"\")","v":""},null,null,null,null,null,null,null,null,null,null,null,null,null,"","","","","","","","",""]
[null,null,{"$f":"IFERROR(INDEX('Modifikuoti svoriai '!$D$5:$K$29,MATCH(B1726,'Modifikuoti svoriai '!$C$5:$C$29,0),MATCH(A1726,'Modifikuoti svoriai '!$D$4:$K$4,0)),\"\")","v":""},null,null,null,null,null,null,null,null,null,null,null,null,null,"","","","","","","","",""]
[null,null,{"$f":"IFERROR(INDEX('Modifikuoti svoriai '!$D$5:$K$29,MATCH(B1727,'Modifikuoti svoriai '!$C$5:$C$29,0),MATCH(A1727,'Modifikuoti svoriai '!$D$4:$K$4,0)),\"\")","v":""},null,null,null,null,null,null,null,null,null,null,null,null,null,{"$f":"IF(Q$6<YEAR($K1727),\"Pastato tarnavimo laikotarpis nepasibaigė\",IF(Q$6=YEAR($K1727),\"Pastato tarnavimo laikotarpio pabaiga\",IF($K1727<>0,\"Pastato tarnavimo laikotarpis pasibaigė\",\"\")))","v":""},"","","","","","","",""]
[null,null,{"$f":"IFERROR(INDEX('Modifikuoti svoriai '!$D$5:$K$29,MATCH(B1728,'Modifikuoti svoriai '!$C$5:$C$29,0),MATCH(A1728,'Modifikuoti svoriai '!$D$4:$K$4,0)),\"\")","v":""},null,null,null,null,null,null,null,null,null,null,null,null,null,"","","","","","","","",""]
[null,null,{"$f":"IFERROR(INDEX('Modifikuoti svoriai '!$D$5:$K$29,MATCH(B1729,'Modifikuoti svoriai '!$C$5:$C$29,0),MATCH(A1729,'Modifikuoti svoriai '!$D$4:$K$4,0)),\"\")","v":""},null,null,null,null,null,null,null,null,null,null,null,null,null,"","","","","","","","",""]
[null,null,{"$f":"IFERROR(INDEX('Modifikuoti svoriai '!$D$5:$K$29,MATCH(B1730,'Modifikuoti svoriai '!$C$5:$C$29,0),MATCH(A1730,'Modifikuoti svoriai '!$D$4:$K$4,0)),\"\")","v":""},null,null,null,null,null,null,null,null,null,null,null,null,null,"","","","","","","","",""]
[null,null,{"$f":"IFERROR(INDEX('Modifikuoti svoriai '!$D$5:$K$29,MATCH(B1731,'Modifikuoti svoriai '!$C$5:$C$29,0),MATCH(A1731,'Modifikuoti svoriai '!$D$4:$K$4,0)),\"\")","v":""},null,null,null,null,null,null,null,null,null,null,null,null,null,"","","","","","","","",""]
[null,null,{"$f":"IFERROR(INDEX('Modifikuoti svoriai '!$D$5:$K$29,MATCH(B1732,'Modifikuoti svoriai '!$C$5:$C$29,0),MATCH(A1732,'Modifikuoti svoriai '!$D$4:$K$4,0)),\"\")","v":""},null,null,null,null,null,null,null,null,null,null,null,null,null,"","","","","","","","",""]
[null,null,{"$f":"IFERROR(INDEX('Modifikuoti svoriai '!$D$5:$K$29,MATCH(B1733,'Modifikuoti svoriai '!$C$5:$C$29,0),MATCH(A1733,'Modifikuoti svoriai '!$D$4:$K$4,0)),\"\")","v":""},null,null,null,null,null,null,null,null,null,null,null,null,null,"","","","","","","","",""]
[null,null,{"$f":"IFERROR(INDEX('Modifikuoti svoriai '!$D$5:$K$29,MATCH(B1734,'Modifikuoti svoriai '!$C$5:$C$29,0),MATCH(A1734,'Modifikuoti svoriai '!$D$4:$K$4,0)),\"\")","v":""},null,null,null,null,null,null,null,null,null,null,null,null,null,"","","","","","","","",""]
[null,null,{"$f":"IFERROR(INDEX('Modifikuoti svoriai '!$D$5:$K$29,MATCH(B1735,'Modifikuoti svoriai '!$C$5:$C$29,0),MATCH(A1735,'Modifikuoti svoriai '!$D$4:$K$4,0)),\"\")","v":""},null,null,null,null,null,null,null,null,null,null,null,null,null,"","","","","","","","",""]
[null,null,{"$f":"IFERROR(INDEX('Modifikuoti svoriai '!$D$5:$K$29,MATCH(B1736,'Modifikuoti svoriai '!$C$5:$C$29,0),MATCH(A1736,'Modifikuoti svoriai '!$D$4:$K$4,0)),\"\")","v":""},null,null,null,null,null,null,null,null,null,null,null,null,null,"","","","","","","","",""]
[null,null,{"$f":"IFERROR(INDEX('Modifikuoti svoriai '!$D$5:$K$29,MATCH(B1737,'Modifikuoti svoriai '!$C$5:$C$29,0),MATCH(A1737,'Modifikuoti svoriai '!$D$4:$K$4,0)),\"\")","v":""},null,null,null,null,null,null,null,null,null,null,null,null,null,"","","","","","","","",""]
[null,null,{"$f":"IFERROR(INDEX('Modifikuoti svoriai '!$D$5:$K$29,MATCH(B1738,'Modifikuoti svoriai '!$C$5:$C$29,0),MATCH(A1738,'Modifikuoti svoriai '!$D$4:$K$4,0)),\"\")","v":""},null,null,null,null,null,null,null,null,null,null,null,null,null,"","","","","","","","",""]
[null,null,{"$f":"IFERROR(INDEX('Modifikuoti svoriai '!$D$5:$K$29,MATCH(B1739,'Modifikuoti svoriai '!$C$5:$C$29,0),MATCH(A1739,'Modifikuoti svoriai '!$D$4:$K$4,0)),\"\")","v":""},null,null,null,null,null,null,null,null,null,null,null,null,null,"","","","","","","","",""]
[null,null,{"$f":"IFERROR(INDEX('Modifikuoti svoriai '!$D$5:$K$29,MATCH(B1740,'Modifikuoti svoriai '!$C$5:$C$29,0),MATCH(A1740,'Modifikuoti svoriai '!$D$4:$K$4,0)),\"\")","v":""},null,null,null,null,null,null,null,null,null,null,null,null,null,"","","","","","","","",""]
[null,null,{"$f":"IFERROR(INDEX('Modifikuoti svoriai '!$D$5:$K$29,MATCH(B1741,'Modifikuoti svoriai '!$C$5:$C$29,0),MATCH(A1741,'Modifikuoti svoriai '!$D$4:$K$4,0)),\"\")","v":""},null,null,null,null,null,null,null,null,null,null,null,null,null,"","","","","","","","",""]
[null,null,{"$f":"IFERROR(INDEX('Modifikuoti svoriai '!$D$5:$K$29,MATCH(B1742,'Modifikuoti svoriai '!$C$5:$C$29,0),MATCH(A1742,'Modifikuoti svoriai '!$D$4:$K$4,0)),\"\")","v":""},null,null,null,null,null,null,null,null,null,null,null,null,null,"","","","","","","","",""]
[null,null,{"$f":"IFERROR(INDEX('Modifikuoti svoriai '!$D$5:$K$29,MATCH(B1743,'Modifikuoti svoriai '!$C$5:$C$29,0),MATCH(A1743,'Modifikuoti svoriai '!$D$4:$K$4,0)),\"\")","v":""},null,null,null,null,null,null,null,null,null,null,null,null,null,{"$f":"IF(Q$6<YEAR($K1743),\"Pastato tarnavimo laikotarpis nepasibaigė\",IF(Q$6=YEAR($K1743),\"Pastato tarnavimo laikotarpio pabaiga\",IF($K1743<>0,\"Pastato tarnavimo laikotarpis pasibaigė\",\"\")))","v":""},"","","","","","","",""]
[null,null,{"$f":"IFERROR(INDEX('Modifikuoti svoriai '!$D$5:$K$29,MATCH(B1744,'Modifikuoti svoriai '!$C$5:$C$29,0),MATCH(A1744,'Modifikuoti svoriai '!$D$4:$K$4,0)),\"\")","v":""},null,null,null,null,null,null,null,null,null,null,null,null,null,"","","","","","","","",""]
[null,null,{"$f":"IFERROR(INDEX('Modifikuoti svoriai '!$D$5:$K$29,MATCH(B1745,'Modifikuoti svoriai '!$C$5:$C$29,0),MATCH(A1745,'Modifikuoti svoriai '!$D$4:$K$4,0)),\"\")","v":""},null,null,null,null,null,null,null,null,null,null,null,null,null,"","","","","","","","",""]
[null,null,{"$f":"IFERROR(INDEX('Modifikuoti svoriai '!$D$5:$K$29,MATCH(B1746,'Modifikuoti svoriai '!$C$5:$C$29,0),MATCH(A1746,'Modifikuoti svoriai '!$D$4:$K$4,0)),\"\")","v":""},null,null,null,null,null,null,null,null,null,null,null,null,null,"","","","","","","","",""]
[null,null,{"$f":"IFERROR(INDEX('Modifikuoti svoriai '!$D$5:$K$29,MATCH(B1747,'Modifikuoti svoriai '!$C$5:$C$29,0),MATCH(A1747,'Modifikuoti svoriai '!$D$4:$K$4,0)),\"\")","v":""},null,null,null,null,null,null,null,null,null,null,null,null,null,"","","","","","","","",""]
[null,null,{"$f":"IFERROR(INDEX('Modifikuoti svoriai '!$D$5:$K$29,MATCH(B1748,'Modifikuoti svoriai '!$C$5:$C$29,0),MATCH(A1748,'Modifikuoti svoriai '!$D$4:$K$4,0)),\"\")","v":""},null,null,null,null,null,null,null,null,null,null,null,null,null,"","","","","","","","",""]
[null,null,{"$f":"IFERROR(INDEX('Modifikuoti svoriai '!$D$5:$K$29,MATCH(B1749,'Modifikuoti svoriai '!$C$5:$C$29,0),MATCH(A1749,'Modifikuoti svoriai '!$D$4:$K$4,0)),\"\")","v":""},null,null,null,null,null,null,null,null,null,null,null,null,null,"","","","","","","","",""]
[null,null,{"$f":"IFERROR(INDEX('Modifikuoti svoriai '!$D$5:$K$29,MATCH(B1750,'Modifikuoti svoriai '!$C$5:$C$29,0),MATCH(A1750,'Modifikuoti svoriai '!$D$4:$K$4,0)),\"\")","v":""},null,null,null,null,null,null,null,null,null,null,null,null,null,"","","","","","","","",""]
[null,null,{"$f":"IFERROR(INDEX('Modifikuoti svoriai '!$D$5:$K$29,MATCH(B1751,'Modifikuoti svoriai '!$C$5:$C$29,0),MATCH(A1751,'Modifikuoti svoriai '!$D$4:$K$4,0)),\"\")","v":""},null,null,null,null,null,null,null,null,null,null,null,null,null,"","","","","","","","",""]
[null,null,{"$f":"IFERROR(INDEX('Modifikuoti svoriai '!$D$5:$K$29,MATCH(B1752,'Modifikuoti svoriai '!$C$5:$C$29,0),MATCH(A1752,'Modifikuoti svoriai '!$D$4:$K$4,0)),\"\")","v":""},null,null,null,null,null,null,null,null,null,null,null,null,null,"","","","","","","","",""]
[null,null,{"$f":"IFERROR(INDEX('Modifikuoti svoriai '!$D$5:$K$29,MATCH(B1753,'Modifikuoti svoriai '!$C$5:$C$29,0),MATCH(A1753,'Modifikuoti svoriai '!$D$4:$K$4,0)),\"\")","v":""},null,null,null,null,null,null,null,null,null,null,null,null,null,"","","","","","","","",""]
[null,null,{"$f":"IFERROR(INDEX('Modifikuoti svoriai '!$D$5:$K$29,MATCH(B1754,'Modifikuoti svoriai '!$C$5:$C$29,0),MATCH(A1754,'Modifikuoti svoriai '!$D$4:$K$4,0)),\"\")","v":""},null,null,null,null,null,null,null,null,null,null,null,null,null,"","","","","","","","",""]
[null,null,{"$f":"IFERROR(INDEX('Modifikuoti svoriai '!$D$5:$K$29,MATCH(B1755,'Modifikuoti svoriai '!$C$5:$C$29,0),MATCH(A1755,'Modifikuoti svoriai '!$D$4:$K$4,0)),\"\")","v":""},null,null,null,null,null,null,null,null,null,null,null,null,null,"","","","","","","","",""]
[null,null,{"$f":"IFERROR(INDEX('Modifikuoti svoriai '!$D$5:$K$29,MATCH(B1756,'Modifikuoti svoriai '!$C$5:$C$29,0),MATCH(A1756,'Modifikuoti svoriai '!$D$4:$K$4,0)),\"\")","v":""},null,null,null,null,null,null,null,null,null,null,null,null,null,"","","","","","","","",""]
[null,null,{"$f":"IFERROR(INDEX('Modifikuoti svoriai '!$D$5:$K$29,MATCH(B1757,'Modifikuoti svoriai '!$C$5:$C$29,0),MATCH(A1757,'Modifikuoti svoriai '!$D$4:$K$4,0)),\"\")","v":""},null,null,null,null,null,null,null,null,null,null,null,null,null,"","","","","","","","",""]
[null,null,{"$f":"IFERROR(INDEX('Modifikuoti svoriai '!$D$5:$K$29,MATCH(B1758,'Modifikuoti svoriai '!$C$5:$C$29,0),MATCH(A1758,'Modifikuoti svoriai '!$D$4:$K$4,0)),\"\")","v":""},null,null,null,null,null,null,null,null,null,null,null,null,null,"","","","","","","","",""]
[null,null,{"$f":"IFERROR(INDEX('Modifikuoti svoriai '!$D$5:$K$29,MATCH(B1759,'Modifikuoti svoriai '!$C$5:$C$29,0),MATCH(A1759,'Modifikuoti svoriai '!$D$4:$K$4,0)),\"\")","v":""},null,null,null,null,null,null,null,null,null,null,null,null,null,{"$f":"IF(Q$6<YEAR($K1759),\"Pastato tarnavimo laikotarpis nepasibaigė\",IF(Q$6=YEAR($K1759),\"Pastato tarnavimo laikotarpio pabaiga\",IF($K1759<>0,\"Pastato tarnavimo laikotarpis pasibaigė\",\"\")))","v":""},"","","","","","","",""]
[null,null,{"$f":"IFERROR(INDEX('Modifikuoti svoriai '!$D$5:$K$29,MATCH(B1760,'Modifikuoti svoriai '!$C$5:$C$29,0),MATCH(A1760,'Modifikuoti svoriai '!$D$4:$K$4,0)),\"\")","v":""},null,null,null,null,null,null,null,null,null,null,null,null,null,"","","","","","","","",""]
[null,null,{"$f":"IFERROR(INDEX('Modifikuoti svoriai '!$D$5:$K$29,MATCH(B1761,'Modifikuoti svoriai '!$C$5:$C$29,0),MATCH(A1761,'Modifikuoti svoriai '!$D$4:$K$4,0)),\"\")","v":""},null,null,null,null,null,null,null,null,null,null,null,null,null,"","","","","","","","",""]
[null,null,{"$f":"IFERROR(INDEX('Modifikuoti svoriai '!$D$5:$K$29,MATCH(B1762,'Modifikuoti svoriai '!$C$5:$C$29,0),MATCH(A1762,'Modifikuoti svoriai '!$D$4:$K$4,0)),\"\")","v":""},null,null,null,null,null,null,null,null,null,null,null,null,null,"","","","","","","","",""]
[null,null,{"$f":"IFERROR(INDEX('Modifikuoti svoriai '!$D$5:$K$29,MATCH(B1763,'Modifikuoti svoriai '!$C$5:$C$29,0),MATCH(A1763,'Modifikuoti svoriai '!$D$4:$K$4,0)),\"\")","v":""},null,null,null,null,null,null,null,null,null,null,null,null,null,"","","","","","","","",""]
[null,null,{"$f":"IFERROR(INDEX('Modifikuoti svoriai '!$D$5:$K$29,MATCH(B1764,'Modifikuoti svoriai '!$C$5:$C$29,0),MATCH(A1764,'Modifikuoti svoriai '!$D$4:$K$4,0)),\"\")","v":""},null,null,null,null,null,null,null,null,null,null,null,null,null,"","","","","","","","",""]
[null,null,{"$f":"IFERROR(INDEX('Modifikuoti svoriai '!$D$5:$K$29,MATCH(B1765,'Modifikuoti svoriai '!$C$5:$C$29,0),MATCH(A1765,'Modifikuoti svoriai '!$D$4:$K$4,0)),\"\")","v":""},null,null,null,null,null,null,null,null,null,null,null,null,null,"","","","","","","","",""]
[null,null,{"$f":"IFERROR(INDEX('Modifikuoti svoriai '!$D$5:$K$29,MATCH(B1766,'Modifikuoti svoriai '!$C$5:$C$29,0),MATCH(A1766,'Modifikuoti svoriai '!$D$4:$K$4,0)),\"\")","v":""},null,null,null,null,null,null,null,null,null,null,null,null,null,"","","","","","","","",""]
[null,null,{"$f":"IFERROR(INDEX('Modifikuoti svoriai '!$D$5:$K$29,MATCH(B1767,'Modifikuoti svoriai '!$C$5:$C$29,0),MATCH(A1767,'Modifikuoti svoriai '!$D$4:$K$4,0)),\"\")","v":""},null,null,null,null,null,null,null,null,null,null,null,null,null,"","","","","","","","",""]
[null,null,{"$f":"IFERROR(INDEX('Modifikuoti svoriai '!$D$5:$K$29,MATCH(B1768,'Modifikuoti svoriai '!$C$5:$C$29,0),MATCH(A1768,'Modifikuoti svoriai '!$D$4:$K$4,0)),\"\")","v":""},null,null,null,null,null,null,null,null,null,null,null,null,null,"","","","","","","","",""]
[null,null,{"$f":"IFERROR(INDEX('Modifikuoti svoriai '!$D$5:$K$29,MATCH(B1769,'Modifikuoti svoriai '!$C$5:$C$29,0),MATCH(A1769,'Modifikuoti svoriai '!$D$4:$K$4,0)),\"\")","v":""},null,null,null,null,null,null,null,null,null,null,null,null,null,"","","","","","","","",""]
[null,null,{"$f":"IFERROR(INDEX('Modifikuoti svoriai '!$D$5:$K$29,MATCH(B1770,'Modifikuoti svoriai '!$C$5:$C$29,0),MATCH(A1770,'Modifikuoti svoriai '!$D$4:$K$4,0)),\"\")","v":""},null,null,null,null,null,null,null,null,null,null,null,null,null,"","","","","","","","",""]
[null,null,{"$f":"IFERROR(INDEX('Modifikuoti svoriai '!$D$5:$K$29,MATCH(B1771,'Modifikuoti svoriai '!$C$5:$C$29,0),MATCH(A1771,'Modifikuoti svoriai '!$D$4:$K$4,0)),\"\")","v":""},null,null,null,null,null,null,null,null,null,null,null,null,null,"","","","","","","","",""]
[null,null,{"$f":"IFERROR(INDEX('Modifikuoti svoriai '!$D$5:$K$29,MATCH(B1772,'Modifikuoti svoriai '!$C$5:$C$29,0),MATCH(A1772,'Modifikuoti svoriai '!$D$4:$K$4,0)),\"\")","v":""},null,null,null,null,null,null,null,null,null,null,null,null,null,"","","","","","","","",""]
[null,null,{"$f":"IFERROR(INDEX('Modifikuoti svoriai '!$D$5:$K$29,MATCH(B1773,'Modifikuoti svoriai '!$C$5:$C$29,0),MATCH(A1773,'Modifikuoti svoriai '!$D$4:$K$4,0)),\"\")","v":""},null,null,null,null,null,null,null,null,null,null,null,null,null,"","","","","","","","",""]
[null,null,{"$f":"IFERROR(INDEX('Modifikuoti svoriai '!$D$5:$K$29,MATCH(B1774,'Modifikuoti svoriai '!$C$5:$C$29,0),MATCH(A1774,'Modifikuoti svoriai '!$D$4:$K$4,0)),\"\")","v":""},null,null,null,null,null,null,null,null,null,null,null,null,null,"","","","","","","","",""]
[null,null,{"$f":"IFERROR(INDEX('Modifikuoti svoriai '!$D$5:$K$29,MATCH(B1775,'Modifikuoti svoriai '!$C$5:$C$29,0),MATCH(A1775,'Modifikuoti svoriai '!$D$4:$K$4,0)),\"\")","v":""},null,null,null,null,null,null,null,null,null,null,null,null,null,{"$f":"IF(Q$6<YEAR($K1775),\"Pastato tarnavimo laikotarpis nepasibaigė\",IF(Q$6=YEAR($K1775),\"Pastato tarnavimo laikotarpio pabaiga\",IF($K1775<>0,\"Pastato tarnavimo laikotarpis pasibaigė\",\"\")))","v":""},"","","","","","","",""]
[null,null,{"$f":"IFERROR(INDEX('Modifikuoti svoriai '!$D$5:$K$29,MATCH(B1776,'Modifikuoti svoriai '!$C$5:$C$29,0),MATCH(A1776,'Modifikuoti svoriai '!$D$4:$K$4,0)),\"\")","v":""},null,null,null,null,null,null,null,null,null,null,null,null,null,"","","","","","","","",""]
[null,null,{"$f":"IFERROR(INDEX('Modifikuoti svoriai '!$D$5:$K$29,MATCH(B1777,'Modifikuoti svoriai '!$C$5:$C$29,0),MATCH(A1777,'Modifikuoti svoriai '!$D$4:$K$4,0)),\"\")","v":""},null,null,null,null,null,null,null,null,null,null,null,null,null,"","","","","","","","",""]
[null,null,{"$f":"IFERROR(INDEX('Modifikuoti svoriai '!$D$5:$K$29,MATCH(B1778,'Modifikuoti svoriai '!$C$5:$C$29,0),MATCH(A1778,'Modifikuoti svoriai '!$D$4:$K$4,0)),\"\")","v":""},null,null,null,null,null,null,null,null,null,null,null,null,null,"","","","","","","","",""]
[null,null,{"$f":"IFERROR(INDEX('Modifikuoti svoriai '!$D$5:$K$29,MATCH(B1779,'Modifikuoti svoriai '!$C$5:$C$29,0),MATCH(A1779,'Modifikuoti svoriai '!$D$4:$K$4,0)),\"\")","v":""},null,null,null,null,null,null,null,null,null,null,null,null,null,"","","","","","","","",""]
[null,null,{"$f":"IFERROR(INDEX('Modifikuoti svoriai '!$D$5:$K$29,MATCH(B1780,'Modifikuoti svoriai '!$C$5:$C$29,0),MATCH(A1780,'Modifikuoti svoriai '!$D$4:$K$4,0)),\"\")","v":""},null,null,null,null,null,null,null,null,null,null,null,null,null,"","","","","","","","",""]
[null,null,{"$f":"IFERROR(INDEX('Modifikuoti svoriai '!$D$5:$K$29,MATCH(B1781,'Modifikuoti svoriai '!$C$5:$C$29,0),MATCH(A1781,'Modifikuoti svoriai '!$D$4:$K$4,0)),\"\")","v":""},null,null,null,null,null,null,null,null,null,null,null,null,null,"","","","","","","","",""]
[null,null,{"$f":"IFERROR(INDEX('Modifikuoti svoriai '!$D$5:$K$29,MATCH(B1782,'Modifikuoti svoriai '!$C$5:$C$29,0),MATCH(A1782,'Modifikuoti svoriai '!$D$4:$K$4,0)),\"\")","v":""},null,null,null,null,null,null,null,null,null,null,null,null,null,"","","","","","","","",""]
[null,null,{"$f":"IFERROR(INDEX('Modifikuoti svoriai '!$D$5:$K$29,MATCH(B1783,'Modifikuoti svoriai '!$C$5:$C$29,0),MATCH(A1783,'Modifikuoti svoriai '!$D$4:$K$4,0)),\"\")","v":""},null,null,null,null,null,null,null,null,null,null,null,null,null,"","","","","","","","",""]
[null,null,{"$f":"IFERROR(INDEX('Modifikuoti svoriai '!$D$5:$K$29,MATCH(B1784,'Modifikuoti svoriai '!$C$5:$C$29,0),MATCH(A1784,'Modifikuoti svoriai '!$D$4:$K$4,0)),\"\")","v":""},null,null,null,null,null,null,null,null,null,null,null,null,null,"","","","","","","","",""]
[null,null,{"$f":"IFERROR(INDEX('Modifikuoti svoriai '!$D$5:$K$29,MATCH(B1785,'Modifikuoti svoriai '!$C$5:$C$29,0),MATCH(A1785,'Modifikuoti svoriai '!$D$4:$K$4,0)),\"\")","v":""},null,null,null,null,null,null,null,null,null,null,null,null,null,"","","","","","","","",""]
[null,null,{"$f":"IFERROR(INDEX('Modifikuoti svoriai '!$D$5:$K$29,MATCH(B1786,'Modifikuoti svoriai '!$C$5:$C$29,0),MATCH(A1786,'Modifikuoti svoriai '!$D$4:$K$4,0)),\"\")","v":""},null,null,null,null,null,null,null,null,null,null,null,null,null,"","","","","","","","",""]
[null,null,{"$f":"IFERROR(INDEX('Modifikuoti svoriai '!$D$5:$K$29,MATCH(B1787,'Modifikuoti svoriai '!$C$5:$C$29,0),MATCH(A1787,'Modifikuoti svoriai '!$D$4:$K$4,0)),\"\")","v":""},null,null,null,null,null,null,null,null,null,null,null,null,null,"","","","","","","","",""]
[null,null,{"$f":"IFERROR(INDEX('Modifikuoti svoriai '!$D$5:$K$29,MATCH(B1788,'Modifikuoti svoriai '!$C$5:$C$29,0),MATCH(A1788,'Modifikuoti svoriai '!$D$4:$K$4,0)),\"\")","v":""},null,null,null,null,null,null,null,null,null,null,null,null,null,"","","","","","","","",""]
[null,null,{"$f":"IFERROR(INDEX('Modifikuoti svoriai '!$D$5:$K$29,MATCH(B1789,'Modifikuoti svoriai '!$C$5:$C$29,0),MATCH(A1789,'Modifikuoti svoriai '!$D$4:$K$4,0)),\"\")","v":""},null,null,null,null,null,null,null,null,null,null,null,null,null,"","","","","","","","",""]
[null,null,{"$f":"IFERROR(INDEX('Modifikuoti svoriai '!$D$5:$K$29,MATCH(B1790,'Modifikuoti svoriai '!$C$5:$C$29,0),MATCH(A1790,'Modifikuoti svoriai '!$D$4:$K$4,0)),\"\")","v":""},null,null,null,null,null,null,null,null,null,null,null,null,null,"","","","","","","","",""]
[null,null,{"$f":"IFERROR(INDEX('Modifikuoti svoriai '!$D$5:$K$29,MATCH(B1791,'Modifikuoti svoriai '!$C$5:$C$29,0),MATCH(A1791,'Modifikuoti svoriai '!$D$4:$K$4,0)),\"\")","v":""},null,null,null,null,null,null,null,null,null,null,null,null,null,{"$f":"IF(Q$6<YEAR($K1791),\"Pastato tarnavimo laikotarpis nepasibaigė\",IF(Q$6=YEAR($K1791),\"Pastato tarnavimo laikotarpio pabaiga\",IF($K1791<>0,\"Pastato tarnavimo laikotarpis pasibaigė\",\"\")))","v":""},"","","","","","","",""]
[null,null,{"$f":"IFERROR(INDEX('Modifikuoti svoriai '!$D$5:$K$29,MATCH(B1792,'Modifikuoti svoriai '!$C$5:$C$29,0),MATCH(A1792,'Modifikuoti svoriai '!$D$4:$K$4,0)),\"\")","v":""},null,null,null,null,null,null,null,null,null,null,null,null,null,"","","","","","","","",""]
[null,null,{"$f":"IFERROR(INDEX('Modifikuoti svoriai '!$D$5:$K$29,MATCH(B1793,'Modifikuoti svoriai '!$C$5:$C$29,0),MATCH(A1793,'Modifikuoti svoriai '!$D$4:$K$4,0)),\"\")","v":""},null,null,null,null,null,null,null,null,null,null,null,null,null,"","","","","","","","",""]
[null,null,{"$f":"IFERROR(INDEX('Modifikuoti svoriai '!$D$5:$K$29,MATCH(B1794,'Modifikuoti svoriai '!$C$5:$C$29,0),MATCH(A1794,'Modifikuoti svoriai '!$D$4:$K$4,0)),\"\")","v":""},null,null,null,null,null,null,null,null,null,null,null,null,null,"","","","","","","","",""]
[null,null,{"$f":"IFERROR(INDEX('Modifikuoti svoriai '!$D$5:$K$29,MATCH(B1795,'Modifikuoti svoriai '!$C$5:$C$29,0),MATCH(A1795,'Modifikuoti svoriai '!$D$4:$K$4,0)),\"\")","v":""},null,null,null,null,null,null,null,null,null,null,null,null,null,"","","","","","","","",""]
[null,null,{"$f":"IFERROR(INDEX('Modifikuoti svoriai '!$D$5:$K$29,MATCH(B1796,'Modifikuoti svoriai '!$C$5:$C$29,0),MATCH(A1796,'Modifikuoti svoriai '!$D$4:$K$4,0)),\"\")","v":""},null,null,null,null,null,null,null,null,null,null,null,null,null,"","","","","","","","",""]
[null,null,{"$f":"IFERROR(INDEX('Modifikuoti svoriai '!$D$5:$K$29,MATCH(B1797,'Modifikuoti svoriai '!$C$5:$C$29,0),MATCH(A1797,'Modifikuoti svoriai '!$D$4:$K$4,0)),\"\")","v":""},null,null,null,null,null,null,null,null,null,null,null,null,null,"","","","","","","","",""]
[null,null,{"$f":"IFERROR(INDEX('Modifikuoti svoriai '!$D$5:$K$29,MATCH(B1798,'Modifikuoti svoriai '!$C$5:$C$29,0),MATCH(A1798,'Modifikuoti svoriai '!$D$4:$K$4,0)),\"\")","v":""},null,null,null,null,null,null,null,null,null,null,null,null,null,"","","","","","","","",""]
[null,null,{"$f":"IFERROR(INDEX('Modifikuoti svoriai '!$D$5:$K$29,MATCH(B1799,'Modifikuoti svoriai '!$C$5:$C$29,0),MATCH(A1799,'Modifikuoti svoriai '!$D$4:$K$4,0)),\"\")","v":""},null,null,null,null,null,null,null,null,null,null,null,null,null,"","","","","","","","",""]
[null,null,{"$f":"IFERROR(INDEX('Modifikuoti svoriai '!$D$5:$K$29,MATCH(B1800,'Modifikuoti svoriai '!$C$5:$C$29,0),MATCH(A1800,'Modifikuoti svoriai '!$D$4:$K$4,0)),\"\")","v":""},null,null,null,null,null,null,null,null,null,null,null,null,null,"","","","","","","","",""]
[null,null,{"$f":"IFERROR(INDEX('Modifikuoti svoriai '!$D$5:$K$29,MATCH(B1801,'Modifikuoti svoriai '!$C$5:$C$29,0),MATCH(A1801,'Modifikuoti svoriai '!$D$4:$K$4,0)),\"\")","v":""},null,null,null,null,null,null,null,null,null,null,null,null,null,"","","","","","","","",""]
[null,null,{"$f":"IFERROR(INDEX('Modifikuoti svoriai '!$D$5:$K$29,MATCH(B1802,'Modifikuoti svoriai '!$C$5:$C$29,0),MATCH(A1802,'Modifikuoti svoriai '!$D$4:$K$4,0)),\"\")","v":""},null,null,null,null,null,null,null,null,null,null,null,null,null,"","","","","","","","",""]
[null,null,{"$f":"IFERROR(INDEX('Modifikuoti svoriai '!$D$5:$K$29,MATCH(B1803,'Modifikuoti svoriai '!$C$5:$C$29,0),MATCH(A1803,'Modifikuoti svoriai '!$D$4:$K$4,0)),\"\")","v":""},null,null,null,null,null,null,null,null,null,null,null,null,null,"","","","","","","","",""]
[null,null,{"$f":"IFERROR(INDEX('Modifikuoti svoriai '!$D$5:$K$29,MATCH(B1804,'Modifikuoti svoriai '!$C$5:$C$29,0),MATCH(A1804,'Modifikuoti svoriai '!$D$4:$K$4,0)),\"\")","v":""},null,null,null,null,null,null,null,null,null,null,null,null,null,"","","","","","","","",""]
[null,null,{"$f":"IFERROR(INDEX('Modifikuoti svoriai '!$D$5:$K$29,MATCH(B1805,'Modifikuoti svoriai '!$C$5:$C$29,0),MATCH(A1805,'Modifikuoti svoriai '!$D$4:$K$4,0)),\"\")","v":""},null,null,null,null,null,null,null,null,null,null,null,null,null,"","","","","","","","",""]
[null,null,{"$f":"IFERROR(INDEX('Modifikuoti svoriai '!$D$5:$K$29,MATCH(B1806,'Modifikuoti svoriai '!$C$5:$C$29,0),MATCH(A1806,'Modifikuoti svoriai '!$D$4:$K$4,0)),\"\")","v":""},null,null,null,null,null,null,null,null,null,null,null,null,null,"","","","","","","","",""]
[null,null,{"$f":"IFERROR(INDEX('Modifikuoti svoriai '!$D$5:$K$29,MATCH(B1807,'Modifikuoti svoriai '!$C$5:$C$29,0),MATCH(A1807,'Modifikuoti svoriai '!$D$4:$K$4,0)),\"\")","v":""},null,null,null,null,null,null,null,null,null,null,null,null,null,{"$f":"IF(Q$6<YEAR($K1807),\"Pastato tarnavimo laikotarpis nepasibaigė\",IF(Q$6=YEAR($K1807),\"Pastato tarnavimo laikotarpio pabaiga\",IF($K1807<>0,\"Pastato tarnavimo laikotarpis pasibaigė\",\"\")))","v":""},"","","","","","","",""]
[null,null,{"$f":"IFERROR(INDEX('Modifikuoti svoriai '!$D$5:$K$29,MATCH(B1808,'Modifikuoti svoriai '!$C$5:$C$29,0),MATCH(A1808,'Modifikuoti svoriai '!$D$4:$K$4,0)),\"\")","v":""},null,null,null,null,null,null,null,null,null,null,null,null,null,"","","","","","","","",""]
[null,null,{"$f":"IFERROR(INDEX('Modifikuoti svoriai '!$D$5:$K$29,MATCH(B1809,'Modifikuoti svoriai '!$C$5:$C$29,0),MATCH(A1809,'Modifikuoti svoriai '!$D$4:$K$4,0)),\"\")","v":""},null,null,null,null,null,null,null,null,null,null,null,null,null,"","","","","","","","",""]
[null,null,{"$f":"IFERROR(INDEX('Modifikuoti svoriai '!$D$5:$K$29,MATCH(B1810,'Modifikuoti svoriai '!$C$5:$C$29,0),MATCH(A1810,'Modifikuoti svoriai '!$D$4:$K$4,0)),\"\")","v":""},null,null,null,null,null,null,null,null,null,null,null,null,null,"","","","","","","","",""]
[null,null,{"$f":"IFERROR(INDEX('Modifikuoti svoriai '!$D$5:$K$29,MATCH(B1811,'Modifikuoti svoriai '!$C$5:$C$29,0),MATCH(A1811,'Modifikuoti svoriai '!$D$4:$K$4,0)),\"\")","v":""},null,null,null,null,null,null,null,null,null,null,null,null,null,"","","","","","","","",""]
[null,null,{"$f":"IFERROR(INDEX('Modifikuoti svoriai '!$D$5:$K$29,MATCH(B1812,'Modifikuoti svoriai '!$C$5:$C$29,0),MATCH(A1812,'Modifikuoti svoriai '!$D$4:$K$4,0)),\"\")","v":""},null,null,null,null,null,null,null,null,null,null,null,null,null,"","","","","","","","",""]
[null,null,{"$f":"IFERROR(INDEX('Modifikuoti svoriai '!$D$5:$K$29,MATCH(B1813,'Modifikuoti svoriai '!$C$5:$C$29,0),MATCH(A1813,'Modifikuoti svoriai '!$D$4:$K$4,0)),\"\")","v":""},null,null,null,null,null,null,null,null,null,null,null,null,null,"","","","","","","","",""]
[null,null,{"$f":"IFERROR(INDEX('Modifikuoti svoriai '!$D$5:$K$29,MATCH(B1814,'Modifikuoti svoriai '!$C$5:$C$29,0),MATCH(A1814,'Modifikuoti svoriai '!$D$4:$K$4,0)),\"\")","v":""},null,null,null,null,null,null,null,null,null,null,null,null,null,"","","","","","","","",""]
[null,null,{"$f":"IFERROR(INDEX('Modifikuoti svoriai '!$D$5:$K$29,MATCH(B1815,'Modifikuoti svoriai '!$C$5:$C$29,0),MATCH(A1815,'Modifikuoti svoriai '!$D$4:$K$4,0)),\"\")","v":""},null,null,null,null,null,null,null,null,null,null,null,null,null,"","","","","","","","",""]
[null,null,{"$f":"IFERROR(INDEX('Modifikuoti svoriai '!$D$5:$K$29,MATCH(B1816,'Modifikuoti svoriai '!$C$5:$C$29,0),MATCH(A1816,'Modifikuoti svoriai '!$D$4:$K$4,0)),\"\")","v":""},null,null,null,null,null,null,null,null,null,null,null,null,null,"","","","","","","","",""]
[null,null,{"$f":"IFERROR(INDEX('Modifikuoti svoriai '!$D$5:$K$29,MATCH(B1817,'Modifikuoti svoriai '!$C$5:$C$29,0),MATCH(A1817,'Modifikuoti svoriai '!$D$4:$K$4,0)),\"\")","v":""},null,null,null,null,null,null,null,null,null,null,null,null,null,"","","","","","","","",""]
[null,null,{"$f":"IFERROR(INDEX('Modifikuoti svoriai '!$D$5:$K$29,MATCH(B1818,'Modifikuoti svoriai '!$C$5:$C$29,0),MATCH(A1818,'Modifikuoti svoriai '!$D$4:$K$4,0)),\"\")","v":""},null,null,null,null,null,null,null,null,null,null,null,null,null,"","","","","","","","",""]
[null,null,{"$f":"IFERROR(INDEX('Modifikuoti svoriai '!$D$5:$K$29,MATCH(B1819,'Modifikuoti svoriai '!$C$5:$C$29,0),MATCH(A1819,'Modifikuoti svoriai '!$D$4:$K$4,0)),\"\")","v":""},null,null,null,null,null,null,null,null,null,null,null,null,null,"","","","","","","","",""]
[null,null,{"$f":"IFERROR(INDEX('Modifikuoti svoriai '!$D$5:$K$29,MATCH(B1820,'Modifikuoti svoriai '!$C$5:$C$29,0),MATCH(A1820,'Modifikuoti svoriai '!$D$4:$K$4,0)),\"\")","v":""},null,null,null,null,null,null,null,null,null,null,null,null,null,"","","","","","","","",""]
[null,null,{"$f":"IFERROR(INDEX('Modifikuoti svoriai '!$D$5:$K$29,MATCH(B1821,'Modifikuoti svoriai '!$C$5:$C$29,0),MATCH(A1821,'Modifikuoti svoriai '!$D$4:$K$4,0)),\"\")","v":""},null,null,null,null,null,null,null,null,null,null,null,null,null,"","","","","","","","",""]
[null,null,{"$f":"IFERROR(INDEX('Modifikuoti svoriai '!$D$5:$K$29,MATCH(B1822,'Modifikuoti svoriai '!$C$5:$C$29,0),MATCH(A1822,'Modifikuoti svoriai '!$D$4:$K$4,0)),\"\")","v":""},null,null,null,null,null,null,null,null,null,null,null,null,null,"","","","","","","","",""]
[null,null,{"$f":"IFERROR(INDEX('Modifikuoti svoriai '!$D$5:$K$29,MATCH(B1823,'Modifikuoti svoriai '!$C$5:$C$29,0),MATCH(A1823,'Modifikuoti svoriai '!$D$4:$K$4,0)),\"\")","v":""},null,null,null,null,null,null,null,null,null,null,null,null,null,{"$f":"IF(Q$6<YEAR($K1823),\"Pastato tarnavimo laikotarpis nepasibaigė\",IF(Q$6=YEAR($K1823),\"Pastato tarnavimo laikotarpio pabaiga\",IF($K1823<>0,\"Pastato tarnavimo laikotarpis pasibaigė\",\"\")))","v":""},"","","","","","","",""]
[null,null,{"$f":"IFERROR(INDEX('Modifikuoti svoriai '!$D$5:$K$29,MATCH(B1824,'Modifikuoti svoriai '!$C$5:$C$29,0),MATCH(A1824,'Modifikuoti svoriai '!$D$4:$K$4,0)),\"\")","v":""},null,null,null,null,null,null,null,null,null,null,null,null,null,"","","","","","","","",""]
[null,null,{"$f":"IFERROR(INDEX('Modifikuoti svoriai '!$D$5:$K$29,MATCH(B1825,'Modifikuoti svoriai '!$C$5:$C$29,0),MATCH(A1825,'Modifikuoti svoriai '!$D$4:$K$4,0)),\"\")","v":""},null,null,null,null,null,null,null,null,null,null,null,null,null,"","","","","","","","",""]
[null,null,{"$f":"IFERROR(INDEX('Modifikuoti svoriai '!$D$5:$K$29,MATCH(B1826,'Modifikuoti svoriai '!$C$5:$C$29,0),MATCH(A1826,'Modifikuoti svoriai '!$D$4:$K$4,0)),\"\")","v":""},null,null,null,null,null,null,null,null,null,null,null,null,null,"","","","","","","","",""]
[null,null,{"$f":"IFERROR(INDEX('Modifikuoti svoriai '!$D$5:$K$29,MATCH(B1827,'Modifikuoti svoriai '!$C$5:$C$29,0),MATCH(A1827,'Modifikuoti svoriai '!$D$4:$K$4,0)),\"\")","v":""},null,null,null,null,null,null,null,null,null,null,null,null,null,"","","","","","","","",""]
[null,null,{"$f":"IFERROR(INDEX('Modifikuoti svoriai '!$D$5:$K$29,MATCH(B1828,'Modifikuoti svoriai '!$C$5:$C$29,0),MATCH(A1828,'Modifikuoti svoriai '!$D$4:$K$4,0)),\"\")","v":""},null,null,null,null,null,null,null,null,null,null,null,null,null,"","","","","","","","",""]
[null,null,{"$f":"IFERROR(INDEX('Modifikuoti svoriai '!$D$5:$K$29,MATCH(B1829,'Modifikuoti svoriai '!$C$5:$C$29,0),MATCH(A1829,'Modifikuoti svoriai '!$D$4:$K$4,0)),\"\")","v":""},null,null,null,null,null,null,null,null,null,null,null,null,null,"","","","","","","","",""]
[null,null,{"$f":"IFERROR(INDEX('Modifikuoti svoriai '!$D$5:$K$29,MATCH(B1830,'Modifikuoti svoriai '!$C$5:$C$29,0),MATCH(A1830,'Modifikuoti svoriai '!$D$4:$K$4,0)),\"\")","v":""},null,null,null,null,null,null,null,null,null,null,null,null,null,"","","","","","","","",""]
[null,null,{"$f":"IFERROR(INDEX('Modifikuoti svoriai '!$D$5:$K$29,MATCH(B1831,'Modifikuoti svoriai '!$C$5:$C$29,0),MATCH(A1831,'Modifikuoti svoriai '!$D$4:$K$4,0)),\"\")","v":""},null,null,null,null,null,null,null,null,null,null,null,null,null,"","","","","","","","",""]
[null,null,{"$f":"IFERROR(INDEX('Modifikuoti svoriai '!$D$5:$K$29,MATCH(B1832,'Modifikuoti svoriai '!$C$5:$C$29,0),MATCH(A1832,'Modifikuoti svoriai '!$D$4:$K$4,0)),\"\")","v":""},null,null,null,null,null,null,null,null,null,null,null,null,null,"","","","","","","","",""]
[null,null,{"$f":"IFERROR(INDEX('Modifikuoti svoriai '!$D$5:$K$29,MATCH(B1833,'Modifikuoti svoriai '!$C$5:$C$29,0),MATCH(A1833,'Modifikuoti svoriai '!$D$4:$K$4,0)),\"\")","v":""},null,null,null,null,null,null,null,null,null,null,null,null,null,"","","","","","","","",""]
[null,null,{"$f":"IFERROR(INDEX('Modifikuoti svoriai '!$D$5:$K$29,MATCH(B1834,'Modifikuoti svoriai '!$C$5:$C$29,0),MATCH(A1834,'Modifikuoti svoriai '!$D$4:$K$4,0)),\"\")","v":""},null,null,null,null,null,null,null,null,null,null,null,null,null,"","","","","","","","",""]
[null,null,{"$f":"IFERROR(INDEX('Modifikuoti svoriai '!$D$5:$K$29,MATCH(B1835,'Modifikuoti svoriai '!$C$5:$C$29,0),MATCH(A1835,'Modifikuoti svoriai '!$D$4:$K$4,0)),\"\")","v":""},null,null,null,null,null,null,null,null,null,null,null,null,null,"","","","","","","","",""]
[null,null,{"$f":"IFERROR(INDEX('Modifikuoti svoriai '!$D$5:$K$29,MATCH(B1836,'Modifikuoti svoriai '!$C$5:$C$29,0),MATCH(A1836,'Modifikuoti svoriai '!$D$4:$K$4,0)),\"\")","v":""},null,null,null,null,null,null,null,null,null,null,null,null,null,"","","","","","","","",""]
[null,null,{"$f":"IFERROR(INDEX('Modifikuoti svoriai '!$D$5:$K$29,MATCH(B1837,'Modifikuoti svoriai '!$C$5:$C$29,0),MATCH(A1837,'Modifikuoti svoriai '!$D$4:$K$4,0)),\"\")","v":""},null,null,null,null,null,null,null,null,null,null,null,null,null,"","","","","","","","",""]
[null,null,{"$f":"IFERROR(INDEX('Modifikuoti svoriai '!$D$5:$K$29,MATCH(B1838,'Modifikuoti svoriai '!$C$5:$C$29,0),MATCH(A1838,'Modifikuoti svoriai '!$D$4:$K$4,0)),\"\")","v":""},null,null,null,null,null,null,null,null,null,null,null,null,null,"","","","","","","","",""]
[null,null,{"$f":"IFERROR(INDEX('Modifikuoti svoriai '!$D$5:$K$29,MATCH(B1839,'Modifikuoti svoriai '!$C$5:$C$29,0),MATCH(A1839,'Modifikuoti svoriai '!$D$4:$K$4,0)),\"\")","v":""},null,null,null,null,null,null,null,null,null,null,null,null,null,{"$f":"IF(Q$6<YEAR($K1839),\"Pastato tarnavimo laikotarpis nepasibaigė\",IF(Q$6=YEAR($K1839),\"Pastato tarnavimo laikotarpio pabaiga\",IF($K1839<>0,\"Pastato tarnavimo laikotarpis pasibaigė\",\"\")))","v":""},"","","","","","","",""]
[null,null,{"$f":"IFERROR(INDEX('Modifikuoti svoriai '!$D$5:$K$29,MATCH(B1840,'Modifikuoti svoriai '!$C$5:$C$29,0),MATCH(A1840,'Modifikuoti svoriai '!$D$4:$K$4,0)),\"\")","v":""},null,null,null,null,null,null,null,null,null,null,null,null,null,"","","","","","","","",""]
[null,null,{"$f":"IFERROR(INDEX('Modifikuoti svoriai '!$D$5:$K$29,MATCH(B1841,'Modifikuoti svoriai '!$C$5:$C$29,0),MATCH(A1841,'Modifikuoti svoriai '!$D$4:$K$4,0)),\"\")","v":""},null,null,null,null,null,null,null,null,null,null,null,null,null,"","","","","","","","",""]
[null,null,{"$f":"IFERROR(INDEX('Modifikuoti svoriai '!$D$5:$K$29,MATCH(B1842,'Modifikuoti svoriai '!$C$5:$C$29,0),MATCH(A1842,'Modifikuoti svoriai '!$D$4:$K$4,0)),\"\")","v":""},null,null,null,null,null,null,null,null,null,null,null,null,null,"","","","","","","","",""]
[null,null,{"$f":"IFERROR(INDEX('Modifikuoti svoriai '!$D$5:$K$29,MATCH(B1843,'Modifikuoti svoriai '!$C$5:$C$29,0),MATCH(A1843,'Modifikuoti svoriai '!$D$4:$K$4,0)),\"\")","v":""},null,null,null,null,null,null,null,null,null,null,null,null,null,"","","","","","","","",""]
[null,null,{"$f":"IFERROR(INDEX('Modifikuoti svoriai '!$D$5:$K$29,MATCH(B1844,'Modifikuoti svoriai '!$C$5:$C$29,0),MATCH(A1844,'Modifikuoti svoriai '!$D$4:$K$4,0)),\"\")","v":""},null,null,null,null,null,null,null,null,null,null,null,null,null,"","","","","","","","",""]
[null,null,{"$f":"IFERROR(INDEX('Modifikuoti svoriai '!$D$5:$K$29,MATCH(B1845,'Modifikuoti svoriai '!$C$5:$C$29,0),MATCH(A1845,'Modifikuoti svoriai '!$D$4:$K$4,0)),\"\")","v":""},null,null,null,null,null,null,null,null,null,null,null,null,null,"","","","","","","","",""]
[null,null,{"$f":"IFERROR(INDEX('Modifikuoti svoriai '!$D$5:$K$29,MATCH(B1846,'Modifikuoti svoriai '!$C$5:$C$29,0),MATCH(A1846,'Modifikuoti svoriai '!$D$4:$K$4,0)),\"\")","v":""},null,null,null,null,null,null,null,null,null,null,null,null,null,"","","","","","","","",""]
[null,null,{"$f":"IFERROR(INDEX('Modifikuoti svoriai '!$D$5:$K$29,MATCH(B1847,'Modifikuoti svoriai '!$C$5:$C$29,0),MATCH(A1847,'Modifikuoti svoriai '!$D$4:$K$4,0)),\"\")","v":""},null,null,null,null,null,null,null,null,null,null,null,null,null,"","","","","","","","",""]
[null,null,{"$f":"IFERROR(INDEX('Modifikuoti svoriai '!$D$5:$K$29,MATCH(B1848,'Modifikuoti svoriai '!$C$5:$C$29,0),MATCH(A1848,'Modifikuoti svoriai '!$D$4:$K$4,0)),\"\")","v":""},null,null,null,null,null,null,null,null,null,null,null,null,null,"","","","","","","","",""]
[null,null,{"$f":"IFERROR(INDEX('Modifikuoti svoriai '!$D$5:$K$29,MATCH(B1849,'Modifikuoti svoriai '!$C$5:$C$29,0),MATCH(A1849,'Modifikuoti svoriai '!$D$4:$K$4,0)),\"\")","v":""},null,null,null,null,null,null,null,null,null,null,null,null,null,"","","","","","","","",""]
[null,null,{"$f":"IFERROR(INDEX('Modifikuoti svoriai '!$D$5:$K$29,MATCH(B1850,'Modifikuoti svoriai '!$C$5:$C$29,0),MATCH(A1850,'Modifikuoti svoriai '!$D$4:$K$4,0)),\"\")","v":""},null,null,null,null,null,null,null,null,null,null,null,null,null,"","","","","","","","",""]
[null,null,{"$f":"IFERROR(INDEX('Modifikuoti svoriai '!$D$5:$K$29,MATCH(B1851,'Modifikuoti svoriai '!$C$5:$C$29,0),MATCH(A1851,'Modifikuoti svoriai '!$D$4:$K$4,0)),\"\")","v":""},null,null,null,null,null,null,null,null,null,null,null,null,null,"","","","","","","","",""]
[null,null,{"$f":"IFERROR(INDEX('Modifikuoti svoriai '!$D$5:$K$29,MATCH(B1852,'Modifikuoti svoriai '!$C$5:$C$29,0),MATCH(A1852,'Modifikuoti svoriai '!$D$4:$K$4,0)),\"\")","v":""},null,null,null,null,null,null,null,null,null,null,null,null,null,"","","","","","","","",""]
[null,null,{"$f":"IFERROR(INDEX('Modifikuoti svoriai '!$D$5:$K$29,MATCH(B1853,'Modifikuoti svoriai '!$C$5:$C$29,0),MATCH(A1853,'Modifikuoti svoriai '!$D$4:$K$4,0)),\"\")","v":""},null,null,null,null,null,null,null,null,null,null,null,null,null,"","","","","","","","",""]
[null,null,{"$f":"IFERROR(INDEX('Modifikuoti svoriai '!$D$5:$K$29,MATCH(B1854,'Modifikuoti svoriai '!$C$5:$C$29,0),MATCH(A1854,'Modifikuoti svoriai '!$D$4:$K$4,0)),\"\")","v":""},null,null,null,null,null,null,null,null,null,null,null,null,null,"","","","","","","","",""]
[null,null,{"$f":"IFERROR(INDEX('Modifikuoti svoriai '!$D$5:$K$29,MATCH(B1855,'Modifikuoti svoriai '!$C$5:$C$29,0),MATCH(A1855,'Modifikuoti svoriai '!$D$4:$K$4,0)),\"\")","v":""},null,null,null,null,null,null,null,null,null,null,null,null,null,{"$f":"IF(Q$6<YEAR($K1855),\"Pastato tarnavimo laikotarpis nepasibaigė\",IF(Q$6=YEAR($K1855),\"Pastato tarnavimo laikotarpio pabaiga\",IF($K1855<>0,\"Pastato tarnavimo laikotarpis pasibaigė\",\"\")))","v":""},"","","","","","","",""]
[null,null,{"$f":"IFERROR(INDEX('Modifikuoti svoriai '!$D$5:$K$29,MATCH(B1856,'Modifikuoti svoriai '!$C$5:$C$29,0),MATCH(A1856,'Modifikuoti svoriai '!$D$4:$K$4,0)),\"\")","v":""},null,null,null,null,null,null,null,null,null,null,null,null,null,"","","","","","","","",""]
[null,null,{"$f":"IFERROR(INDEX('Modifikuoti svoriai '!$D$5:$K$29,MATCH(B1857,'Modifikuoti svoriai '!$C$5:$C$29,0),MATCH(A1857,'Modifikuoti svoriai '!$D$4:$K$4,0)),\"\")","v":""},null,null,null,null,null,null,null,null,null,null,null,null,null,"","","","","","","","",""]
[null,null,{"$f":"IFERROR(INDEX('Modifikuoti svoriai '!$D$5:$K$29,MATCH(B1858,'Modifikuoti svoriai '!$C$5:$C$29,0),MATCH(A1858,'Modifikuoti svoriai '!$D$4:$K$4,0)),\"\")","v":""},null,null,null,null,null,null,null,null,null,null,null,null,null,"","","","","","","","",""]
[null,null,{"$f":"IFERROR(INDEX('Modifikuoti svoriai '!$D$5:$K$29,MATCH(B1859,'Modifikuoti svoriai '!$C$5:$C$29,0),MATCH(A1859,'Modifikuoti svoriai '!$D$4:$K$4,0)),\"\")","v":""},null,null,null,null,null,null,null,null,null,null,null,null,null,"","","","","","","","",""]
[null,null,{"$f":"IFERROR(INDEX('Modifikuoti svoriai '!$D$5:$K$29,MATCH(B1860,'Modifikuoti svoriai '!$C$5:$C$29,0),MATCH(A1860,'Modifikuoti svoriai '!$D$4:$K$4,0)),\"\")","v":""},null,null,null,null,null,null,null,null,null,null,null,null,null,"","","","","","","","",""]
[null,null,{"$f":"IFERROR(INDEX('Modifikuoti svoriai '!$D$5:$K$29,MATCH(B1861,'Modifikuoti svoriai '!$C$5:$C$29,0),MATCH(A1861,'Modifikuoti svoriai '!$D$4:$K$4,0)),\"\")","v":""},null,null,null,null,null,null,null,null,null,null,null,null,null,"","","","","","","","",""]
[null,null,{"$f":"IFERROR(INDEX('Modifikuoti svoriai '!$D$5:$K$29,MATCH(B1862,'Modifikuoti svoriai '!$C$5:$C$29,0),MATCH(A1862,'Modifikuoti svoriai '!$D$4:$K$4,0)),\"\")","v":""},null,null,null,null,null,null,null,null,null,null,null,null,null,"","","","","","","","",""]
[null,null,{"$f":"IFERROR(INDEX('Modifikuoti svoriai '!$D$5:$K$29,MATCH(B1863,'Modifikuoti svoriai '!$C$5:$C$29,0),MATCH(A1863,'Modifikuoti svoriai '!$D$4:$K$4,0)),\"\")","v":""},null,null,null,null,null,null,null,null,null,null,null,null,null,"","","","","","","","",""]
[null,null,{"$f":"IFERROR(INDEX('Modifikuoti svoriai '!$D$5:$K$29,MATCH(B1864,'Modifikuoti svoriai '!$C$5:$C$29,0),MATCH(A1864,'Modifikuoti svoriai '!$D$4:$K$4,0)),\"\")","v":""},null,null,null,null,null,null,null,null,null,null,null,null,null,"","","","","","","","",""]
[null,null,{"$f":"IFERROR(INDEX('Modifikuoti svoriai '!$D$5:$K$29,MATCH(B1865,'Modifikuoti svoriai '!$C$5:$C$29,0),MATCH(A1865,'Modifikuoti svoriai '!$D$4:$K$4,0)),\"\")","v":""},null,null,null,null,null,null,null,null,null,null,null,null,null,"","","","","","","","",""]
[null,null,{"$f":"IFERROR(INDEX('Modifikuoti svoriai '!$D$5:$K$29,MATCH(B1866,'Modifikuoti svoriai '!$C$5:$C$29,0),MATCH(A1866,'Modifikuoti svoriai '!$D$4:$K$4,0)),\"\")","v":""},null,null,null,null,null,null,null,null,null,null,null,null,null,"","","","","","","","",""]
[null,null,{"$f":"IFERROR(INDEX('Modifikuoti svoriai '!$D$5:$K$29,MATCH(B1867,'Modifikuoti svoriai '!$C$5:$C$29,0),MATCH(A1867,'Modifikuoti svoriai '!$D$4:$K$4,0)),\"\")","v":""},null,null,null,null,null,null,null,null,null,null,null,null,null,"","","","","","","","",""]
[null,null,{"$f":"IFERROR(INDEX('Modifikuoti svoriai '!$D$5:$K$29,MATCH(B1868,'Modifikuoti svoriai '!$C$5:$C$29,0),MATCH(A1868,'Modifikuoti svoriai '!$D$4:$K$4,0)),\"\")","v":""},null,null,null,null,null,null,null,null,null,null,null,null,null,"","","","","","","","",""]
[null,null,{"$f":"IFERROR(INDEX('Modifikuoti svoriai '!$D$5:$K$29,MATCH(B1869,'Modifikuoti svoriai '!$C$5:$C$29,0),MATCH(A1869,'Modifikuoti svoriai '!$D$4:$K$4,0)),\"\")","v":""},null,null,null,null,null,null,null,null,null,null,null,null,null,"","","","","","","","",""]
[null,null,{"$f":"IFERROR(INDEX('Modifikuoti svoriai '!$D$5:$K$29,MATCH(B1870,'Modifikuoti svoriai '!$C$5:$C$29,0),MATCH(A1870,'Modifikuoti svoriai '!$D$4:$K$4,0)),\"\")","v":""},null,null,null,null,null,null,null,null,null,null,null,null,null,"","","","","","","","",""]
[null,null,{"$f":"IFERROR(INDEX('Modifikuoti svoriai '!$D$5:$K$29,MATCH(B1871,'Modifikuoti svoriai '!$C$5:$C$29,0),MATCH(A1871,'Modifikuoti svoriai '!$D$4:$K$4,0)),\"\")","v":""},null,null,null,null,null,null,null,null,null,null,null,null,null,{"$f":"IF(Q$6<YEAR($K1871),\"Pastato tarnavimo laikotarpis nepasibaigė\",IF(Q$6=YEAR($K1871),\"Pastato tarnavimo laikotarpio pabaiga\",IF($K1871<>0,\"Pastato tarnavimo laikotarpis pasibaigė\",\"\")))","v":""},"","","","","","","",""]
[null,null,{"$f":"IFERROR(INDEX('Modifikuoti svoriai '!$D$5:$K$29,MATCH(B1872,'Modifikuoti svoriai '!$C$5:$C$29,0),MATCH(A1872,'Modifikuoti svoriai '!$D$4:$K$4,0)),\"\")","v":""},null,null,null,null,null,null,null,null,null,null,null,null,null,"","","","","","","","",""]
[null,null,{"$f":"IFERROR(INDEX('Modifikuoti svoriai '!$D$5:$K$29,MATCH(B1873,'Modifikuoti svoriai '!$C$5:$C$29,0),MATCH(A1873,'Modifikuoti svoriai '!$D$4:$K$4,0)),\"\")","v":""},null,null,null,null,null,null,null,null,null,null,null,null,null,"","","","","","","","",""]
[null,null,{"$f":"IFERROR(INDEX('Modifikuoti svoriai '!$D$5:$K$29,MATCH(B1874,'Modifikuoti svoriai '!$C$5:$C$29,0),MATCH(A1874,'Modifikuoti svoriai '!$D$4:$K$4,0)),\"\")","v":""},null,null,null,null,null,null,null,null,null,null,null,null,null,"","","","","","","","",""]
[null,null,{"$f":"IFERROR(INDEX('Modifikuoti svoriai '!$D$5:$K$29,MATCH(B1875,'Modifikuoti svoriai '!$C$5:$C$29,0),MATCH(A1875,'Modifikuoti svoriai '!$D$4:$K$4,0)),\"\")","v":""},null,null,null,null,null,null,null,null,null,null,null,null,null,"","","","","","","","",""]
[null,null,{"$f":"IFERROR(INDEX('Modifikuoti svoriai '!$D$5:$K$29,MATCH(B1876,'Modifikuoti svoriai '!$C$5:$C$29,0),MATCH(A1876,'Modifikuoti svoriai '!$D$4:$K$4,0)),\"\")","v":""},null,null,null,null,null,null,null,null,null,null,null,null,null,"","","","","","","","",""]
[null,null,{"$f":"IFERROR(INDEX('Modifikuoti svoriai '!$D$5:$K$29,MATCH(B1877,'Modifikuoti svoriai '!$C$5:$C$29,0),MATCH(A1877,'Modifikuoti svoriai '!$D$4:$K$4,0)),\"\")","v":""},null,null,null,null,null,null,null,null,null,null,null,null,null,"","","","","","","","",""]
[null,null,{"$f":"IFERROR(INDEX('Modifikuoti svoriai '!$D$5:$K$29,MATCH(B1878,'Modifikuoti svoriai '!$C$5:$C$29,0),MATCH(A1878,'Modifikuoti svoriai '!$D$4:$K$4,0)),\"\")","v":""},null,null,null,null,null,null,null,null,null,null,null,null,null,"","","","","","","","",""]
[null,null,{"$f":"IFERROR(INDEX('Modifikuoti svoriai '!$D$5:$K$29,MATCH(B1879,'Modifikuoti svoriai '!$C$5:$C$29,0),MATCH(A1879,'Modifikuoti svoriai '!$D$4:$K$4,0)),\"\")","v":""},null,null,null,null,null,null,null,null,null,null,null,null,null,"","","","","","","","",""]
[null,null,{"$f":"IFERROR(INDEX('Modifikuoti svoriai '!$D$5:$K$29,MATCH(B1880,'Modifikuoti svoriai '!$C$5:$C$29,0),MATCH(A1880,'Modifikuoti svoriai '!$D$4:$K$4,0)),\"\")","v":""},null,null,null,null,null,null,null,null,null,null,null,null,null,"","","","","","","","",""]
[null,null,{"$f":"IFERROR(INDEX('Modifikuoti svoriai '!$D$5:$K$29,MATCH(B1881,'Modifikuoti svoriai '!$C$5:$C$29,0),MATCH(A1881,'Modifikuoti svoriai '!$D$4:$K$4,0)),\"\")","v":""},null,null,null,null,null,null,null,null,null,null,null,null,null,"","","","","","","","",""]
[null,null,{"$f":"IFERROR(INDEX('Modifikuoti svoriai '!$D$5:$K$29,MATCH(B1882,'Modifikuoti svoriai '!$C$5:$C$29,0),MATCH(A1882,'Modifikuoti svoriai '!$D$4:$K$4,0)),\"\")","v":""},null,null,null,null,null,null,null,null,null,null,null,null,null,"","","","","","","","",""]
[null,null,{"$f":"IFERROR(INDEX('Modifikuoti svoriai '!$D$5:$K$29,MATCH(B1883,'Modifikuoti svoriai '!$C$5:$C$29,0),MATCH(A1883,'Modifikuoti svoriai '!$D$4:$K$4,0)),\"\")","v":""},null,null,null,null,null,null,null,null,null,null,null,null,null,"","","","","","","","",""]
[null,null,{"$f":"IFERROR(INDEX('Modifikuoti svoriai '!$D$5:$K$29,MATCH(B1884,'Modifikuoti svoriai '!$C$5:$C$29,0),MATCH(A1884,'Modifikuoti svoriai '!$D$4:$K$4,0)),\"\")","v":""},null,null,null,null,null,null,null,null,null,null,null,null,null,"","","","","","","","",""]
[null,null,{"$f":"IFERROR(INDEX('Modifikuoti svoriai '!$D$5:$K$29,MATCH(B1885,'Modifikuoti svoriai '!$C$5:$C$29,0),MATCH(A1885,'Modifikuoti svoriai '!$D$4:$K$4,0)),\"\")","v":""},null,null,null,null,null,null,null,null,null,null,null,null,null,"","","","","","","","",""]
[null,null,{"$f":"IFERROR(INDEX('Modifikuoti svoriai '!$D$5:$K$29,MATCH(B1886,'Modifikuoti svoriai '!$C$5:$C$29,0),MATCH(A1886,'Modifikuoti svoriai '!$D$4:$K$4,0)),\"\")","v":""},null,null,null,null,null,null,null,null,null,null,null,null,null,"","","","","","","","",""]
[null,null,{"$f":"IFERROR(INDEX('Modifikuoti svoriai '!$D$5:$K$29,MATCH(B1887,'Modifikuoti svoriai '!$C$5:$C$29,0),MATCH(A1887,'Modifikuoti svoriai '!$D$4:$K$4,0)),\"\")","v":""},null,null,null,null,null,null,null,null,null,null,null,null,null,{"$f":"IF(Q$6<YEAR($K1887),\"Pastato tarnavimo laikotarpis nepasibaigė\",IF(Q$6=YEAR($K1887),\"Pastato tarnavimo laikotarpio pabaiga\",IF($K1887<>0,\"Pastato tarnavimo laikotarpis pasibaigė\",\"\")))","v":""},"","","","","","","",""]
[null,null,{"$f":"IFERROR(INDEX('Modifikuoti svoriai '!$D$5:$K$29,MATCH(B1888,'Modifikuoti svoriai '!$C$5:$C$29,0),MATCH(A1888,'Modifikuoti svoriai '!$D$4:$K$4,0)),\"\")","v":""},null,null,null,null,null,null,null,null,null,null,null,null,null,"","","","","","","","",""]
[null,null,{"$f":"IFERROR(INDEX('Modifikuoti svoriai '!$D$5:$K$29,MATCH(B1889,'Modifikuoti svoriai '!$C$5:$C$29,0),MATCH(A1889,'Modifikuoti svoriai '!$D$4:$K$4,0)),\"\")","v":""},null,null,null,null,null,null,null,null,null,null,null,null,null,"","","","","","","","",""]
[null,null,{"$f":"IFERROR(INDEX('Modifikuoti svoriai '!$D$5:$K$29,MATCH(B1890,'Modifikuoti svoriai '!$C$5:$C$29,0),MATCH(A1890,'Modifikuoti svoriai '!$D$4:$K$4,0)),\"\")","v":""},null,null,null,null,null,null,null,null,null,null,null,null,null,"","","","","","","","",""]
[null,null,{"$f":"IFERROR(INDEX('Modifikuoti svoriai '!$D$5:$K$29,MATCH(B1891,'Modifikuoti svoriai '!$C$5:$C$29,0),MATCH(A1891,'Modifikuoti svoriai '!$D$4:$K$4,0)),\"\")","v":""},null,null,null,null,null,null,null,null,null,null,null,null,null,"","","","","","","","",""]
[null,null,{"$f":"IFERROR(INDEX('Modifikuoti svoriai '!$D$5:$K$29,MATCH(B1892,'Modifikuoti svoriai '!$C$5:$C$29,0),MATCH(A1892,'Modifikuoti svoriai '!$D$4:$K$4,0)),\"\")","v":""},null,null,null,null,null,null,null,null,null,null,null,null,null,"","","","","","","","",""]
[null,null,{"$f":"IFERROR(INDEX('Modifikuoti svoriai '!$D$5:$K$29,MATCH(B1893,'Modifikuoti svoriai '!$C$5:$C$29,0),MATCH(A1893,'Modifikuoti svoriai '!$D$4:$K$4,0)),\"\")","v":""},null,null,null,null,null,null,null,null,null,null,null,null,null,"","","","","","","","",""]
[null,null,{"$f":"IFERROR(INDEX('Modifikuoti svoriai '!$D$5:$K$29,MATCH(B1894,'Modifikuoti svoriai '!$C$5:$C$29,0),MATCH(A1894,'Modifikuoti svoriai '!$D$4:$K$4,0)),\"\")","v":""},null,null,null,null,null,null,null,null,null,null,null,null,null,"","","","","","","","",""]
[null,null,{"$f":"IFERROR(INDEX('Modifikuoti svoriai '!$D$5:$K$29,MATCH(B1895,'Modifikuoti svoriai '!$C$5:$C$29,0),MATCH(A1895,'Modifikuoti svoriai '!$D$4:$K$4,0)),\"\")","v":""},null,null,null,null,null,null,null,null,null,null,null,null,null,"","","","","","","","",""]
[null,null,{"$f":"IFERROR(INDEX('Modifikuoti svoriai '!$D$5:$K$29,MATCH(B1896,'Modifikuoti svoriai '!$C$5:$C$29,0),MATCH(A1896,'Modifikuoti svoriai '!$D$4:$K$4,0)),\"\")","v":""},null,null,null,null,null,null,null,null,null,null,null,null,null,"","","","","","","","",""]
[null,null,{"$f":"IFERROR(INDEX('Modifikuoti svoriai '!$D$5:$K$29,MATCH(B1897,'Modifikuoti svoriai '!$C$5:$C$29,0),MATCH(A1897,'Modifikuoti svoriai '!$D$4:$K$4,0)),\"\")","v":""},null,null,null,null,null,null,null,null,null,null,null,null,null,"","","","","","","","",""]
[null,null,{"$f":"IFERROR(INDEX('Modifikuoti svoriai '!$D$5:$K$29,MATCH(B1898,'Modifikuoti svoriai '!$C$5:$C$29,0),MATCH(A1898,'Modifikuoti svoriai '!$D$4:$K$4,0)),\"\")","v":""},null,null,null,null,null,null,null,null,null,null,null,null,null,"","","","","","","","",""]
[null,null,{"$f":"IFERROR(INDEX('Modifikuoti svoriai '!$D$5:$K$29,MATCH(B1899,'Modifikuoti svoriai '!$C$5:$C$29,0),MATCH(A1899,'Modifikuoti svoriai '!$D$4:$K$4,0)),\"\")","v":""},null,null,null,null,null,null,null,null,null,null,null,null,null,"","","","","","","","",""]
[null,null,{"$f":"IFERROR(INDEX('Modifikuoti svoriai '!$D$5:$K$29,MATCH(B1900,'Modifikuoti svoriai '!$C$5:$C$29,0),MATCH(A1900,'Modifikuoti svoriai '!$D$4:$K$4,0)),\"\")","v":""},null,null,null,null,null,null,null,null,null,null,null,null,null,"","","","","","","","",""]
[null,null,{"$f":"IFERROR(INDEX('Modifikuoti svoriai '!$D$5:$K$29,MATCH(B1901,'Modifikuoti svoriai '!$C$5:$C$29,0),MATCH(A1901,'Modifikuoti svoriai '!$D$4:$K$4,0)),\"\")","v":""},null,null,null,null,null,null,null,null,null,null,null,null,null,"","","","","","","","",""]
[null,null,{"$f":"IFERROR(INDEX('Modifikuoti svoriai '!$D$5:$K$29,MATCH(B1902,'Modifikuoti svoriai '!$C$5:$C$29,0),MATCH(A1902,'Modifikuoti svoriai '!$D$4:$K$4,0)),\"\")","v":""},null,null,null,null,null,null,null,null,null,null,null,null,null,"","","","","","","","",""]
[null,null,{"$f":"IFERROR(INDEX('Modifikuoti svoriai '!$D$5:$K$29,MATCH(B1903,'Modifikuoti svoriai '!$C$5:$C$29,0),MATCH(A1903,'Modifikuoti svoriai '!$D$4:$K$4,0)),\"\")","v":""},null,null,null,null,null,null,null,null,null,null,null,null,null,{"$f":"IF(Q$6<YEAR($K1903),\"Pastato tarnavimo laikotarpis nepasibaigė\",IF(Q$6=YEAR($K1903),\"Pastato tarnavimo laikotarpio pabaiga\",IF($K1903<>0,\"Pastato tarnavimo laikotarpis pasibaigė\",\"\")))","v":""},"","","","","","","",""]
[null,null,{"$f":"IFERROR(INDEX('Modifikuoti svoriai '!$D$5:$K$29,MATCH(B1904,'Modifikuoti svoriai '!$C$5:$C$29,0),MATCH(A1904,'Modifikuoti svoriai '!$D$4:$K$4,0)),\"\")","v":""},null,null,null,null,null,null,null,null,null,null,null,null,null,"","","","","","","","",""]
[null,null,{"$f":"IFERROR(INDEX('Modifikuoti svoriai '!$D$5:$K$29,MATCH(B1905,'Modifikuoti svoriai '!$C$5:$C$29,0),MATCH(A1905,'Modifikuoti svoriai '!$D$4:$K$4,0)),\"\")","v":""},null,null,null,null,null,null,null,null,null,null,null,null,null,"","","","","","","","",""]
[null,null,{"$f":"IFERROR(INDEX('Modifikuoti svoriai '!$D$5:$K$29,MATCH(B1906,'Modifikuoti svoriai '!$C$5:$C$29,0),MATCH(A1906,'Modifikuoti svoriai '!$D$4:$K$4,0)),\"\")","v":""},null,null,null,null,null,null,null,null,null,null,null,null,null,"","","","","","","","",""]
[null,null,{"$f":"IFERROR(INDEX('Modifikuoti svoriai '!$D$5:$K$29,MATCH(B1907,'Modifikuoti svoriai '!$C$5:$C$29,0),MATCH(A1907,'Modifikuoti svoriai '!$D$4:$K$4,0)),\"\")","v":""},null,null,null,null,null,null,null,null,null,null,null,null,null,"","","","","","","","",""]
[null,null,{"$f":"IFERROR(INDEX('Modifikuoti svoriai '!$D$5:$K$29,MATCH(B1908,'Modifikuoti svoriai '!$C$5:$C$29,0),MATCH(A1908,'Modifikuoti svoriai '!$D$4:$K$4,0)),\"\")","v":""},null,null,null,null,null,null,null,null,null,null,null,null,null,"","","","","","","","",""]
[null,null,{"$f":"IFERROR(INDEX('Modifikuoti svoriai '!$D$5:$K$29,MATCH(B1909,'Modifikuoti svoriai '!$C$5:$C$29,0),MATCH(A1909,'Modifikuoti svoriai '!$D$4:$K$4,0)),\"\")","v":""},null,null,null,null,null,null,null,null,null,null,null,null,null,"","","","","","","","",""]
[null,null,{"$f":"IFERROR(INDEX('Modifikuoti svoriai '!$D$5:$K$29,MATCH(B1910,'Modifikuoti svoriai '!$C$5:$C$29,0),MATCH(A1910,'Modifikuoti svoriai '!$D$4:$K$4,0)),\"\")","v":""},null,null,null,null,null,null,null,null,null,null,null,null,null,"","","","","","","","",""]
[null,null,{"$f":"IFERROR(INDEX('Modifikuoti svoriai '!$D$5:$K$29,MATCH(B1911,'Modifikuoti svoriai '!$C$5:$C$29,0),MATCH(A1911,'Modifikuoti svoriai '!$D$4:$K$4,0)),\"\")","v":""},null,null,null,null,null,null,null,null,null,null,null,null,null,"","","","","","","","",""]
[null,null,{"$f":"IFERROR(INDEX('Modifikuoti svoriai '!$D$5:$K$29,MATCH(B1912,'Modifikuoti svoriai '!$C$5:$C$29,0),MATCH(A1912,'Modifikuoti svoriai '!$D$4:$K$4,0)),\"\")","v":""},null,null,null,null,null,null,null,null,null,null,null,null,null,"","","","","","","","",""]
[null,null,{"$f":"IFERROR(INDEX('Modifikuoti svoriai '!$D$5:$K$29,MATCH(B1913,'Modifikuoti svoriai '!$C$5:$C$29,0),MATCH(A1913,'Modifikuoti svoriai '!$D$4:$K$4,0)),\"\")","v":""},null,null,null,null,null,null,null,null,null,null,null,null,null,"","","","","","","","",""]
[null,null,{"$f":"IFERROR(INDEX('Modifikuoti svoriai '!$D$5:$K$29,MATCH(B1914,'Modifikuoti svoriai '!$C$5:$C$29,0),MATCH(A1914,'Modifikuoti svoriai '!$D$4:$K$4,0)),\"\")","v":""},null,null,null,null,null,null,null,null,null,null,null,null,null,"","","","","","","","",""]
[null,null,{"$f":"IFERROR(INDEX('Modifikuoti svoriai '!$D$5:$K$29,MATCH(B1915,'Modifikuoti svoriai '!$C$5:$C$29,0),MATCH(A1915,'Modifikuoti svoriai '!$D$4:$K$4,0)),\"\")","v":""},null,null,null,null,null,null,null,null,null,null,null,null,null,"","","","","","","","",""]
[null,null,{"$f":"IFERROR(INDEX('Modifikuoti svoriai '!$D$5:$K$29,MATCH(B1916,'Modifikuoti svoriai '!$C$5:$C$29,0),MATCH(A1916,'Modifikuoti svoriai '!$D$4:$K$4,0)),\"\")","v":""},null,null,null,null,null,null,null,null,null,null,null,null,null,"","","","","","","","",""]
[null,null,{"$f":"IFERROR(INDEX('Modifikuoti svoriai '!$D$5:$K$29,MATCH(B1917,'Modifikuoti svoriai '!$C$5:$C$29,0),MATCH(A1917,'Modifikuoti svoriai '!$D$4:$K$4,0)),\"\")","v":""},null,null,null,null,null,null,null,null,null,null,null,null,null,"","","","","","","","",""]
[null,null,{"$f":"IFERROR(INDEX('Modifikuoti svoriai '!$D$5:$K$29,MATCH(B1918,'Modifikuoti svoriai '!$C$5:$C$29,0),MATCH(A1918,'Modifikuoti svoriai '!$D$4:$K$4,0)),\"\")","v":""},null,null,null,null,null,null,null,null,null,null,null,null,null,"","","","","","","","",""]
[null,null,{"$f":"IFERROR(INDEX('Modifikuoti svoriai '!$D$5:$K$29,MATCH(B1919,'Modifikuoti svoriai '!$C$5:$C$29,0),MATCH(A1919,'Modifikuoti svoriai '!$D$4:$K$4,0)),\"\")","v":""},null,null,null,null,null,null,null,null,null,null,null,null,null,{"$f":"IF(Q$6<YEAR($K1919),\"Pastato tarnavimo laikotarpis nepasibaigė\",IF(Q$6=YEAR($K1919),\"Pastato tarnavimo laikotarpio pabaiga\",IF($K1919<>0,\"Pastato tarnavimo laikotarpis pasibaigė\",\"\")))","v":""},"","","","","","","",""]
[null,null,{"$f":"IFERROR(INDEX('Modifikuoti svoriai '!$D$5:$K$29,MATCH(B1920,'Modifikuoti svoriai '!$C$5:$C$29,0),MATCH(A1920,'Modifikuoti svoriai '!$D$4:$K$4,0)),\"\")","v":""},null,null,null,null,null,null,null,null,null,null,null,null,null,"","","","","","","","",""]
[null,null,{"$f":"IFERROR(INDEX('Modifikuoti svoriai '!$D$5:$K$29,MATCH(B1921,'Modifikuoti svoriai '!$C$5:$C$29,0),MATCH(A1921,'Modifikuoti svoriai '!$D$4:$K$4,0)),\"\")","v":""},null,null,null,null,null,null,null,null,null,null,null,null,null,"","","","","","","","",""]
[null,null,{"$f":"IFERROR(INDEX('Modifikuoti svoriai '!$D$5:$K$29,MATCH(B1922,'Modifikuoti svoriai '!$C$5:$C$29,0),MATCH(A1922,'Modifikuoti svoriai '!$D$4:$K$4,0)),\"\")","v":""},null,null,null,null,null,null,null,null,null,null,null,null,null,"","","","","","","","",""]
[null,null,{"$f":"IFERROR(INDEX('Modifikuoti svoriai '!$D$5:$K$29,MATCH(B1923,'Modifikuoti svoriai '!$C$5:$C$29,0),MATCH(A1923,'Modifikuoti svoriai '!$D$4:$K$4,0)),\"\")","v":""},null,null,null,null,null,null,null,null,null,null,null,null,null,"","","","","","","","",""]
[null,null,{"$f":"IFERROR(INDEX('Modifikuoti svoriai '!$D$5:$K$29,MATCH(B1924,'Modifikuoti svoriai '!$C$5:$C$29,0),MATCH(A1924,'Modifikuoti svoriai '!$D$4:$K$4,0)),\"\")","v":""},null,null,null,null,null,null,null,null,null,null,null,null,null,"","","","","","","","",""]
[null,null,{"$f":"IFERROR(INDEX('Modifikuoti svoriai '!$D$5:$K$29,MATCH(B1925,'Modifikuoti svoriai '!$C$5:$C$29,0),MATCH(A1925,'Modifikuoti svoriai '!$D$4:$K$4,0)),\"\")","v":""},null,null,null,null,null,null,null,null,null,null,null,null,null,"","","","","","","","",""]
[null,null,{"$f":"IFERROR(INDEX('Modifikuoti svoriai '!$D$5:$K$29,MATCH(B1926,'Modifikuoti svoriai '!$C$5:$C$29,0),MATCH(A1926,'Modifikuoti svoriai '!$D$4:$K$4,0)),\"\")","v":""},null,null,null,null,null,null,null,null,null,null,null,null,null,"","","","","","","","",""]
[null,null,{"$f":"IFERROR(INDEX('Modifikuoti svoriai '!$D$5:$K$29,MATCH(B1927,'Modifikuoti svoriai '!$C$5:$C$29,0),MATCH(A1927,'Modifikuoti svoriai '!$D$4:$K$4,0)),\"\")","v":""},null,null,null,null,null,null,null,null,null,null,null,null,null,"","","","","","","","",""]
[null,null,{"$f":"IFERROR(INDEX('Modifikuoti svoriai '!$D$5:$K$29,MATCH(B1928,'Modifikuoti svoriai '!$C$5:$C$29,0),MATCH(A1928,'Modifikuoti svoriai '!$D$4:$K$4,0)),\"\")","v":""},null,null,null,null,null,null,null,null,null,null,null,null,null,"","","","","","","","",""]
[null,null,{"$f":"IFERROR(INDEX('Modifikuoti svoriai '!$D$5:$K$29,MATCH(B1929,'Modifikuoti svoriai '!$C$5:$C$29,0),MATCH(A1929,'Modifikuoti svoriai '!$D$4:$K$4,0)),\"\")","v":""},null,null,null,null,null,null,null,null,null,null,null,null,null,"","","","","","","","",""]
[null,null,{"$f":"IFERROR(INDEX('Modifikuoti svoriai '!$D$5:$K$29,MATCH(B1930,'Modifikuoti svoriai '!$C$5:$C$29,0),MATCH(A1930,'Modifikuoti svoriai '!$D$4:$K$4,0)),\"\")","v":""},null,null,null,null,null,null,null,null,null,null,null,null,null,"","","","","","","","",""]
[null,null,{"$f":"IFERROR(INDEX('Modifikuoti svoriai '!$D$5:$K$29,MATCH(B1931,'Modifikuoti svoriai '!$C$5:$C$29,0),MATCH(A1931,'Modifikuoti svoriai '!$D$4:$K$4,0)),\"\")","v":""},null,null,null,null,null,null,null,null,null,null,null,null,null,"","","","","","","","",""]
[null,null,{"$f":"IFERROR(INDEX('Modifikuoti svoriai '!$D$5:$K$29,MATCH(B1932,'Modifikuoti svoriai '!$C$5:$C$29,0),MATCH(A1932,'Modifikuoti svoriai '!$D$4:$K$4,0)),\"\")","v":""},null,null,null,null,null,null,null,null,null,null,null,null,null,"","","","","","","","",""]
[null,null,{"$f":"IFERROR(INDEX('Modifikuoti svoriai '!$D$5:$K$29,MATCH(B1933,'Modifikuoti svoriai '!$C$5:$C$29,0),MATCH(A1933,'Modifikuoti svoriai '!$D$4:$K$4,0)),\"\")","v":""},null,null,null,null,null,null,null,null,null,null,null,null,null,"","","","","","","","",""]
[null,null,{"$f":"IFERROR(INDEX('Modifikuoti svoriai '!$D$5:$K$29,MATCH(B1934,'Modifikuoti svoriai '!$C$5:$C$29,0),MATCH(A1934,'Modifikuoti svoriai '!$D$4:$K$4,0)),\"\")","v":""},null,null,null,null,null,null,null,null,null,null,null,null,null,"","","","","","","","",""]
[null,null,{"$f":"IFERROR(INDEX('Modifikuoti svoriai '!$D$5:$K$29,MATCH(B1935,'Modifikuoti svoriai '!$C$5:$C$29,0),MATCH(A1935,'Modifikuoti svoriai '!$D$4:$K$4,0)),\"\")","v":""},null,null,null,null,null,null,null,null,null,null,null,null,null,{"$f":"IF(Q$6<YEAR($K1935),\"Pastato tarnavimo laikotarpis nepasibaigė\",IF(Q$6=YEAR($K1935),\"Pastato tarnavimo laikotarpio pabaiga\",IF($K1935<>0,\"Pastato tarnavimo laikotarpis pasibaigė\",\"\")))","v":""},"","","","","","","",""]
[null,null,{"$f":"IFERROR(INDEX('Modifikuoti svoriai '!$D$5:$K$29,MATCH(B1936,'Modifikuoti svoriai '!$C$5:$C$29,0),MATCH(A1936,'Modifikuoti svoriai '!$D$4:$K$4,0)),\"\")","v":""},null,null,null,null,null,null,null,null,null,null,null,null,null,"","","","","","","","",""]
[null,null,{"$f":"IFERROR(INDEX('Modifikuoti svoriai '!$D$5:$K$29,MATCH(B1937,'Modifikuoti svoriai '!$C$5:$C$29,0),MATCH(A1937,'Modifikuoti svoriai '!$D$4:$K$4,0)),\"\")","v":""},null,null,null,null,null,null,null,null,null,null,null,null,null,"","","","","","","","",""]
[null,null,{"$f":"IFERROR(INDEX('Modifikuoti svoriai '!$D$5:$K$29,MATCH(B1938,'Modifikuoti svoriai '!$C$5:$C$29,0),MATCH(A1938,'Modifikuoti svoriai '!$D$4:$K$4,0)),\"\")","v":""},null,null,null,null,null,null,null,null,null,null,null,null,null,"","","","","","","","",""]
[null,null,{"$f":"IFERROR(INDEX('Modifikuoti svoriai '!$D$5:$K$29,MATCH(B1939,'Modifikuoti svoriai '!$C$5:$C$29,0),MATCH(A1939,'Modifikuoti svoriai '!$D$4:$K$4,0)),\"\")","v":""},null,null,null,null,null,null,null,null,null,null,null,null,null,"","","","","","","","",""]
[null,null,{"$f":"IFERROR(INDEX('Modifikuoti svoriai '!$D$5:$K$29,MATCH(B1940,'Modifikuoti svoriai '!$C$5:$C$29,0),MATCH(A1940,'Modifikuoti svoriai '!$D$4:$K$4,0)),\"\")","v":""},null,null,null,null,null,null,null,null,null,null,null,null,null,"","","","","","","","",""]
[null,null,{"$f":"IFERROR(INDEX('Modifikuoti svoriai '!$D$5:$K$29,MATCH(B1941,'Modifikuoti svoriai '!$C$5:$C$29,0),MATCH(A1941,'Modifikuoti svoriai '!$D$4:$K$4,0)),\"\")","v":""},null,null,null,null,null,null,null,null,null,null,null,null,null,"","","","","","","","",""]
[null,null,{"$f":"IFERROR(INDEX('Modifikuoti svoriai '!$D$5:$K$29,MATCH(B1942,'Modifikuoti svoriai '!$C$5:$C$29,0),MATCH(A1942,'Modifikuoti svoriai '!$D$4:$K$4,0)),\"\")","v":""},null,null,null,null,null,null,null,null,null,null,null,null,null,"","","","","","","","",""]
[null,null,{"$f":"IFERROR(INDEX('Modifikuoti svoriai '!$D$5:$K$29,MATCH(B1943,'Modifikuoti svoriai '!$C$5:$C$29,0),MATCH(A1943,'Modifikuoti svoriai '!$D$4:$K$4,0)),\"\")","v":""},null,null,null,null,null,null,null,null,null,null,null,null,null,"","","","","","","","",""]
[null,null,{"$f":"IFERROR(INDEX('Modifikuoti svoriai '!$D$5:$K$29,MATCH(B1944,'Modifikuoti svoriai '!$C$5:$C$29,0),MATCH(A1944,'Modifikuoti svoriai '!$D$4:$K$4,0)),\"\")","v":""},null,null,null,null,null,null,null,null,null,null,null,null,null,"","","","","","","","",""]
[null,null,{"$f":"IFERROR(INDEX('Modifikuoti svoriai '!$D$5:$K$29,MATCH(B1945,'Modifikuoti svoriai '!$C$5:$C$29,0),MATCH(A1945,'Modifikuoti svoriai '!$D$4:$K$4,0)),\"\")","v":""},null,null,null,null,null,null,null,null,null,null,null,null,null,"","","","","","","","",""]
[null,null,{"$f":"IFERROR(INDEX('Modifikuoti svoriai '!$D$5:$K$29,MATCH(B1946,'Modifikuoti svoriai '!$C$5:$C$29,0),MATCH(A1946,'Modifikuoti svoriai '!$D$4:$K$4,0)),\"\")","v":""},null,null,null,null,null,null,null,null,null,null,null,null,null,"","","","","","","","",""]
[null,null,{"$f":"IFERROR(INDEX('Modifikuoti svoriai '!$D$5:$K$29,MATCH(B1947,'Modifikuoti svoriai '!$C$5:$C$29,0),MATCH(A1947,'Modifikuoti svoriai '!$D$4:$K$4,0)),\"\")","v":""},null,null,null,null,null,null,null,null,null,null,null,null,null,"","","","","","","","",""]
[null,null,{"$f":"IFERROR(INDEX('Modifikuoti svoriai '!$D$5:$K$29,MATCH(B1948,'Modifikuoti svoriai '!$C$5:$C$29,0),MATCH(A1948,'Modifikuoti svoriai '!$D$4:$K$4,0)),\"\")","v":""},null,null,null,null,null,null,null,null,null,null,null,null,null,"","","","","","","","",""]
[null,null,{"$f":"IFERROR(INDEX('Modifikuoti svoriai '!$D$5:$K$29,MATCH(B1949,'Modifikuoti svoriai '!$C$5:$C$29,0),MATCH(A1949,'Modifikuoti svoriai '!$D$4:$K$4,0)),\"\")","v":""},null,null,null,null,null,null,null,null,null,null,null,null,null,"","","","","","","","",""]
[null,null,{"$f":"IFERROR(INDEX('Modifikuoti svoriai '!$D$5:$K$29,MATCH(B1950,'Modifikuoti svoriai '!$C$5:$C$29,0),MATCH(A1950,'Modifikuoti svoriai '!$D$4:$K$4,0)),\"\")","v":""},null,null,null,null,null,null,null,null,null,null,null,null,null,"","","","","","","","",""]
[null,null,{"$f":"IFERROR(INDEX('Modifikuoti svoriai '!$D$5:$K$29,MATCH(B1951,'Modifikuoti svoriai '!$C$5:$C$29,0),MATCH(A1951,'Modifikuoti svoriai '!$D$4:$K$4,0)),\"\")","v":""},null,null,null,null,null,null,null,null,null,null,null,null,null,{"$f":"IF(Q$6<YEAR($K1951),\"Pastato tarnavimo laikotarpis nepasibaigė\",IF(Q$6=YEAR($K1951),\"Pastato tarnavimo laikotarpio pabaiga\",IF($K1951<>0,\"Pastato tarnavimo laikotarpis pasibaigė\",\"\")))","v":""},"","","","","","","",""]
[null,null,{"$f":"IFERROR(INDEX('Modifikuoti svoriai '!$D$5:$K$29,MATCH(B1952,'Modifikuoti svoriai '!$C$5:$C$29,0),MATCH(A1952,'Modifikuoti svoriai '!$D$4:$K$4,0)),\"\")","v":""},null,null,null,null,null,null,null,null,null,null,null,null,null,"","","","","","","","",""]
[null,null,{"$f":"IFERROR(INDEX('Modifikuoti svoriai '!$D$5:$K$29,MATCH(B1953,'Modifikuoti svoriai '!$C$5:$C$29,0),MATCH(A1953,'Modifikuoti svoriai '!$D$4:$K$4,0)),\"\")","v":""},null,null,null,null,null,null,null,null,null,null,null,null,null,"","","","","","","","",""]
[null,null,{"$f":"IFERROR(INDEX('Modifikuoti svoriai '!$D$5:$K$29,MATCH(B1954,'Modifikuoti svoriai '!$C$5:$C$29,0),MATCH(A1954,'Modifikuoti svoriai '!$D$4:$K$4,0)),\"\")","v":""},null,null,null,null,null,null,null,null,null,null,null,null,null,"","","","","","","","",""]
[null,null,{"$f":"IFERROR(INDEX('Modifikuoti svoriai '!$D$5:$K$29,MATCH(B1955,'Modifikuoti svoriai '!$C$5:$C$29,0),MATCH(A1955,'Modifikuoti svoriai '!$D$4:$K$4,0)),\"\")","v":""},null,null,null,null,null,null,null,null,null,null,null,null,null,"","","","","","","","",""]
[null,null,{"$f":"IFERROR(INDEX('Modifikuoti svoriai '!$D$5:$K$29,MATCH(B1956,'Modifikuoti svoriai '!$C$5:$C$29,0),MATCH(A1956,'Modifikuoti svoriai '!$D$4:$K$4,0)),\"\")","v":""},null,null,null,null,null,null,null,null,null,null,null,null,null,"","","","","","","","",""]
[null,null,{"$f":"IFERROR(INDEX('Modifikuoti svoriai '!$D$5:$K$29,MATCH(B1957,'Modifikuoti svoriai '!$C$5:$C$29,0),MATCH(A1957,'Modifikuoti svoriai '!$D$4:$K$4,0)),\"\")","v":""},null,null,null,null,null,null,null,null,null,null,null,null,null,"","","","","","","","",""]
[null,null,{"$f":"IFERROR(INDEX('Modifikuoti svoriai '!$D$5:$K$29,MATCH(B1958,'Modifikuoti svoriai '!$C$5:$C$29,0),MATCH(A1958,'Modifikuoti svoriai '!$D$4:$K$4,0)),\"\")","v":""},null,null,null,null,null,null,null,null,null,null,null,null,null,"","","","","","","","",""]
[null,null,{"$f":"IFERROR(INDEX('Modifikuoti svoriai '!$D$5:$K$29,MATCH(B1959,'Modifikuoti svoriai '!$C$5:$C$29,0),MATCH(A1959,'Modifikuoti svoriai '!$D$4:$K$4,0)),\"\")","v":""},null,null,null,null,null,null,null,null,null,null,null,null,null,"","","","","","","","",""]
[null,null,{"$f":"IFERROR(INDEX('Modifikuoti svoriai '!$D$5:$K$29,MATCH(B1960,'Modifikuoti svoriai '!$C$5:$C$29,0),MATCH(A1960,'Modifikuoti svoriai '!$D$4:$K$4,0)),\"\")","v":""},null,null,null,null,null,null,null,null,null,null,null,null,null,"","","","","","","","",""]
[null,null,{"$f":"IFERROR(INDEX('Modifikuoti svoriai '!$D$5:$K$29,MATCH(B1961,'Modifikuoti svoriai '!$C$5:$C$29,0),MATCH(A1961,'Modifikuoti svoriai '!$D$4:$K$4,0)),\"\")","v":""},null,null,null,null,null,null,null,null,null,null,null,null,null,"","","","","","","","",""]
[null,null,{"$f":"IFERROR(INDEX('Modifikuoti svoriai '!$D$5:$K$29,MATCH(B1962,'Modifikuoti svoriai '!$C$5:$C$29,0),MATCH(A1962,'Modifikuoti svoriai '!$D$4:$K$4,0)),\"\")","v":""},null,null,null,null,null,null,null,null,null,null,null,null,null,"","","","","","","","",""]
[null,null,{"$f":"IFERROR(INDEX('Modifikuoti svoriai '!$D$5:$K$29,MATCH(B1963,'Modifikuoti svoriai '!$C$5:$C$29,0),MATCH(A1963,'Modifikuoti svoriai '!$D$4:$K$4,0)),\"\")","v":""},null,null,null,null,null,null,null,null,null,null,null,null,null,"","","","","","","","",""]
[null,null,{"$f":"IFERROR(INDEX('Modifikuoti svoriai '!$D$5:$K$29,MATCH(B1964,'Modifikuoti svoriai '!$C$5:$C$29,0),MATCH(A1964,'Modifikuoti svoriai '!$D$4:$K$4,0)),\"\")","v":""},null,null,null,null,null,null,null,null,null,null,null,null,null,"","","","","","","","",""]
[null,null,{"$f":"IFERROR(INDEX('Modifikuoti svoriai '!$D$5:$K$29,MATCH(B1965,'Modifikuoti svoriai '!$C$5:$C$29,0),MATCH(A1965,'Modifikuoti svoriai '!$D$4:$K$4,0)),\"\")","v":""},null,null,null,null,null,null,null,null,null,null,null,null,null,"","","","","","","","",""]
[null,null,{"$f":"IFERROR(INDEX('Modifikuoti svoriai '!$D$5:$K$29,MATCH(B1966,'Modifikuoti svoriai '!$C$5:$C$29,0),MATCH(A1966,'Modifikuoti svoriai '!$D$4:$K$4,0)),\"\")","v":""},null,null,null,null,null,null,null,null,null,null,null,null,null,"","","","","","","","",""]
[null,null,{"$f":"IFERROR(INDEX('Modifikuoti svoriai '!$D$5:$K$29,MATCH(B1967,'Modifikuoti svoriai '!$C$5:$C$29,0),MATCH(A1967,'Modifikuoti svoriai '!$D$4:$K$4,0)),\"\")","v":""},null,null,null,null,null,null,null,null,null,null,null,null,null,{"$f":"IF(Q$6<YEAR($K1967),\"Pastato tarnavimo laikotarpis nepasibaigė\",IF(Q$6=YEAR($K1967),\"Pastato tarnavimo laikotarpio pabaiga\",IF($K1967<>0,\"Pastato tarnavimo laikotarpis pasibaigė\",\"\")))","v":""},"","","","","","","",""]
[null,null,{"$f":"IFERROR(INDEX('Modifikuoti svoriai '!$D$5:$K$29,MATCH(B1968,'Modifikuoti svoriai '!$C$5:$C$29,0),MATCH(A1968,'Modifikuoti svoriai '!$D$4:$K$4,0)),\"\")","v":""},null,null,null,null,null,null,null,null,null,null,null,null,null,"","","","","","","","",""]
[null,null,{"$f":"IFERROR(INDEX('Modifikuoti svoriai '!$D$5:$K$29,MATCH(B1969,'Modifikuoti svoriai '!$C$5:$C$29,0),MATCH(A1969,'Modifikuoti svoriai '!$D$4:$K$4,0)),\"\")","v":""},null,null,null,null,null,null,null,null,null,null,null,null,null,"","","","","","","","",""]
[null,null,{"$f":"IFERROR(INDEX('Modifikuoti svoriai '!$D$5:$K$29,MATCH(B1970,'Modifikuoti svoriai '!$C$5:$C$29,0),MATCH(A1970,'Modifikuoti svoriai '!$D$4:$K$4,0)),\"\")","v":""},null,null,null,null,null,null,null,null,null,null,null,null,null,"","","","","","","","",""]
[null,null,{"$f":"IFERROR(INDEX('Modifikuoti svoriai '!$D$5:$K$29,MATCH(B1971,'Modifikuoti svoriai '!$C$5:$C$29,0),MATCH(A1971,'Modifikuoti svoriai '!$D$4:$K$4,0)),\"\")","v":""},null,null,null,null,null,null,null,null,null,null,null,null,null,"","","","","","","","",""]
[null,null,{"$f":"IFERROR(INDEX('Modifikuoti svoriai '!$D$5:$K$29,MATCH(B1972,'Modifikuoti svoriai '!$C$5:$C$29,0),MATCH(A1972,'Modifikuoti svoriai '!$D$4:$K$4,0)),\"\")","v":""},null,null,null,null,null,null,null,null,null,null,null,null,null,"","","","","","","","",""]
[null,null,{"$f":"IFERROR(INDEX('Modifikuoti svoriai '!$D$5:$K$29,MATCH(B1973,'Modifikuoti svoriai '!$C$5:$C$29,0),MATCH(A1973,'Modifikuoti svoriai '!$D$4:$K$4,0)),\"\")","v":""},null,null,null,null,null,null,null,null,null,null,null,null,null,"","","","","","","","",""]
[null,null,{"$f":"IFERROR(INDEX('Modifikuoti svoriai '!$D$5:$K$29,MATCH(B1974,'Modifikuoti svoriai '!$C$5:$C$29,0),MATCH(A1974,'Modifikuoti svoriai '!$D$4:$K$4,0)),\"\")","v":""},null,null,null,null,null,null,null,null,null,null,null,null,null,"","","","","","","","",""]
[null,null,{"$f":"IFERROR(INDEX('Modifikuoti svoriai '!$D$5:$K$29,MATCH(B1975,'Modifikuoti svoriai '!$C$5:$C$29,0),MATCH(A1975,'Modifikuoti svoriai '!$D$4:$K$4,0)),\"\")","v":""},null,null,null,null,null,null,null,null,null,null,null,null,null,"","","","","","","","",""]
[null,null,{"$f":"IFERROR(INDEX('Modifikuoti svoriai '!$D$5:$K$29,MATCH(B1976,'Modifikuoti svoriai '!$C$5:$C$29,0),MATCH(A1976,'Modifikuoti svoriai '!$D$4:$K$4,0)),\"\")","v":""},null,null,null,null,null,null,null,null,null,null,null,null,null,"","","","","","","","",""]
[null,null,{"$f":"IFERROR(INDEX('Modifikuoti svoriai '!$D$5:$K$29,MATCH(B1977,'Modifikuoti svoriai '!$C$5:$C$29,0),MATCH(A1977,'Modifikuoti svoriai '!$D$4:$K$4,0)),\"\")","v":""},null,null,null,null,null,null,null,null,null,null,null,null,null,"","","","","","","","",""]
[null,null,{"$f":"IFERROR(INDEX('Modifikuoti svoriai '!$D$5:$K$29,MATCH(B1978,'Modifikuoti svoriai '!$C$5:$C$29,0),MATCH(A1978,'Modifikuoti svoriai '!$D$4:$K$4,0)),\"\")","v":""},null,null,null,null,null,null,null,null,null,null,null,null,null,"","","","","","","","",""]
[null,null,{"$f":"IFERROR(INDEX('Modifikuoti svoriai '!$D$5:$K$29,MATCH(B1979,'Modifikuoti svoriai '!$C$5:$C$29,0),MATCH(A1979,'Modifikuoti svoriai '!$D$4:$K$4,0)),\"\")","v":""},null,null,null,null,null,null,null,null,null,null,null,null,null,"","","","","","","","",""]
[null,null,{"$f":"IFERROR(INDEX('Modifikuoti svoriai '!$D$5:$K$29,MATCH(B1980,'Modifikuoti svoriai '!$C$5:$C$29,0),MATCH(A1980,'Modifikuoti svoriai '!$D$4:$K$4,0)),\"\")","v":""},null,null,null,null,null,null,null,null,null,null,null,null,null,"","","","","","","","",""]
[null,null,{"$f":"IFERROR(INDEX('Modifikuoti svoriai '!$D$5:$K$29,MATCH(B1981,'Modifikuoti svoriai '!$C$5:$C$29,0),MATCH(A1981,'Modifikuoti svoriai '!$D$4:$K$4,0)),\"\")","v":""},null,null,null,null,null,null,null,null,null,null,null,null,null,"","","","","","","","",""]
[null,null,{"$f":"IFERROR(INDEX('Modifikuoti svoriai '!$D$5:$K$29,MATCH(B1982,'Modifikuoti svoriai '!$C$5:$C$29,0),MATCH(A1982,'Modifikuoti svoriai '!$D$4:$K$4,0)),\"\")","v":""},null,null,null,null,null,null,null,null,null,null,null,null,null,"","","","","","","","",""]
[null,null,{"$f":"IFERROR(INDEX('Modifikuoti svoriai '!$D$5:$K$29,MATCH(B1983,'Modifikuoti svoriai '!$C$5:$C$29,0),MATCH(A1983,'Modifikuoti svoriai '!$D$4:$K$4,0)),\"\")","v":""},null,null,null,null,null,null,null,null,null,null,null,null,null,{"$f":"IF(Q$6<YEAR($K1983),\"Pastato tarnavimo laikotarpis nepasibaigė\",IF(Q$6=YEAR($K1983),\"Pastato tarnavimo laikotarpio pabaiga\",IF($K1983<>0,\"Pastato tarnavimo laikotarpis pasibaigė\",\"\")))","v":""},"","","","","","","",""]
[null,null,{"$f":"IFERROR(INDEX('Modifikuoti svoriai '!$D$5:$K$29,MATCH(B1984,'Modifikuoti svoriai '!$C$5:$C$29,0),MATCH(A1984,'Modifikuoti svoriai '!$D$4:$K$4,0)),\"\")","v":""},null,null,null,null,null,null,null,null,null,null,null,null,null,"","","","","","","","",""]
[null,null,{"$f":"IFERROR(INDEX('Modifikuoti svoriai '!$D$5:$K$29,MATCH(B1985,'Modifikuoti svoriai '!$C$5:$C$29,0),MATCH(A1985,'Modifikuoti svoriai '!$D$4:$K$4,0)),\"\")","v":""},null,null,null,null,null,null,null,null,null,null,null,null,null,"","","","","","","","",""]
[null,null,{"$f":"IFERROR(INDEX('Modifikuoti svoriai '!$D$5:$K$29,MATCH(B1986,'Modifikuoti svoriai '!$C$5:$C$29,0),MATCH(A1986,'Modifikuoti svoriai '!$D$4:$K$4,0)),\"\")","v":""},null,null,null,null,null,null,null,null,null,null,null,null,null,"","","","","","","","",""]
[null,null,{"$f":"IFERROR(INDEX('Modifikuoti svoriai '!$D$5:$K$29,MATCH(B1987,'Modifikuoti svoriai '!$C$5:$C$29,0),MATCH(A1987,'Modifikuoti svoriai '!$D$4:$K$4,0)),\"\")","v":""},null,null,null,null,null,null,null,null,null,null,null,null,null,"","","","","","","","",""]
[null,null,{"$f":"IFERROR(INDEX('Modifikuoti svoriai '!$D$5:$K$29,MATCH(B1988,'Modifikuoti svoriai '!$C$5:$C$29,0),MATCH(A1988,'Modifikuoti svoriai '!$D$4:$K$4,0)),\"\")","v":""},null,null,null,null,null,null,null,null,null,null,null,null,null,"","","","","","","","",""]
[null,null,{"$f":"IFERROR(INDEX('Modifikuoti svoriai '!$D$5:$K$29,MATCH(B1989,'Modifikuoti svoriai '!$C$5:$C$29,0),MATCH(A1989,'Modifikuoti svoriai '!$D$4:$K$4,0)),\"\")","v":""},null,null,null,null,null,null,null,null,null,null,null,null,null,"","","","","","","","",""]
[null,null,{"$f":"IFERROR(INDEX('Modifikuoti svoriai '!$D$5:$K$29,MATCH(B1990,'Modifikuoti svoriai '!$C$5:$C$29,0),MATCH(A1990,'Modifikuoti svoriai '!$D$4:$K$4,0)),\"\")","v":""},null,null,null,null,null,null,null,null,null,null,null,null,null,"","","","","","","","",""]
[null,null,{"$f":"IFERROR(INDEX('Modifikuoti svoriai '!$D$5:$K$29,MATCH(B1991,'Modifikuoti svoriai '!$C$5:$C$29,0),MATCH(A1991,'Modifikuoti svoriai '!$D$4:$K$4,0)),\"\")","v":""},null,null,null,null,null,null,null,null,null,null,null,null,null,"","","","","","","","",""]
[null,null,{"$f":"IFERROR(INDEX('Modifikuoti svoriai '!$D$5:$K$29,MATCH(B1992,'Modifikuoti svoriai '!$C$5:$C$29,0),MATCH(A1992,'Modifikuoti svoriai '!$D$4:$K$4,0)),\"\")","v":""},null,null,null,null,null,null,null,null,null,null,null,null,null,"","","","","","","","",""]
[null,null,{"$f":"IFERROR(INDEX('Modifikuoti svoriai '!$D$5:$K$29,MATCH(B1993,'Modifikuoti svoriai '!$C$5:$C$29,0),MATCH(A1993,'Modifikuoti svoriai '!$D$4:$K$4,0)),\"\")","v":""},null,null,null,null,null,null,null,null,null,null,null,null,null,"","","","","","","","",""]
[null,null,{"$f":"IFERROR(INDEX('Modifikuoti svoriai '!$D$5:$K$29,MATCH(B1994,'Modifikuoti svoriai '!$C$5:$C$29,0),MATCH(A1994,'Modifikuoti svoriai '!$D$4:$K$4,0)),\"\")","v":""},null,null,null,null,null,null,null,null,null,null,null,null,null,"","","","","","","","",""]
[null,null,{"$f":"IFERROR(INDEX('Modifikuoti svoriai '!$D$5:$K$29,MATCH(B1995,'Modifikuoti svoriai '!$C$5:$C$29,0),MATCH(A1995,'Modifikuoti svoriai '!$D$4:$K$4,0)),\"\")","v":""},null,null,null,null,null,null,null,null,null,null,null,null,null,"","","","","","","","",""]
[null,null,{"$f":"IFERROR(INDEX('Modifikuoti svoriai '!$D$5:$K$29,MATCH(B1996,'Modifikuoti svoriai '!$C$5:$C$29,0),MATCH(A1996,'Modifikuoti svoriai '!$D$4:$K$4,0)),\"\")","v":""},null,null,null,null,null,null,null,null,null,null,null,null,null,"","","","","","","","",""]
[null,null,{"$f":"IFERROR(INDEX('Modifikuoti svoriai '!$D$5:$K$29,MATCH(B1997,'Modifikuoti svoriai '!$C$5:$C$29,0),MATCH(A1997,'Modifikuoti svoriai '!$D$4:$K$4,0)),\"\")","v":""},null,null,null,null,null,null,null,null,null,null,null,null,null,"","","","","","","","",""]
[null,null,{"$f":"IFERROR(INDEX('Modifikuoti svoriai '!$D$5:$K$29,MATCH(B1998,'Modifikuoti svoriai '!$C$5:$C$29,0),MATCH(A1998,'Modifikuoti svoriai '!$D$4:$K$4,0)),\"\")","v":""},null,null,null,null,null,null,null,null,null,null,null,null,null,"","","","","","","","",""]
[null,null,{"$f":"IFERROR(INDEX('Modifikuoti svoriai '!$D$5:$K$29,MATCH(B1999,'Modifikuoti svoriai '!$C$5:$C$29,0),MATCH(A1999,'Modifikuoti svoriai '!$D$4:$K$4,0)),\"\")","v":""},null,null,null,null,null,null,null,null,null,null,null,null,null,{"$f":"IF(Q$6<YEAR($K1999),\"Pastato tarnavimo laikotarpis nepasibaigė\",IF(Q$6=YEAR($K1999),\"Pastato tarnavimo laikotarpio pabaiga\",IF($K1999<>0,\"Pastato tarnavimo laikotarpis pasibaigė\",\"\")))","v":""},"","","","","","","",""]
[null,null,{"$f":"IFERROR(INDEX('Modifikuoti svoriai '!$D$5:$K$29,MATCH(B2000,'Modifikuoti svoriai '!$C$5:$C$29,0),MATCH(A2000,'Modifikuoti svoriai '!$D$4:$K$4,0)),\"\")","v":""},null,null,null,null,null,null,null,null,null,null,null,null,null,"","","","","","","","",""]
[null,null,{"$f":"IFERROR(INDEX('Modifikuoti svoriai '!$D$5:$K$29,MATCH(B2001,'Modifikuoti svoriai '!$C$5:$C$29,0),MATCH(A2001,'Modifikuoti svoriai '!$D$4:$K$4,0)),\"\")","v":""},null,null,null,null,null,null,null,null,null,null,null,null,null,"","","","","","","","",""]
[null,null,{"$f":"IFERROR(INDEX('Modifikuoti svoriai '!$D$5:$K$29,MATCH(B2002,'Modifikuoti svoriai '!$C$5:$C$29,0),MATCH(A2002,'Modifikuoti svoriai '!$D$4:$K$4,0)),\"\")","v":""},null,null,null,null,null,null,null,null,null,null,null,null,null,"","","","","","","","",""]
[null,null,{"$f":"IFERROR(INDEX('Modifikuoti svoriai '!$D$5:$K$29,MATCH(B2003,'Modifikuoti svoriai '!$C$5:$C$29,0),MATCH(A2003,'Modifikuoti svoriai '!$D$4:$K$4,0)),\"\")","v":""},null,null,null,null,null,null,null,null,null,null,null,null,null,"","","","","","","","",""]
[null,null,{"$f":"IFERROR(INDEX('Modifikuoti svoriai '!$D$5:$K$29,MATCH(B2004,'Modifikuoti svoriai '!$C$5:$C$29,0),MATCH(A2004,'Modifikuoti svoriai '!$D$4:$K$4,0)),\"\")","v":""},null,null,null,null,null,null,null,null,null,null,null,null,null,"","","","","","","","",""]
[null,null,{"$f":"IFERROR(INDEX('Modifikuoti svoriai '!$D$5:$K$29,MATCH(B2005,'Modifikuoti svoriai '!$C$5:$C$29,0),MATCH(A2005,'Modifikuoti svoriai '!$D$4:$K$4,0)),\"\")","v":""},null,null,null,null,null,null,null,null,null,null,null,null,null,"","","","","","","","",""]
[null,null,{"$f":"IFERROR(INDEX('Modifikuoti svoriai '!$D$5:$K$29,MATCH(B2006,'Modifikuoti svoriai '!$C$5:$C$29,0),MATCH(A2006,'Modifikuoti svoriai '!$D$4:$K$4,0)),\"\")","v":""},null,null,null,null,null,null,null,null,null,null,null,null,null,"","","","","","","","",""]
[null,null,{"$f":"IFERROR(INDEX('Modifikuoti svoriai '!$D$5:$K$29,MATCH(B2007,'Modifikuoti svoriai '!$C$5:$C$29,0),MATCH(A2007,'Modifikuoti svoriai '!$D$4:$K$4,0)),\"\")","v":""},null,null,null,null,null,null,null,null,null,null,null,null,null,"","","","","","","","",""]
[null,null,{"$f":"IFERROR(INDEX('Modifikuoti svoriai '!$D$5:$K$29,MATCH(B2008,'Modifikuoti svoriai '!$C$5:$C$29,0),MATCH(A2008,'Modifikuoti svoriai '!$D$4:$K$4,0)),\"\")","v":""},null,null,null,null,null,null,null,null,null,null,null,null,null,"","","","","","","","",""]
[null,null,{"$f":"IFERROR(INDEX('Modifikuoti svoriai '!$D$5:$K$29,MATCH(B2009,'Modifikuoti svoriai '!$C$5:$C$29,0),MATCH(A2009,'Modifikuoti svoriai '!$D$4:$K$4,0)),\"\")","v":""},null,null,null,null,null,null,null,null,null,null,null,null,null,"","","","","","","","",""]
[null,null,{"$f":"IFERROR(INDEX('Modifikuoti svoriai '!$D$5:$K$29,MATCH(B2010,'Modifikuoti svoriai '!$C$5:$C$29,0),MATCH(A2010,'Modifikuoti svoriai '!$D$4:$K$4,0)),\"\")","v":""},null,null,null,null,null,null,null,null,null,null,null,null,null,"","","","","","","","",""]
[null,null,{"$f":"IFERROR(INDEX('Modifikuoti svoriai '!$D$5:$K$29,MATCH(B2011,'Modifikuoti svoriai '!$C$5:$C$29,0),MATCH(A2011,'Modifikuoti svoriai '!$D$4:$K$4,0)),\"\")","v":""},null,null,null,null,null,null,null,null,null,null,null,null,null,"","","","","","","","",""]
[null,null,{"$f":"IFERROR(INDEX('Modifikuoti svoriai '!$D$5:$K$29,MATCH(B2012,'Modifikuoti svoriai '!$C$5:$C$29,0),MATCH(A2012,'Modifikuoti svoriai '!$D$4:$K$4,0)),\"\")","v":""},null,null,null,null,null,null,null,null,null,null,null,null,null,"","","","","","","","",""]
[null,null,{"$f":"IFERROR(INDEX('Modifikuoti svoriai '!$D$5:$K$29,MATCH(B2013,'Modifikuoti svoriai '!$C$5:$C$29,0),MATCH(A2013,'Modifikuoti svoriai '!$D$4:$K$4,0)),\"\")","v":""},null,null,null,null,null,null,null,null,null,null,null,null,null,"","","","","","","","",""]
[null,null,{"$f":"IFERROR(INDEX('Modifikuoti svoriai '!$D$5:$K$29,MATCH(B2014,'Modifikuoti svoriai '!$C$5:$C$29,0),MATCH(A2014,'Modifikuoti svoriai '!$D$4:$K$4,0)),\"\")","v":""},null,null,null,null,null,null,null,null,null,null,null,null,null,"","","","","","","","",""]
[null,null,{"$f":"IFERROR(INDEX('Modifikuoti svoriai '!$D$5:$K$29,MATCH(B2015,'Modifikuoti svoriai '!$C$5:$C$29,0),MATCH(A2015,'Modifikuoti svoriai '!$D$4:$K$4,0)),\"\")","v":""},null,null,null,null,null,null,null,null,null,null,null,null,null,{"$f":"IF(Q$6<YEAR($K2015),\"Pastato tarnavimo laikotarpis nepasibaigė\",IF(Q$6=YEAR($K2015),\"Pastato tarnavimo laikotarpio pabaiga\",IF($K2015<>0,\"Pastato tarnavimo laikotarpis pasibaigė\",\"\")))","v":""},"","","","","","","",""]
[null,null,{"$f":"IFERROR(INDEX('Modifikuoti svoriai '!$D$5:$K$29,MATCH(B2016,'Modifikuoti svoriai '!$C$5:$C$29,0),MATCH(A2016,'Modifikuoti svoriai '!$D$4:$K$4,0)),\"\")","v":""},null,null,null,null,null,null,null,null,null,null,null,null,null,"","","","","","","","",""]
[null,null,{"$f":"IFERROR(INDEX('Modifikuoti svoriai '!$D$5:$K$29,MATCH(B2017,'Modifikuoti svoriai '!$C$5:$C$29,0),MATCH(A2017,'Modifikuoti svoriai '!$D$4:$K$4,0)),\"\")","v":""},null,null,null,null,null,null,null,null,null,null,null,null,null,"","","","","","","","",""]
[null,null,{"$f":"IFERROR(INDEX('Modifikuoti svoriai '!$D$5:$K$29,MATCH(B2018,'Modifikuoti svoriai '!$C$5:$C$29,0),MATCH(A2018,'Modifikuoti svoriai '!$D$4:$K$4,0)),\"\")","v":""},null,null,null,null,null,null,null,null,null,null,null,null,null,"","","","","","","","",""]
[null,null,{"$f":"IFERROR(INDEX('Modifikuoti svoriai '!$D$5:$K$29,MATCH(B2019,'Modifikuoti svoriai '!$C$5:$C$29,0),MATCH(A2019,'Modifikuoti svoriai '!$D$4:$K$4,0)),\"\")","v":""},null,null,null,null,null,null,null,null,null,null,null,null,null,"","","","","","","","",""]
[null,null,{"$f":"IFERROR(INDEX('Modifikuoti svoriai '!$D$5:$K$29,MATCH(B2020,'Modifikuoti svoriai '!$C$5:$C$29,0),MATCH(A2020,'Modifikuoti svoriai '!$D$4:$K$4,0)),\"\")","v":""},null,null,null,null,null,null,null,null,null,null,null,null,null,"","","","","","","","",""]
[null,null,{"$f":"IFERROR(INDEX('Modifikuoti svoriai '!$D$5:$K$29,MATCH(B2021,'Modifikuoti svoriai '!$C$5:$C$29,0),MATCH(A2021,'Modifikuoti svoriai '!$D$4:$K$4,0)),\"\")","v":""},null,null,null,null,null,null,null,null,null,null,null,null,null,"","","","","","","","",""]
[null,null,{"$f":"IFERROR(INDEX('Modifikuoti svoriai '!$D$5:$K$29,MATCH(B2022,'Modifikuoti svoriai '!$C$5:$C$29,0),MATCH(A2022,'Modifikuoti svoriai '!$D$4:$K$4,0)),\"\")","v":""},null,null,null,null,null,null,null,null,null,null,null,null,null,"","","","","","","","",""]
[null,null,{"$f":"IFERROR(INDEX('Modifikuoti svoriai '!$D$5:$K$29,MATCH(B2023,'Modifikuoti svoriai '!$C$5:$C$29,0),MATCH(A2023,'Modifikuoti svoriai '!$D$4:$K$4,0)),\"\")","v":""},null,null,null,null,null,null,null,null,null,null,null,null,null,"","","","","","","","",""]
[null,null,{"$f":"IFERROR(INDEX('Modifikuoti svoriai '!$D$5:$K$29,MATCH(B2024,'Modifikuoti svoriai '!$C$5:$C$29,0),MATCH(A2024,'Modifikuoti svoriai '!$D$4:$K$4,0)),\"\")","v":""},null,null,null,null,null,null,null,null,null,null,null,null,null,"","","","","","","","",""]
[null,null,{"$f":"IFERROR(INDEX('Modifikuoti svoriai '!$D$5:$K$29,MATCH(B2025,'Modifikuoti svoriai '!$C$5:$C$29,0),MATCH(A2025,'Modifikuoti svoriai '!$D$4:$K$4,0)),\"\")","v":""},null,null,null,null,null,null,null,null,null,null,null,null,null,"","","","","","","","",""]
[null,null,{"$f":"IFERROR(INDEX('Modifikuoti svoriai '!$D$5:$K$29,MATCH(B2026,'Modifikuoti svoriai '!$C$5:$C$29,0),MATCH(A2026,'Modifikuoti svoriai '!$D$4:$K$4,0)),\"\")","v":""}]
[null,null,{"$f":"IFERROR(INDEX('Modifikuoti svoriai '!$D$5:$K$29,MATCH(B2027,'Modifikuoti svoriai '!$C$5:$C$29,0),MATCH(A2027,'Modifikuoti svoriai '!$D$4:$K$4,0)),\"\")","v":""}]
[null,null,{"$f":"IFERROR(INDEX('Modifikuoti svoriai '!$D$5:$K$29,MATCH(B2028,'Modifikuoti svoriai '!$C$5:$C$29,0),MATCH(A2028,'Modifikuoti svoriai '!$D$4:$K$4,0)),\"\")","v":""}]
[null,null,{"$f":"IFERROR(INDEX('Modifikuoti svoriai '!$D$5:$K$29,MATCH(B2029,'Modifikuoti svoriai '!$C$5:$C$29,0),MATCH(A2029,'Modifikuoti svoriai '!$D$4:$K$4,0)),\"\")","v":""}]
[null,null,{"$f":"IFERROR(INDEX('Modifikuoti svoriai '!$D$5:$K$29,MATCH(B2030,'Modifikuoti svoriai '!$C$5:$C$29,0),MATCH(A2030,'Modifikuoti svoriai '!$D$4:$K$4,0)),\"\")","v":""}]
[null,null,{"$f":"IFERROR(INDEX('Modifikuoti svoriai '!$D$5:$K$29,MATCH(B2031,'Modifikuoti svoriai '!$C$5:$C$29,0),MATCH(A2031,'Modifikuoti svoriai '!$D$4:$K$4,0)),\"\")","v":""}]
[null,null,{"$f":"IFERROR(INDEX('Modifikuoti svoriai '!$D$5:$K$29,MATCH(B2032,'Modifikuoti svoriai '!$C$5:$C$29,0),MATCH(A2032,'Modifikuoti svoriai '!$D$4:$K$4,0)),\"\")","v":""}]
[null,null,{"$f":"IFERROR(INDEX('Modifikuoti svoriai '!$D$5:$K$29,MATCH(B2033,'Modifikuoti svoriai '!$C$5:$C$29,0),MATCH(A2033,'Modifikuoti svoriai '!$D$4:$K$4,0)),\"\")","v":""}]
[null,null,{"$f":"IFERROR(INDEX('Modifikuoti svoriai '!$D$5:$K$29,MATCH(B2034,'Modifikuoti svoriai '!$C$5:$C$29,0),MATCH(A2034,'Modifikuoti svoriai '!$D$4:$K$4,0)),\"\")","v":""}]
[null,null,{"$f":"IFERROR(INDEX('Modifikuoti svoriai '!$D$5:$K$29,MATCH(B2035,'Modifikuoti svoriai '!$C$5:$C$29,0),MATCH(A2035,'Modifikuoti svoriai '!$D$4:$K$4,0)),\"\")","v":""}]
[null,null,{"$f":"IFERROR(INDEX('Modifikuoti svoriai '!$D$5:$K$29,MATCH(B2036,'Modifikuoti svoriai '!$C$5:$C$29,0),MATCH(A2036,'Modifikuoti svoriai '!$D$4:$K$4,0)),\"\")","v":""}]
[null,null,{"$f":"IFERROR(INDEX('Modifikuoti svoriai '!$D$5:$K$29,MATCH(B2037,'Modifikuoti svoriai '!$C$5:$C$29,0),MATCH(A2037,'Modifikuoti svoriai '!$D$4:$K$4,0)),\"\")","v":""}]
[null,null,{"$f":"IFERROR(INDEX('Modifikuoti svoriai '!$D$5:$K$29,MATCH(B2038,'Modifikuoti svoriai '!$C$5:$C$29,0),MATCH(A2038,'Modifikuoti svoriai '!$D$4:$K$4,0)),\"\")","v":""}]
[null,null,{"$f":"IFERROR(INDEX('Modifikuoti svoriai '!$D$5:$K$29,MATCH(B2039,'Modifikuoti svoriai '!$C$5:$C$29,0),MATCH(A2039,'Modifikuoti svoriai '!$D$4:$K$4,0)),\"\")","v":""}]
[null,null,{"$f":"IFERROR(INDEX('Modifikuoti svoriai '!$D$5:$K$29,MATCH(B2040,'Modifikuoti svoriai '!$C$5:$C$29,0),MATCH(A2040,'Modifikuoti svoriai '!$D$4:$K$4,0)),\"\")","v":""}]
[null,null,{"$f":"IFERROR(INDEX('Modifikuoti svoriai '!$D$5:$K$29,MATCH(B2041,'Modifikuoti svoriai '!$C$5:$C$29,0),MATCH(A2041,'Modifikuoti svoriai '!$D$4:$K$4,0)),\"\")","v":""}]
[null,null,{"$f":"IFERROR(INDEX('Modifikuoti svoriai '!$D$5:$K$29,MATCH(B2042,'Modifikuoti svoriai '!$C$5:$C$29,0),MATCH(A2042,'Modifikuoti svoriai '!$D$4:$K$4,0)),\"\")","v":""}]
[null,null,{"$f":"IFERROR(INDEX('Modifikuoti svoriai '!$D$5:$K$29,MATCH(B2043,'Modifikuoti svoriai '!$C$5:$C$29,0),MATCH(A2043,'Modifikuoti svoriai '!$D$4:$K$4,0)),\"\")","v":""}]
[null,null,{"$f":"IFERROR(INDEX('Modifikuoti svoriai '!$D$5:$K$29,MATCH(B2044,'Modifikuoti svoriai '!$C$5:$C$29,0),MATCH(A2044,'Modifikuoti svoriai '!$D$4:$K$4,0)),\"\")","v":""}]
[null,null,{"$f":"IFERROR(INDEX('Modifikuoti svoriai '!$D$5:$K$29,MATCH(B2045,'Modifikuoti svoriai '!$C$5:$C$29,0),MATCH(A2045,'Modifikuoti svoriai '!$D$4:$K$4,0)),\"\")","v":""}]
[null,null,{"$f":"IFERROR(INDEX('Modifikuoti svoriai '!$D$5:$K$29,MATCH(B2046,'Modifikuoti svoriai '!$C$5:$C$29,0),MATCH(A2046,'Modifikuoti svoriai '!$D$4:$K$4,0)),\"\")","v":""}]
[null,null,{"$f":"IFERROR(INDEX('Modifikuoti svoriai '!$D$5:$K$29,MATCH(B2047,'Modifikuoti svoriai '!$C$5:$C$29,0),MATCH(A2047,'Modifikuoti svoriai '!$D$4:$K$4,0)),\"\")","v":""}]
[null,null,{"$f":"IFERROR(INDEX('Modifikuoti svoriai '!$D$5:$K$29,MATCH(B2048,'Modifikuoti svoriai '!$C$5:$C$29,0),MATCH(A2048,'Modifikuoti svoriai '!$D$4:$K$4,0)),\"\")","v":""}]
[null,null,{"$f":"IFERROR(INDEX('Modifikuoti svoriai '!$D$5:$K$29,MATCH(B2049,'Modifikuoti svoriai '!$C$5:$C$29,0),MATCH(A2049,'Modifikuoti svoriai '!$D$4:$K$4,0)),\"\")","v":""}]
[null,null,{"$f":"IFERROR(INDEX('Modifikuoti svoriai '!$D$5:$K$29,MATCH(B2050,'Modifikuoti svoriai '!$C$5:$C$29,0),MATCH(A2050,'Modifikuoti svoriai '!$D$4:$K$4,0)),\"\")","v":""}]
[null,null,{"$f":"IFERROR(INDEX('Modifikuoti svoriai '!$D$5:$K$29,MATCH(B2051,'Modifikuoti svoriai '!$C$5:$C$29,0),MATCH(A2051,'Modifikuoti svoriai '!$D$4:$K$4,0)),\"\")","v":""}]
[null,null,{"$f":"IFERROR(INDEX('Modifikuoti svoriai '!$D$5:$K$29,MATCH(B2052,'Modifikuoti svoriai '!$C$5:$C$29,0),MATCH(A2052,'Modifikuoti svoriai '!$D$4:$K$4,0)),\"\")","v":""}]
[null,null,{"$f":"IFERROR(INDEX('Modifikuoti svoriai '!$D$5:$K$29,MATCH(B2053,'Modifikuoti svoriai '!$C$5:$C$29,0),MATCH(A2053,'Modifikuoti svoriai '!$D$4:$K$4,0)),\"\")","v":""}]
[null,null,{"$f":"IFERROR(INDEX('Modifikuoti svoriai '!$D$5:$K$29,MATCH(B2054,'Modifikuoti svoriai '!$C$5:$C$29,0),MATCH(A2054,'Modifikuoti svoriai '!$D$4:$K$4,0)),\"\")","v":""}]
[null,null,{"$f":"IFERROR(INDEX('Modifikuoti svoriai '!$D$5:$K$29,MATCH(B2055,'Modifikuoti svoriai '!$C$5:$C$29,0),MATCH(A2055,'Modifikuoti svoriai '!$D$4:$K$4,0)),\"\")","v":""}]
[null,null,{"$f":"IFERROR(INDEX('Modifikuoti svoriai '!$D$5:$K$29,MATCH(B2056,'Modifikuoti svoriai '!$C$5:$C$29,0),MATCH(A2056,'Modifikuoti svoriai '!$D$4:$K$4,0)),\"\")","v":""}]
[null,null,{"$f":"IFERROR(INDEX('Modifikuoti svoriai '!$D$5:$K$29,MATCH(B2057,'Modifikuoti svoriai '!$C$5:$C$29,0),MATCH(A2057,'Modifikuoti svoriai '!$D$4:$K$4,0)),\"\")","v":""}]
[null,null,{"$f":"IFERROR(INDEX('Modifikuoti svoriai '!$D$5:$K$29,MATCH(B2058,'Modifikuoti svoriai '!$C$5:$C$29,0),MATCH(A2058,'Modifikuoti svoriai '!$D$4:$K$4,0)),\"\")","v":""}]
[null,null,{"$f":"IFERROR(INDEX('Modifikuoti svoriai '!$D$5:$K$29,MATCH(B2059,'Modifikuoti svoriai '!$C$5:$C$29,0),MATCH(A2059,'Modifikuoti svoriai '!$D$4:$K$4,0)),\"\")","v":""}]
[null,null,{"$f":"IFERROR(INDEX('Modifikuoti svoriai '!$D$5:$K$29,MATCH(B2060,'Modifikuoti svoriai '!$C$5:$C$29,0),MATCH(A2060,'Modifikuoti svoriai '!$D$4:$K$4,0)),\"\")","v":""}]
[null,null,{"$f":"IFERROR(INDEX('Modifikuoti svoriai '!$D$5:$K$29,MATCH(B2061,'Modifikuoti svoriai '!$C$5:$C$29,0),MATCH(A2061,'Modifikuoti svoriai '!$D$4:$K$4,0)),\"\")","v":""}]
[null,null,{"$f":"IFERROR(INDEX('Modifikuoti svoriai '!$D$5:$K$29,MATCH(B2062,'Modifikuoti svoriai '!$C$5:$C$29,0),MATCH(A2062,'Modifikuoti svoriai '!$D$4:$K$4,0)),\"\")","v":""}]
[null,null,{"$f":"IFERROR(INDEX('Modifikuoti svoriai '!$D$5:$K$29,MATCH(B2063,'Modifikuoti svoriai '!$C$5:$C$29,0),MATCH(A2063,'Modifikuoti svoriai '!$D$4:$K$4,0)),\"\")","v":""}]
[null,null,{"$f":"IFERROR(INDEX('Modifikuoti svoriai '!$D$5:$K$29,MATCH(B2064,'Modifikuoti svoriai '!$C$5:$C$29,0),MATCH(A2064,'Modifikuoti svoriai '!$D$4:$K$4,0)),\"\")","v":""}]
[null,null,{"$f":"IFERROR(INDEX('Modifikuoti svoriai '!$D$5:$K$29,MATCH(B2065,'Modifikuoti svoriai '!$C$5:$C$29,0),MATCH(A2065,'Modifikuoti svoriai '!$D$4:$K$4,0)),\"\")","v":""}]
[null,null,{"$f":"IFERROR(INDEX('Modifikuoti svoriai '!$D$5:$K$29,MATCH(B2066,'Modifikuoti svoriai '!$C$5:$C$29,0),MATCH(A2066,'Modifikuoti svoriai '!$D$4:$K$4,0)),\"\")","v":""}]
[null,null,{"$f":"IFERROR(INDEX('Modifikuoti svoriai '!$D$5:$K$29,MATCH(B2067,'Modifikuoti svoriai '!$C$5:$C$29,0),MATCH(A2067,'Modifikuoti svoriai '!$D$4:$K$4,0)),\"\")","v":""}]
[null,null,{"$f":"IFERROR(INDEX('Modifikuoti svoriai '!$D$5:$K$29,MATCH(B2068,'Modifikuoti svoriai '!$C$5:$C$29,0),MATCH(A2068,'Modifikuoti svoriai '!$D$4:$K$4,0)),\"\")","v":""}]
[null,null,{"$f":"IFERROR(INDEX('Modifikuoti svoriai '!$D$5:$K$29,MATCH(B2069,'Modifikuoti svoriai '!$C$5:$C$29,0),MATCH(A2069,'Modifikuoti svoriai '!$D$4:$K$4,0)),\"\")","v":""}]
[null,null,{"$f":"IFERROR(INDEX('Modifikuoti svoriai '!$D$5:$K$29,MATCH(B2070,'Modifikuoti svoriai '!$C$5:$C$29,0),MATCH(A2070,'Modifikuoti svoriai '!$D$4:$K$4,0)),\"\")","v":""}]
[null,null,{"$f":"IFERROR(INDEX('Modifikuoti svoriai '!$D$5:$K$29,MATCH(B2071,'Modifikuoti svoriai '!$C$5:$C$29,0),MATCH(A2071,'Modifikuoti svoriai '!$D$4:$K$4,0)),\"\")","v":""}]
[null,null,{"$f":"IFERROR(INDEX('Modifikuoti svoriai '!$D$5:$K$29,MATCH(B2072,'Modifikuoti svoriai '!$C$5:$C$29,0),MATCH(A2072,'Modifikuoti svoriai '!$D$4:$K$4,0)),\"\")","v":""}]
[null,null,{"$f":"IFERROR(INDEX('Modifikuoti svoriai '!$D$5:$K$29,MATCH(B2073,'Modifikuoti svoriai '!$C$5:$C$29,0),MATCH(A2073,'Modifikuoti svoriai '!$D$4:$K$4,0)),\"\")","v":""}]
[null,null,{"$f":"IFERROR(INDEX('Modifikuoti svoriai '!$D$5:$K$29,MATCH(B2074,'Modifikuoti svoriai '!$C$5:$C$29,0),MATCH(A2074,'Modifikuoti svoriai '!$D$4:$K$4,0)),\"\")","v":""}]
[null,null,{"$f":"IFERROR(INDEX('Modifikuoti svoriai '!$D$5:$K$29,MATCH(B2075,'Modifikuoti svoriai '!$C$5:$C$29,0),MATCH(A2075,'Modifikuoti svoriai '!$D$4:$K$4,0)),\"\")","v":""}]
[null,null,{"$f":"IFERROR(INDEX('Modifikuoti svoriai '!$D$5:$K$29,MATCH(B2076,'Modifikuoti svoriai '!$C$5:$C$29,0),MATCH(A2076,'Modifikuoti svoriai '!$D$4:$K$4,0)),\"\")","v":""}]
[null,null,{"$f":"IFERROR(INDEX('Modifikuoti svoriai '!$D$5:$K$29,MATCH(B2077,'Modifikuoti svoriai '!$C$5:$C$29,0),MATCH(A2077,'Modifikuoti svoriai '!$D$4:$K$4,0)),\"\")","v":""}]
[null,null,{"$f":"IFERROR(INDEX('Modifikuoti svoriai '!$D$5:$K$29,MATCH(B2078,'Modifikuoti svoriai '!$C$5:$C$29,0),MATCH(A2078,'Modifikuoti svoriai '!$D$4:$K$4,0)),\"\")","v":""}]
[null,null,{"$f":"IFERROR(INDEX('Modifikuoti svoriai '!$D$5:$K$29,MATCH(B2079,'Modifikuoti svoriai '!$C$5:$C$29,0),MATCH(A2079,'Modifikuoti svoriai '!$D$4:$K$4,0)),\"\")","v":""}]
[null,null,{"$f":"IFERROR(INDEX('Modifikuoti svoriai '!$D$5:$K$29,MATCH(B2080,'Modifikuoti svoriai '!$C$5:$C$29,0),MATCH(A2080,'Modifikuoti svoriai '!$D$4:$K$4,0)),\"\")","v":""}]
[null,null,{"$f":"IFERROR(INDEX('Modifikuoti svoriai '!$D$5:$K$29,MATCH(B2081,'Modifikuoti svoriai '!$C$5:$C$29,0),MATCH(A2081,'Modifikuoti svoriai '!$D$4:$K$4,0)),\"\")","v":""}]
[null,null,{"$f":"IFERROR(INDEX('Modifikuoti svoriai '!$D$5:$K$29,MATCH(B2082,'Modifikuoti svoriai '!$C$5:$C$29,0),MATCH(A2082,'Modifikuoti svoriai '!$D$4:$K$4,0)),\"\")","v":""}]
[null,null,{"$f":"IFERROR(INDEX('Modifikuoti svoriai '!$D$5:$K$29,MATCH(B2083,'Modifikuoti svoriai '!$C$5:$C$29,0),MATCH(A2083,'Modifikuoti svoriai '!$D$4:$K$4,0)),\"\")","v":""}]
[null,null,{"$f":"IFERROR(INDEX('Modifikuoti svoriai '!$D$5:$K$29,MATCH(B2084,'Modifikuoti svoriai '!$C$5:$C$29,0),MATCH(A2084,'Modifikuoti svoriai '!$D$4:$K$4,0)),\"\")","v":""}]
[null,null,{"$f":"IFERROR(INDEX('Modifikuoti svoriai '!$D$5:$K$29,MATCH(B2085,'Modifikuoti svoriai '!$C$5:$C$29,0),MATCH(A2085,'Modifikuoti svoriai '!$D$4:$K$4,0)),\"\")","v":""}]
[null,null,{"$f":"IFERROR(INDEX('Modifikuoti svoriai '!$D$5:$K$29,MATCH(B2086,'Modifikuoti svoriai '!$C$5:$C$29,0),MATCH(A2086,'Modifikuoti svoriai '!$D$4:$K$4,0)),\"\")","v":""}]
[null,null,{"$f":"IFERROR(INDEX('Modifikuoti svoriai '!$D$5:$K$29,MATCH(B2087,'Modifikuoti svoriai '!$C$5:$C$29,0),MATCH(A2087,'Modifikuoti svoriai '!$D$4:$K$4,0)),\"\")","v":""}]
[null,null,{"$f":"IFERROR(INDEX('Modifikuoti svoriai '!$D$5:$K$29,MATCH(B2088,'Modifikuoti svoriai '!$C$5:$C$29,0),MATCH(A2088,'Modifikuoti svoriai '!$D$4:$K$4,0)),\"\")","v":""}]
[null,null,{"$f":"IFERROR(INDEX('Modifikuoti svoriai '!$D$5:$K$29,MATCH(B2089,'Modifikuoti svoriai '!$C$5:$C$29,0),MATCH(A2089,'Modifikuoti svoriai '!$D$4:$K$4,0)),\"\")","v":""}]
[null,null,{"$f":"IFERROR(INDEX('Modifikuoti svoriai '!$D$5:$K$29,MATCH(B2090,'Modifikuoti svoriai '!$C$5:$C$29,0),MATCH(A2090,'Modifikuoti svoriai '!$D$4:$K$4,0)),\"\")","v":""}]
[null,null,{"$f":"IFERROR(INDEX('Modifikuoti svoriai '!$D$5:$K$29,MATCH(B2091,'Modifikuoti svoriai '!$C$5:$C$29,0),MATCH(A2091,'Modifikuoti svoriai '!$D$4:$K$4,0)),\"\")","v":""}]
[null,null,{"$f":"IFERROR(INDEX('Modifikuoti svoriai '!$D$5:$K$29,MATCH(B2092,'Modifikuoti svoriai '!$C$5:$C$29,0),MATCH(A2092,'Modifikuoti svoriai '!$D$4:$K$4,0)),\"\")","v":""}]
[null,null,{"$f":"IFERROR(INDEX('Modifikuoti svoriai '!$D$5:$K$29,MATCH(B2093,'Modifikuoti svoriai '!$C$5:$C$29,0),MATCH(A2093,'Modifikuoti svoriai '!$D$4:$K$4,0)),\"\")","v":""}]
[null,null,{"$f":"IFERROR(INDEX('Modifikuoti svoriai '!$D$5:$K$29,MATCH(B2094,'Modifikuoti svoriai '!$C$5:$C$29,0),MATCH(A2094,'Modifikuoti svoriai '!$D$4:$K$4,0)),\"\")","v":""}]
[null,null,{"$f":"IFERROR(INDEX('Modifikuoti svoriai '!$D$5:$K$29,MATCH(B2095,'Modifikuoti svoriai '!$C$5:$C$29,0),MATCH(A2095,'Modifikuoti svoriai '!$D$4:$K$4,0)),\"\")","v":""}]
[null,null,{"$f":"IFERROR(INDEX('Modifikuoti svoriai '!$D$5:$K$29,MATCH(B2096,'Modifikuoti svoriai '!$C$5:$C$29,0),MATCH(A2096,'Modifikuoti svoriai '!$D$4:$K$4,0)),\"\")","v":""}]
[null,null,{"$f":"IFERROR(INDEX('Modifikuoti svoriai '!$D$5:$K$29,MATCH(B2097,'Modifikuoti svoriai '!$C$5:$C$29,0),MATCH(A2097,'Modifikuoti svoriai '!$D$4:$K$4,0)),\"\")","v":""}]
[null,null,{"$f":"IFERROR(INDEX('Modifikuoti svoriai '!$D$5:$K$29,MATCH(B2098,'Modifikuoti svoriai '!$C$5:$C$29,0),MATCH(A2098,'Modifikuoti svoriai '!$D$4:$K$4,0)),\"\")","v":""}]
[null,null,{"$f":"IFERROR(INDEX('Modifikuoti svoriai '!$D$5:$K$29,MATCH(B2099,'Modifikuoti svoriai '!$C$5:$C$29,0),MATCH(A2099,'Modifikuoti svoriai '!$D$4:$K$4,0)),\"\")","v":""}]
[null,null,{"$f":"IFERROR(INDEX('Modifikuoti svoriai '!$D$5:$K$29,MATCH(B2100,'Modifikuoti svoriai '!$C$5:$C$29,0),MATCH(A2100,'Modifikuoti svoriai '!$D$4:$K$4,0)),\"\")","v":""}]
[null,null,{"$f":"IFERROR(INDEX('Modifikuoti svoriai '!$D$5:$K$29,MATCH(B2101,'Modifikuoti svoriai '!$C$5:$C$29,0),MATCH(A2101,'Modifikuoti svoriai '!$D$4:$K$4,0)),\"\")","v":""}]
[null,null,{"$f":"IFERROR(INDEX('Modifikuoti svoriai '!$D$5:$K$29,MATCH(B2102,'Modifikuoti svoriai '!$C$5:$C$29,0),MATCH(A2102,'Modifikuoti svoriai '!$D$4:$K$4,0)),\"\")","v":""}]
[null,null,{"$f":"IFERROR(INDEX('Modifikuoti svoriai '!$D$5:$K$29,MATCH(B2103,'Modifikuoti svoriai '!$C$5:$C$29,0),MATCH(A2103,'Modifikuoti svoriai '!$D$4:$K$4,0)),\"\")","v":""}]
[null,null,{"$f":"IFERROR(INDEX('Modifikuoti svoriai '!$D$5:$K$29,MATCH(B2104,'Modifikuoti svoriai '!$C$5:$C$29,0),MATCH(A2104,'Modifikuoti svoriai '!$D$4:$K$4,0)),\"\")","v":""}]
[null,null,{"$f":"IFERROR(INDEX('Modifikuoti svoriai '!$D$5:$K$29,MATCH(B2105,'Modifikuoti svoriai '!$C$5:$C$29,0),MATCH(A2105,'Modifikuoti svoriai '!$D$4:$K$4,0)),\"\")","v":""}]
[null,null,{"$f":"IFERROR(INDEX('Modifikuoti svoriai '!$D$5:$K$29,MATCH(B2106,'Modifikuoti svoriai '!$C$5:$C$29,0),MATCH(A2106,'Modifikuoti svoriai '!$D$4:$K$4,0)),\"\")","v":""}]
[null,null,{"$f":"IFERROR(INDEX('Modifikuoti svoriai '!$D$5:$K$29,MATCH(B2107,'Modifikuoti svoriai '!$C$5:$C$29,0),MATCH(A2107,'Modifikuoti svoriai '!$D$4:$K$4,0)),\"\")","v":""}]
[null,null,{"$f":"IFERROR(INDEX('Modifikuoti svoriai '!$D$5:$K$29,MATCH(B2108,'Modifikuoti svoriai '!$C$5:$C$29,0),MATCH(A2108,'Modifikuoti svoriai '!$D$4:$K$4,0)),\"\")","v":""}]
[null,null,{"$f":"IFERROR(INDEX('Modifikuoti svoriai '!$D$5:$K$29,MATCH(B2109,'Modifikuoti svoriai '!$C$5:$C$29,0),MATCH(A2109,'Modifikuoti svoriai '!$D$4:$K$4,0)),\"\")","v":""}]
[null,null,{"$f":"IFERROR(INDEX('Modifikuoti svoriai '!$D$5:$K$29,MATCH(B2110,'Modifikuoti svoriai '!$C$5:$C$29,0),MATCH(A2110,'Modifikuoti svoriai '!$D$4:$K$4,0)),\"\")","v":""}]
[null,null,{"$f":"IFERROR(INDEX('Modifikuoti svoriai '!$D$5:$K$29,MATCH(B2111,'Modifikuoti svoriai '!$C$5:$C$29,0),MATCH(A2111,'Modifikuoti svoriai '!$D$4:$K$4,0)),\"\")","v":""}]
[null,null,{"$f":"IFERROR(INDEX('Modifikuoti svoriai '!$D$5:$K$29,MATCH(B2112,'Modifikuoti svoriai '!$C$5:$C$29,0),MATCH(A2112,'Modifikuoti svoriai '!$D$4:$K$4,0)),\"\")","v":""}]
[null,null,{"$f":"IFERROR(INDEX('Modifikuoti svoriai '!$D$5:$K$29,MATCH(B2113,'Modifikuoti svoriai '!$C$5:$C$29,0),MATCH(A2113,'Modifikuoti svoriai '!$D$4:$K$4,0)),\"\")","v":""}]
[null,null,{"$f":"IFERROR(INDEX('Modifikuoti svoriai '!$D$5:$K$29,MATCH(B2114,'Modifikuoti svoriai '!$C$5:$C$29,0),MATCH(A2114,'Modifikuoti svoriai '!$D$4:$K$4,0)),\"\")","v":""}]
[null,null,{"$f":"IFERROR(INDEX('Modifikuoti svoriai '!$D$5:$K$29,MATCH(B2115,'Modifikuoti svoriai '!$C$5:$C$29,0),MATCH(A2115,'Modifikuoti svoriai '!$D$4:$K$4,0)),\"\")","v":""}]
[null,null,{"$f":"IFERROR(INDEX('Modifikuoti svoriai '!$D$5:$K$29,MATCH(B2116,'Modifikuoti svoriai '!$C$5:$C$29,0),MATCH(A2116,'Modifikuoti svoriai '!$D$4:$K$4,0)),\"\")","v":""}]
[null,null,{"$f":"IFERROR(INDEX('Modifikuoti svoriai '!$D$5:$K$29,MATCH(B2117,'Modifikuoti svoriai '!$C$5:$C$29,0),MATCH(A2117,'Modifikuoti svoriai '!$D$4:$K$4,0)),\"\")","v":""}]
[null,null,{"$f":"IFERROR(INDEX('Modifikuoti svoriai '!$D$5:$K$29,MATCH(B2118,'Modifikuoti svoriai '!$C$5:$C$29,0),MATCH(A2118,'Modifikuoti svoriai '!$D$4:$K$4,0)),\"\")","v":""}]
[null,null,{"$f":"IFERROR(INDEX('Modifikuoti svoriai '!$D$5:$K$29,MATCH(B2119,'Modifikuoti svoriai '!$C$5:$C$29,0),MATCH(A2119,'Modifikuoti svoriai '!$D$4:$K$4,0)),\"\")","v":""}]
[null,null,{"$f":"IFERROR(INDEX('Modifikuoti svoriai '!$D$5:$K$29,MATCH(B2120,'Modifikuoti svoriai '!$C$5:$C$29,0),MATCH(A2120,'Modifikuoti svoriai '!$D$4:$K$4,0)),\"\")","v":""}]
[null,null,{"$f":"IFERROR(INDEX('Modifikuoti svoriai '!$D$5:$K$29,MATCH(B2121,'Modifikuoti svoriai '!$C$5:$C$29,0),MATCH(A2121,'Modifikuoti svoriai '!$D$4:$K$4,0)),\"\")","v":""}]
[null,null,{"$f":"IFERROR(INDEX('Modifikuoti svoriai '!$D$5:$K$29,MATCH(B2122,'Modifikuoti svoriai '!$C$5:$C$29,0),MATCH(A2122,'Modifikuoti svoriai '!$D$4:$K$4,0)),\"\")","v":""}]
[null,null,{"$f":"IFERROR(INDEX('Modifikuoti svoriai '!$D$5:$K$29,MATCH(B2123,'Modifikuoti svoriai '!$C$5:$C$29,0),MATCH(A2123,'Modifikuoti svoriai '!$D$4:$K$4,0)),\"\")","v":""}]
[null,null,{"$f":"IFERROR(INDEX('Modifikuoti svoriai '!$D$5:$K$29,MATCH(B2124,'Modifikuoti svoriai '!$C$5:$C$29,0),MATCH(A2124,'Modifikuoti svoriai '!$D$4:$K$4,0)),\"\")","v":""}]
[null,null,{"$f":"IFERROR(INDEX('Modifikuoti svoriai '!$D$5:$K$29,MATCH(B2125,'Modifikuoti svoriai '!$C$5:$C$29,0),MATCH(A2125,'Modifikuoti svoriai '!$D$4:$K$4,0)),\"\")","v":""}]
[null,null,{"$f":"IFERROR(INDEX('Modifikuoti svoriai '!$D$5:$K$29,MATCH(B2126,'Modifikuoti svoriai '!$C$5:$C$29,0),MATCH(A2126,'Modifikuoti svoriai '!$D$4:$K$4,0)),\"\")","v":""}]
[null,null,{"$f":"IFERROR(INDEX('Modifikuoti svoriai '!$D$5:$K$29,MATCH(B2127,'Modifikuoti svoriai '!$C$5:$C$29,0),MATCH(A2127,'Modifikuoti svoriai '!$D$4:$K$4,0)),\"\")","v":""}]
[null,null,{"$f":"IFERROR(INDEX('Modifikuoti svoriai '!$D$5:$K$29,MATCH(B2128,'Modifikuoti svoriai '!$C$5:$C$29,0),MATCH(A2128,'Modifikuoti svoriai '!$D$4:$K$4,0)),\"\")","v":""}]
[null,null,{"$f":"IFERROR(INDEX('Modifikuoti svoriai '!$D$5:$K$29,MATCH(B2129,'Modifikuoti svoriai '!$C$5:$C$29,0),MATCH(A2129,'Modifikuoti svoriai '!$D$4:$K$4,0)),\"\")","v":""}]
[null,null,{"$f":"IFERROR(INDEX('Modifikuoti svoriai '!$D$5:$K$29,MATCH(B2130,'Modifikuoti svoriai '!$C$5:$C$29,0),MATCH(A2130,'Modifikuoti svoriai '!$D$4:$K$4,0)),\"\")","v":""}]
[null,null,{"$f":"IFERROR(INDEX('Modifikuoti svoriai '!$D$5:$K$29,MATCH(B2131,'Modifikuoti svoriai '!$C$5:$C$29,0),MATCH(A2131,'Modifikuoti svoriai '!$D$4:$K$4,0)),\"\")","v":""}]
[null,null,{"$f":"IFERROR(INDEX('Modifikuoti svoriai '!$D$5:$K$29,MATCH(B2132,'Modifikuoti svoriai '!$C$5:$C$29,0),MATCH(A2132,'Modifikuoti svoriai '!$D$4:$K$4,0)),\"\")","v":""}]
[null,null,{"$f":"IFERROR(INDEX('Modifikuoti svoriai '!$D$5:$K$29,MATCH(B2133,'Modifikuoti svoriai '!$C$5:$C$29,0),MATCH(A2133,'Modifikuoti svoriai '!$D$4:$K$4,0)),\"\")","v":""}]
[null,null,{"$f":"IFERROR(INDEX('Modifikuoti svoriai '!$D$5:$K$29,MATCH(B2134,'Modifikuoti svoriai '!$C$5:$C$29,0),MATCH(A2134,'Modifikuoti svoriai '!$D$4:$K$4,0)),\"\")","v":""}]
[null,null,{"$f":"IFERROR(INDEX('Modifikuoti svoriai '!$D$5:$K$29,MATCH(B2135,'Modifikuoti svoriai '!$C$5:$C$29,0),MATCH(A2135,'Modifikuoti svoriai '!$D$4:$K$4,0)),\"\")","v":""}]
[null,null,{"$f":"IFERROR(INDEX('Modifikuoti svoriai '!$D$5:$K$29,MATCH(B2136,'Modifikuoti svoriai '!$C$5:$C$29,0),MATCH(A2136,'Modifikuoti svoriai '!$D$4:$K$4,0)),\"\")","v":""}]
[null,null,{"$f":"IFERROR(INDEX('Modifikuoti svoriai '!$D$5:$K$29,MATCH(B2137,'Modifikuoti svoriai '!$C$5:$C$29,0),MATCH(A2137,'Modifikuoti svoriai '!$D$4:$K$4,0)),\"\")","v":""}]
[null,null,{"$f":"IFERROR(INDEX('Modifikuoti svoriai '!$D$5:$K$29,MATCH(B2138,'Modifikuoti svoriai '!$C$5:$C$29,0),MATCH(A2138,'Modifikuoti svoriai '!$D$4:$K$4,0)),\"\")","v":""}]
[null,null,{"$f":"IFERROR(INDEX('Modifikuoti svoriai '!$D$5:$K$29,MATCH(B2139,'Modifikuoti svoriai '!$C$5:$C$29,0),MATCH(A2139,'Modifikuoti svoriai '!$D$4:$K$4,0)),\"\")","v":""}]
[null,null,{"$f":"IFERROR(INDEX('Modifikuoti svoriai '!$D$5:$K$29,MATCH(B2140,'Modifikuoti svoriai '!$C$5:$C$29,0),MATCH(A2140,'Modifikuoti svoriai '!$D$4:$K$4,0)),\"\")","v":""}]
[null,null,{"$f":"IFERROR(INDEX('Modifikuoti svoriai '!$D$5:$K$29,MATCH(B2141,'Modifikuoti svoriai '!$C$5:$C$29,0),MATCH(A2141,'Modifikuoti svoriai '!$D$4:$K$4,0)),\"\")","v":""}]
[null,null,{"$f":"IFERROR(INDEX('Modifikuoti svoriai '!$D$5:$K$29,MATCH(B2142,'Modifikuoti svoriai '!$C$5:$C$29,0),MATCH(A2142,'Modifikuoti svoriai '!$D$4:$K$4,0)),\"\")","v":""}]
[null,null,{"$f":"IFERROR(INDEX('Modifikuoti svoriai '!$D$5:$K$29,MATCH(B2143,'Modifikuoti svoriai '!$C$5:$C$29,0),MATCH(A2143,'Modifikuoti svoriai '!$D$4:$K$4,0)),\"\")","v":""}]
[null,null,{"$f":"IFERROR(INDEX('Modifikuoti svoriai '!$D$5:$K$29,MATCH(B2144,'Modifikuoti svoriai '!$C$5:$C$29,0),MATCH(A2144,'Modifikuoti svoriai '!$D$4:$K$4,0)),\"\")","v":""}]
[null,null,{"$f":"IFERROR(INDEX('Modifikuoti svoriai '!$D$5:$K$29,MATCH(B2145,'Modifikuoti svoriai '!$C$5:$C$29,0),MATCH(A2145,'Modifikuoti svoriai '!$D$4:$K$4,0)),\"\")","v":""}]
[null,null,{"$f":"IFERROR(INDEX('Modifikuoti svoriai '!$D$5:$K$29,MATCH(B2146,'Modifikuoti svoriai '!$C$5:$C$29,0),MATCH(A2146,'Modifikuoti svoriai '!$D$4:$K$4,0)),\"\")","v":""}]
[null,null,{"$f":"IFERROR(INDEX('Modifikuoti svoriai '!$D$5:$K$29,MATCH(B2147,'Modifikuoti svoriai '!$C$5:$C$29,0),MATCH(A2147,'Modifikuoti svoriai '!$D$4:$K$4,0)),\"\")","v":""}]
[null,null,{"$f":"IFERROR(INDEX('Modifikuoti svoriai '!$D$5:$K$29,MATCH(B2148,'Modifikuoti svoriai '!$C$5:$C$29,0),MATCH(A2148,'Modifikuoti svoriai '!$D$4:$K$4,0)),\"\")","v":""}]
[null,null,{"$f":"IFERROR(INDEX('Modifikuoti svoriai '!$D$5:$K$29,MATCH(B2149,'Modifikuoti svoriai '!$C$5:$C$29,0),MATCH(A2149,'Modifikuoti svoriai '!$D$4:$K$4,0)),\"\")","v":""}]
[null,null,{"$f":"IFERROR(INDEX('Modifikuoti svoriai '!$D$5:$K$29,MATCH(B2150,'Modifikuoti svoriai '!$C$5:$C$29,0),MATCH(A2150,'Modifikuoti svoriai '!$D$4:$K$4,0)),\"\")","v":""}]
[null,null,{"$f":"IFERROR(INDEX('Modifikuoti svoriai '!$D$5:$K$29,MATCH(B2151,'Modifikuoti svoriai '!$C$5:$C$29,0),MATCH(A2151,'Modifikuoti svoriai '!$D$4:$K$4,0)),\"\")","v":""}]
[null,null,{"$f":"IFERROR(INDEX('Modifikuoti svoriai '!$D$5:$K$29,MATCH(B2152,'Modifikuoti svoriai '!$C$5:$C$29,0),MATCH(A2152,'Modifikuoti svoriai '!$D$4:$K$4,0)),\"\")","v":""}]
[null,null,{"$f":"IFERROR(INDEX('Modifikuoti svoriai '!$D$5:$K$29,MATCH(B2153,'Modifikuoti svoriai '!$C$5:$C$29,0),MATCH(A2153,'Modifikuoti svoriai '!$D$4:$K$4,0)),\"\")","v":""}]
[null,null,{"$f":"IFERROR(INDEX('Modifikuoti svoriai '!$D$5:$K$29,MATCH(B2154,'Modifikuoti svoriai '!$C$5:$C$29,0),MATCH(A2154,'Modifikuoti svoriai '!$D$4:$K$4,0)),\"\")","v":""}]
[null,null,{"$f":"IFERROR(INDEX('Modifikuoti svoriai '!$D$5:$K$29,MATCH(B2155,'Modifikuoti svoriai '!$C$5:$C$29,0),MATCH(A2155,'Modifikuoti svoriai '!$D$4:$K$4,0)),\"\")","v":""}]
[null,null,{"$f":"IFERROR(INDEX('Modifikuoti svoriai '!$D$5:$K$29,MATCH(B2156,'Modifikuoti svoriai '!$C$5:$C$29,0),MATCH(A2156,'Modifikuoti svoriai '!$D$4:$K$4,0)),\"\")","v":""}]
[null,null,{"$f":"IFERROR(INDEX('Modifikuoti svoriai '!$D$5:$K$29,MATCH(B2157,'Modifikuoti svoriai '!$C$5:$C$29,0),MATCH(A2157,'Modifikuoti svoriai '!$D$4:$K$4,0)),\"\")","v":""}]
[null,null,{"$f":"IFERROR(INDEX('Modifikuoti svoriai '!$D$5:$K$29,MATCH(B2158,'Modifikuoti svoriai '!$C$5:$C$29,0),MATCH(A2158,'Modifikuoti svoriai '!$D$4:$K$4,0)),\"\")","v":""}]
[null,null,{"$f":"IFERROR(INDEX('Modifikuoti svoriai '!$D$5:$K$29,MATCH(B2159,'Modifikuoti svoriai '!$C$5:$C$29,0),MATCH(A2159,'Modifikuoti svoriai '!$D$4:$K$4,0)),\"\")","v":""}]
[null,null,{"$f":"IFERROR(INDEX('Modifikuoti svoriai '!$D$5:$K$29,MATCH(B2160,'Modifikuoti svoriai '!$C$5:$C$29,0),MATCH(A2160,'Modifikuoti svoriai '!$D$4:$K$4,0)),\"\")","v":""}]
[null,null,{"$f":"IFERROR(INDEX('Modifikuoti svoriai '!$D$5:$K$29,MATCH(B2161,'Modifikuoti svoriai '!$C$5:$C$29,0),MATCH(A2161,'Modifikuoti svoriai '!$D$4:$K$4,0)),\"\")","v":""}]
[null,null,{"$f":"IFERROR(INDEX('Modifikuoti svoriai '!$D$5:$K$29,MATCH(B2162,'Modifikuoti svoriai '!$C$5:$C$29,0),MATCH(A2162,'Modifikuoti svoriai '!$D$4:$K$4,0)),\"\")","v":""}]
[null,null,{"$f":"IFERROR(INDEX('Modifikuoti svoriai '!$D$5:$K$29,MATCH(B2163,'Modifikuoti svoriai '!$C$5:$C$29,0),MATCH(A2163,'Modifikuoti svoriai '!$D$4:$K$4,0)),\"\")","v":""}]
[null,null,{"$f":"IFERROR(INDEX('Modifikuoti svoriai '!$D$5:$K$29,MATCH(B2164,'Modifikuoti svoriai '!$C$5:$C$29,0),MATCH(A2164,'Modifikuoti svoriai '!$D$4:$K$4,0)),\"\")","v":""}]
[null,null,{"$f":"IFERROR(INDEX('Modifikuoti svoriai '!$D$5:$K$29,MATCH(B2165,'Modifikuoti svoriai '!$C$5:$C$29,0),MATCH(A2165,'Modifikuoti svoriai '!$D$4:$K$4,0)),\"\")","v":""}]
[null,null,{"$f":"IFERROR(INDEX('Modifikuoti svoriai '!$D$5:$K$29,MATCH(B2166,'Modifikuoti svoriai '!$C$5:$C$29,0),MATCH(A2166,'Modifikuoti svoriai '!$D$4:$K$4,0)),\"\")","v":""}]
[null,null,{"$f":"IFERROR(INDEX('Modifikuoti svoriai '!$D$5:$K$29,MATCH(B2167,'Modifikuoti svoriai '!$C$5:$C$29,0),MATCH(A2167,'Modifikuoti svoriai '!$D$4:$K$4,0)),\"\")","v":""}]
[null,null,{"$f":"IFERROR(INDEX('Modifikuoti svoriai '!$D$5:$K$29,MATCH(B2168,'Modifikuoti svoriai '!$C$5:$C$29,0),MATCH(A2168,'Modifikuoti svoriai '!$D$4:$K$4,0)),\"\")","v":""}]
[null,null,{"$f":"IFERROR(INDEX('Modifikuoti svoriai '!$D$5:$K$29,MATCH(B2169,'Modifikuoti svoriai '!$C$5:$C$29,0),MATCH(A2169,'Modifikuoti svoriai '!$D$4:$K$4,0)),\"\")","v":""}]
[null,null,{"$f":"IFERROR(INDEX('Modifikuoti svoriai '!$D$5:$K$29,MATCH(B2170,'Modifikuoti svoriai '!$C$5:$C$29,0),MATCH(A2170,'Modifikuoti svoriai '!$D$4:$K$4,0)),\"\")","v":""}]
[null,null,{"$f":"IFERROR(INDEX('Modifikuoti svoriai '!$D$5:$K$29,MATCH(B2171,'Modifikuoti svoriai '!$C$5:$C$29,0),MATCH(A2171,'Modifikuoti svoriai '!$D$4:$K$4,0)),\"\")","v":""}]
[null,null,{"$f":"IFERROR(INDEX('Modifikuoti svoriai '!$D$5:$K$29,MATCH(B2172,'Modifikuoti svoriai '!$C$5:$C$29,0),MATCH(A2172,'Modifikuoti svoriai '!$D$4:$K$4,0)),\"\")","v":""}]
[null,null,{"$f":"IFERROR(INDEX('Modifikuoti svoriai '!$D$5:$K$29,MATCH(B2173,'Modifikuoti svoriai '!$C$5:$C$29,0),MATCH(A2173,'Modifikuoti svoriai '!$D$4:$K$4,0)),\"\")","v":""}]
[null,null,{"$f":"IFERROR(INDEX('Modifikuoti svoriai '!$D$5:$K$29,MATCH(B2174,'Modifikuoti svoriai '!$C$5:$C$29,0),MATCH(A2174,'Modifikuoti svoriai '!$D$4:$K$4,0)),\"\")","v":""}]
[null,null,{"$f":"IFERROR(INDEX('Modifikuoti svoriai '!$D$5:$K$29,MATCH(B2175,'Modifikuoti svoriai '!$C$5:$C$29,0),MATCH(A2175,'Modifikuoti svoriai '!$D$4:$K$4,0)),\"\")","v":""}]
[null,null,{"$f":"IFERROR(INDEX('Modifikuoti svoriai '!$D$5:$K$29,MATCH(B2176,'Modifikuoti svoriai '!$C$5:$C$29,0),MATCH(A2176,'Modifikuoti svoriai '!$D$4:$K$4,0)),\"\")","v":""}]
[null,null,{"$f":"IFERROR(INDEX('Modifikuoti svoriai '!$D$5:$K$29,MATCH(B2177,'Modifikuoti svoriai '!$C$5:$C$29,0),MATCH(A2177,'Modifikuoti svoriai '!$D$4:$K$4,0)),\"\")","v":""}]
[null,null,{"$f":"IFERROR(INDEX('Modifikuoti svoriai '!$D$5:$K$29,MATCH(B2178,'Modifikuoti svoriai '!$C$5:$C$29,0),MATCH(A2178,'Modifikuoti svoriai '!$D$4:$K$4,0)),\"\")","v":""}]
[null,null,{"$f":"IFERROR(INDEX('Modifikuoti svoriai '!$D$5:$K$29,MATCH(B2179,'Modifikuoti svoriai '!$C$5:$C$29,0),MATCH(A2179,'Modifikuoti svoriai '!$D$4:$K$4,0)),\"\")","v":""}]
[null,null,{"$f":"IFERROR(INDEX('Modifikuoti svoriai '!$D$5:$K$29,MATCH(B2180,'Modifikuoti svoriai '!$C$5:$C$29,0),MATCH(A2180,'Modifikuoti svoriai '!$D$4:$K$4,0)),\"\")","v":""}]
[null,null,{"$f":"IFERROR(INDEX('Modifikuoti svoriai '!$D$5:$K$29,MATCH(B2181,'Modifikuoti svoriai '!$C$5:$C$29,0),MATCH(A2181,'Modifikuoti svoriai '!$D$4:$K$4,0)),\"\")","v":""}]
[null,null,{"$f":"IFERROR(INDEX('Modifikuoti svoriai '!$D$5:$K$29,MATCH(B2182,'Modifikuoti svoriai '!$C$5:$C$29,0),MATCH(A2182,'Modifikuoti svoriai '!$D$4:$K$4,0)),\"\")","v":""}]
[null,null,{"$f":"IFERROR(INDEX('Modifikuoti svoriai '!$D$5:$K$29,MATCH(B2183,'Modifikuoti svoriai '!$C$5:$C$29,0),MATCH(A2183,'Modifikuoti svoriai '!$D$4:$K$4,0)),\"\")","v":""}]
[null,null,{"$f":"IFERROR(INDEX('Modifikuoti svoriai '!$D$5:$K$29,MATCH(B2184,'Modifikuoti svoriai '!$C$5:$C$29,0),MATCH(A2184,'Modifikuoti svoriai '!$D$4:$K$4,0)),\"\")","v":""}]
[null,null,{"$f":"IFERROR(INDEX('Modifikuoti svoriai '!$D$5:$K$29,MATCH(B2185,'Modifikuoti svoriai '!$C$5:$C$29,0),MATCH(A2185,'Modifikuoti svoriai '!$D$4:$K$4,0)),\"\")","v":""}]
[null,null,{"$f":"IFERROR(INDEX('Modifikuoti svoriai '!$D$5:$K$29,MATCH(B2186,'Modifikuoti svoriai '!$C$5:$C$29,0),MATCH(A2186,'Modifikuoti svoriai '!$D$4:$K$4,0)),\"\")","v":""}]
[null,null,{"$f":"IFERROR(INDEX('Modifikuoti svoriai '!$D$5:$K$29,MATCH(B2187,'Modifikuoti svoriai '!$C$5:$C$29,0),MATCH(A2187,'Modifikuoti svoriai '!$D$4:$K$4,0)),\"\")","v":""}]
[null,null,{"$f":"IFERROR(INDEX('Modifikuoti svoriai '!$D$5:$K$29,MATCH(B2188,'Modifikuoti svoriai '!$C$5:$C$29,0),MATCH(A2188,'Modifikuoti svoriai '!$D$4:$K$4,0)),\"\")","v":""}]
[null,null,{"$f":"IFERROR(INDEX('Modifikuoti svoriai '!$D$5:$K$29,MATCH(B2189,'Modifikuoti svoriai '!$C$5:$C$29,0),MATCH(A2189,'Modifikuoti svoriai '!$D$4:$K$4,0)),\"\")","v":""}]
[null,null,{"$f":"IFERROR(INDEX('Modifikuoti svoriai '!$D$5:$K$29,MATCH(B2190,'Modifikuoti svoriai '!$C$5:$C$29,0),MATCH(A2190,'Modifikuoti svoriai '!$D$4:$K$4,0)),\"\")","v":""}]
[null,null,{"$f":"IFERROR(INDEX('Modifikuoti svoriai '!$D$5:$K$29,MATCH(B2191,'Modifikuoti svoriai '!$C$5:$C$29,0),MATCH(A2191,'Modifikuoti svoriai '!$D$4:$K$4,0)),\"\")","v":""}]
[null,null,{"$f":"IFERROR(INDEX('Modifikuoti svoriai '!$D$5:$K$29,MATCH(B2192,'Modifikuoti svoriai '!$C$5:$C$29,0),MATCH(A2192,'Modifikuoti svoriai '!$D$4:$K$4,0)),\"\")","v":""}]
[null,null,{"$f":"IFERROR(INDEX('Modifikuoti svoriai '!$D$5:$K$29,MATCH(B2193,'Modifikuoti svoriai '!$C$5:$C$29,0),MATCH(A2193,'Modifikuoti svoriai '!$D$4:$K$4,0)),\"\")","v":""}]
[null,null,{"$f":"IFERROR(INDEX('Modifikuoti svoriai '!$D$5:$K$29,MATCH(B2194,'Modifikuoti svoriai '!$C$5:$C$29,0),MATCH(A2194,'Modifikuoti svoriai '!$D$4:$K$4,0)),\"\")","v":""}]
[null,null,{"$f":"IFERROR(INDEX('Modifikuoti svoriai '!$D$5:$K$29,MATCH(B2195,'Modifikuoti svoriai '!$C$5:$C$29,0),MATCH(A2195,'Modifikuoti svoriai '!$D$4:$K$4,0)),\"\")","v":""}]
[null,null,{"$f":"IFERROR(INDEX('Modifikuoti svoriai '!$D$5:$K$29,MATCH(B2196,'Modifikuoti svoriai '!$C$5:$C$29,0),MATCH(A2196,'Modifikuoti svoriai '!$D$4:$K$4,0)),\"\")","v":""}]
[null,null,{"$f":"IFERROR(INDEX('Modifikuoti svoriai '!$D$5:$K$29,MATCH(B2197,'Modifikuoti svoriai '!$C$5:$C$29,0),MATCH(A2197,'Modifikuoti svoriai '!$D$4:$K$4,0)),\"\")","v":""}]
[null,null,{"$f":"IFERROR(INDEX('Modifikuoti svoriai '!$D$5:$K$29,MATCH(B2198,'Modifikuoti svoriai '!$C$5:$C$29,0),MATCH(A2198,'Modifikuoti svoriai '!$D$4:$K$4,0)),\"\")","v":""}]
[null,null,{"$f":"IFERROR(INDEX('Modifikuoti svoriai '!$D$5:$K$29,MATCH(B2199,'Modifikuoti svoriai '!$C$5:$C$29,0),MATCH(A2199,'Modifikuoti svoriai '!$D$4:$K$4,0)),\"\")","v":""}]
[null,null,{"$f":"IFERROR(INDEX('Modifikuoti svoriai '!$D$5:$K$29,MATCH(B2200,'Modifikuoti svoriai '!$C$5:$C$29,0),MATCH(A2200,'Modifikuoti svoriai '!$D$4:$K$4,0)),\"\")","v":""}]
[null,null,{"$f":"IFERROR(INDEX('Modifikuoti svoriai '!$D$5:$K$29,MATCH(B2201,'Modifikuoti svoriai '!$C$5:$C$29,0),MATCH(A2201,'Modifikuoti svoriai '!$D$4:$K$4,0)),\"\")","v":""}]
[null,null,{"$f":"IFERROR(INDEX('Modifikuoti svoriai '!$D$5:$K$29,MATCH(B2202,'Modifikuoti svoriai '!$C$5:$C$29,0),MATCH(A2202,'Modifikuoti svoriai '!$D$4:$K$4,0)),\"\")","v":""}]
[null,null,{"$f":"IFERROR(INDEX('Modifikuoti svoriai '!$D$5:$K$29,MATCH(B2203,'Modifikuoti svoriai '!$C$5:$C$29,0),MATCH(A2203,'Modifikuoti svoriai '!$D$4:$K$4,0)),\"\")","v":""}]
[null,null,{"$f":"IFERROR(INDEX('Modifikuoti svoriai '!$D$5:$K$29,MATCH(B2204,'Modifikuoti svoriai '!$C$5:$C$29,0),MATCH(A2204,'Modifikuoti svoriai '!$D$4:$K$4,0)),\"\")","v":""}]
[null,null,{"$f":"IFERROR(INDEX('Modifikuoti svoriai '!$D$5:$K$29,MATCH(B2205,'Modifikuoti svoriai '!$C$5:$C$29,0),MATCH(A2205,'Modifikuoti svoriai '!$D$4:$K$4,0)),\"\")","v":""}]
[null,null,{"$f":"IFERROR(INDEX('Modifikuoti svoriai '!$D$5:$K$29,MATCH(B2206,'Modifikuoti svoriai '!$C$5:$C$29,0),MATCH(A2206,'Modifikuoti svoriai '!$D$4:$K$4,0)),\"\")","v":""}]
[null,null,{"$f":"IFERROR(INDEX('Modifikuoti svoriai '!$D$5:$K$29,MATCH(B2207,'Modifikuoti svoriai '!$C$5:$C$29,0),MATCH(A2207,'Modifikuoti svoriai '!$D$4:$K$4,0)),\"\")","v":""}]
[null,null,{"$f":"IFERROR(INDEX('Modifikuoti svoriai '!$D$5:$K$29,MATCH(B2208,'Modifikuoti svoriai '!$C$5:$C$29,0),MATCH(A2208,'Modifikuoti svoriai '!$D$4:$K$4,0)),\"\")","v":""}]
[null,null,{"$f":"IFERROR(INDEX('Modifikuoti svoriai '!$D$5:$K$29,MATCH(B2209,'Modifikuoti svoriai '!$C$5:$C$29,0),MATCH(A2209,'Modifikuoti svoriai '!$D$4:$K$4,0)),\"\")","v":""}]
[null,null,{"$f":"IFERROR(INDEX('Modifikuoti svoriai '!$D$5:$K$29,MATCH(B2210,'Modifikuoti svoriai '!$C$5:$C$29,0),MATCH(A2210,'Modifikuoti svoriai '!$D$4:$K$4,0)),\"\")","v":""}]
[null,null,{"$f":"IFERROR(INDEX('Modifikuoti svoriai '!$D$5:$K$29,MATCH(B2211,'Modifikuoti svoriai '!$C$5:$C$29,0),MATCH(A2211,'Modifikuoti svoriai '!$D$4:$K$4,0)),\"\")","v":""}]
[null,null,{"$f":"IFERROR(INDEX('Modifikuoti svoriai '!$D$5:$K$29,MATCH(B2212,'Modifikuoti svoriai '!$C$5:$C$29,0),MATCH(A2212,'Modifikuoti svoriai '!$D$4:$K$4,0)),\"\")","v":""}]
[null,null,{"$f":"IFERROR(INDEX('Modifikuoti svoriai '!$D$5:$K$29,MATCH(B2213,'Modifikuoti svoriai '!$C$5:$C$29,0),MATCH(A2213,'Modifikuoti svoriai '!$D$4:$K$4,0)),\"\")","v":""}]
[null,null,{"$f":"IFERROR(INDEX('Modifikuoti svoriai '!$D$5:$K$29,MATCH(B2214,'Modifikuoti svoriai '!$C$5:$C$29,0),MATCH(A2214,'Modifikuoti svoriai '!$D$4:$K$4,0)),\"\")","v":""}]
[null,null,{"$f":"IFERROR(INDEX('Modifikuoti svoriai '!$D$5:$K$29,MATCH(B2215,'Modifikuoti svoriai '!$C$5:$C$29,0),MATCH(A2215,'Modifikuoti svoriai '!$D$4:$K$4,0)),\"\")","v":""}]
[null,null,{"$f":"IFERROR(INDEX('Modifikuoti svoriai '!$D$5:$K$29,MATCH(B2216,'Modifikuoti svoriai '!$C$5:$C$29,0),MATCH(A2216,'Modifikuoti svoriai '!$D$4:$K$4,0)),\"\")","v":""}]
[null,null,{"$f":"IFERROR(INDEX('Modifikuoti svoriai '!$D$5:$K$29,MATCH(B2217,'Modifikuoti svoriai '!$C$5:$C$29,0),MATCH(A2217,'Modifikuoti svoriai '!$D$4:$K$4,0)),\"\")","v":""}]
[null,null,{"$f":"IFERROR(INDEX('Modifikuoti svoriai '!$D$5:$K$29,MATCH(B2218,'Modifikuoti svoriai '!$C$5:$C$29,0),MATCH(A2218,'Modifikuoti svoriai '!$D$4:$K$4,0)),\"\")","v":""}]
[null,null,{"$f":"IFERROR(INDEX('Modifikuoti svoriai '!$D$5:$K$29,MATCH(B2219,'Modifikuoti svoriai '!$C$5:$C$29,0),MATCH(A2219,'Modifikuoti svoriai '!$D$4:$K$4,0)),\"\")","v":""}]
[null,null,{"$f":"IFERROR(INDEX('Modifikuoti svoriai '!$D$5:$K$29,MATCH(B2220,'Modifikuoti svoriai '!$C$5:$C$29,0),MATCH(A2220,'Modifikuoti svoriai '!$D$4:$K$4,0)),\"\")","v":""}]
[null,null,{"$f":"IFERROR(INDEX('Modifikuoti svoriai '!$D$5:$K$29,MATCH(B2221,'Modifikuoti svoriai '!$C$5:$C$29,0),MATCH(A2221,'Modifikuoti svoriai '!$D$4:$K$4,0)),\"\")","v":""}]
[null,null,{"$f":"IFERROR(INDEX('Modifikuoti svoriai '!$D$5:$K$29,MATCH(B2222,'Modifikuoti svoriai '!$C$5:$C$29,0),MATCH(A2222,'Modifikuoti svoriai '!$D$4:$K$4,0)),\"\")","v":""}]
[null,null,{"$f":"IFERROR(INDEX('Modifikuoti svoriai '!$D$5:$K$29,MATCH(B2223,'Modifikuoti svoriai '!$C$5:$C$29,0),MATCH(A2223,'Modifikuoti svoriai '!$D$4:$K$4,0)),\"\")","v":""}]
[null,null,{"$f":"IFERROR(INDEX('Modifikuoti svoriai '!$D$5:$K$29,MATCH(B2224,'Modifikuoti svoriai '!$C$5:$C$29,0),MATCH(A2224,'Modifikuoti svoriai '!$D$4:$K$4,0)),\"\")","v":""}]
[null,null,{"$f":"IFERROR(INDEX('Modifikuoti svoriai '!$D$5:$K$29,MATCH(B2225,'Modifikuoti svoriai '!$C$5:$C$29,0),MATCH(A2225,'Modifikuoti svoriai '!$D$4:$K$4,0)),\"\")","v":""}]
[null,null,{"$f":"IFERROR(INDEX('Modifikuoti svoriai '!$D$5:$K$29,MATCH(B2226,'Modifikuoti svoriai '!$C$5:$C$29,0),MATCH(A2226,'Modifikuoti svoriai '!$D$4:$K$4,0)),\"\")","v":""}]
[null,null,{"$f":"IFERROR(INDEX('Modifikuoti svoriai '!$D$5:$K$29,MATCH(B2227,'Modifikuoti svoriai '!$C$5:$C$29,0),MATCH(A2227,'Modifikuoti svoriai '!$D$4:$K$4,0)),\"\")","v":""}]
[null,null,{"$f":"IFERROR(INDEX('Modifikuoti svoriai '!$D$5:$K$29,MATCH(B2228,'Modifikuoti svoriai '!$C$5:$C$29,0),MATCH(A2228,'Modifikuoti svoriai '!$D$4:$K$4,0)),\"\")","v":""}]
[null,null,{"$f":"IFERROR(INDEX('Modifikuoti svoriai '!$D$5:$K$29,MATCH(B2229,'Modifikuoti svoriai '!$C$5:$C$29,0),MATCH(A2229,'Modifikuoti svoriai '!$D$4:$K$4,0)),\"\")","v":""}]
[null,null,{"$f":"IFERROR(INDEX('Modifikuoti svoriai '!$D$5:$K$29,MATCH(B2230,'Modifikuoti svoriai '!$C$5:$C$29,0),MATCH(A2230,'Modifikuoti svoriai '!$D$4:$K$4,0)),\"\")","v":""}]
[null,null,{"$f":"IFERROR(INDEX('Modifikuoti svoriai '!$D$5:$K$29,MATCH(B2231,'Modifikuoti svoriai '!$C$5:$C$29,0),MATCH(A2231,'Modifikuoti svoriai '!$D$4:$K$4,0)),\"\")","v":""}]
[null,null,{"$f":"IFERROR(INDEX('Modifikuoti svoriai '!$D$5:$K$29,MATCH(B2232,'Modifikuoti svoriai '!$C$5:$C$29,0),MATCH(A2232,'Modifikuoti svoriai '!$D$4:$K$4,0)),\"\")","v":""}]
[null,null,{"$f":"IFERROR(INDEX('Modifikuoti svoriai '!$D$5:$K$29,MATCH(B2233,'Modifikuoti svoriai '!$C$5:$C$29,0),MATCH(A2233,'Modifikuoti svoriai '!$D$4:$K$4,0)),\"\")","v":""}]
[null,null,{"$f":"IFERROR(INDEX('Modifikuoti svoriai '!$D$5:$K$29,MATCH(B2234,'Modifikuoti svoriai '!$C$5:$C$29,0),MATCH(A2234,'Modifikuoti svoriai '!$D$4:$K$4,0)),\"\")","v":""}]
[null,null,{"$f":"IFERROR(INDEX('Modifikuoti svoriai '!$D$5:$K$29,MATCH(B2235,'Modifikuoti svoriai '!$C$5:$C$29,0),MATCH(A2235,'Modifikuoti svoriai '!$D$4:$K$4,0)),\"\")","v":""}]
[null,null,{"$f":"IFERROR(INDEX('Modifikuoti svoriai '!$D$5:$K$29,MATCH(B2236,'Modifikuoti svoriai '!$C$5:$C$29,0),MATCH(A2236,'Modifikuoti svoriai '!$D$4:$K$4,0)),\"\")","v":""}]
[null,null,{"$f":"IFERROR(INDEX('Modifikuoti svoriai '!$D$5:$K$29,MATCH(B2237,'Modifikuoti svoriai '!$C$5:$C$29,0),MATCH(A2237,'Modifikuoti svoriai '!$D$4:$K$4,0)),\"\")","v":""}]
[null,null,{"$f":"IFERROR(INDEX('Modifikuoti svoriai '!$D$5:$K$29,MATCH(B2238,'Modifikuoti svoriai '!$C$5:$C$29,0),MATCH(A2238,'Modifikuoti svoriai '!$D$4:$K$4,0)),\"\")","v":""}]
[null,null,{"$f":"IFERROR(INDEX('Modifikuoti svoriai '!$D$5:$K$29,MATCH(B2239,'Modifikuoti svoriai '!$C$5:$C$29,0),MATCH(A2239,'Modifikuoti svoriai '!$D$4:$K$4,0)),\"\")","v":""}]
[null,null,{"$f":"IFERROR(INDEX('Modifikuoti svoriai '!$D$5:$K$29,MATCH(B2240,'Modifikuoti svoriai '!$C$5:$C$29,0),MATCH(A2240,'Modifikuoti svoriai '!$D$4:$K$4,0)),\"\")","v":""}]
[null,null,{"$f":"IFERROR(INDEX('Modifikuoti svoriai '!$D$5:$K$29,MATCH(B2241,'Modifikuoti svoriai '!$C$5:$C$29,0),MATCH(A2241,'Modifikuoti svoriai '!$D$4:$K$4,0)),\"\")","v":""}]
[null,null,{"$f":"IFERROR(INDEX('Modifikuoti svoriai '!$D$5:$K$29,MATCH(B2242,'Modifikuoti svoriai '!$C$5:$C$29,0),MATCH(A2242,'Modifikuoti svoriai '!$D$4:$K$4,0)),\"\")","v":""}]
[null,null,{"$f":"IFERROR(INDEX('Modifikuoti svoriai '!$D$5:$K$29,MATCH(B2243,'Modifikuoti svoriai '!$C$5:$C$29,0),MATCH(A2243,'Modifikuoti svoriai '!$D$4:$K$4,0)),\"\")","v":""}]
[null,null,{"$f":"IFERROR(INDEX('Modifikuoti svoriai '!$D$5:$K$29,MATCH(B2244,'Modifikuoti svoriai '!$C$5:$C$29,0),MATCH(A2244,'Modifikuoti svoriai '!$D$4:$K$4,0)),\"\")","v":""}]
[null,null,{"$f":"IFERROR(INDEX('Modifikuoti svoriai '!$D$5:$K$29,MATCH(B2245,'Modifikuoti svoriai '!$C$5:$C$29,0),MATCH(A2245,'Modifikuoti svoriai '!$D$4:$K$4,0)),\"\")","v":""}]
[null,null,{"$f":"IFERROR(INDEX('Modifikuoti svoriai '!$D$5:$K$29,MATCH(B2246,'Modifikuoti svoriai '!$C$5:$C$29,0),MATCH(A2246,'Modifikuoti svoriai '!$D$4:$K$4,0)),\"\")","v":""}]
[null,null,{"$f":"IFERROR(INDEX('Modifikuoti svoriai '!$D$5:$K$29,MATCH(B2247,'Modifikuoti svoriai '!$C$5:$C$29,0),MATCH(A2247,'Modifikuoti svoriai '!$D$4:$K$4,0)),\"\")","v":""}]
[null,null,{"$f":"IFERROR(INDEX('Modifikuoti svoriai '!$D$5:$K$29,MATCH(B2248,'Modifikuoti svoriai '!$C$5:$C$29,0),MATCH(A2248,'Modifikuoti svoriai '!$D$4:$K$4,0)),\"\")","v":""}]
[null,null,{"$f":"IFERROR(INDEX('Modifikuoti svoriai '!$D$5:$K$29,MATCH(B2249,'Modifikuoti svoriai '!$C$5:$C$29,0),MATCH(A2249,'Modifikuoti svoriai '!$D$4:$K$4,0)),\"\")","v":""}]
[null,null,{"$f":"IFERROR(INDEX('Modifikuoti svoriai '!$D$5:$K$29,MATCH(B2250,'Modifikuoti svoriai '!$C$5:$C$29,0),MATCH(A2250,'Modifikuoti svoriai '!$D$4:$K$4,0)),\"\")","v":""}]
[null,null,{"$f":"IFERROR(INDEX('Modifikuoti svoriai '!$D$5:$K$29,MATCH(B2251,'Modifikuoti svoriai '!$C$5:$C$29,0),MATCH(A2251,'Modifikuoti svoriai '!$D$4:$K$4,0)),\"\")","v":""}]
[null,null,{"$f":"IFERROR(INDEX('Modifikuoti svoriai '!$D$5:$K$29,MATCH(B2252,'Modifikuoti svoriai '!$C$5:$C$29,0),MATCH(A2252,'Modifikuoti svoriai '!$D$4:$K$4,0)),\"\")","v":""}]
[null,null,{"$f":"IFERROR(INDEX('Modifikuoti svoriai '!$D$5:$K$29,MATCH(B2253,'Modifikuoti svoriai '!$C$5:$C$29,0),MATCH(A2253,'Modifikuoti svoriai '!$D$4:$K$4,0)),\"\")","v":""}]
[null,null,{"$f":"IFERROR(INDEX('Modifikuoti svoriai '!$D$5:$K$29,MATCH(B2254,'Modifikuoti svoriai '!$C$5:$C$29,0),MATCH(A2254,'Modifikuoti svoriai '!$D$4:$K$4,0)),\"\")","v":""}]
[null,null,{"$f":"IFERROR(INDEX('Modifikuoti svoriai '!$D$5:$K$29,MATCH(B2255,'Modifikuoti svoriai '!$C$5:$C$29,0),MATCH(A2255,'Modifikuoti svoriai '!$D$4:$K$4,0)),\"\")","v":""}]
[null,null,{"$f":"IFERROR(INDEX('Modifikuoti svoriai '!$D$5:$K$29,MATCH(B2256,'Modifikuoti svoriai '!$C$5:$C$29,0),MATCH(A2256,'Modifikuoti svoriai '!$D$4:$K$4,0)),\"\")","v":""}]
[null,null,{"$f":"IFERROR(INDEX('Modifikuoti svoriai '!$D$5:$K$29,MATCH(B2257,'Modifikuoti svoriai '!$C$5:$C$29,0),MATCH(A2257,'Modifikuoti svoriai '!$D$4:$K$4,0)),\"\")","v":""}]
[null,null,{"$f":"IFERROR(INDEX('Modifikuoti svoriai '!$D$5:$K$29,MATCH(B2258,'Modifikuoti svoriai '!$C$5:$C$29,0),MATCH(A2258,'Modifikuoti svoriai '!$D$4:$K$4,0)),\"\")","v":""}]
[null,null,{"$f":"IFERROR(INDEX('Modifikuoti svoriai '!$D$5:$K$29,MATCH(B2259,'Modifikuoti svoriai '!$C$5:$C$29,0),MATCH(A2259,'Modifikuoti svoriai '!$D$4:$K$4,0)),\"\")","v":""}]
[null,null,{"$f":"IFERROR(INDEX('Modifikuoti svoriai '!$D$5:$K$29,MATCH(B2260,'Modifikuoti svoriai '!$C$5:$C$29,0),MATCH(A2260,'Modifikuoti svoriai '!$D$4:$K$4,0)),\"\")","v":""}]
[null,null,{"$f":"IFERROR(INDEX('Modifikuoti svoriai '!$D$5:$K$29,MATCH(B2261,'Modifikuoti svoriai '!$C$5:$C$29,0),MATCH(A2261,'Modifikuoti svoriai '!$D$4:$K$4,0)),\"\")","v":""}]
[null,null,{"$f":"IFERROR(INDEX('Modifikuoti svoriai '!$D$5:$K$29,MATCH(B2262,'Modifikuoti svoriai '!$C$5:$C$29,0),MATCH(A2262,'Modifikuoti svoriai '!$D$4:$K$4,0)),\"\")","v":""}]
[null,null,{"$f":"IFERROR(INDEX('Modifikuoti svoriai '!$D$5:$K$29,MATCH(B2263,'Modifikuoti svoriai '!$C$5:$C$29,0),MATCH(A2263,'Modifikuoti svoriai '!$D$4:$K$4,0)),\"\")","v":""}]
[null,null,{"$f":"IFERROR(INDEX('Modifikuoti svoriai '!$D$5:$K$29,MATCH(B2264,'Modifikuoti svoriai '!$C$5:$C$29,0),MATCH(A2264,'Modifikuoti svoriai '!$D$4:$K$4,0)),\"\")","v":""}]
[null,null,{"$f":"IFERROR(INDEX('Modifikuoti svoriai '!$D$5:$K$29,MATCH(B2265,'Modifikuoti svoriai '!$C$5:$C$29,0),MATCH(A2265,'Modifikuoti svoriai '!$D$4:$K$4,0)),\"\")","v":""}]
[null,null,{"$f":"IFERROR(INDEX('Modifikuoti svoriai '!$D$5:$K$29,MATCH(B2266,'Modifikuoti svoriai '!$C$5:$C$29,0),MATCH(A2266,'Modifikuoti svoriai '!$D$4:$K$4,0)),\"\")","v":""}]
[null,null,{"$f":"IFERROR(INDEX('Modifikuoti svoriai '!$D$5:$K$29,MATCH(B2267,'Modifikuoti svoriai '!$C$5:$C$29,0),MATCH(A2267,'Modifikuoti svoriai '!$D$4:$K$4,0)),\"\")","v":""}]
[null,null,{"$f":"IFERROR(INDEX('Modifikuoti svoriai '!$D$5:$K$29,MATCH(B2268,'Modifikuoti svoriai '!$C$5:$C$29,0),MATCH(A2268,'Modifikuoti svoriai '!$D$4:$K$4,0)),\"\")","v":""}]
[null,null,{"$f":"IFERROR(INDEX('Modifikuoti svoriai '!$D$5:$K$29,MATCH(B2269,'Modifikuoti svoriai '!$C$5:$C$29,0),MATCH(A2269,'Modifikuoti svoriai '!$D$4:$K$4,0)),\"\")","v":""}]
[null,null,{"$f":"IFERROR(INDEX('Modifikuoti svoriai '!$D$5:$K$29,MATCH(B2270,'Modifikuoti svoriai '!$C$5:$C$29,0),MATCH(A2270,'Modifikuoti svoriai '!$D$4:$K$4,0)),\"\")","v":""}]
[null,null,{"$f":"IFERROR(INDEX('Modifikuoti svoriai '!$D$5:$K$29,MATCH(B2271,'Modifikuoti svoriai '!$C$5:$C$29,0),MATCH(A2271,'Modifikuoti svoriai '!$D$4:$K$4,0)),\"\")","v":""}]
[null,null,{"$f":"IFERROR(INDEX('Modifikuoti svoriai '!$D$5:$K$29,MATCH(B2272,'Modifikuoti svoriai '!$C$5:$C$29,0),MATCH(A2272,'Modifikuoti svoriai '!$D$4:$K$4,0)),\"\")","v":""}]
[null,null,{"$f":"IFERROR(INDEX('Modifikuoti svoriai '!$D$5:$K$29,MATCH(B2273,'Modifikuoti svoriai '!$C$5:$C$29,0),MATCH(A2273,'Modifikuoti svoriai '!$D$4:$K$4,0)),\"\")","v":""}]
[null,null,{"$f":"IFERROR(INDEX('Modifikuoti svoriai '!$D$5:$K$29,MATCH(B2274,'Modifikuoti svoriai '!$C$5:$C$29,0),MATCH(A2274,'Modifikuoti svoriai '!$D$4:$K$4,0)),\"\")","v":""}]
[null,null,{"$f":"IFERROR(INDEX('Modifikuoti svoriai '!$D$5:$K$29,MATCH(B2275,'Modifikuoti svoriai '!$C$5:$C$29,0),MATCH(A2275,'Modifikuoti svoriai '!$D$4:$K$4,0)),\"\")","v":""}]
[null,null,{"$f":"IFERROR(INDEX('Modifikuoti svoriai '!$D$5:$K$29,MATCH(B2276,'Modifikuoti svoriai '!$C$5:$C$29,0),MATCH(A2276,'Modifikuoti svoriai '!$D$4:$K$4,0)),\"\")","v":""}]
[null,null,{"$f":"IFERROR(INDEX('Modifikuoti svoriai '!$D$5:$K$29,MATCH(B2277,'Modifikuoti svoriai '!$C$5:$C$29,0),MATCH(A2277,'Modifikuoti svoriai '!$D$4:$K$4,0)),\"\")","v":""}]
[null,null,{"$f":"IFERROR(INDEX('Modifikuoti svoriai '!$D$5:$K$29,MATCH(B2278,'Modifikuoti svoriai '!$C$5:$C$29,0),MATCH(A2278,'Modifikuoti svoriai '!$D$4:$K$4,0)),\"\")","v":""}]
[null,null,{"$f":"IFERROR(INDEX('Modifikuoti svoriai '!$D$5:$K$29,MATCH(B2279,'Modifikuoti svoriai '!$C$5:$C$29,0),MATCH(A2279,'Modifikuoti svoriai '!$D$4:$K$4,0)),\"\")","v":""}]
[null,null,{"$f":"IFERROR(INDEX('Modifikuoti svoriai '!$D$5:$K$29,MATCH(B2280,'Modifikuoti svoriai '!$C$5:$C$29,0),MATCH(A2280,'Modifikuoti svoriai '!$D$4:$K$4,0)),\"\")","v":""}]
[null,null,{"$f":"IFERROR(INDEX('Modifikuoti svoriai '!$D$5:$K$29,MATCH(B2281,'Modifikuoti svoriai '!$C$5:$C$29,0),MATCH(A2281,'Modifikuoti svoriai '!$D$4:$K$4,0)),\"\")","v":""}]
[null,null,{"$f":"IFERROR(INDEX('Modifikuoti svoriai '!$D$5:$K$29,MATCH(B2282,'Modifikuoti svoriai '!$C$5:$C$29,0),MATCH(A2282,'Modifikuoti svoriai '!$D$4:$K$4,0)),\"\")","v":""}]
[null,null,{"$f":"IFERROR(INDEX('Modifikuoti svoriai '!$D$5:$K$29,MATCH(B2283,'Modifikuoti svoriai '!$C$5:$C$29,0),MATCH(A2283,'Modifikuoti svoriai '!$D$4:$K$4,0)),\"\")","v":""}]
[null,null,{"$f":"IFERROR(INDEX('Modifikuoti svoriai '!$D$5:$K$29,MATCH(B2284,'Modifikuoti svoriai '!$C$5:$C$29,0),MATCH(A2284,'Modifikuoti svoriai '!$D$4:$K$4,0)),\"\")","v":""}]
[null,null,{"$f":"IFERROR(INDEX('Modifikuoti svoriai '!$D$5:$K$29,MATCH(B2285,'Modifikuoti svoriai '!$C$5:$C$29,0),MATCH(A2285,'Modifikuoti svoriai '!$D$4:$K$4,0)),\"\")","v":""}]
[null,null,{"$f":"IFERROR(INDEX('Modifikuoti svoriai '!$D$5:$K$29,MATCH(B2286,'Modifikuoti svoriai '!$C$5:$C$29,0),MATCH(A2286,'Modifikuoti svoriai '!$D$4:$K$4,0)),\"\")","v":""}]
[null,null,{"$f":"IFERROR(INDEX('Modifikuoti svoriai '!$D$5:$K$29,MATCH(B2287,'Modifikuoti svoriai '!$C$5:$C$29,0),MATCH(A2287,'Modifikuoti svoriai '!$D$4:$K$4,0)),\"\")","v":""}]
[null,null,{"$f":"IFERROR(INDEX('Modifikuoti svoriai '!$D$5:$K$29,MATCH(B2288,'Modifikuoti svoriai '!$C$5:$C$29,0),MATCH(A2288,'Modifikuoti svoriai '!$D$4:$K$4,0)),\"\")","v":""}]
[null,null,{"$f":"IFERROR(INDEX('Modifikuoti svoriai '!$D$5:$K$29,MATCH(B2289,'Modifikuoti svoriai '!$C$5:$C$29,0),MATCH(A2289,'Modifikuoti svoriai '!$D$4:$K$4,0)),\"\")","v":""}]
[null,null,{"$f":"IFERROR(INDEX('Modifikuoti svoriai '!$D$5:$K$29,MATCH(B2290,'Modifikuoti svoriai '!$C$5:$C$29,0),MATCH(A2290,'Modifikuoti svoriai '!$D$4:$K$4,0)),\"\")","v":""}]
[null,null,{"$f":"IFERROR(INDEX('Modifikuoti svoriai '!$D$5:$K$29,MATCH(B2291,'Modifikuoti svoriai '!$C$5:$C$29,0),MATCH(A2291,'Modifikuoti svoriai '!$D$4:$K$4,0)),\"\")","v":""}]
[null,null,{"$f":"IFERROR(INDEX('Modifikuoti svoriai '!$D$5:$K$29,MATCH(B2292,'Modifikuoti svoriai '!$C$5:$C$29,0),MATCH(A2292,'Modifikuoti svoriai '!$D$4:$K$4,0)),\"\")","v":""}]
[null,null,{"$f":"IFERROR(INDEX('Modifikuoti svoriai '!$D$5:$K$29,MATCH(B2293,'Modifikuoti svoriai '!$C$5:$C$29,0),MATCH(A2293,'Modifikuoti svoriai '!$D$4:$K$4,0)),\"\")","v":""}]
[null,null,{"$f":"IFERROR(INDEX('Modifikuoti svoriai '!$D$5:$K$29,MATCH(B2294,'Modifikuoti svoriai '!$C$5:$C$29,0),MATCH(A2294,'Modifikuoti svoriai '!$D$4:$K$4,0)),\"\")","v":""}]
[null,null,{"$f":"IFERROR(INDEX('Modifikuoti svoriai '!$D$5:$K$29,MATCH(B2295,'Modifikuoti svoriai '!$C$5:$C$29,0),MATCH(A2295,'Modifikuoti svoriai '!$D$4:$K$4,0)),\"\")","v":""}]
[null,null,{"$f":"IFERROR(INDEX('Modifikuoti svoriai '!$D$5:$K$29,MATCH(B2296,'Modifikuoti svoriai '!$C$5:$C$29,0),MATCH(A2296,'Modifikuoti svoriai '!$D$4:$K$4,0)),\"\")","v":""}]
[null,null,{"$f":"IFERROR(INDEX('Modifikuoti svoriai '!$D$5:$K$29,MATCH(B2297,'Modifikuoti svoriai '!$C$5:$C$29,0),MATCH(A2297,'Modifikuoti svoriai '!$D$4:$K$4,0)),\"\")","v":""}]
[null,null,{"$f":"IFERROR(INDEX('Modifikuoti svoriai '!$D$5:$K$29,MATCH(B2298,'Modifikuoti svoriai '!$C$5:$C$29,0),MATCH(A2298,'Modifikuoti svoriai '!$D$4:$K$4,0)),\"\")","v":""}]
[null,null,{"$f":"IFERROR(INDEX('Modifikuoti svoriai '!$D$5:$K$29,MATCH(B2299,'Modifikuoti svoriai '!$C$5:$C$29,0),MATCH(A2299,'Modifikuoti svoriai '!$D$4:$K$4,0)),\"\")","v":""}]
[null,null,{"$f":"IFERROR(INDEX('Modifikuoti svoriai '!$D$5:$K$29,MATCH(B2300,'Modifikuoti svoriai '!$C$5:$C$29,0),MATCH(A2300,'Modifikuoti svoriai '!$D$4:$K$4,0)),\"\")","v":""}]
[null,null,{"$f":"IFERROR(INDEX('Modifikuoti svoriai '!$D$5:$K$29,MATCH(B2301,'Modifikuoti svoriai '!$C$5:$C$29,0),MATCH(A2301,'Modifikuoti svoriai '!$D$4:$K$4,0)),\"\")","v":""}]
[null,null,{"$f":"IFERROR(INDEX('Modifikuoti svoriai '!$D$5:$K$29,MATCH(B2302,'Modifikuoti svoriai '!$C$5:$C$29,0),MATCH(A2302,'Modifikuoti svoriai '!$D$4:$K$4,0)),\"\")","v":""}]
[null,null,{"$f":"IFERROR(INDEX('Modifikuoti svoriai '!$D$5:$K$29,MATCH(B2303,'Modifikuoti svoriai '!$C$5:$C$29,0),MATCH(A2303,'Modifikuoti svoriai '!$D$4:$K$4,0)),\"\")","v":""}]
[null,null,{"$f":"IFERROR(INDEX('Modifikuoti svoriai '!$D$5:$K$29,MATCH(B2304,'Modifikuoti svoriai '!$C$5:$C$29,0),MATCH(A2304,'Modifikuoti svoriai '!$D$4:$K$4,0)),\"\")","v":""}]
[null,null,{"$f":"IFERROR(INDEX('Modifikuoti svoriai '!$D$5:$K$29,MATCH(B2305,'Modifikuoti svoriai '!$C$5:$C$29,0),MATCH(A2305,'Modifikuoti svoriai '!$D$4:$K$4,0)),\"\")","v":""}]
[null,null,{"$f":"IFERROR(INDEX('Modifikuoti svoriai '!$D$5:$K$29,MATCH(B2306,'Modifikuoti svoriai '!$C$5:$C$29,0),MATCH(A2306,'Modifikuoti svoriai '!$D$4:$K$4,0)),\"\")","v":""}]
[null,null,{"$f":"IFERROR(INDEX('Modifikuoti svoriai '!$D$5:$K$29,MATCH(B2307,'Modifikuoti svoriai '!$C$5:$C$29,0),MATCH(A2307,'Modifikuoti svoriai '!$D$4:$K$4,0)),\"\")","v":""}]
[null,null,{"$f":"IFERROR(INDEX('Modifikuoti svoriai '!$D$5:$K$29,MATCH(B2308,'Modifikuoti svoriai '!$C$5:$C$29,0),MATCH(A2308,'Modifikuoti svoriai '!$D$4:$K$4,0)),\"\")","v":""}]
[null,null,{"$f":"IFERROR(INDEX('Modifikuoti svoriai '!$D$5:$K$29,MATCH(B2309,'Modifikuoti svoriai '!$C$5:$C$29,0),MATCH(A2309,'Modifikuoti svoriai '!$D$4:$K$4,0)),\"\")","v":""}]
[null,null,{"$f":"IFERROR(INDEX('Modifikuoti svoriai '!$D$5:$K$29,MATCH(B2310,'Modifikuoti svoriai '!$C$5:$C$29,0),MATCH(A2310,'Modifikuoti svoriai '!$D$4:$K$4,0)),\"\")","v":""}]
[null,null,{"$f":"IFERROR(INDEX('Modifikuoti svoriai '!$D$5:$K$29,MATCH(B2311,'Modifikuoti svoriai '!$C$5:$C$29,0),MATCH(A2311,'Modifikuoti svoriai '!$D$4:$K$4,0)),\"\")","v":""}]
[null,null,{"$f":"IFERROR(INDEX('Modifikuoti svoriai '!$D$5:$K$29,MATCH(B2312,'Modifikuoti svoriai '!$C$5:$C$29,0),MATCH(A2312,'Modifikuoti svoriai '!$D$4:$K$4,0)),\"\")","v":""}]
[null,null,{"$f":"IFERROR(INDEX('Modifikuoti svoriai '!$D$5:$K$29,MATCH(B2313,'Modifikuoti svoriai '!$C$5:$C$29,0),MATCH(A2313,'Modifikuoti svoriai '!$D$4:$K$4,0)),\"\")","v":""}]
[null,null,{"$f":"IFERROR(INDEX('Modifikuoti svoriai '!$D$5:$K$29,MATCH(B2314,'Modifikuoti svoriai '!$C$5:$C$29,0),MATCH(A2314,'Modifikuoti svoriai '!$D$4:$K$4,0)),\"\")","v":""}]
[null,null,{"$f":"IFERROR(INDEX('Modifikuoti svoriai '!$D$5:$K$29,MATCH(B2315,'Modifikuoti svoriai '!$C$5:$C$29,0),MATCH(A2315,'Modifikuoti svoriai '!$D$4:$K$4,0)),\"\")","v":""}]
[null,null,{"$f":"IFERROR(INDEX('Modifikuoti svoriai '!$D$5:$K$29,MATCH(B2316,'Modifikuoti svoriai '!$C$5:$C$29,0),MATCH(A2316,'Modifikuoti svoriai '!$D$4:$K$4,0)),\"\")","v":""}]
[null,null,{"$f":"IFERROR(INDEX('Modifikuoti svoriai '!$D$5:$K$29,MATCH(B2317,'Modifikuoti svoriai '!$C$5:$C$29,0),MATCH(A2317,'Modifikuoti svoriai '!$D$4:$K$4,0)),\"\")","v":""}]
[null,null,{"$f":"IFERROR(INDEX('Modifikuoti svoriai '!$D$5:$K$29,MATCH(B2318,'Modifikuoti svoriai '!$C$5:$C$29,0),MATCH(A2318,'Modifikuoti svoriai '!$D$4:$K$4,0)),\"\")","v":""}]
[null,null,{"$f":"IFERROR(INDEX('Modifikuoti svoriai '!$D$5:$K$29,MATCH(B2319,'Modifikuoti svoriai '!$C$5:$C$29,0),MATCH(A2319,'Modifikuoti svoriai '!$D$4:$K$4,0)),\"\")","v":""}]
[null,null,{"$f":"IFERROR(INDEX('Modifikuoti svoriai '!$D$5:$K$29,MATCH(B2320,'Modifikuoti svoriai '!$C$5:$C$29,0),MATCH(A2320,'Modifikuoti svoriai '!$D$4:$K$4,0)),\"\")","v":""}]
[null,null,{"$f":"IFERROR(INDEX('Modifikuoti svoriai '!$D$5:$K$29,MATCH(B2321,'Modifikuoti svoriai '!$C$5:$C$29,0),MATCH(A2321,'Modifikuoti svoriai '!$D$4:$K$4,0)),\"\")","v":""}]
[null,null,{"$f":"IFERROR(INDEX('Modifikuoti svoriai '!$D$5:$K$29,MATCH(B2322,'Modifikuoti svoriai '!$C$5:$C$29,0),MATCH(A2322,'Modifikuoti svoriai '!$D$4:$K$4,0)),\"\")","v":""}]
[null,null,{"$f":"IFERROR(INDEX('Modifikuoti svoriai '!$D$5:$K$29,MATCH(B2323,'Modifikuoti svoriai '!$C$5:$C$29,0),MATCH(A2323,'Modifikuoti svoriai '!$D$4:$K$4,0)),\"\")","v":""}]
[null,null,{"$f":"IFERROR(INDEX('Modifikuoti svoriai '!$D$5:$K$29,MATCH(B2324,'Modifikuoti svoriai '!$C$5:$C$29,0),MATCH(A2324,'Modifikuoti svoriai '!$D$4:$K$4,0)),\"\")","v":""}]
[null,null,{"$f":"IFERROR(INDEX('Modifikuoti svoriai '!$D$5:$K$29,MATCH(B2325,'Modifikuoti svoriai '!$C$5:$C$29,0),MATCH(A2325,'Modifikuoti svoriai '!$D$4:$K$4,0)),\"\")","v":""}]
[null,null,{"$f":"IFERROR(INDEX('Modifikuoti svoriai '!$D$5:$K$29,MATCH(B2326,'Modifikuoti svoriai '!$C$5:$C$29,0),MATCH(A2326,'Modifikuoti svoriai '!$D$4:$K$4,0)),\"\")","v":""}]
[null,null,{"$f":"IFERROR(INDEX('Modifikuoti svoriai '!$D$5:$K$29,MATCH(B2327,'Modifikuoti svoriai '!$C$5:$C$29,0),MATCH(A2327,'Modifikuoti svoriai '!$D$4:$K$4,0)),\"\")","v":""}]
[null,null,{"$f":"IFERROR(INDEX('Modifikuoti svoriai '!$D$5:$K$29,MATCH(B2328,'Modifikuoti svoriai '!$C$5:$C$29,0),MATCH(A2328,'Modifikuoti svoriai '!$D$4:$K$4,0)),\"\")","v":""}]
[null,null,{"$f":"IFERROR(INDEX('Modifikuoti svoriai '!$D$5:$K$29,MATCH(B2329,'Modifikuoti svoriai '!$C$5:$C$29,0),MATCH(A2329,'Modifikuoti svoriai '!$D$4:$K$4,0)),\"\")","v":""}]
[null,null,{"$f":"IFERROR(INDEX('Modifikuoti svoriai '!$D$5:$K$29,MATCH(B2330,'Modifikuoti svoriai '!$C$5:$C$29,0),MATCH(A2330,'Modifikuoti svoriai '!$D$4:$K$4,0)),\"\")","v":""}]
[null,null,{"$f":"IFERROR(INDEX('Modifikuoti svoriai '!$D$5:$K$29,MATCH(B2331,'Modifikuoti svoriai '!$C$5:$C$29,0),MATCH(A2331,'Modifikuoti svoriai '!$D$4:$K$4,0)),\"\")","v":""}]
[null,null,{"$f":"IFERROR(INDEX('Modifikuoti svoriai '!$D$5:$K$29,MATCH(B2332,'Modifikuoti svoriai '!$C$5:$C$29,0),MATCH(A2332,'Modifikuoti svoriai '!$D$4:$K$4,0)),\"\")","v":""}]
[null,null,{"$f":"IFERROR(INDEX('Modifikuoti svoriai '!$D$5:$K$29,MATCH(B2333,'Modifikuoti svoriai '!$C$5:$C$29,0),MATCH(A2333,'Modifikuoti svoriai '!$D$4:$K$4,0)),\"\")","v":""}]
[null,null,{"$f":"IFERROR(INDEX('Modifikuoti svoriai '!$D$5:$K$29,MATCH(B2334,'Modifikuoti svoriai '!$C$5:$C$29,0),MATCH(A2334,'Modifikuoti svoriai '!$D$4:$K$4,0)),\"\")","v":""}]
[null,null,{"$f":"IFERROR(INDEX('Modifikuoti svoriai '!$D$5:$K$29,MATCH(B2335,'Modifikuoti svoriai '!$C$5:$C$29,0),MATCH(A2335,'Modifikuoti svoriai '!$D$4:$K$4,0)),\"\")","v":""}]
[null,null,{"$f":"IFERROR(INDEX('Modifikuoti svoriai '!$D$5:$K$29,MATCH(B2336,'Modifikuoti svoriai '!$C$5:$C$29,0),MATCH(A2336,'Modifikuoti svoriai '!$D$4:$K$4,0)),\"\")","v":""}]
[null,null,{"$f":"IFERROR(INDEX('Modifikuoti svoriai '!$D$5:$K$29,MATCH(B2337,'Modifikuoti svoriai '!$C$5:$C$29,0),MATCH(A2337,'Modifikuoti svoriai '!$D$4:$K$4,0)),\"\")","v":""}]
[null,null,{"$f":"IFERROR(INDEX('Modifikuoti svoriai '!$D$5:$K$29,MATCH(B2338,'Modifikuoti svoriai '!$C$5:$C$29,0),MATCH(A2338,'Modifikuoti svoriai '!$D$4:$K$4,0)),\"\")","v":""}]
[null,null,{"$f":"IFERROR(INDEX('Modifikuoti svoriai '!$D$5:$K$29,MATCH(B2339,'Modifikuoti svoriai '!$C$5:$C$29,0),MATCH(A2339,'Modifikuoti svoriai '!$D$4:$K$4,0)),\"\")","v":""}]
[null,null,{"$f":"IFERROR(INDEX('Modifikuoti svoriai '!$D$5:$K$29,MATCH(B2340,'Modifikuoti svoriai '!$C$5:$C$29,0),MATCH(A2340,'Modifikuoti svoriai '!$D$4:$K$4,0)),\"\")","v":""}]
[null,null,{"$f":"IFERROR(INDEX('Modifikuoti svoriai '!$D$5:$K$29,MATCH(B2341,'Modifikuoti svoriai '!$C$5:$C$29,0),MATCH(A2341,'Modifikuoti svoriai '!$D$4:$K$4,0)),\"\")","v":""}]
[null,null,{"$f":"IFERROR(INDEX('Modifikuoti svoriai '!$D$5:$K$29,MATCH(B2342,'Modifikuoti svoriai '!$C$5:$C$29,0),MATCH(A2342,'Modifikuoti svoriai '!$D$4:$K$4,0)),\"\")","v":""}]
[null,null,{"$f":"IFERROR(INDEX('Modifikuoti svoriai '!$D$5:$K$29,MATCH(B2343,'Modifikuoti svoriai '!$C$5:$C$29,0),MATCH(A2343,'Modifikuoti svoriai '!$D$4:$K$4,0)),\"\")","v":""}]
[null,null,{"$f":"IFERROR(INDEX('Modifikuoti svoriai '!$D$5:$K$29,MATCH(B2344,'Modifikuoti svoriai '!$C$5:$C$29,0),MATCH(A2344,'Modifikuoti svoriai '!$D$4:$K$4,0)),\"\")","v":""}]
[null,null,{"$f":"IFERROR(INDEX('Modifikuoti svoriai '!$D$5:$K$29,MATCH(B2345,'Modifikuoti svoriai '!$C$5:$C$29,0),MATCH(A2345,'Modifikuoti svoriai '!$D$4:$K$4,0)),\"\")","v":""}]
[null,null,{"$f":"IFERROR(INDEX('Modifikuoti svoriai '!$D$5:$K$29,MATCH(B2346,'Modifikuoti svoriai '!$C$5:$C$29,0),MATCH(A2346,'Modifikuoti svoriai '!$D$4:$K$4,0)),\"\")","v":""}]
[null,null,{"$f":"IFERROR(INDEX('Modifikuoti svoriai '!$D$5:$K$29,MATCH(B2347,'Modifikuoti svoriai '!$C$5:$C$29,0),MATCH(A2347,'Modifikuoti svoriai '!$D$4:$K$4,0)),\"\")","v":""}]
[null,null,{"$f":"IFERROR(INDEX('Modifikuoti svoriai '!$D$5:$K$29,MATCH(B2348,'Modifikuoti svoriai '!$C$5:$C$29,0),MATCH(A2348,'Modifikuoti svoriai '!$D$4:$K$4,0)),\"\")","v":""}]
[null,null,{"$f":"IFERROR(INDEX('Modifikuoti svoriai '!$D$5:$K$29,MATCH(B2349,'Modifikuoti svoriai '!$C$5:$C$29,0),MATCH(A2349,'Modifikuoti svoriai '!$D$4:$K$4,0)),\"\")","v":""}]
[null,null,{"$f":"IFERROR(INDEX('Modifikuoti svoriai '!$D$5:$K$29,MATCH(B2350,'Modifikuoti svoriai '!$C$5:$C$29,0),MATCH(A2350,'Modifikuoti svoriai '!$D$4:$K$4,0)),\"\")","v":""}]
[null,null,{"$f":"IFERROR(INDEX('Modifikuoti svoriai '!$D$5:$K$29,MATCH(B2351,'Modifikuoti svoriai '!$C$5:$C$29,0),MATCH(A2351,'Modifikuoti svoriai '!$D$4:$K$4,0)),\"\")","v":""}]
[null,null,{"$f":"IFERROR(INDEX('Modifikuoti svoriai '!$D$5:$K$29,MATCH(B2352,'Modifikuoti svoriai '!$C$5:$C$29,0),MATCH(A2352,'Modifikuoti svoriai '!$D$4:$K$4,0)),\"\")","v":""}]
[null,null,{"$f":"IFERROR(INDEX('Modifikuoti svoriai '!$D$5:$K$29,MATCH(B2353,'Modifikuoti svoriai '!$C$5:$C$29,0),MATCH(A2353,'Modifikuoti svoriai '!$D$4:$K$4,0)),\"\")","v":""}]
[null,null,{"$f":"IFERROR(INDEX('Modifikuoti svoriai '!$D$5:$K$29,MATCH(B2354,'Modifikuoti svoriai '!$C$5:$C$29,0),MATCH(A2354,'Modifikuoti svoriai '!$D$4:$K$4,0)),\"\")","v":""}]
[null,null,{"$f":"IFERROR(INDEX('Modifikuoti svoriai '!$D$5:$K$29,MATCH(B2355,'Modifikuoti svoriai '!$C$5:$C$29,0),MATCH(A2355,'Modifikuoti svoriai '!$D$4:$K$4,0)),\"\")","v":""}]
[null,null,{"$f":"IFERROR(INDEX('Modifikuoti svoriai '!$D$5:$K$29,MATCH(B2356,'Modifikuoti svoriai '!$C$5:$C$29,0),MATCH(A2356,'Modifikuoti svoriai '!$D$4:$K$4,0)),\"\")","v":""}]
[null,null,{"$f":"IFERROR(INDEX('Modifikuoti svoriai '!$D$5:$K$29,MATCH(B2357,'Modifikuoti svoriai '!$C$5:$C$29,0),MATCH(A2357,'Modifikuoti svoriai '!$D$4:$K$4,0)),\"\")","v":""}]
[null,null,{"$f":"IFERROR(INDEX('Modifikuoti svoriai '!$D$5:$K$29,MATCH(B2358,'Modifikuoti svoriai '!$C$5:$C$29,0),MATCH(A2358,'Modifikuoti svoriai '!$D$4:$K$4,0)),\"\")","v":""}]
[null,null,{"$f":"IFERROR(INDEX('Modifikuoti svoriai '!$D$5:$K$29,MATCH(B2359,'Modifikuoti svoriai '!$C$5:$C$29,0),MATCH(A2359,'Modifikuoti svoriai '!$D$4:$K$4,0)),\"\")","v":""}]
[null,null,{"$f":"IFERROR(INDEX('Modifikuoti svoriai '!$D$5:$K$29,MATCH(B2360,'Modifikuoti svoriai '!$C$5:$C$29,0),MATCH(A2360,'Modifikuoti svoriai '!$D$4:$K$4,0)),\"\")","v":""}]
[null,null,{"$f":"IFERROR(INDEX('Modifikuoti svoriai '!$D$5:$K$29,MATCH(B2361,'Modifikuoti svoriai '!$C$5:$C$29,0),MATCH(A2361,'Modifikuoti svoriai '!$D$4:$K$4,0)),\"\")","v":""}]
[null,null,{"$f":"IFERROR(INDEX('Modifikuoti svoriai '!$D$5:$K$29,MATCH(B2362,'Modifikuoti svoriai '!$C$5:$C$29,0),MATCH(A2362,'Modifikuoti svoriai '!$D$4:$K$4,0)),\"\")","v":""}]
[null,null,{"$f":"IFERROR(INDEX('Modifikuoti svoriai '!$D$5:$K$29,MATCH(B2363,'Modifikuoti svoriai '!$C$5:$C$29,0),MATCH(A2363,'Modifikuoti svoriai '!$D$4:$K$4,0)),\"\")","v":""}]
[null,null,{"$f":"IFERROR(INDEX('Modifikuoti svoriai '!$D$5:$K$29,MATCH(B2364,'Modifikuoti svoriai '!$C$5:$C$29,0),MATCH(A2364,'Modifikuoti svoriai '!$D$4:$K$4,0)),\"\")","v":""}]
[null,null,{"$f":"IFERROR(INDEX('Modifikuoti svoriai '!$D$5:$K$29,MATCH(B2365,'Modifikuoti svoriai '!$C$5:$C$29,0),MATCH(A2365,'Modifikuoti svoriai '!$D$4:$K$4,0)),\"\")","v":""}]
[null,null,{"$f":"IFERROR(INDEX('Modifikuoti svoriai '!$D$5:$K$29,MATCH(B2366,'Modifikuoti svoriai '!$C$5:$C$29,0),MATCH(A2366,'Modifikuoti svoriai '!$D$4:$K$4,0)),\"\")","v":""}]
[null,null,{"$f":"IFERROR(INDEX('Modifikuoti svoriai '!$D$5:$K$29,MATCH(B2367,'Modifikuoti svoriai '!$C$5:$C$29,0),MATCH(A2367,'Modifikuoti svoriai '!$D$4:$K$4,0)),\"\")","v":""}]
[null,null,{"$f":"IFERROR(INDEX('Modifikuoti svoriai '!$D$5:$K$29,MATCH(B2368,'Modifikuoti svoriai '!$C$5:$C$29,0),MATCH(A2368,'Modifikuoti svoriai '!$D$4:$K$4,0)),\"\")","v":""}]
[null,null,{"$f":"IFERROR(INDEX('Modifikuoti svoriai '!$D$5:$K$29,MATCH(B2369,'Modifikuoti svoriai '!$C$5:$C$29,0),MATCH(A2369,'Modifikuoti svoriai '!$D$4:$K$4,0)),\"\")","v":""}]
[null,null,{"$f":"IFERROR(INDEX('Modifikuoti svoriai '!$D$5:$K$29,MATCH(B2370,'Modifikuoti svoriai '!$C$5:$C$29,0),MATCH(A2370,'Modifikuoti svoriai '!$D$4:$K$4,0)),\"\")","v":""}]
[null,null,{"$f":"IFERROR(INDEX('Modifikuoti svoriai '!$D$5:$K$29,MATCH(B2371,'Modifikuoti svoriai '!$C$5:$C$29,0),MATCH(A2371,'Modifikuoti svoriai '!$D$4:$K$4,0)),\"\")","v":""}]
[null,null,{"$f":"IFERROR(INDEX('Modifikuoti svoriai '!$D$5:$K$29,MATCH(B2372,'Modifikuoti svoriai '!$C$5:$C$29,0),MATCH(A2372,'Modifikuoti svoriai '!$D$4:$K$4,0)),\"\")","v":""}]
[null,null,{"$f":"IFERROR(INDEX('Modifikuoti svoriai '!$D$5:$K$29,MATCH(B2373,'Modifikuoti svoriai '!$C$5:$C$29,0),MATCH(A2373,'Modifikuoti svoriai '!$D$4:$K$4,0)),\"\")","v":""}]
[null,null,{"$f":"IFERROR(INDEX('Modifikuoti svoriai '!$D$5:$K$29,MATCH(B2374,'Modifikuoti svoriai '!$C$5:$C$29,0),MATCH(A2374,'Modifikuoti svoriai '!$D$4:$K$4,0)),\"\")","v":""}]
[null,null,{"$f":"IFERROR(INDEX('Modifikuoti svoriai '!$D$5:$K$29,MATCH(B2375,'Modifikuoti svoriai '!$C$5:$C$29,0),MATCH(A2375,'Modifikuoti svoriai '!$D$4:$K$4,0)),\"\")","v":""}]
[null,null,{"$f":"IFERROR(INDEX('Modifikuoti svoriai '!$D$5:$K$29,MATCH(B2376,'Modifikuoti svoriai '!$C$5:$C$29,0),MATCH(A2376,'Modifikuoti svoriai '!$D$4:$K$4,0)),\"\")","v":""}]
[null,null,{"$f":"IFERROR(INDEX('Modifikuoti svoriai '!$D$5:$K$29,MATCH(B2377,'Modifikuoti svoriai '!$C$5:$C$29,0),MATCH(A2377,'Modifikuoti svoriai '!$D$4:$K$4,0)),\"\")","v":""}]
[null,null,{"$f":"IFERROR(INDEX('Modifikuoti svoriai '!$D$5:$K$29,MATCH(B2378,'Modifikuoti svoriai '!$C$5:$C$29,0),MATCH(A2378,'Modifikuoti svoriai '!$D$4:$K$4,0)),\"\")","v":""}]
[null,null,{"$f":"IFERROR(INDEX('Modifikuoti svoriai '!$D$5:$K$29,MATCH(B2379,'Modifikuoti svoriai '!$C$5:$C$29,0),MATCH(A2379,'Modifikuoti svoriai '!$D$4:$K$4,0)),\"\")","v":""}]
[null,null,{"$f":"IFERROR(INDEX('Modifikuoti svoriai '!$D$5:$K$29,MATCH(B2380,'Modifikuoti svoriai '!$C$5:$C$29,0),MATCH(A2380,'Modifikuoti svoriai '!$D$4:$K$4,0)),\"\")","v":""}]
[null,null,{"$f":"IFERROR(INDEX('Modifikuoti svoriai '!$D$5:$K$29,MATCH(B2381,'Modifikuoti svoriai '!$C$5:$C$29,0),MATCH(A2381,'Modifikuoti svoriai '!$D$4:$K$4,0)),\"\")","v":""}]
[null,null,{"$f":"IFERROR(INDEX('Modifikuoti svoriai '!$D$5:$K$29,MATCH(B2382,'Modifikuoti svoriai '!$C$5:$C$29,0),MATCH(A2382,'Modifikuoti svoriai '!$D$4:$K$4,0)),\"\")","v":""}]
[null,null,{"$f":"IFERROR(INDEX('Modifikuoti svoriai '!$D$5:$K$29,MATCH(B2383,'Modifikuoti svoriai '!$C$5:$C$29,0),MATCH(A2383,'Modifikuoti svoriai '!$D$4:$K$4,0)),\"\")","v":""}]
[null,null,{"$f":"IFERROR(INDEX('Modifikuoti svoriai '!$D$5:$K$29,MATCH(B2384,'Modifikuoti svoriai '!$C$5:$C$29,0),MATCH(A2384,'Modifikuoti svoriai '!$D$4:$K$4,0)),\"\")","v":""}]
[null,null,{"$f":"IFERROR(INDEX('Modifikuoti svoriai '!$D$5:$K$29,MATCH(B2385,'Modifikuoti svoriai '!$C$5:$C$29,0),MATCH(A2385,'Modifikuoti svoriai '!$D$4:$K$4,0)),\"\")","v":""}]
[null,null,{"$f":"IFERROR(INDEX('Modifikuoti svoriai '!$D$5:$K$29,MATCH(B2386,'Modifikuoti svoriai '!$C$5:$C$29,0),MATCH(A2386,'Modifikuoti svoriai '!$D$4:$K$4,0)),\"\")","v":""}]
[null,null,{"$f":"IFERROR(INDEX('Modifikuoti svoriai '!$D$5:$K$29,MATCH(B2387,'Modifikuoti svoriai '!$C$5:$C$29,0),MATCH(A2387,'Modifikuoti svoriai '!$D$4:$K$4,0)),\"\")","v":""}]
[null,null,{"$f":"IFERROR(INDEX('Modifikuoti svoriai '!$D$5:$K$29,MATCH(B2388,'Modifikuoti svoriai '!$C$5:$C$29,0),MATCH(A2388,'Modifikuoti svoriai '!$D$4:$K$4,0)),\"\")","v":""}]
[null,null,{"$f":"IFERROR(INDEX('Modifikuoti svoriai '!$D$5:$K$29,MATCH(B2389,'Modifikuoti svoriai '!$C$5:$C$29,0),MATCH(A2389,'Modifikuoti svoriai '!$D$4:$K$4,0)),\"\")","v":""}]
[null,null,{"$f":"IFERROR(INDEX('Modifikuoti svoriai '!$D$5:$K$29,MATCH(B2390,'Modifikuoti svoriai '!$C$5:$C$29,0),MATCH(A2390,'Modifikuoti svoriai '!$D$4:$K$4,0)),\"\")","v":""}]
[null,null,{"$f":"IFERROR(INDEX('Modifikuoti svoriai '!$D$5:$K$29,MATCH(B2391,'Modifikuoti svoriai '!$C$5:$C$29,0),MATCH(A2391,'Modifikuoti svoriai '!$D$4:$K$4,0)),\"\")","v":""}]
[null,null,{"$f":"IFERROR(INDEX('Modifikuoti svoriai '!$D$5:$K$29,MATCH(B2392,'Modifikuoti svoriai '!$C$5:$C$29,0),MATCH(A2392,'Modifikuoti svoriai '!$D$4:$K$4,0)),\"\")","v":""}]
[null,null,{"$f":"IFERROR(INDEX('Modifikuoti svoriai '!$D$5:$K$29,MATCH(B2393,'Modifikuoti svoriai '!$C$5:$C$29,0),MATCH(A2393,'Modifikuoti svoriai '!$D$4:$K$4,0)),\"\")","v":""}]
[null,null,{"$f":"IFERROR(INDEX('Modifikuoti svoriai '!$D$5:$K$29,MATCH(B2394,'Modifikuoti svoriai '!$C$5:$C$29,0),MATCH(A2394,'Modifikuoti svoriai '!$D$4:$K$4,0)),\"\")","v":""}]
[null,null,{"$f":"IFERROR(INDEX('Modifikuoti svoriai '!$D$5:$K$29,MATCH(B2395,'Modifikuoti svoriai '!$C$5:$C$29,0),MATCH(A2395,'Modifikuoti svoriai '!$D$4:$K$4,0)),\"\")","v":""}]
[null,null,{"$f":"IFERROR(INDEX('Modifikuoti svoriai '!$D$5:$K$29,MATCH(B2396,'Modifikuoti svoriai '!$C$5:$C$29,0),MATCH(A2396,'Modifikuoti svoriai '!$D$4:$K$4,0)),\"\")","v":""}]
[null,null,{"$f":"IFERROR(INDEX('Modifikuoti svoriai '!$D$5:$K$29,MATCH(B2397,'Modifikuoti svoriai '!$C$5:$C$29,0),MATCH(A2397,'Modifikuoti svoriai '!$D$4:$K$4,0)),\"\")","v":""}]
[null,null,{"$f":"IFERROR(INDEX('Modifikuoti svoriai '!$D$5:$K$29,MATCH(B2398,'Modifikuoti svoriai '!$C$5:$C$29,0),MATCH(A2398,'Modifikuoti svoriai '!$D$4:$K$4,0)),\"\")","v":""}]
[null,null,{"$f":"IFERROR(INDEX('Modifikuoti svoriai '!$D$5:$K$29,MATCH(B2399,'Modifikuoti svoriai '!$C$5:$C$29,0),MATCH(A2399,'Modifikuoti svoriai '!$D$4:$K$4,0)),\"\")","v":""}]
[null,null,{"$f":"IFERROR(INDEX('Modifikuoti svoriai '!$D$5:$K$29,MATCH(B2400,'Modifikuoti svoriai '!$C$5:$C$29,0),MATCH(A2400,'Modifikuoti svoriai '!$D$4:$K$4,0)),\"\")","v":""}]
[null,null,{"$f":"IFERROR(INDEX('Modifikuoti svoriai '!$D$5:$K$29,MATCH(B2401,'Modifikuoti svoriai '!$C$5:$C$29,0),MATCH(A2401,'Modifikuoti svoriai '!$D$4:$K$4,0)),\"\")","v":""}]
[null,null,{"$f":"IFERROR(INDEX('Modifikuoti svoriai '!$D$5:$K$29,MATCH(B2402,'Modifikuoti svoriai '!$C$5:$C$29,0),MATCH(A2402,'Modifikuoti svoriai '!$D$4:$K$4,0)),\"\")","v":""}]
[null,null,{"$f":"IFERROR(INDEX('Modifikuoti svoriai '!$D$5:$K$29,MATCH(B2403,'Modifikuoti svoriai '!$C$5:$C$29,0),MATCH(A2403,'Modifikuoti svoriai '!$D$4:$K$4,0)),\"\")","v":""}]
[null,null,{"$f":"IFERROR(INDEX('Modifikuoti svoriai '!$D$5:$K$29,MATCH(B2404,'Modifikuoti svoriai '!$C$5:$C$29,0),MATCH(A2404,'Modifikuoti svoriai '!$D$4:$K$4,0)),\"\")","v":""}]
[null,null,{"$f":"IFERROR(INDEX('Modifikuoti svoriai '!$D$5:$K$29,MATCH(B2405,'Modifikuoti svoriai '!$C$5:$C$29,0),MATCH(A2405,'Modifikuoti svoriai '!$D$4:$K$4,0)),\"\")","v":""}]
[null,null,{"$f":"IFERROR(INDEX('Modifikuoti svoriai '!$D$5:$K$29,MATCH(B2406,'Modifikuoti svoriai '!$C$5:$C$29,0),MATCH(A2406,'Modifikuoti svoriai '!$D$4:$K$4,0)),\"\")","v":""}]
[null,null,{"$f":"IFERROR(INDEX('Modifikuoti svoriai '!$D$5:$K$29,MATCH(B2407,'Modifikuoti svoriai '!$C$5:$C$29,0),MATCH(A2407,'Modifikuoti svoriai '!$D$4:$K$4,0)),\"\")","v":""}]
[null,null,{"$f":"IFERROR(INDEX('Modifikuoti svoriai '!$D$5:$K$29,MATCH(B2408,'Modifikuoti svoriai '!$C$5:$C$29,0),MATCH(A2408,'Modifikuoti svoriai '!$D$4:$K$4,0)),\"\")","v":""}]
[null,null,{"$f":"IFERROR(INDEX('Modifikuoti svoriai '!$D$5:$K$29,MATCH(B2409,'Modifikuoti svoriai '!$C$5:$C$29,0),MATCH(A2409,'Modifikuoti svoriai '!$D$4:$K$4,0)),\"\")","v":""}]
[null,null,{"$f":"IFERROR(INDEX('Modifikuoti svoriai '!$D$5:$K$29,MATCH(B2410,'Modifikuoti svoriai '!$C$5:$C$29,0),MATCH(A2410,'Modifikuoti svoriai '!$D$4:$K$4,0)),\"\")","v":""}]
[null,null,{"$f":"IFERROR(INDEX('Modifikuoti svoriai '!$D$5:$K$29,MATCH(B2411,'Modifikuoti svoriai '!$C$5:$C$29,0),MATCH(A2411,'Modifikuoti svoriai '!$D$4:$K$4,0)),\"\")","v":""}]
[null,null,{"$f":"IFERROR(INDEX('Modifikuoti svoriai '!$D$5:$K$29,MATCH(B2412,'Modifikuoti svoriai '!$C$5:$C$29,0),MATCH(A2412,'Modifikuoti svoriai '!$D$4:$K$4,0)),\"\")","v":""}]
[null,null,{"$f":"IFERROR(INDEX('Modifikuoti svoriai '!$D$5:$K$29,MATCH(B2413,'Modifikuoti svoriai '!$C$5:$C$29,0),MATCH(A2413,'Modifikuoti svoriai '!$D$4:$K$4,0)),\"\")","v":""}]
[null,null,{"$f":"IFERROR(INDEX('Modifikuoti svoriai '!$D$5:$K$29,MATCH(B2414,'Modifikuoti svoriai '!$C$5:$C$29,0),MATCH(A2414,'Modifikuoti svoriai '!$D$4:$K$4,0)),\"\")","v":""}]
[null,null,{"$f":"IFERROR(INDEX('Modifikuoti svoriai '!$D$5:$K$29,MATCH(B2415,'Modifikuoti svoriai '!$C$5:$C$29,0),MATCH(A2415,'Modifikuoti svoriai '!$D$4:$K$4,0)),\"\")","v":""}]
[null,null,{"$f":"IFERROR(INDEX('Modifikuoti svoriai '!$D$5:$K$29,MATCH(B2416,'Modifikuoti svoriai '!$C$5:$C$29,0),MATCH(A2416,'Modifikuoti svoriai '!$D$4:$K$4,0)),\"\")","v":""}]
[null,null,{"$f":"IFERROR(INDEX('Modifikuoti svoriai '!$D$5:$K$29,MATCH(B2417,'Modifikuoti svoriai '!$C$5:$C$29,0),MATCH(A2417,'Modifikuoti svoriai '!$D$4:$K$4,0)),\"\")","v":""}]
[null,null,{"$f":"IFERROR(INDEX('Modifikuoti svoriai '!$D$5:$K$29,MATCH(B2418,'Modifikuoti svoriai '!$C$5:$C$29,0),MATCH(A2418,'Modifikuoti svoriai '!$D$4:$K$4,0)),\"\")","v":""}]
[null,null,{"$f":"IFERROR(INDEX('Modifikuoti svoriai '!$D$5:$K$29,MATCH(B2419,'Modifikuoti svoriai '!$C$5:$C$29,0),MATCH(A2419,'Modifikuoti svoriai '!$D$4:$K$4,0)),\"\")","v":""}]
[null,null,{"$f":"IFERROR(INDEX('Modifikuoti svoriai '!$D$5:$K$29,MATCH(B2420,'Modifikuoti svoriai '!$C$5:$C$29,0),MATCH(A2420,'Modifikuoti svoriai '!$D$4:$K$4,0)),\"\")","v":""}]
[null,null,{"$f":"IFERROR(INDEX('Modifikuoti svoriai '!$D$5:$K$29,MATCH(B2421,'Modifikuoti svoriai '!$C$5:$C$29,0),MATCH(A2421,'Modifikuoti svoriai '!$D$4:$K$4,0)),\"\")","v":""}]
[null,null,{"$f":"IFERROR(INDEX('Modifikuoti svoriai '!$D$5:$K$29,MATCH(B2422,'Modifikuoti svoriai '!$C$5:$C$29,0),MATCH(A2422,'Modifikuoti svoriai '!$D$4:$K$4,0)),\"\")","v":""}]
[null,null,{"$f":"IFERROR(INDEX('Modifikuoti svoriai '!$D$5:$K$29,MATCH(B2423,'Modifikuoti svoriai '!$C$5:$C$29,0),MATCH(A2423,'Modifikuoti svoriai '!$D$4:$K$4,0)),\"\")","v":""}]
[null,null,{"$f":"IFERROR(INDEX('Modifikuoti svoriai '!$D$5:$K$29,MATCH(B2424,'Modifikuoti svoriai '!$C$5:$C$29,0),MATCH(A2424,'Modifikuoti svoriai '!$D$4:$K$4,0)),\"\")","v":""}]
[null,null,{"$f":"IFERROR(INDEX('Modifikuoti svoriai '!$D$5:$K$29,MATCH(B2425,'Modifikuoti svoriai '!$C$5:$C$29,0),MATCH(A2425,'Modifikuoti svoriai '!$D$4:$K$4,0)),\"\")","v":""}]
[null,null,{"$f":"IFERROR(INDEX('Modifikuoti svoriai '!$D$5:$K$29,MATCH(B2426,'Modifikuoti svoriai '!$C$5:$C$29,0),MATCH(A2426,'Modifikuoti svoriai '!$D$4:$K$4,0)),\"\")","v":""}]
[null,null,{"$f":"IFERROR(INDEX('Modifikuoti svoriai '!$D$5:$K$29,MATCH(B2427,'Modifikuoti svoriai '!$C$5:$C$29,0),MATCH(A2427,'Modifikuoti svoriai '!$D$4:$K$4,0)),\"\")","v":""}]
[null,null,{"$f":"IFERROR(INDEX('Modifikuoti svoriai '!$D$5:$K$29,MATCH(B2428,'Modifikuoti svoriai '!$C$5:$C$29,0),MATCH(A2428,'Modifikuoti svoriai '!$D$4:$K$4,0)),\"\")","v":""}]
[null,null,{"$f":"IFERROR(INDEX('Modifikuoti svoriai '!$D$5:$K$29,MATCH(B2429,'Modifikuoti svoriai '!$C$5:$C$29,0),MATCH(A2429,'Modifikuoti svoriai '!$D$4:$K$4,0)),\"\")","v":""}]
[null,null,{"$f":"IFERROR(INDEX('Modifikuoti svoriai '!$D$5:$K$29,MATCH(B2430,'Modifikuoti svoriai '!$C$5:$C$29,0),MATCH(A2430,'Modifikuoti svoriai '!$D$4:$K$4,0)),\"\")","v":""}]
[null,null,{"$f":"IFERROR(INDEX('Modifikuoti svoriai '!$D$5:$K$29,MATCH(B2431,'Modifikuoti svoriai '!$C$5:$C$29,0),MATCH(A2431,'Modifikuoti svoriai '!$D$4:$K$4,0)),\"\")","v":""}]
[null,null,{"$f":"IFERROR(INDEX('Modifikuoti svoriai '!$D$5:$K$29,MATCH(B2432,'Modifikuoti svoriai '!$C$5:$C$29,0),MATCH(A2432,'Modifikuoti svoriai '!$D$4:$K$4,0)),\"\")","v":""}]
[null,null,{"$f":"IFERROR(INDEX('Modifikuoti svoriai '!$D$5:$K$29,MATCH(B2433,'Modifikuoti svoriai '!$C$5:$C$29,0),MATCH(A2433,'Modifikuoti svoriai '!$D$4:$K$4,0)),\"\")","v":""}]
[null,null,{"$f":"IFERROR(INDEX('Modifikuoti svoriai '!$D$5:$K$29,MATCH(B2434,'Modifikuoti svoriai '!$C$5:$C$29,0),MATCH(A2434,'Modifikuoti svoriai '!$D$4:$K$4,0)),\"\")","v":""}]
[null,null,{"$f":"IFERROR(INDEX('Modifikuoti svoriai '!$D$5:$K$29,MATCH(B2435,'Modifikuoti svoriai '!$C$5:$C$29,0),MATCH(A2435,'Modifikuoti svoriai '!$D$4:$K$4,0)),\"\")","v":""}]
[null,null,{"$f":"IFERROR(INDEX('Modifikuoti svoriai '!$D$5:$K$29,MATCH(B2436,'Modifikuoti svoriai '!$C$5:$C$29,0),MATCH(A2436,'Modifikuoti svoriai '!$D$4:$K$4,0)),\"\")","v":""}]
[null,null,{"$f":"IFERROR(INDEX('Modifikuoti svoriai '!$D$5:$K$29,MATCH(B2437,'Modifikuoti svoriai '!$C$5:$C$29,0),MATCH(A2437,'Modifikuoti svoriai '!$D$4:$K$4,0)),\"\")","v":""}]
[null,null,{"$f":"IFERROR(INDEX('Modifikuoti svoriai '!$D$5:$K$29,MATCH(B2438,'Modifikuoti svoriai '!$C$5:$C$29,0),MATCH(A2438,'Modifikuoti svoriai '!$D$4:$K$4,0)),\"\")","v":""}]
[null,null,{"$f":"IFERROR(INDEX('Modifikuoti svoriai '!$D$5:$K$29,MATCH(B2439,'Modifikuoti svoriai '!$C$5:$C$29,0),MATCH(A2439,'Modifikuoti svoriai '!$D$4:$K$4,0)),\"\")","v":""}]
[null,null,{"$f":"IFERROR(INDEX('Modifikuoti svoriai '!$D$5:$K$29,MATCH(B2440,'Modifikuoti svoriai '!$C$5:$C$29,0),MATCH(A2440,'Modifikuoti svoriai '!$D$4:$K$4,0)),\"\")","v":""}]
[null,null,{"$f":"IFERROR(INDEX('Modifikuoti svoriai '!$D$5:$K$29,MATCH(B2441,'Modifikuoti svoriai '!$C$5:$C$29,0),MATCH(A2441,'Modifikuoti svoriai '!$D$4:$K$4,0)),\"\")","v":""}]
[null,null,{"$f":"IFERROR(INDEX('Modifikuoti svoriai '!$D$5:$K$29,MATCH(B2442,'Modifikuoti svoriai '!$C$5:$C$29,0),MATCH(A2442,'Modifikuoti svoriai '!$D$4:$K$4,0)),\"\")","v":""}]
[null,null,{"$f":"IFERROR(INDEX('Modifikuoti svoriai '!$D$5:$K$29,MATCH(B2443,'Modifikuoti svoriai '!$C$5:$C$29,0),MATCH(A2443,'Modifikuoti svoriai '!$D$4:$K$4,0)),\"\")","v":""}]
[null,null,{"$f":"IFERROR(INDEX('Modifikuoti svoriai '!$D$5:$K$29,MATCH(B2444,'Modifikuoti svoriai '!$C$5:$C$29,0),MATCH(A2444,'Modifikuoti svoriai '!$D$4:$K$4,0)),\"\")","v":""}]
[null,null,{"$f":"IFERROR(INDEX('Modifikuoti svoriai '!$D$5:$K$29,MATCH(B2445,'Modifikuoti svoriai '!$C$5:$C$29,0),MATCH(A2445,'Modifikuoti svoriai '!$D$4:$K$4,0)),\"\")","v":""}]
[null,null,{"$f":"IFERROR(INDEX('Modifikuoti svoriai '!$D$5:$K$29,MATCH(B2446,'Modifikuoti svoriai '!$C$5:$C$29,0),MATCH(A2446,'Modifikuoti svoriai '!$D$4:$K$4,0)),\"\")","v":""}]
[null,null,{"$f":"IFERROR(INDEX('Modifikuoti svoriai '!$D$5:$K$29,MATCH(B2447,'Modifikuoti svoriai '!$C$5:$C$29,0),MATCH(A2447,'Modifikuoti svoriai '!$D$4:$K$4,0)),\"\")","v":""}]
[null,null,{"$f":"IFERROR(INDEX('Modifikuoti svoriai '!$D$5:$K$29,MATCH(B2448,'Modifikuoti svoriai '!$C$5:$C$29,0),MATCH(A2448,'Modifikuoti svoriai '!$D$4:$K$4,0)),\"\")","v":""}]
[null,null,{"$f":"IFERROR(INDEX('Modifikuoti svoriai '!$D$5:$K$29,MATCH(B2449,'Modifikuoti svoriai '!$C$5:$C$29,0),MATCH(A2449,'Modifikuoti svoriai '!$D$4:$K$4,0)),\"\")","v":""}]
[null,null,{"$f":"IFERROR(INDEX('Modifikuoti svoriai '!$D$5:$K$29,MATCH(B2450,'Modifikuoti svoriai '!$C$5:$C$29,0),MATCH(A2450,'Modifikuoti svoriai '!$D$4:$K$4,0)),\"\")","v":""}]
[null,null,{"$f":"IFERROR(INDEX('Modifikuoti svoriai '!$D$5:$K$29,MATCH(B2451,'Modifikuoti svoriai '!$C$5:$C$29,0),MATCH(A2451,'Modifikuoti svoriai '!$D$4:$K$4,0)),\"\")","v":""}]
[null,null,{"$f":"IFERROR(INDEX('Modifikuoti svoriai '!$D$5:$K$29,MATCH(B2452,'Modifikuoti svoriai '!$C$5:$C$29,0),MATCH(A2452,'Modifikuoti svoriai '!$D$4:$K$4,0)),\"\")","v":""}]
[null,null,{"$f":"IFERROR(INDEX('Modifikuoti svoriai '!$D$5:$K$29,MATCH(B2453,'Modifikuoti svoriai '!$C$5:$C$29,0),MATCH(A2453,'Modifikuoti svoriai '!$D$4:$K$4,0)),\"\")","v":""}]
[null,null,{"$f":"IFERROR(INDEX('Modifikuoti svoriai '!$D$5:$K$29,MATCH(B2454,'Modifikuoti svoriai '!$C$5:$C$29,0),MATCH(A2454,'Modifikuoti svoriai '!$D$4:$K$4,0)),\"\")","v":""}]
[null,null,{"$f":"IFERROR(INDEX('Modifikuoti svoriai '!$D$5:$K$29,MATCH(B2455,'Modifikuoti svoriai '!$C$5:$C$29,0),MATCH(A2455,'Modifikuoti svoriai '!$D$4:$K$4,0)),\"\")","v":""}]
[null,null,{"$f":"IFERROR(INDEX('Modifikuoti svoriai '!$D$5:$K$29,MATCH(B2456,'Modifikuoti svoriai '!$C$5:$C$29,0),MATCH(A2456,'Modifikuoti svoriai '!$D$4:$K$4,0)),\"\")","v":""}]
[null,null,{"$f":"IFERROR(INDEX('Modifikuoti svoriai '!$D$5:$K$29,MATCH(B2457,'Modifikuoti svoriai '!$C$5:$C$29,0),MATCH(A2457,'Modifikuoti svoriai '!$D$4:$K$4,0)),\"\")","v":""}]
[null,null,{"$f":"IFERROR(INDEX('Modifikuoti svoriai '!$D$5:$K$29,MATCH(B2458,'Modifikuoti svoriai '!$C$5:$C$29,0),MATCH(A2458,'Modifikuoti svoriai '!$D$4:$K$4,0)),\"\")","v":""}]
[null,null,{"$f":"IFERROR(INDEX('Modifikuoti svoriai '!$D$5:$K$29,MATCH(B2459,'Modifikuoti svoriai '!$C$5:$C$29,0),MATCH(A2459,'Modifikuoti svoriai '!$D$4:$K$4,0)),\"\")","v":""}]
[null,null,{"$f":"IFERROR(INDEX('Modifikuoti svoriai '!$D$5:$K$29,MATCH(B2460,'Modifikuoti svoriai '!$C$5:$C$29,0),MATCH(A2460,'Modifikuoti svoriai '!$D$4:$K$4,0)),\"\")","v":""}]
[null,null,{"$f":"IFERROR(INDEX('Modifikuoti svoriai '!$D$5:$K$29,MATCH(B2461,'Modifikuoti svoriai '!$C$5:$C$29,0),MATCH(A2461,'Modifikuoti svoriai '!$D$4:$K$4,0)),\"\")","v":""}]
[null,null,{"$f":"IFERROR(INDEX('Modifikuoti svoriai '!$D$5:$K$29,MATCH(B2462,'Modifikuoti svoriai '!$C$5:$C$29,0),MATCH(A2462,'Modifikuoti svoriai '!$D$4:$K$4,0)),\"\")","v":""}]
[null,null,{"$f":"IFERROR(INDEX('Modifikuoti svoriai '!$D$5:$K$29,MATCH(B2463,'Modifikuoti svoriai '!$C$5:$C$29,0),MATCH(A2463,'Modifikuoti svoriai '!$D$4:$K$4,0)),\"\")","v":""}]
[null,null,{"$f":"IFERROR(INDEX('Modifikuoti svoriai '!$D$5:$K$29,MATCH(B2464,'Modifikuoti svoriai '!$C$5:$C$29,0),MATCH(A2464,'Modifikuoti svoriai '!$D$4:$K$4,0)),\"\")","v":""}]
[null,null,{"$f":"IFERROR(INDEX('Modifikuoti svoriai '!$D$5:$K$29,MATCH(B2465,'Modifikuoti svoriai '!$C$5:$C$29,0),MATCH(A2465,'Modifikuoti svoriai '!$D$4:$K$4,0)),\"\")","v":""}]
[null,null,{"$f":"IFERROR(INDEX('Modifikuoti svoriai '!$D$5:$K$29,MATCH(B2466,'Modifikuoti svoriai '!$C$5:$C$29,0),MATCH(A2466,'Modifikuoti svoriai '!$D$4:$K$4,0)),\"\")","v":""}]
[null,null,{"$f":"IFERROR(INDEX('Modifikuoti svoriai '!$D$5:$K$29,MATCH(B2467,'Modifikuoti svoriai '!$C$5:$C$29,0),MATCH(A2467,'Modifikuoti svoriai '!$D$4:$K$4,0)),\"\")","v":""}]
[null,null,{"$f":"IFERROR(INDEX('Modifikuoti svoriai '!$D$5:$K$29,MATCH(B2468,'Modifikuoti svoriai '!$C$5:$C$29,0),MATCH(A2468,'Modifikuoti svoriai '!$D$4:$K$4,0)),\"\")","v":""}]
[null,null,{"$f":"IFERROR(INDEX('Modifikuoti svoriai '!$D$5:$K$29,MATCH(B2469,'Modifikuoti svoriai '!$C$5:$C$29,0),MATCH(A2469,'Modifikuoti svoriai '!$D$4:$K$4,0)),\"\")","v":""}]
[null,null,{"$f":"IFERROR(INDEX('Modifikuoti svoriai '!$D$5:$K$29,MATCH(B2470,'Modifikuoti svoriai '!$C$5:$C$29,0),MATCH(A2470,'Modifikuoti svoriai '!$D$4:$K$4,0)),\"\")","v":""}]
[null,null,{"$f":"IFERROR(INDEX('Modifikuoti svoriai '!$D$5:$K$29,MATCH(B2471,'Modifikuoti svoriai '!$C$5:$C$29,0),MATCH(A2471,'Modifikuoti svoriai '!$D$4:$K$4,0)),\"\")","v":""}]
[null,null,{"$f":"IFERROR(INDEX('Modifikuoti svoriai '!$D$5:$K$29,MATCH(B2472,'Modifikuoti svoriai '!$C$5:$C$29,0),MATCH(A2472,'Modifikuoti svoriai '!$D$4:$K$4,0)),\"\")","v":""}]
[null,null,{"$f":"IFERROR(INDEX('Modifikuoti svoriai '!$D$5:$K$29,MATCH(B2473,'Modifikuoti svoriai '!$C$5:$C$29,0),MATCH(A2473,'Modifikuoti svoriai '!$D$4:$K$4,0)),\"\")","v":""}]
[null,null,{"$f":"IFERROR(INDEX('Modifikuoti svoriai '!$D$5:$K$29,MATCH(B2474,'Modifikuoti svoriai '!$C$5:$C$29,0),MATCH(A2474,'Modifikuoti svoriai '!$D$4:$K$4,0)),\"\")","v":""}]
[null,null,{"$f":"IFERROR(INDEX('Modifikuoti svoriai '!$D$5:$K$29,MATCH(B2475,'Modifikuoti svoriai '!$C$5:$C$29,0),MATCH(A2475,'Modifikuoti svoriai '!$D$4:$K$4,0)),\"\")","v":""}]
[null,null,{"$f":"IFERROR(INDEX('Modifikuoti svoriai '!$D$5:$K$29,MATCH(B2476,'Modifikuoti svoriai '!$C$5:$C$29,0),MATCH(A2476,'Modifikuoti svoriai '!$D$4:$K$4,0)),\"\")","v":""}]
[null,null,{"$f":"IFERROR(INDEX('Modifikuoti svoriai '!$D$5:$K$29,MATCH(B2477,'Modifikuoti svoriai '!$C$5:$C$29,0),MATCH(A2477,'Modifikuoti svoriai '!$D$4:$K$4,0)),\"\")","v":""}]
[null,null,{"$f":"IFERROR(INDEX('Modifikuoti svoriai '!$D$5:$K$29,MATCH(B2478,'Modifikuoti svoriai '!$C$5:$C$29,0),MATCH(A2478,'Modifikuoti svoriai '!$D$4:$K$4,0)),\"\")","v":""}]
[null,null,{"$f":"IFERROR(INDEX('Modifikuoti svoriai '!$D$5:$K$29,MATCH(B2479,'Modifikuoti svoriai '!$C$5:$C$29,0),MATCH(A2479,'Modifikuoti svoriai '!$D$4:$K$4,0)),\"\")","v":""}]
[null,null,{"$f":"IFERROR(INDEX('Modifikuoti svoriai '!$D$5:$K$29,MATCH(B2480,'Modifikuoti svoriai '!$C$5:$C$29,0),MATCH(A2480,'Modifikuoti svoriai '!$D$4:$K$4,0)),\"\")","v":""}]
[null,null,{"$f":"IFERROR(INDEX('Modifikuoti svoriai '!$D$5:$K$29,MATCH(B2481,'Modifikuoti svoriai '!$C$5:$C$29,0),MATCH(A2481,'Modifikuoti svoriai '!$D$4:$K$4,0)),\"\")","v":""}]
[null,null,{"$f":"IFERROR(INDEX('Modifikuoti svoriai '!$D$5:$K$29,MATCH(B2482,'Modifikuoti svoriai '!$C$5:$C$29,0),MATCH(A2482,'Modifikuoti svoriai '!$D$4:$K$4,0)),\"\")","v":""}]
[null,null,{"$f":"IFERROR(INDEX('Modifikuoti svoriai '!$D$5:$K$29,MATCH(B2483,'Modifikuoti svoriai '!$C$5:$C$29,0),MATCH(A2483,'Modifikuoti svoriai '!$D$4:$K$4,0)),\"\")","v":""}]
[null,null,{"$f":"IFERROR(INDEX('Modifikuoti svoriai '!$D$5:$K$29,MATCH(B2484,'Modifikuoti svoriai '!$C$5:$C$29,0),MATCH(A2484,'Modifikuoti svoriai '!$D$4:$K$4,0)),\"\")","v":""}]
[null,null,{"$f":"IFERROR(INDEX('Modifikuoti svoriai '!$D$5:$K$29,MATCH(B2485,'Modifikuoti svoriai '!$C$5:$C$29,0),MATCH(A2485,'Modifikuoti svoriai '!$D$4:$K$4,0)),\"\")","v":""}]
[null,null,{"$f":"IFERROR(INDEX('Modifikuoti svoriai '!$D$5:$K$29,MATCH(B2486,'Modifikuoti svoriai '!$C$5:$C$29,0),MATCH(A2486,'Modifikuoti svoriai '!$D$4:$K$4,0)),\"\")","v":""}]
[null,null,{"$f":"IFERROR(INDEX('Modifikuoti svoriai '!$D$5:$K$29,MATCH(B2487,'Modifikuoti svoriai '!$C$5:$C$29,0),MATCH(A2487,'Modifikuoti svoriai '!$D$4:$K$4,0)),\"\")","v":""}]
[null,null,{"$f":"IFERROR(INDEX('Modifikuoti svoriai '!$D$5:$K$29,MATCH(B2488,'Modifikuoti svoriai '!$C$5:$C$29,0),MATCH(A2488,'Modifikuoti svoriai '!$D$4:$K$4,0)),\"\")","v":""}]
[null,null,{"$f":"IFERROR(INDEX('Modifikuoti svoriai '!$D$5:$K$29,MATCH(B2489,'Modifikuoti svoriai '!$C$5:$C$29,0),MATCH(A2489,'Modifikuoti svoriai '!$D$4:$K$4,0)),\"\")","v":""}]
[null,null,{"$f":"IFERROR(INDEX('Modifikuoti svoriai '!$D$5:$K$29,MATCH(B2490,'Modifikuoti svoriai '!$C$5:$C$29,0),MATCH(A2490,'Modifikuoti svoriai '!$D$4:$K$4,0)),\"\")","v":""}]
[null,null,{"$f":"IFERROR(INDEX('Modifikuoti svoriai '!$D$5:$K$29,MATCH(B2491,'Modifikuoti svoriai '!$C$5:$C$29,0),MATCH(A2491,'Modifikuoti svoriai '!$D$4:$K$4,0)),\"\")","v":""}]
[null,null,{"$f":"IFERROR(INDEX('Modifikuoti svoriai '!$D$5:$K$29,MATCH(B2492,'Modifikuoti svoriai '!$C$5:$C$29,0),MATCH(A2492,'Modifikuoti svoriai '!$D$4:$K$4,0)),\"\")","v":""}]
[null,null,{"$f":"IFERROR(INDEX('Modifikuoti svoriai '!$D$5:$K$29,MATCH(B2493,'Modifikuoti svoriai '!$C$5:$C$29,0),MATCH(A2493,'Modifikuoti svoriai '!$D$4:$K$4,0)),\"\")","v":""}]
[null,null,{"$f":"IFERROR(INDEX('Modifikuoti svoriai '!$D$5:$K$29,MATCH(B2494,'Modifikuoti svoriai '!$C$5:$C$29,0),MATCH(A2494,'Modifikuoti svoriai '!$D$4:$K$4,0)),\"\")","v":""}]
[null,null,{"$f":"IFERROR(INDEX('Modifikuoti svoriai '!$D$5:$K$29,MATCH(B2495,'Modifikuoti svoriai '!$C$5:$C$29,0),MATCH(A2495,'Modifikuoti svoriai '!$D$4:$K$4,0)),\"\")","v":""}]
[null,null,{"$f":"IFERROR(INDEX('Modifikuoti svoriai '!$D$5:$K$29,MATCH(B2496,'Modifikuoti svoriai '!$C$5:$C$29,0),MATCH(A2496,'Modifikuoti svoriai '!$D$4:$K$4,0)),\"\")","v":""}]
[null,null,{"$f":"IFERROR(INDEX('Modifikuoti svoriai '!$D$5:$K$29,MATCH(B2497,'Modifikuoti svoriai '!$C$5:$C$29,0),MATCH(A2497,'Modifikuoti svoriai '!$D$4:$K$4,0)),\"\")","v":""}]
[null,null,{"$f":"IFERROR(INDEX('Modifikuoti svoriai '!$D$5:$K$29,MATCH(B2498,'Modifikuoti svoriai '!$C$5:$C$29,0),MATCH(A2498,'Modifikuoti svoriai '!$D$4:$K$4,0)),\"\")","v":""}]
[null,null,{"$f":"IFERROR(INDEX('Modifikuoti svoriai '!$D$5:$K$29,MATCH(B2499,'Modifikuoti svoriai '!$C$5:$C$29,0),MATCH(A2499,'Modifikuoti svoriai '!$D$4:$K$4,0)),\"\")","v":""}]
[null,null,{"$f":"IFERROR(INDEX('Modifikuoti svoriai '!$D$5:$K$29,MATCH(B2500,'Modifikuoti svoriai '!$C$5:$C$29,0),MATCH(A2500,'Modifikuoti svoriai '!$D$4:$K$4,0)),\"\")","v":""}]
[null,null,{"$f":"IFERROR(INDEX('Modifikuoti svoriai '!$D$5:$K$29,MATCH(B2501,'Modifikuoti svoriai '!$C$5:$C$29,0),MATCH(A2501,'Modifikuoti svoriai '!$D$4:$K$4,0)),\"\")","v":""}]
[null,null,{"$f":"IFERROR(INDEX('Modifikuoti svoriai '!$D$5:$K$29,MATCH(B2502,'Modifikuoti svoriai '!$C$5:$C$29,0),MATCH(A2502,'Modifikuoti svoriai '!$D$4:$K$4,0)),\"\")","v":""}]
[null,null,{"$f":"IFERROR(INDEX('Modifikuoti svoriai '!$D$5:$K$29,MATCH(B2503,'Modifikuoti svoriai '!$C$5:$C$29,0),MATCH(A2503,'Modifikuoti svoriai '!$D$4:$K$4,0)),\"\")","v":""}]
[null,null,{"$f":"IFERROR(INDEX('Modifikuoti svoriai '!$D$5:$K$29,MATCH(B2504,'Modifikuoti svoriai '!$C$5:$C$29,0),MATCH(A2504,'Modifikuoti svoriai '!$D$4:$K$4,0)),\"\")","v":""}]
[null,null,{"$f":"IFERROR(INDEX('Modifikuoti svoriai '!$D$5:$K$29,MATCH(B2505,'Modifikuoti svoriai '!$C$5:$C$29,0),MATCH(A2505,'Modifikuoti svoriai '!$D$4:$K$4,0)),\"\")","v":""}]
[null,null,{"$f":"IFERROR(INDEX('Modifikuoti svoriai '!$D$5:$K$29,MATCH(B2506,'Modifikuoti svoriai '!$C$5:$C$29,0),MATCH(A2506,'Modifikuoti svoriai '!$D$4:$K$4,0)),\"\")","v":""}]
[null,null,{"$f":"IFERROR(INDEX('Modifikuoti svoriai '!$D$5:$K$29,MATCH(B2507,'Modifikuoti svoriai '!$C$5:$C$29,0),MATCH(A2507,'Modifikuoti svoriai '!$D$4:$K$4,0)),\"\")","v":""}]
[null,null,{"$f":"IFERROR(INDEX('Modifikuoti svoriai '!$D$5:$K$29,MATCH(B2508,'Modifikuoti svoriai '!$C$5:$C$29,0),MATCH(A2508,'Modifikuoti svoriai '!$D$4:$K$4,0)),\"\")","v":""}]
[null,null,{"$f":"IFERROR(INDEX('Modifikuoti svoriai '!$D$5:$K$29,MATCH(B2509,'Modifikuoti svoriai '!$C$5:$C$29,0),MATCH(A2509,'Modifikuoti svoriai '!$D$4:$K$4,0)),\"\")","v":""}]
[null,null,{"$f":"IFERROR(INDEX('Modifikuoti svoriai '!$D$5:$K$29,MATCH(B2510,'Modifikuoti svoriai '!$C$5:$C$29,0),MATCH(A2510,'Modifikuoti svoriai '!$D$4:$K$4,0)),\"\")","v":""}]
[null,null,{"$f":"IFERROR(INDEX('Modifikuoti svoriai '!$D$5:$K$29,MATCH(B2511,'Modifikuoti svoriai '!$C$5:$C$29,0),MATCH(A2511,'Modifikuoti svoriai '!$D$4:$K$4,0)),\"\")","v":""}]
[null,null,{"$f":"IFERROR(INDEX('Modifikuoti svoriai '!$D$5:$K$29,MATCH(B2512,'Modifikuoti svoriai '!$C$5:$C$29,0),MATCH(A2512,'Modifikuoti svoriai '!$D$4:$K$4,0)),\"\")","v":""}]
[null,null,{"$f":"IFERROR(INDEX('Modifikuoti svoriai '!$D$5:$K$29,MATCH(B2513,'Modifikuoti svoriai '!$C$5:$C$29,0),MATCH(A2513,'Modifikuoti svoriai '!$D$4:$K$4,0)),\"\")","v":""}]
[null,null,{"$f":"IFERROR(INDEX('Modifikuoti svoriai '!$D$5:$K$29,MATCH(B2514,'Modifikuoti svoriai '!$C$5:$C$29,0),MATCH(A2514,'Modifikuoti svoriai '!$D$4:$K$4,0)),\"\")","v":""}]
[null,null,{"$f":"IFERROR(INDEX('Modifikuoti svoriai '!$D$5:$K$29,MATCH(B2515,'Modifikuoti svoriai '!$C$5:$C$29,0),MATCH(A2515,'Modifikuoti svoriai '!$D$4:$K$4,0)),\"\")","v":""}]
[null,null,{"$f":"IFERROR(INDEX('Modifikuoti svoriai '!$D$5:$K$29,MATCH(B2516,'Modifikuoti svoriai '!$C$5:$C$29,0),MATCH(A2516,'Modifikuoti svoriai '!$D$4:$K$4,0)),\"\")","v":""}]
[null,null,{"$f":"IFERROR(INDEX('Modifikuoti svoriai '!$D$5:$K$29,MATCH(B2517,'Modifikuoti svoriai '!$C$5:$C$29,0),MATCH(A2517,'Modifikuoti svoriai '!$D$4:$K$4,0)),\"\")","v":""}]
[null,null,{"$f":"IFERROR(INDEX('Modifikuoti svoriai '!$D$5:$K$29,MATCH(B2518,'Modifikuoti svoriai '!$C$5:$C$29,0),MATCH(A2518,'Modifikuoti svoriai '!$D$4:$K$4,0)),\"\")","v":""}]
[null,null,{"$f":"IFERROR(INDEX('Modifikuoti svoriai '!$D$5:$K$29,MATCH(B2519,'Modifikuoti svoriai '!$C$5:$C$29,0),MATCH(A2519,'Modifikuoti svoriai '!$D$4:$K$4,0)),\"\")","v":""}]
[null,null,{"$f":"IFERROR(INDEX('Modifikuoti svoriai '!$D$5:$K$29,MATCH(B2520,'Modifikuoti svoriai '!$C$5:$C$29,0),MATCH(A2520,'Modifikuoti svoriai '!$D$4:$K$4,0)),\"\")","v":""}]
[null,null,{"$f":"IFERROR(INDEX('Modifikuoti svoriai '!$D$5:$K$29,MATCH(B2521,'Modifikuoti svoriai '!$C$5:$C$29,0),MATCH(A2521,'Modifikuoti svoriai '!$D$4:$K$4,0)),\"\")","v":""}]
[null,null,{"$f":"IFERROR(INDEX('Modifikuoti svoriai '!$D$5:$K$29,MATCH(B2522,'Modifikuoti svoriai '!$C$5:$C$29,0),MATCH(A2522,'Modifikuoti svoriai '!$D$4:$K$4,0)),\"\")","v":""}]
[null,null,{"$f":"IFERROR(INDEX('Modifikuoti svoriai '!$D$5:$K$29,MATCH(B2523,'Modifikuoti svoriai '!$C$5:$C$29,0),MATCH(A2523,'Modifikuoti svoriai '!$D$4:$K$4,0)),\"\")","v":""}]
[null,null,{"$f":"IFERROR(INDEX('Modifikuoti svoriai '!$D$5:$K$29,MATCH(B2524,'Modifikuoti svoriai '!$C$5:$C$29,0),MATCH(A2524,'Modifikuoti svoriai '!$D$4:$K$4,0)),\"\")","v":""}]
[null,null,{"$f":"IFERROR(INDEX('Modifikuoti svoriai '!$D$5:$K$29,MATCH(B2525,'Modifikuoti svoriai '!$C$5:$C$29,0),MATCH(A2525,'Modifikuoti svoriai '!$D$4:$K$4,0)),\"\")","v":""}]
[null,null,{"$f":"IFERROR(INDEX('Modifikuoti svoriai '!$D$5:$K$29,MATCH(B2526,'Modifikuoti svoriai '!$C$5:$C$29,0),MATCH(A2526,'Modifikuoti svoriai '!$D$4:$K$4,0)),\"\")","v":""}]
[null,null,{"$f":"IFERROR(INDEX('Modifikuoti svoriai '!$D$5:$K$29,MATCH(B2527,'Modifikuoti svoriai '!$C$5:$C$29,0),MATCH(A2527,'Modifikuoti svoriai '!$D$4:$K$4,0)),\"\")","v":""}]
[null,null,{"$f":"IFERROR(INDEX('Modifikuoti svoriai '!$D$5:$K$29,MATCH(B2528,'Modifikuoti svoriai '!$C$5:$C$29,0),MATCH(A2528,'Modifikuoti svoriai '!$D$4:$K$4,0)),\"\")","v":""}]
[null,null,{"$f":"IFERROR(INDEX('Modifikuoti svoriai '!$D$5:$K$29,MATCH(B2529,'Modifikuoti svoriai '!$C$5:$C$29,0),MATCH(A2529,'Modifikuoti svoriai '!$D$4:$K$4,0)),\"\")","v":""}]
[null,null,{"$f":"IFERROR(INDEX('Modifikuoti svoriai '!$D$5:$K$29,MATCH(B2530,'Modifikuoti svoriai '!$C$5:$C$29,0),MATCH(A2530,'Modifikuoti svoriai '!$D$4:$K$4,0)),\"\")","v":""}]
[null,null,{"$f":"IFERROR(INDEX('Modifikuoti svoriai '!$D$5:$K$29,MATCH(B2531,'Modifikuoti svoriai '!$C$5:$C$29,0),MATCH(A2531,'Modifikuoti svoriai '!$D$4:$K$4,0)),\"\")","v":""}]
[null,null,{"$f":"IFERROR(INDEX('Modifikuoti svoriai '!$D$5:$K$29,MATCH(B2532,'Modifikuoti svoriai '!$C$5:$C$29,0),MATCH(A2532,'Modifikuoti svoriai '!$D$4:$K$4,0)),\"\")","v":""}]
[null,null,{"$f":"IFERROR(INDEX('Modifikuoti svoriai '!$D$5:$K$29,MATCH(B2533,'Modifikuoti svoriai '!$C$5:$C$29,0),MATCH(A2533,'Modifikuoti svoriai '!$D$4:$K$4,0)),\"\")","v":""}]
[null,null,{"$f":"IFERROR(INDEX('Modifikuoti svoriai '!$D$5:$K$29,MATCH(B2534,'Modifikuoti svoriai '!$C$5:$C$29,0),MATCH(A2534,'Modifikuoti svoriai '!$D$4:$K$4,0)),\"\")","v":""}]
[null,null,{"$f":"IFERROR(INDEX('Modifikuoti svoriai '!$D$5:$K$29,MATCH(B2535,'Modifikuoti svoriai '!$C$5:$C$29,0),MATCH(A2535,'Modifikuoti svoriai '!$D$4:$K$4,0)),\"\")","v":""}]
[null,null,{"$f":"IFERROR(INDEX('Modifikuoti svoriai '!$D$5:$K$29,MATCH(B2536,'Modifikuoti svoriai '!$C$5:$C$29,0),MATCH(A2536,'Modifikuoti svoriai '!$D$4:$K$4,0)),\"\")","v":""}]
[null,null,{"$f":"IFERROR(INDEX('Modifikuoti svoriai '!$D$5:$K$29,MATCH(B2537,'Modifikuoti svoriai '!$C$5:$C$29,0),MATCH(A2537,'Modifikuoti svoriai '!$D$4:$K$4,0)),\"\")","v":""}]
[null,null,{"$f":"IFERROR(INDEX('Modifikuoti svoriai '!$D$5:$K$29,MATCH(B2538,'Modifikuoti svoriai '!$C$5:$C$29,0),MATCH(A2538,'Modifikuoti svoriai '!$D$4:$K$4,0)),\"\")","v":""}]
[null,null,{"$f":"IFERROR(INDEX('Modifikuoti svoriai '!$D$5:$K$29,MATCH(B2539,'Modifikuoti svoriai '!$C$5:$C$29,0),MATCH(A2539,'Modifikuoti svoriai '!$D$4:$K$4,0)),\"\")","v":""}]
[null,null,{"$f":"IFERROR(INDEX('Modifikuoti svoriai '!$D$5:$K$29,MATCH(B2540,'Modifikuoti svoriai '!$C$5:$C$29,0),MATCH(A2540,'Modifikuoti svoriai '!$D$4:$K$4,0)),\"\")","v":""}]
[null,null,{"$f":"IFERROR(INDEX('Modifikuoti svoriai '!$D$5:$K$29,MATCH(B2541,'Modifikuoti svoriai '!$C$5:$C$29,0),MATCH(A2541,'Modifikuoti svoriai '!$D$4:$K$4,0)),\"\")","v":""}]
[null,null,{"$f":"IFERROR(INDEX('Modifikuoti svoriai '!$D$5:$K$29,MATCH(B2542,'Modifikuoti svoriai '!$C$5:$C$29,0),MATCH(A2542,'Modifikuoti svoriai '!$D$4:$K$4,0)),\"\")","v":""}]
[null,null,{"$f":"IFERROR(INDEX('Modifikuoti svoriai '!$D$5:$K$29,MATCH(B2543,'Modifikuoti svoriai '!$C$5:$C$29,0),MATCH(A2543,'Modifikuoti svoriai '!$D$4:$K$4,0)),\"\")","v":""}]
[null,null,{"$f":"IFERROR(INDEX('Modifikuoti svoriai '!$D$5:$K$29,MATCH(B2544,'Modifikuoti svoriai '!$C$5:$C$29,0),MATCH(A2544,'Modifikuoti svoriai '!$D$4:$K$4,0)),\"\")","v":""}]
[null,null,{"$f":"IFERROR(INDEX('Modifikuoti svoriai '!$D$5:$K$29,MATCH(B2545,'Modifikuoti svoriai '!$C$5:$C$29,0),MATCH(A2545,'Modifikuoti svoriai '!$D$4:$K$4,0)),\"\")","v":""}]
[null,null,{"$f":"IFERROR(INDEX('Modifikuoti svoriai '!$D$5:$K$29,MATCH(B2546,'Modifikuoti svoriai '!$C$5:$C$29,0),MATCH(A2546,'Modifikuoti svoriai '!$D$4:$K$4,0)),\"\")","v":""}]
[null,null,{"$f":"IFERROR(INDEX('Modifikuoti svoriai '!$D$5:$K$29,MATCH(B2547,'Modifikuoti svoriai '!$C$5:$C$29,0),MATCH(A2547,'Modifikuoti svoriai '!$D$4:$K$4,0)),\"\")","v":""}]
[null,null,{"$f":"IFERROR(INDEX('Modifikuoti svoriai '!$D$5:$K$29,MATCH(B2548,'Modifikuoti svoriai '!$C$5:$C$29,0),MATCH(A2548,'Modifikuoti svoriai '!$D$4:$K$4,0)),\"\")","v":""}]
[null,null,{"$f":"IFERROR(INDEX('Modifikuoti svoriai '!$D$5:$K$29,MATCH(B2549,'Modifikuoti svoriai '!$C$5:$C$29,0),MATCH(A2549,'Modifikuoti svoriai '!$D$4:$K$4,0)),\"\")","v":""}]
[null,null,{"$f":"IFERROR(INDEX('Modifikuoti svoriai '!$D$5:$K$29,MATCH(B2550,'Modifikuoti svoriai '!$C$5:$C$29,0),MATCH(A2550,'Modifikuoti svoriai '!$D$4:$K$4,0)),\"\")","v":""}]
[null,null,{"$f":"IFERROR(INDEX('Modifikuoti svoriai '!$D$5:$K$29,MATCH(B2551,'Modifikuoti svoriai '!$C$5:$C$29,0),MATCH(A2551,'Modifikuoti svoriai '!$D$4:$K$4,0)),\"\")","v":""}]
[null,null,{"$f":"IFERROR(INDEX('Modifikuoti svoriai '!$D$5:$K$29,MATCH(B2552,'Modifikuoti svoriai '!$C$5:$C$29,0),MATCH(A2552,'Modifikuoti svoriai '!$D$4:$K$4,0)),\"\")","v":""}]
[null,null,{"$f":"IFERROR(INDEX('Modifikuoti svoriai '!$D$5:$K$29,MATCH(B2553,'Modifikuoti svoriai '!$C$5:$C$29,0),MATCH(A2553,'Modifikuoti svoriai '!$D$4:$K$4,0)),\"\")","v":""}]
[null,null,{"$f":"IFERROR(INDEX('Modifikuoti svoriai '!$D$5:$K$29,MATCH(B2554,'Modifikuoti svoriai '!$C$5:$C$29,0),MATCH(A2554,'Modifikuoti svoriai '!$D$4:$K$4,0)),\"\")","v":""}]
[null,null,{"$f":"IFERROR(INDEX('Modifikuoti svoriai '!$D$5:$K$29,MATCH(B2555,'Modifikuoti svoriai '!$C$5:$C$29,0),MATCH(A2555,'Modifikuoti svoriai '!$D$4:$K$4,0)),\"\")","v":""}]
[null,null,{"$f":"IFERROR(INDEX('Modifikuoti svoriai '!$D$5:$K$29,MATCH(B2556,'Modifikuoti svoriai '!$C$5:$C$29,0),MATCH(A2556,'Modifikuoti svoriai '!$D$4:$K$4,0)),\"\")","v":""}]
[null,null,{"$f":"IFERROR(INDEX('Modifikuoti svoriai '!$D$5:$K$29,MATCH(B2557,'Modifikuoti svoriai '!$C$5:$C$29,0),MATCH(A2557,'Modifikuoti svoriai '!$D$4:$K$4,0)),\"\")","v":""}]
[null,null,{"$f":"IFERROR(INDEX('Modifikuoti svoriai '!$D$5:$K$29,MATCH(B2558,'Modifikuoti svoriai '!$C$5:$C$29,0),MATCH(A2558,'Modifikuoti svoriai '!$D$4:$K$4,0)),\"\")","v":""}]
[null,null,{"$f":"IFERROR(INDEX('Modifikuoti svoriai '!$D$5:$K$29,MATCH(B2559,'Modifikuoti svoriai '!$C$5:$C$29,0),MATCH(A2559,'Modifikuoti svoriai '!$D$4:$K$4,0)),\"\")","v":""}]
[null,null,{"$f":"IFERROR(INDEX('Modifikuoti svoriai '!$D$5:$K$29,MATCH(B2560,'Modifikuoti svoriai '!$C$5:$C$29,0),MATCH(A2560,'Modifikuoti svoriai '!$D$4:$K$4,0)),\"\")","v":""}]
[null,null,{"$f":"IFERROR(INDEX('Modifikuoti svoriai '!$D$5:$K$29,MATCH(B2561,'Modifikuoti svoriai '!$C$5:$C$29,0),MATCH(A2561,'Modifikuoti svoriai '!$D$4:$K$4,0)),\"\")","v":""}]
[null,null,{"$f":"IFERROR(INDEX('Modifikuoti svoriai '!$D$5:$K$29,MATCH(B2562,'Modifikuoti svoriai '!$C$5:$C$29,0),MATCH(A2562,'Modifikuoti svoriai '!$D$4:$K$4,0)),\"\")","v":""}]
[null,null,{"$f":"IFERROR(INDEX('Modifikuoti svoriai '!$D$5:$K$29,MATCH(B2563,'Modifikuoti svoriai '!$C$5:$C$29,0),MATCH(A2563,'Modifikuoti svoriai '!$D$4:$K$4,0)),\"\")","v":""}]
[null,null,{"$f":"IFERROR(INDEX('Modifikuoti svoriai '!$D$5:$K$29,MATCH(B2564,'Modifikuoti svoriai '!$C$5:$C$29,0),MATCH(A2564,'Modifikuoti svoriai '!$D$4:$K$4,0)),\"\")","v":""}]
[null,null,{"$f":"IFERROR(INDEX('Modifikuoti svoriai '!$D$5:$K$29,MATCH(B2565,'Modifikuoti svoriai '!$C$5:$C$29,0),MATCH(A2565,'Modifikuoti svoriai '!$D$4:$K$4,0)),\"\")","v":""}]
[null,null,{"$f":"IFERROR(INDEX('Modifikuoti svoriai '!$D$5:$K$29,MATCH(B2566,'Modifikuoti svoriai '!$C$5:$C$29,0),MATCH(A2566,'Modifikuoti svoriai '!$D$4:$K$4,0)),\"\")","v":""}]
[null,null,{"$f":"IFERROR(INDEX('Modifikuoti svoriai '!$D$5:$K$29,MATCH(B2567,'Modifikuoti svoriai '!$C$5:$C$29,0),MATCH(A2567,'Modifikuoti svoriai '!$D$4:$K$4,0)),\"\")","v":""}]
[null,null,{"$f":"IFERROR(INDEX('Modifikuoti svoriai '!$D$5:$K$29,MATCH(B2568,'Modifikuoti svoriai '!$C$5:$C$29,0),MATCH(A2568,'Modifikuoti svoriai '!$D$4:$K$4,0)),\"\")","v":""}]
[null,null,{"$f":"IFERROR(INDEX('Modifikuoti svoriai '!$D$5:$K$29,MATCH(B2569,'Modifikuoti svoriai '!$C$5:$C$29,0),MATCH(A2569,'Modifikuoti svoriai '!$D$4:$K$4,0)),\"\")","v":""}]
[null,null,{"$f":"IFERROR(INDEX('Modifikuoti svoriai '!$D$5:$K$29,MATCH(B2570,'Modifikuoti svoriai '!$C$5:$C$29,0),MATCH(A2570,'Modifikuoti svoriai '!$D$4:$K$4,0)),\"\")","v":""}]
[null,null,{"$f":"IFERROR(INDEX('Modifikuoti svoriai '!$D$5:$K$29,MATCH(B2571,'Modifikuoti svoriai '!$C$5:$C$29,0),MATCH(A2571,'Modifikuoti svoriai '!$D$4:$K$4,0)),\"\")","v":""}]
[null,null,{"$f":"IFERROR(INDEX('Modifikuoti svoriai '!$D$5:$K$29,MATCH(B2572,'Modifikuoti svoriai '!$C$5:$C$29,0),MATCH(A2572,'Modifikuoti svoriai '!$D$4:$K$4,0)),\"\")","v":""}]
[null,null,{"$f":"IFERROR(INDEX('Modifikuoti svoriai '!$D$5:$K$29,MATCH(B2573,'Modifikuoti svoriai '!$C$5:$C$29,0),MATCH(A2573,'Modifikuoti svoriai '!$D$4:$K$4,0)),\"\")","v":""}]
[null,null,{"$f":"IFERROR(INDEX('Modifikuoti svoriai '!$D$5:$K$29,MATCH(B2574,'Modifikuoti svoriai '!$C$5:$C$29,0),MATCH(A2574,'Modifikuoti svoriai '!$D$4:$K$4,0)),\"\")","v":""}]
[null,null,{"$f":"IFERROR(INDEX('Modifikuoti svoriai '!$D$5:$K$29,MATCH(B2575,'Modifikuoti svoriai '!$C$5:$C$29,0),MATCH(A2575,'Modifikuoti svoriai '!$D$4:$K$4,0)),\"\")","v":""}]
[null,null,{"$f":"IFERROR(INDEX('Modifikuoti svoriai '!$D$5:$K$29,MATCH(B2576,'Modifikuoti svoriai '!$C$5:$C$29,0),MATCH(A2576,'Modifikuoti svoriai '!$D$4:$K$4,0)),\"\")","v":""}]
[null,null,{"$f":"IFERROR(INDEX('Modifikuoti svoriai '!$D$5:$K$29,MATCH(B2577,'Modifikuoti svoriai '!$C$5:$C$29,0),MATCH(A2577,'Modifikuoti svoriai '!$D$4:$K$4,0)),\"\")","v":""}]
[null,null,{"$f":"IFERROR(INDEX('Modifikuoti svoriai '!$D$5:$K$29,MATCH(B2578,'Modifikuoti svoriai '!$C$5:$C$29,0),MATCH(A2578,'Modifikuoti svoriai '!$D$4:$K$4,0)),\"\")","v":""}]
[null,null,{"$f":"IFERROR(INDEX('Modifikuoti svoriai '!$D$5:$K$29,MATCH(B2579,'Modifikuoti svoriai '!$C$5:$C$29,0),MATCH(A2579,'Modifikuoti svoriai '!$D$4:$K$4,0)),\"\")","v":""}]
[null,null,{"$f":"IFERROR(INDEX('Modifikuoti svoriai '!$D$5:$K$29,MATCH(B2580,'Modifikuoti svoriai '!$C$5:$C$29,0),MATCH(A2580,'Modifikuoti svoriai '!$D$4:$K$4,0)),\"\")","v":""}]
[null,null,{"$f":"IFERROR(INDEX('Modifikuoti svoriai '!$D$5:$K$29,MATCH(B2581,'Modifikuoti svoriai '!$C$5:$C$29,0),MATCH(A2581,'Modifikuoti svoriai '!$D$4:$K$4,0)),\"\")","v":""}]
[null,null,{"$f":"IFERROR(INDEX('Modifikuoti svoriai '!$D$5:$K$29,MATCH(B2582,'Modifikuoti svoriai '!$C$5:$C$29,0),MATCH(A2582,'Modifikuoti svoriai '!$D$4:$K$4,0)),\"\")","v":""}]
[null,null,{"$f":"IFERROR(INDEX('Modifikuoti svoriai '!$D$5:$K$29,MATCH(B2583,'Modifikuoti svoriai '!$C$5:$C$29,0),MATCH(A2583,'Modifikuoti svoriai '!$D$4:$K$4,0)),\"\")","v":""}]
[null,null,{"$f":"IFERROR(INDEX('Modifikuoti svoriai '!$D$5:$K$29,MATCH(B2584,'Modifikuoti svoriai '!$C$5:$C$29,0),MATCH(A2584,'Modifikuoti svoriai '!$D$4:$K$4,0)),\"\")","v":""}]
[null,null,{"$f":"IFERROR(INDEX('Modifikuoti svoriai '!$D$5:$K$29,MATCH(B2585,'Modifikuoti svoriai '!$C$5:$C$29,0),MATCH(A2585,'Modifikuoti svoriai '!$D$4:$K$4,0)),\"\")","v":""}]
[null,null,{"$f":"IFERROR(INDEX('Modifikuoti svoriai '!$D$5:$K$29,MATCH(B2586,'Modifikuoti svoriai '!$C$5:$C$29,0),MATCH(A2586,'Modifikuoti svoriai '!$D$4:$K$4,0)),\"\")","v":""}]
[null,null,{"$f":"IFERROR(INDEX('Modifikuoti svoriai '!$D$5:$K$29,MATCH(B2587,'Modifikuoti svoriai '!$C$5:$C$29,0),MATCH(A2587,'Modifikuoti svoriai '!$D$4:$K$4,0)),\"\")","v":""}]
[null,null,{"$f":"IFERROR(INDEX('Modifikuoti svoriai '!$D$5:$K$29,MATCH(B2588,'Modifikuoti svoriai '!$C$5:$C$29,0),MATCH(A2588,'Modifikuoti svoriai '!$D$4:$K$4,0)),\"\")","v":""}]
[null,null,{"$f":"IFERROR(INDEX('Modifikuoti svoriai '!$D$5:$K$29,MATCH(B2589,'Modifikuoti svoriai '!$C$5:$C$29,0),MATCH(A2589,'Modifikuoti svoriai '!$D$4:$K$4,0)),\"\")","v":""}]
[null,null,{"$f":"IFERROR(INDEX('Modifikuoti svoriai '!$D$5:$K$29,MATCH(B2590,'Modifikuoti svoriai '!$C$5:$C$29,0),MATCH(A2590,'Modifikuoti svoriai '!$D$4:$K$4,0)),\"\")","v":""}]
[null,null,{"$f":"IFERROR(INDEX('Modifikuoti svoriai '!$D$5:$K$29,MATCH(B2591,'Modifikuoti svoriai '!$C$5:$C$29,0),MATCH(A2591,'Modifikuoti svoriai '!$D$4:$K$4,0)),\"\")","v":""}]
[null,null,{"$f":"IFERROR(INDEX('Modifikuoti svoriai '!$D$5:$K$29,MATCH(B2592,'Modifikuoti svoriai '!$C$5:$C$29,0),MATCH(A2592,'Modifikuoti svoriai '!$D$4:$K$4,0)),\"\")","v":""}]
[null,null,{"$f":"IFERROR(INDEX('Modifikuoti svoriai '!$D$5:$K$29,MATCH(B2593,'Modifikuoti svoriai '!$C$5:$C$29,0),MATCH(A2593,'Modifikuoti svoriai '!$D$4:$K$4,0)),\"\")","v":""}]
[null,null,{"$f":"IFERROR(INDEX('Modifikuoti svoriai '!$D$5:$K$29,MATCH(B2594,'Modifikuoti svoriai '!$C$5:$C$29,0),MATCH(A2594,'Modifikuoti svoriai '!$D$4:$K$4,0)),\"\")","v":""}]
[null,null,{"$f":"IFERROR(INDEX('Modifikuoti svoriai '!$D$5:$K$29,MATCH(B2595,'Modifikuoti svoriai '!$C$5:$C$29,0),MATCH(A2595,'Modifikuoti svoriai '!$D$4:$K$4,0)),\"\")","v":""}]
[null,null,{"$f":"IFERROR(INDEX('Modifikuoti svoriai '!$D$5:$K$29,MATCH(B2596,'Modifikuoti svoriai '!$C$5:$C$29,0),MATCH(A2596,'Modifikuoti svoriai '!$D$4:$K$4,0)),\"\")","v":""}]
[null,null,{"$f":"IFERROR(INDEX('Modifikuoti svoriai '!$D$5:$K$29,MATCH(B2597,'Modifikuoti svoriai '!$C$5:$C$29,0),MATCH(A2597,'Modifikuoti svoriai '!$D$4:$K$4,0)),\"\")","v":""}]
[null,null,{"$f":"IFERROR(INDEX('Modifikuoti svoriai '!$D$5:$K$29,MATCH(B2598,'Modifikuoti svoriai '!$C$5:$C$29,0),MATCH(A2598,'Modifikuoti svoriai '!$D$4:$K$4,0)),\"\")","v":""}]
[null,null,{"$f":"IFERROR(INDEX('Modifikuoti svoriai '!$D$5:$K$29,MATCH(B2599,'Modifikuoti svoriai '!$C$5:$C$29,0),MATCH(A2599,'Modifikuoti svoriai '!$D$4:$K$4,0)),\"\")","v":""}]
[null,null,{"$f":"IFERROR(INDEX('Modifikuoti svoriai '!$D$5:$K$29,MATCH(B2600,'Modifikuoti svoriai '!$C$5:$C$29,0),MATCH(A2600,'Modifikuoti svoriai '!$D$4:$K$4,0)),\"\")","v":""}]
[null,null,{"$f":"IFERROR(INDEX('Modifikuoti svoriai '!$D$5:$K$29,MATCH(B2601,'Modifikuoti svoriai '!$C$5:$C$29,0),MATCH(A2601,'Modifikuoti svoriai '!$D$4:$K$4,0)),\"\")","v":""}]
[null,null,{"$f":"IFERROR(INDEX('Modifikuoti svoriai '!$D$5:$K$29,MATCH(B2602,'Modifikuoti svoriai '!$C$5:$C$29,0),MATCH(A2602,'Modifikuoti svoriai '!$D$4:$K$4,0)),\"\")","v":""}]
[null,null,{"$f":"IFERROR(INDEX('Modifikuoti svoriai '!$D$5:$K$29,MATCH(B2603,'Modifikuoti svoriai '!$C$5:$C$29,0),MATCH(A2603,'Modifikuoti svoriai '!$D$4:$K$4,0)),\"\")","v":""}]
[null,null,{"$f":"IFERROR(INDEX('Modifikuoti svoriai '!$D$5:$K$29,MATCH(B2604,'Modifikuoti svoriai '!$C$5:$C$29,0),MATCH(A2604,'Modifikuoti svoriai '!$D$4:$K$4,0)),\"\")","v":""}]
[null,null,{"$f":"IFERROR(INDEX('Modifikuoti svoriai '!$D$5:$K$29,MATCH(B2605,'Modifikuoti svoriai '!$C$5:$C$29,0),MATCH(A2605,'Modifikuoti svoriai '!$D$4:$K$4,0)),\"\")","v":""}]
[null,null,{"$f":"IFERROR(INDEX('Modifikuoti svoriai '!$D$5:$K$29,MATCH(B2606,'Modifikuoti svoriai '!$C$5:$C$29,0),MATCH(A2606,'Modifikuoti svoriai '!$D$4:$K$4,0)),\"\")","v":""}]
[null,null,{"$f":"IFERROR(INDEX('Modifikuoti svoriai '!$D$5:$K$29,MATCH(B2607,'Modifikuoti svoriai '!$C$5:$C$29,0),MATCH(A2607,'Modifikuoti svoriai '!$D$4:$K$4,0)),\"\")","v":""}]
[null,null,{"$f":"IFERROR(INDEX('Modifikuoti svoriai '!$D$5:$K$29,MATCH(B2608,'Modifikuoti svoriai '!$C$5:$C$29,0),MATCH(A2608,'Modifikuoti svoriai '!$D$4:$K$4,0)),\"\")","v":""}]
[null,null,{"$f":"IFERROR(INDEX('Modifikuoti svoriai '!$D$5:$K$29,MATCH(B2609,'Modifikuoti svoriai '!$C$5:$C$29,0),MATCH(A2609,'Modifikuoti svoriai '!$D$4:$K$4,0)),\"\")","v":""}]
[null,null,{"$f":"IFERROR(INDEX('Modifikuoti svoriai '!$D$5:$K$29,MATCH(B2610,'Modifikuoti svoriai '!$C$5:$C$29,0),MATCH(A2610,'Modifikuoti svoriai '!$D$4:$K$4,0)),\"\")","v":""}]
[null,null,{"$f":"IFERROR(INDEX('Modifikuoti svoriai '!$D$5:$K$29,MATCH(B2611,'Modifikuoti svoriai '!$C$5:$C$29,0),MATCH(A2611,'Modifikuoti svoriai '!$D$4:$K$4,0)),\"\")","v":""}]
[null,null,{"$f":"IFERROR(INDEX('Modifikuoti svoriai '!$D$5:$K$29,MATCH(B2612,'Modifikuoti svoriai '!$C$5:$C$29,0),MATCH(A2612,'Modifikuoti svoriai '!$D$4:$K$4,0)),\"\")","v":""}]
[null,null,{"$f":"IFERROR(INDEX('Modifikuoti svoriai '!$D$5:$K$29,MATCH(B2613,'Modifikuoti svoriai '!$C$5:$C$29,0),MATCH(A2613,'Modifikuoti svoriai '!$D$4:$K$4,0)),\"\")","v":""}]
[null,null,{"$f":"IFERROR(INDEX('Modifikuoti svoriai '!$D$5:$K$29,MATCH(B2614,'Modifikuoti svoriai '!$C$5:$C$29,0),MATCH(A2614,'Modifikuoti svoriai '!$D$4:$K$4,0)),\"\")","v":""}]
[null,null,{"$f":"IFERROR(INDEX('Modifikuoti svoriai '!$D$5:$K$29,MATCH(B2615,'Modifikuoti svoriai '!$C$5:$C$29,0),MATCH(A2615,'Modifikuoti svoriai '!$D$4:$K$4,0)),\"\")","v":""}]
[null,null,{"$f":"IFERROR(INDEX('Modifikuoti svoriai '!$D$5:$K$29,MATCH(B2616,'Modifikuoti svoriai '!$C$5:$C$29,0),MATCH(A2616,'Modifikuoti svoriai '!$D$4:$K$4,0)),\"\")","v":""}]
[null,null,{"$f":"IFERROR(INDEX('Modifikuoti svoriai '!$D$5:$K$29,MATCH(B2617,'Modifikuoti svoriai '!$C$5:$C$29,0),MATCH(A2617,'Modifikuoti svoriai '!$D$4:$K$4,0)),\"\")","v":""}]
[null,null,{"$f":"IFERROR(INDEX('Modifikuoti svoriai '!$D$5:$K$29,MATCH(B2618,'Modifikuoti svoriai '!$C$5:$C$29,0),MATCH(A2618,'Modifikuoti svoriai '!$D$4:$K$4,0)),\"\")","v":""}]
[null,null,{"$f":"IFERROR(INDEX('Modifikuoti svoriai '!$D$5:$K$29,MATCH(B2619,'Modifikuoti svoriai '!$C$5:$C$29,0),MATCH(A2619,'Modifikuoti svoriai '!$D$4:$K$4,0)),\"\")","v":""}]
[null,null,{"$f":"IFERROR(INDEX('Modifikuoti svoriai '!$D$5:$K$29,MATCH(B2620,'Modifikuoti svoriai '!$C$5:$C$29,0),MATCH(A2620,'Modifikuoti svoriai '!$D$4:$K$4,0)),\"\")","v":""}]
[null,null,{"$f":"IFERROR(INDEX('Modifikuoti svoriai '!$D$5:$K$29,MATCH(B2621,'Modifikuoti svoriai '!$C$5:$C$29,0),MATCH(A2621,'Modifikuoti svoriai '!$D$4:$K$4,0)),\"\")","v":""}]
[null,null,{"$f":"IFERROR(INDEX('Modifikuoti svoriai '!$D$5:$K$29,MATCH(B2622,'Modifikuoti svoriai '!$C$5:$C$29,0),MATCH(A2622,'Modifikuoti svoriai '!$D$4:$K$4,0)),\"\")","v":""}]
[null,null,{"$f":"IFERROR(INDEX('Modifikuoti svoriai '!$D$5:$K$29,MATCH(B2623,'Modifikuoti svoriai '!$C$5:$C$29,0),MATCH(A2623,'Modifikuoti svoriai '!$D$4:$K$4,0)),\"\")","v":""}]
[null,null,{"$f":"IFERROR(INDEX('Modifikuoti svoriai '!$D$5:$K$29,MATCH(B2624,'Modifikuoti svoriai '!$C$5:$C$29,0),MATCH(A2624,'Modifikuoti svoriai '!$D$4:$K$4,0)),\"\")","v":""}]
[null,null,{"$f":"IFERROR(INDEX('Modifikuoti svoriai '!$D$5:$K$29,MATCH(B2625,'Modifikuoti svoriai '!$C$5:$C$29,0),MATCH(A2625,'Modifikuoti svoriai '!$D$4:$K$4,0)),\"\")","v":""}]
[null,null,{"$f":"IFERROR(INDEX('Modifikuoti svoriai '!$D$5:$K$29,MATCH(B2626,'Modifikuoti svoriai '!$C$5:$C$29,0),MATCH(A2626,'Modifikuoti svoriai '!$D$4:$K$4,0)),\"\")","v":""}]
[null,null,{"$f":"IFERROR(INDEX('Modifikuoti svoriai '!$D$5:$K$29,MATCH(B2627,'Modifikuoti svoriai '!$C$5:$C$29,0),MATCH(A2627,'Modifikuoti svoriai '!$D$4:$K$4,0)),\"\")","v":""}]
[null,null,{"$f":"IFERROR(INDEX('Modifikuoti svoriai '!$D$5:$K$29,MATCH(B2628,'Modifikuoti svoriai '!$C$5:$C$29,0),MATCH(A2628,'Modifikuoti svoriai '!$D$4:$K$4,0)),\"\")","v":""}]
[null,null,{"$f":"IFERROR(INDEX('Modifikuoti svoriai '!$D$5:$K$29,MATCH(B2629,'Modifikuoti svoriai '!$C$5:$C$29,0),MATCH(A2629,'Modifikuoti svoriai '!$D$4:$K$4,0)),\"\")","v":""}]
[null,null,{"$f":"IFERROR(INDEX('Modifikuoti svoriai '!$D$5:$K$29,MATCH(B2630,'Modifikuoti svoriai '!$C$5:$C$29,0),MATCH(A2630,'Modifikuoti svoriai '!$D$4:$K$4,0)),\"\")","v":""}]
[null,null,{"$f":"IFERROR(INDEX('Modifikuoti svoriai '!$D$5:$K$29,MATCH(B2631,'Modifikuoti svoriai '!$C$5:$C$29,0),MATCH(A2631,'Modifikuoti svoriai '!$D$4:$K$4,0)),\"\")","v":""}]
[null,null,{"$f":"IFERROR(INDEX('Modifikuoti svoriai '!$D$5:$K$29,MATCH(B2632,'Modifikuoti svoriai '!$C$5:$C$29,0),MATCH(A2632,'Modifikuoti svoriai '!$D$4:$K$4,0)),\"\")","v":""}]
[null,null,{"$f":"IFERROR(INDEX('Modifikuoti svoriai '!$D$5:$K$29,MATCH(B2633,'Modifikuoti svoriai '!$C$5:$C$29,0),MATCH(A2633,'Modifikuoti svoriai '!$D$4:$K$4,0)),\"\")","v":""}]
[null,null,{"$f":"IFERROR(INDEX('Modifikuoti svoriai '!$D$5:$K$29,MATCH(B2634,'Modifikuoti svoriai '!$C$5:$C$29,0),MATCH(A2634,'Modifikuoti svoriai '!$D$4:$K$4,0)),\"\")","v":""}]
[null,null,{"$f":"IFERROR(INDEX('Modifikuoti svoriai '!$D$5:$K$29,MATCH(B2635,'Modifikuoti svoriai '!$C$5:$C$29,0),MATCH(A2635,'Modifikuoti svoriai '!$D$4:$K$4,0)),\"\")","v":""}]
[null,null,{"$f":"IFERROR(INDEX('Modifikuoti svoriai '!$D$5:$K$29,MATCH(B2636,'Modifikuoti svoriai '!$C$5:$C$29,0),MATCH(A2636,'Modifikuoti svoriai '!$D$4:$K$4,0)),\"\")","v":""}]
[null,null,{"$f":"IFERROR(INDEX('Modifikuoti svoriai '!$D$5:$K$29,MATCH(B2637,'Modifikuoti svoriai '!$C$5:$C$29,0),MATCH(A2637,'Modifikuoti svoriai '!$D$4:$K$4,0)),\"\")","v":""}]
[null,null,{"$f":"IFERROR(INDEX('Modifikuoti svoriai '!$D$5:$K$29,MATCH(B2638,'Modifikuoti svoriai '!$C$5:$C$29,0),MATCH(A2638,'Modifikuoti svoriai '!$D$4:$K$4,0)),\"\")","v":""}]
[null,null,{"$f":"IFERROR(INDEX('Modifikuoti svoriai '!$D$5:$K$29,MATCH(B2639,'Modifikuoti svoriai '!$C$5:$C$29,0),MATCH(A2639,'Modifikuoti svoriai '!$D$4:$K$4,0)),\"\")","v":""}]
[null,null,{"$f":"IFERROR(INDEX('Modifikuoti svoriai '!$D$5:$K$29,MATCH(B2640,'Modifikuoti svoriai '!$C$5:$C$29,0),MATCH(A2640,'Modifikuoti svoriai '!$D$4:$K$4,0)),\"\")","v":""}]
[null,null,{"$f":"IFERROR(INDEX('Modifikuoti svoriai '!$D$5:$K$29,MATCH(B2641,'Modifikuoti svoriai '!$C$5:$C$29,0),MATCH(A2641,'Modifikuoti svoriai '!$D$4:$K$4,0)),\"\")","v":""}]
[null,null,{"$f":"IFERROR(INDEX('Modifikuoti svoriai '!$D$5:$K$29,MATCH(B2642,'Modifikuoti svoriai '!$C$5:$C$29,0),MATCH(A2642,'Modifikuoti svoriai '!$D$4:$K$4,0)),\"\")","v":""}]
[null,null,{"$f":"IFERROR(INDEX('Modifikuoti svoriai '!$D$5:$K$29,MATCH(B2643,'Modifikuoti svoriai '!$C$5:$C$29,0),MATCH(A2643,'Modifikuoti svoriai '!$D$4:$K$4,0)),\"\")","v":""}]
[null,null,{"$f":"IFERROR(INDEX('Modifikuoti svoriai '!$D$5:$K$29,MATCH(B2644,'Modifikuoti svoriai '!$C$5:$C$29,0),MATCH(A2644,'Modifikuoti svoriai '!$D$4:$K$4,0)),\"\")","v":""}]
[null,null,{"$f":"IFERROR(INDEX('Modifikuoti svoriai '!$D$5:$K$29,MATCH(B2645,'Modifikuoti svoriai '!$C$5:$C$29,0),MATCH(A2645,'Modifikuoti svoriai '!$D$4:$K$4,0)),\"\")","v":""}]
[null,null,{"$f":"IFERROR(INDEX('Modifikuoti svoriai '!$D$5:$K$29,MATCH(B2646,'Modifikuoti svoriai '!$C$5:$C$29,0),MATCH(A2646,'Modifikuoti svoriai '!$D$4:$K$4,0)),\"\")","v":""}]
[null,null,{"$f":"IFERROR(INDEX('Modifikuoti svoriai '!$D$5:$K$29,MATCH(B2647,'Modifikuoti svoriai '!$C$5:$C$29,0),MATCH(A2647,'Modifikuoti svoriai '!$D$4:$K$4,0)),\"\")","v":""}]
[null,null,{"$f":"IFERROR(INDEX('Modifikuoti svoriai '!$D$5:$K$29,MATCH(B2648,'Modifikuoti svoriai '!$C$5:$C$29,0),MATCH(A2648,'Modifikuoti svoriai '!$D$4:$K$4,0)),\"\")","v":""}]
[null,null,{"$f":"IFERROR(INDEX('Modifikuoti svoriai '!$D$5:$K$29,MATCH(B2649,'Modifikuoti svoriai '!$C$5:$C$29,0),MATCH(A2649,'Modifikuoti svoriai '!$D$4:$K$4,0)),\"\")","v":""}]
[null,null,{"$f":"IFERROR(INDEX('Modifikuoti svoriai '!$D$5:$K$29,MATCH(B2650,'Modifikuoti svoriai '!$C$5:$C$29,0),MATCH(A2650,'Modifikuoti svoriai '!$D$4:$K$4,0)),\"\")","v":""}]
[null,null,{"$f":"IFERROR(INDEX('Modifikuoti svoriai '!$D$5:$K$29,MATCH(B2651,'Modifikuoti svoriai '!$C$5:$C$29,0),MATCH(A2651,'Modifikuoti svoriai '!$D$4:$K$4,0)),\"\")","v":""}]
[null,null,{"$f":"IFERROR(INDEX('Modifikuoti svoriai '!$D$5:$K$29,MATCH(B2652,'Modifikuoti svoriai '!$C$5:$C$29,0),MATCH(A2652,'Modifikuoti svoriai '!$D$4:$K$4,0)),\"\")","v":""}]
[null,null,{"$f":"IFERROR(INDEX('Modifikuoti svoriai '!$D$5:$K$29,MATCH(B2653,'Modifikuoti svoriai '!$C$5:$C$29,0),MATCH(A2653,'Modifikuoti svoriai '!$D$4:$K$4,0)),\"\")","v":""}]
[null,null,{"$f":"IFERROR(INDEX('Modifikuoti svoriai '!$D$5:$K$29,MATCH(B2654,'Modifikuoti svoriai '!$C$5:$C$29,0),MATCH(A2654,'Modifikuoti svoriai '!$D$4:$K$4,0)),\"\")","v":""}]
[null,null,{"$f":"IFERROR(INDEX('Modifikuoti svoriai '!$D$5:$K$29,MATCH(B2655,'Modifikuoti svoriai '!$C$5:$C$29,0),MATCH(A2655,'Modifikuoti svoriai '!$D$4:$K$4,0)),\"\")","v":""}]
[null,null,{"$f":"IFERROR(INDEX('Modifikuoti svoriai '!$D$5:$K$29,MATCH(B2656,'Modifikuoti svoriai '!$C$5:$C$29,0),MATCH(A2656,'Modifikuoti svoriai '!$D$4:$K$4,0)),\"\")","v":""}]
[null,null,{"$f":"IFERROR(INDEX('Modifikuoti svoriai '!$D$5:$K$29,MATCH(B2657,'Modifikuoti svoriai '!$C$5:$C$29,0),MATCH(A2657,'Modifikuoti svoriai '!$D$4:$K$4,0)),\"\")","v":""}]
[null,null,{"$f":"IFERROR(INDEX('Modifikuoti svoriai '!$D$5:$K$29,MATCH(B2658,'Modifikuoti svoriai '!$C$5:$C$29,0),MATCH(A2658,'Modifikuoti svoriai '!$D$4:$K$4,0)),\"\")","v":""}]
[null,null,{"$f":"IFERROR(INDEX('Modifikuoti svoriai '!$D$5:$K$29,MATCH(B2659,'Modifikuoti svoriai '!$C$5:$C$29,0),MATCH(A2659,'Modifikuoti svoriai '!$D$4:$K$4,0)),\"\")","v":""}]
[null,null,{"$f":"IFERROR(INDEX('Modifikuoti svoriai '!$D$5:$K$29,MATCH(B2660,'Modifikuoti svoriai '!$C$5:$C$29,0),MATCH(A2660,'Modifikuoti svoriai '!$D$4:$K$4,0)),\"\")","v":""}]
[null,null,{"$f":"IFERROR(INDEX('Modifikuoti svoriai '!$D$5:$K$29,MATCH(B2661,'Modifikuoti svoriai '!$C$5:$C$29,0),MATCH(A2661,'Modifikuoti svoriai '!$D$4:$K$4,0)),\"\")","v":""}]
[null,null,{"$f":"IFERROR(INDEX('Modifikuoti svoriai '!$D$5:$K$29,MATCH(B2662,'Modifikuoti svoriai '!$C$5:$C$29,0),MATCH(A2662,'Modifikuoti svoriai '!$D$4:$K$4,0)),\"\")","v":""}]
[null,null,{"$f":"IFERROR(INDEX('Modifikuoti svoriai '!$D$5:$K$29,MATCH(B2663,'Modifikuoti svoriai '!$C$5:$C$29,0),MATCH(A2663,'Modifikuoti svoriai '!$D$4:$K$4,0)),\"\")","v":""}]
[null,null,{"$f":"IFERROR(INDEX('Modifikuoti svoriai '!$D$5:$K$29,MATCH(B2664,'Modifikuoti svoriai '!$C$5:$C$29,0),MATCH(A2664,'Modifikuoti svoriai '!$D$4:$K$4,0)),\"\")","v":""}]
[null,null,{"$f":"IFERROR(INDEX('Modifikuoti svoriai '!$D$5:$K$29,MATCH(B2665,'Modifikuoti svoriai '!$C$5:$C$29,0),MATCH(A2665,'Modifikuoti svoriai '!$D$4:$K$4,0)),\"\")","v":""}]
[null,null,{"$f":"IFERROR(INDEX('Modifikuoti svoriai '!$D$5:$K$29,MATCH(B2666,'Modifikuoti svoriai '!$C$5:$C$29,0),MATCH(A2666,'Modifikuoti svoriai '!$D$4:$K$4,0)),\"\")","v":""}]
[null,null,{"$f":"IFERROR(INDEX('Modifikuoti svoriai '!$D$5:$K$29,MATCH(B2667,'Modifikuoti svoriai '!$C$5:$C$29,0),MATCH(A2667,'Modifikuoti svoriai '!$D$4:$K$4,0)),\"\")","v":""}]
[null,null,{"$f":"IFERROR(INDEX('Modifikuoti svoriai '!$D$5:$K$29,MATCH(B2668,'Modifikuoti svoriai '!$C$5:$C$29,0),MATCH(A2668,'Modifikuoti svoriai '!$D$4:$K$4,0)),\"\")","v":""}]
[null,null,{"$f":"IFERROR(INDEX('Modifikuoti svoriai '!$D$5:$K$29,MATCH(B2669,'Modifikuoti svoriai '!$C$5:$C$29,0),MATCH(A2669,'Modifikuoti svoriai '!$D$4:$K$4,0)),\"\")","v":""}]
[null,null,{"$f":"IFERROR(INDEX('Modifikuoti svoriai '!$D$5:$K$29,MATCH(B2670,'Modifikuoti svoriai '!$C$5:$C$29,0),MATCH(A2670,'Modifikuoti svoriai '!$D$4:$K$4,0)),\"\")","v":""}]
[null,null,{"$f":"IFERROR(INDEX('Modifikuoti svoriai '!$D$5:$K$29,MATCH(B2671,'Modifikuoti svoriai '!$C$5:$C$29,0),MATCH(A2671,'Modifikuoti svoriai '!$D$4:$K$4,0)),\"\")","v":""}]
[null,null,{"$f":"IFERROR(INDEX('Modifikuoti svoriai '!$D$5:$K$29,MATCH(B2672,'Modifikuoti svoriai '!$C$5:$C$29,0),MATCH(A2672,'Modifikuoti svoriai '!$D$4:$K$4,0)),\"\")","v":""}]
[null,null,{"$f":"IFERROR(INDEX('Modifikuoti svoriai '!$D$5:$K$29,MATCH(B2673,'Modifikuoti svoriai '!$C$5:$C$29,0),MATCH(A2673,'Modifikuoti svoriai '!$D$4:$K$4,0)),\"\")","v":""}]
[null,null,{"$f":"IFERROR(INDEX('Modifikuoti svoriai '!$D$5:$K$29,MATCH(B2674,'Modifikuoti svoriai '!$C$5:$C$29,0),MATCH(A2674,'Modifikuoti svoriai '!$D$4:$K$4,0)),\"\")","v":""}]
[null,null,{"$f":"IFERROR(INDEX('Modifikuoti svoriai '!$D$5:$K$29,MATCH(B2675,'Modifikuoti svoriai '!$C$5:$C$29,0),MATCH(A2675,'Modifikuoti svoriai '!$D$4:$K$4,0)),\"\")","v":""}]
[null,null,{"$f":"IFERROR(INDEX('Modifikuoti svoriai '!$D$5:$K$29,MATCH(B2676,'Modifikuoti svoriai '!$C$5:$C$29,0),MATCH(A2676,'Modifikuoti svoriai '!$D$4:$K$4,0)),\"\")","v":""}]
[null,null,{"$f":"IFERROR(INDEX('Modifikuoti svoriai '!$D$5:$K$29,MATCH(B2677,'Modifikuoti svoriai '!$C$5:$C$29,0),MATCH(A2677,'Modifikuoti svoriai '!$D$4:$K$4,0)),\"\")","v":""}]
[null,null,{"$f":"IFERROR(INDEX('Modifikuoti svoriai '!$D$5:$K$29,MATCH(B2678,'Modifikuoti svoriai '!$C$5:$C$29,0),MATCH(A2678,'Modifikuoti svoriai '!$D$4:$K$4,0)),\"\")","v":""}]
[null,null,{"$f":"IFERROR(INDEX('Modifikuoti svoriai '!$D$5:$K$29,MATCH(B2679,'Modifikuoti svoriai '!$C$5:$C$29,0),MATCH(A2679,'Modifikuoti svoriai '!$D$4:$K$4,0)),\"\")","v":""}]
[null,null,{"$f":"IFERROR(INDEX('Modifikuoti svoriai '!$D$5:$K$29,MATCH(B2680,'Modifikuoti svoriai '!$C$5:$C$29,0),MATCH(A2680,'Modifikuoti svoriai '!$D$4:$K$4,0)),\"\")","v":""}]
[null,null,{"$f":"IFERROR(INDEX('Modifikuoti svoriai '!$D$5:$K$29,MATCH(B2681,'Modifikuoti svoriai '!$C$5:$C$29,0),MATCH(A2681,'Modifikuoti svoriai '!$D$4:$K$4,0)),\"\")","v":""}]
[null,null,{"$f":"IFERROR(INDEX('Modifikuoti svoriai '!$D$5:$K$29,MATCH(B2682,'Modifikuoti svoriai '!$C$5:$C$29,0),MATCH(A2682,'Modifikuoti svoriai '!$D$4:$K$4,0)),\"\")","v":""}]
[null,null,{"$f":"IFERROR(INDEX('Modifikuoti svoriai '!$D$5:$K$29,MATCH(B2683,'Modifikuoti svoriai '!$C$5:$C$29,0),MATCH(A2683,'Modifikuoti svoriai '!$D$4:$K$4,0)),\"\")","v":""}]
[null,null,{"$f":"IFERROR(INDEX('Modifikuoti svoriai '!$D$5:$K$29,MATCH(B2684,'Modifikuoti svoriai '!$C$5:$C$29,0),MATCH(A2684,'Modifikuoti svoriai '!$D$4:$K$4,0)),\"\")","v":""}]
[null,null,{"$f":"IFERROR(INDEX('Modifikuoti svoriai '!$D$5:$K$29,MATCH(B2685,'Modifikuoti svoriai '!$C$5:$C$29,0),MATCH(A2685,'Modifikuoti svoriai '!$D$4:$K$4,0)),\"\")","v":""}]
[null,null,{"$f":"IFERROR(INDEX('Modifikuoti svoriai '!$D$5:$K$29,MATCH(B2686,'Modifikuoti svoriai '!$C$5:$C$29,0),MATCH(A2686,'Modifikuoti svoriai '!$D$4:$K$4,0)),\"\")","v":""}]
[null,null,{"$f":"IFERROR(INDEX('Modifikuoti svoriai '!$D$5:$K$29,MATCH(B2687,'Modifikuoti svoriai '!$C$5:$C$29,0),MATCH(A2687,'Modifikuoti svoriai '!$D$4:$K$4,0)),\"\")","v":""}]
[null,null,{"$f":"IFERROR(INDEX('Modifikuoti svoriai '!$D$5:$K$29,MATCH(B2688,'Modifikuoti svoriai '!$C$5:$C$29,0),MATCH(A2688,'Modifikuoti svoriai '!$D$4:$K$4,0)),\"\")","v":""}]
[null,null,{"$f":"IFERROR(INDEX('Modifikuoti svoriai '!$D$5:$K$29,MATCH(B2689,'Modifikuoti svoriai '!$C$5:$C$29,0),MATCH(A2689,'Modifikuoti svoriai '!$D$4:$K$4,0)),\"\")","v":""}]
[null,null,{"$f":"IFERROR(INDEX('Modifikuoti svoriai '!$D$5:$K$29,MATCH(B2690,'Modifikuoti svoriai '!$C$5:$C$29,0),MATCH(A2690,'Modifikuoti svoriai '!$D$4:$K$4,0)),\"\")","v":""}]
[null,null,{"$f":"IFERROR(INDEX('Modifikuoti svoriai '!$D$5:$K$29,MATCH(B2691,'Modifikuoti svoriai '!$C$5:$C$29,0),MATCH(A2691,'Modifikuoti svoriai '!$D$4:$K$4,0)),\"\")","v":""}]
[null,null,{"$f":"IFERROR(INDEX('Modifikuoti svoriai '!$D$5:$K$29,MATCH(B2692,'Modifikuoti svoriai '!$C$5:$C$29,0),MATCH(A2692,'Modifikuoti svoriai '!$D$4:$K$4,0)),\"\")","v":""}]
[null,null,{"$f":"IFERROR(INDEX('Modifikuoti svoriai '!$D$5:$K$29,MATCH(B2693,'Modifikuoti svoriai '!$C$5:$C$29,0),MATCH(A2693,'Modifikuoti svoriai '!$D$4:$K$4,0)),\"\")","v":""}]
[null,null,{"$f":"IFERROR(INDEX('Modifikuoti svoriai '!$D$5:$K$29,MATCH(B2694,'Modifikuoti svoriai '!$C$5:$C$29,0),MATCH(A2694,'Modifikuoti svoriai '!$D$4:$K$4,0)),\"\")","v":""}]
[null,null,{"$f":"IFERROR(INDEX('Modifikuoti svoriai '!$D$5:$K$29,MATCH(B2695,'Modifikuoti svoriai '!$C$5:$C$29,0),MATCH(A2695,'Modifikuoti svoriai '!$D$4:$K$4,0)),\"\")","v":""}]
[null,null,{"$f":"IFERROR(INDEX('Modifikuoti svoriai '!$D$5:$K$29,MATCH(B2696,'Modifikuoti svoriai '!$C$5:$C$29,0),MATCH(A2696,'Modifikuoti svoriai '!$D$4:$K$4,0)),\"\")","v":""}]
[null,null,{"$f":"IFERROR(INDEX('Modifikuoti svoriai '!$D$5:$K$29,MATCH(B2697,'Modifikuoti svoriai '!$C$5:$C$29,0),MATCH(A2697,'Modifikuoti svoriai '!$D$4:$K$4,0)),\"\")","v":""}]

{"sheet":"Alternatyvūs pasirinkimai","index":31,"n_rows":6,"n_cols":10,"rows_kept":6,"cut":false,"hidden":true,"merged":[]}
[]
[]
[]
[]
[]
["Pastato elementas","Konstrukcija / tipas","Jeigu pasirinkote „Kita konstrukcija / tipas\", prašome nurodyti","Dalis / prietaisai","Jeigu pasirinkote  „Kita dalis / prietaisai\", prašome nurodyti","Medžiaga","Jeigu pasirinkote „Kita medžiaga\", prašome nurodyti","Dalies / prietaiso / medžiagos naudingo tarnavimo laikotarpis, metų skaičius","Jeigu pasirinkote „Kita\", prašome nurodyti alternatyvų naudingo tarnavimo laikotarpį","Jeigu įrašėte pasirinkimą „Kita\", prašome paaiškinti ir nurodyti tai pagrindžiantį šaltinį"]

{"sheet":"Bendrosios pastato išlaidos","index":32,"n_rows":67,"n_cols":14,"rows_kept":67,"cut":false,"hidden":true,"merged":[[10,4,17,4],[66,2,66,4],[60,2,60,4],[61,2,61,4],[62,2,62,4],[63,2,63,4],[64,2,64,4],[65,2,65,4]]}
[]
[null,"PASTATŲ GYVAVIMO CIKLO SĄNAUDŲ SKAIČIUOKLĖ"]
[]
[]
[]
[null,"Bendrosios pastato elementų išlaidų duomenų įvestys"]
[]
[null,"Pastato elemento išlaidų apibendrinimas"]
[null,"Investicijų išlaidos","Iš viso, EUR","Investicijų išlaidos, EUR","Investicijų pasikartojimo periodas (metais)",{"$f":"YEAR('Bendrieji įvesties duomenys'!$C$6)+COLUMN(C8)-3","v":2019},{"$f":"YEAR('Bendrieji įvesties duomenys'!$C$6)+COLUMN(D8)-3","v":2020},{"$f":"YEAR('Bendrieji įvesties duomenys'!$C$6)+COLUMN(E8)-3","v":2021},{"$f":"YEAR('Bendrieji įvesties duomenys'!$C$6)+COLUMN(F8)-3","v":2022},{"$f":"YEAR('Bendrieji įvesties duomenys'!$C$6)+COLUMN(G8)-3","v":2023},{"$f":"YEAR('Bendrieji įvesties duomenys'!$C$6)+COLUMN(H8)-3","v":2024},{"$f":"YEAR('Bendrieji įvesties duomenys'!$C$6)+COLUMN(I8)-3","v":2025},{"$f":"YEAR('Bendrieji įvesties duomenys'!$C$6)+COLUMN(J8)-3","v":2026},{"$f":"YEAR('Bendrieji įvesties duomenys'!$C$6)+COLUMN(K8)-3","v":2027}]
[null,"A. Turto įsigijimo ir kūrimo išlaidos",{"$f":"SUM(F10:OFFSET(F10,0,1000))","v":0},{"$f":"SUM(D11:D17)","v":0},{"$f":"'Elementų tarnavimo trukmė'!$O$7","v":0},{"$f":"IFERROR(IF(MOD(F$9,$E10+1)=MOD($F$9,$E10+1),$D10,0),0)","v":0},{"$f":"IFERROR(IF(MOD(G$9,$E10+1)=MOD($F$9,$E10+1),$D10,0),0)","v":0},0,0,0,0,0,0,0]
[null,"A.1. Žaliavų, medžiagų, sudedamųjų dalių ir detalių, sunaudotų kuriant ilgalaikį turtą, įsigijimo išlaidos",{"$f":"SUM(F11:OFFSET(F11,0,1000))","v":0},null,null,{"$f":"IFERROR(IF(MOD(F$9,$E10+1)=MOD($F$9,$E10+1),$D11,0),0)","v":0},{"$f":"IFERROR(IF(MOD(G$9,$E10+1)=MOD($F$9,$E10+1),$D11,0),0)","v":0},0,0,0,0,0,0,0]
[null,"A.2. Statyba",{"$f":"SUM(F12:OFFSET(F12,0,1000))","v":0},null,null,{"$f":"IFERROR(IF(MOD(F$9,$E10+1)=MOD($F$9,$E10+1),$D12,0),0)","v":0},{"$f":"IFERROR(IF(MOD(G$9,$E10+1)=MOD($F$9,$E10+1),$D12,0),0)","v":0},0,0,0,0,0,0,0]
[null,"A.3. Rekonstravimas",{"$f":"SUM(F13:OFFSET(F13,0,1000))","v":0},null,null,{"$f":"IFERROR(IF(MOD(F$9,$E10+1)=MOD($F$9,$E10+1),$D13,0),0)","v":0},{"$f":"IFERROR(IF(MOD(G$9,$E10+1)=MOD($F$9,$E10+1),$D13,0),0)","v":0},0,0,0,0,0,0,0]
[null,"A.4. Kapitalinis remontas",{"$f":"SUM(F14:OFFSET(F14,0,1000))","v":0},null,null,{"$f":"IFERROR(IF(MOD(F$9,$E10+1)=MOD($F$9,$E10+1),$D14,0),0)","v":0},{"$f":"IFERROR(IF(MOD(G$9,$E10+1)=MOD($F$9,$E10+1),$D14,0),0)","v":0},0,0,0,0,0,0,0]
[null,"A.5. Projektavimo paslaugos",{"$f":"SUM(F15:OFFSET(F15,0,1000))","v":0},null,null,{"$f":"IFERROR(IF(MOD(F$9,$E10+1)=MOD($F$9,$E10+1),$D15,0),0)","v":0},{"$f":"IFERROR(IF(MOD(G$9,$E10+1)=MOD($F$9,$E10+1),$D15,0),0)","v":0},0,0,0,0,0,0,0]
[null,"A.6. Techninės priežiūros paslaugos",{"$f":"SUM(F16:OFFSET(F16,0,1000))","v":0},null,null,{"$f":"IFERROR(IF(MOD(F$9,$E10+1)=MOD($F$9,$E10+1),$D16,0),0)","v":0},{"$f":"IFERROR(IF(MOD(G$9,$E10+1)=MOD($F$9,$E10+1),$D16,0),0)","v":0},0,0,0,0,0,0,0]
[null,"A.7. Kitos su investicijomis į ilgalaikį turtą susijusios paslaugos ir išlaidos",{"$f":"SUM(F17:OFFSET(F17,0,1000))","v":0},null,null,{"$f":"IFERROR(IF(MOD(F$9,$E10+1)=MOD($F$9,$E10+1),$D17,0),0)","v":0},{"$f":"IFERROR(IF(MOD(G$9,$E10+1)=MOD($F$9,$E10+1),$D17,0),0)","v":0},0,0,0,0,0,0,0]
[null,"B. Kitos paslaugos ir išlaidos",{"$f":"SUM(F18:OFFSET(F18,0,1000))","v":0},null,null,{"$f":"IFERROR(IF(MOD(F$9,$E10)=MOD($F$9,$E10),$D18,0),0)","v":0},{"$f":"IFERROR(IF(MOD(G$9,$E10)=MOD($F$9,$E10),$D18,0),0)","v":0},0,0,0,0,0,0,0]
[null,"D. Likutinė vertė",{"$f":"SUM(F19:OFFSET(F19,0,1000))","v":0}]
[null,"Iš viso (A + B)",{"$f":"SUM(F20:OFFSET(F20,0,1000))","v":0},null,null,{"$f":"F18+F10","v":0},{"$f":"G18+G10","v":0},{"$f":"H18+H10","v":0},0,0,0,0,0,0]
[]
[null,"Eksploatavimo ir veiklos išlaidos","Iš viso, EUR","Palaikymo išlaidos, EUR","Palaikymo išlaidų pasikartojimo periodas (metais)",{"$f":"YEAR('Bendrieji įvesties duomenys'!$C$6)+COLUMN(C22)-3","v":2019},{"$f":"YEAR('Bendrieji įvesties duomenys'!$C$6)+COLUMN(D22)-3","v":2020},{"$f":"YEAR('Bendrieji įvesties duomenys'!$C$6)+COLUMN(E22)-3","v":2021},{"$f":"YEAR('Bendrieji įvesties duomenys'!$C$6)+COLUMN(F22)-3","v":2022},{"$f":"YEAR('Bendrieji įvesties duomenys'!$C$6)+COLUMN(G22)-3","v":2023},{"$f":"YEAR('Bendrieji įvesties duomenys'!$C$6)+COLUMN(H22)-3","v":2024},{"$f":"YEAR('Bendrieji įvesties duomenys'!$C$6)+COLUMN(I22)-3","v":2025},{"$f":"YEAR('Bendrieji įvesties duomenys'!$C$6)+COLUMN(J22)-3","v":2026},{"$f":"YEAR('Bendrieji įvesties duomenys'!$C$6)+COLUMN(K22)-3","v":2027}]
[null,"D. Veiklos išlaidos",{"$f":"SUM(F23:OFFSET(F23,0,1000))","v":0},{"$f":"D24+D25+D26+D31+D47+D49+D53","v":0},null,{"$f":"F24+F25+F26+F31+F47+F49+F53","v":0},0,0,0,0,0,0,0,0]
[null,"D.1.Žaliavos",{"$f":"SUM(F24:OFFSET(F24,0,1000))","v":0},null,null,{"$f":"IFERROR(IF(MOD(F$9,$E24)=MOD($F$9,$E24),$D24,0),0)","v":0},{"$f":"IFERROR(IF(MOD(G$9,$E24)=MOD($F$9,$E24),$D24,0),0)","v":0},0,0,0,0,0,0,0]
[null,"D.2. Darbo užmokesčio išlaidos",{"$f":"SUM(F25:OFFSET(F25,0,1000))","v":0},null,null,0,0,0,0,0,0,0,0,0]
[null,"D.3. Komunalinių paslaugų išlaidos",{"$f":"SUM(F26:OFFSET(F26,0,1000))","v":0},{"$f":"D27+D28+D29+D30","v":0},null,{"$f":"F27+F28+F29+F30","v":0},0,0,0,0,0,0,0,0]
[null,"D.3.1. Vandens išlaidos",{"$f":"SUM(F27:OFFSET(F27,0,1000))","v":0},null,null,{"$f":"IFERROR(IF(MOD(F$9,$E27)=MOD($F$9,$E27),$D27,0),0)","v":0},0,0,0,0,0,0,0,0]
[null,"D.3.2. Elektros energijos išlaidos",{"$f":"SUM(F28:OFFSET(F28,0,1000))","v":0},null,null,0,0,0,0,0,0,0,0,0]
[null,"D.3.3. Šildymo (išskyrus elektrą) išlaidos",{"$f":"SUM(F29:OFFSET(F29,0,1000))","v":0},null,null,0,0,0,0,0,0,0,0,0]
[null,"D.3.4. Kitos komunalinės išlaidos",{"$f":"SUM(F30:OFFSET(F30,0,1000))","v":0},null,null,0,0,0,0,0,0,0,0,0]
[null,"D.4. Infrastruktūros būklės palaikymo (eksploatavimo) išlaidos",{"$f":"SUM(F31:OFFSET(F31,0,1000))","v":0},{"$f":"SUM(D32:D46)","v":0},null,{"$f":"SUM(F32:F46)","v":0},0,0,0,0,0,0,0,0]
[null,"D.4.1. Vėdinimo sistemų įrenginių eksploatacijos išlaidos",{"$f":"SUM(F32:OFFSET(F32,0,1000))","v":0},null,null,0,0,0,0,0,0,0,0,0]
[null,"D.4.2. Šilumos sistemų tinklų palaikymo (eksploatavimo) išlaidos",{"$f":"SUM(F33:OFFSET(F33,0,1000))","v":0},null,null,0,0,0,0,0,0,0,0,0]
[null,"D.4.3. Oro kondicionavimo ir šaldymo įrenginių eksploatacijos išlaidos",{"$f":"SUM(F34:OFFSET(F34,0,1000))","v":0},null,null,0,0,0,0,0,0,0,0,0]
[null,"D.4.4. Vandentiekio ir nuotekų tinklų įrenginių eksploatacijos išlaidos",{"$f":"SUM(F35:OFFSET(F35,0,1000))","v":0},null,null,0,0,0,0,0,0,0,0,0]
[null,"D.4.5 Lietaus surinkimo ir drenažo sistemos eksploatacijos išlaidos ",{"$f":"SUM(F36:OFFSET(F36,0,1000))","v":0},null,null,0,0,0,0,0,0,0,0,0]
[null,"D.4.6. Elektros tinklų įrenginių ekploatacijos išlaidos",{"$f":"SUM(F37:OFFSET(F37,0,1000))","v":0},null,null,0,0,0,0,0,0,0,0,0]
[null,"D.4.7. Dujotekio sistemos įrenginių eksploatacijos išlaidos",{"$f":"SUM(F38:OFFSET(F38,0,1000))","v":0},null,null,0,0,0,0,0,0,0,0,0]
[null,"D.4.8. Gaisro gesinimo ir perspėjimo sistemų įrenginių eksploatacijos išlaidos",{"$f":"SUM(F39:OFFSET(F39,0,1000))","v":0},null,null,0,0,0,0,0,0,0,0,0]
[null,"D.4.9. Apsaugos sistemos įrenginių ekploatacijos išlaidos",{"$f":"SUM(F40:OFFSET(F40,0,1000))","v":0},null,null,0,0,0,0,0,0,0,0,0]
[null,"D.4.10. Telekomunikacijos sistemos įrenginių eksploatacijos išlaidos",{"$f":"SUM(F41:OFFSET(F41,0,1000))","v":0},null,null,0,0,0,0,0,0,0,0,0]
[null,"D.4.11. Transportavimo sistemos įrenginių ekploatacijos išlaidos",{"$f":"SUM(F42:OFFSET(F42,0,1000))","v":0},null,null,0,0,0,0,0,0,0,0,0]
[null,"D.4.12. Apsaugos išlaidos",{"$f":"SUM(F43:OFFSET(F43,0,1000))","v":0},null,null,0,0,0,0,0,{"$f":"IFERROR(IF(MOD(K$9,$E43)=MOD($F$9,$E43),$D43,0),0)","v":0},0,0,0]
[null,"D.4.13. Valymo išlaidos",{"$f":"SUM(F44:OFFSET(F44,0,1000))","v":0},null,null,0,0,0,0,0,0,0,0,0]
[null,"D.4.14. Draudimo išlaidos",{"$f":"SUM(F45:OFFSET(F45,0,1000))","v":0},null,null,0,0,0,0,0,0,0,0,0]
[null,"D.4.15. Kitos išlaidos",{"$f":"SUM(F46:OFFSET(F46,0,1000))","v":0},null,null,0,0,0,0,0,0,{"$f":"IFERROR(IF(MOD(L$9,$E46)=MOD($F$9,$E46),$D46,0),0)","v":0},{"$f":"IFERROR(IF(MOD(M$9,$E46)=MOD($F$9,$E46),$D46,0),0)","v":0},{"$f":"IFERROR(IF(MOD(N$9,$E46)=MOD($F$9,$E46),$D46,0),0)","v":0}]
[null,"D.5. Remonto išlaidos",{"$f":"SUM(F47:OFFSET(F47,0,1000))","v":0},{"$f":"D48","v":0},null,{"$f":"F48","v":0},0,0,0,0,0,0,0,0]
[null,"D.5.1. Einamojo remonto išlaidos",{"$f":"SUM(F48:OFFSET(F48,0,1000))","v":0},null,null,0,0,0,0,0,0,0,0,0]
[null,"D.6. Utilizavimo išlaidos",{"$f":"SUM(F49:OFFSET(F49,0,1000))","v":0},{"$f":"SUM(D50:D52)","v":0},null,{"$f":"SUM(F50:F52)","v":0},0,0,0,0,0,0,0,0]
[null,"D.6.1. Atliekų surinkimo išlaidos",{"$f":"SUM(F50:OFFSET(F50,0,1000))","v":0},null,null,{"$f":"IFERROR(IF(MOD(F$9,$E50)=MOD($F$9,$E50),$D50,0),0)","v":0},0,0,0,0,0,0,0,0]
[null,"D.6.2. Perdirbimo išlaidos",{"$f":"SUM(F51:OFFSET(F51,0,1000))","v":0},null,null,0,0,0,0,0,0,0,0,0]
[null,"D.6.3. Turto išmontavimo (nugriovimo išlaidos)",{"$f":"SUM(F52:OFFSET(F52,0,1000))","v":0},null,null,0,0,0,0,0,0,0,0,0]
[null,"D.7. Kitos išlaidos",{"$f":"SUM(F53:OFFSET(F53,0,1000))","v":0},null,null,0,0,0,0,0,0,0,0,0]
[null,"E. Gautų paskolų palūkanos",{"$f":"SUM(F54:OFFSET(F54,0,1000))","v":0},null,null,0,0,0,0,0,0,0,0,0]
[null,"F. Mokesčiai",{"$f":"SUM(F55:OFFSET(F55,0,1000))","v":0},{"$f":"SUM(D56:D58)","v":0},null,{"$f":"SUM(F56:F58)","v":0},0,0,0,0,0,0,0,0]
[null,"F.1. Bendra importo/pirkimo PVM suma",{"$f":"SUM(F56:OFFSET(F56,0,1000))","v":0},null,null,0,0,0,0,0,0,0,0,0]
[null,"F.2. Bendra pardavimo PVM suma",{"$f":"SUM(F57:OFFSET(F57,0,1000))","v":0},null,null,0,0,0,0,0,0,0,0,0]
[null,"F.3. Bendra kitų mokėtinų netiesioginių mokesčių suma",{"$f":"SUM(F58:OFFSET(F58,0,1000))","v":0},null,null,0,0,0,0,0,0,0,0,0]
[null,"Iš viso (D + E + F)",{"$f":"SUM(F59:OFFSET(F59,0,1000))","v":0},null,null,{"$f":"F23+F54+F55","v":0},0,0,0,0,0,0,0,0]
[]
[null,"Išorinės socialinės - ekonominės išlaidos","Matavimo vnt",null,null,{"$f":"YEAR('Bendrieji įvesties duomenys'!$C$6)+COLUMN(C61)-3","v":2019},{"$f":"YEAR('Bendrieji įvesties duomenys'!$C$6)+COLUMN(D61)-3","v":2020},{"$f":"YEAR('Bendrieji įvesties duomenys'!$C$6)+COLUMN(E61)-3","v":2021},{"$f":"YEAR('Bendrieji įvesties duomenys'!$C$6)+COLUMN(F61)-3","v":2022},{"$f":"YEAR('Bendrieji įvesties duomenys'!$C$6)+COLUMN(G61)-3","v":2023},{"$f":"YEAR('Bendrieji įvesties duomenys'!$C$6)+COLUMN(H61)-3","v":2024},{"$f":"YEAR('Bendrieji įvesties duomenys'!$C$6)+COLUMN(I61)-3","v":2025},{"$f":"YEAR('Bendrieji įvesties duomenys'!$C$6)+COLUMN(J61)-3","v":2026},{"$f":"YEAR('Bendrieji įvesties duomenys'!$C$6)+COLUMN(K61)-3","v":2027}]
[null,"Elektros suvartojimo kiekis","MWh / metus"]
[null,"Elektros energijos taršos konversijos faktorius","t / MWh į t CO2 e / metus",null,null,{"$f":"SĄRAŠAI!$D$36","v":0.70699999999999996},{"$f":"SĄRAŠAI!$D$36","v":0.70699999999999996},{"$f":"SĄRAŠAI!$D$36","v":0.70699999999999996},{"$f":"SĄRAŠAI!$D$36","v":0.70699999999999996},{"$f":"SĄRAŠAI!$D$36","v":0.70699999999999996},{"$f":"SĄRAŠAI!$D$36","v":0.70699999999999996},{"$f":"SĄRAŠAI!$D$36","v":0.70699999999999996},{"$f":"SĄRAŠAI!$D$36","v":0.70699999999999996},{"$f":"SĄRAŠAI!$D$36","v":0.70699999999999996}]
[null,"Suvartojamas šilumos energijos kiekis","MWh / metus"]
[null,"Šilumos energijos taršos konversijos faktorius","t / MWh į t CO2 e / metus",null,null,{"$f":"SĄRAŠAI!$C$36","v":0.23300000000000001},{"$f":"SĄRAŠAI!$C$36","v":0.23300000000000001},{"$f":"SĄRAŠAI!$C$36","v":0.23300000000000001},{"$f":"SĄRAŠAI!$C$36","v":0.23300000000000001},{"$f":"SĄRAŠAI!$C$36","v":0.23300000000000001},{"$f":"SĄRAŠAI!$C$36","v":0.23300000000000001},{"$f":"SĄRAŠAI!$C$36","v":0.23300000000000001},{"$f":"SĄRAŠAI!$C$36","v":0.23300000000000001},{"$f":"SĄRAŠAI!$C$36","v":0.23300000000000001}]
[null,"Anglies dioksido (kaip šiltnamio efektą sukeliančių dujų) emisijos sumažėjimas (centrinė vertė)","EUR",null,null,{"$f":"SĄRAŠAI!D41","v":25},{"$f":"SĄRAŠAI!E41","v":25},{"$f":"SĄRAŠAI!F41","v":40},{"$f":"SĄRAŠAI!G41","v":40},{"$f":"SĄRAŠAI!H41","v":40},{"$f":"SĄRAŠAI!I41","v":40},{"$f":"SĄRAŠAI!J41","v":40},{"$f":"SĄRAŠAI!K41","v":40},{"$f":"SĄRAŠAI!L41","v":40}]
[null,"Iš viso","EUR",null,null,{"$f":"((F62*F63)+(F64*F65))*F66","v":0},0,0,0,0,0,0,0,0]

{"sheet":"Forma","index":33,"n_rows":44,"n_cols":21,"rows_kept":44,"cut":false,"hidden":true,"merged":[[14,8,14,9],[19,8,31,8],[33,10,33,11],[31,9,31,10],[17,10,18,10],[33,7,37,9],[4,10,13,10],[11,8,11,9],[12,8,12,9],[13,8,13,9],[1,1,2,1],[1,4,2,4],[2,8,2,9],[4,8,4,9],[5,8,5,9],[3,8,3,9],[6,8,6,9],[7,8,7,9],[8,8,8,9],[9,8,9,9],[10,8,10,9]]}
[null,"1",null,null,null,null,null,"Pastato elemento išlaidų įvestis",null,null,null,null,{"$f":"IF(M4>0,0,L1+1)","v":1},{"$f":"IF(N4>0,0,M1+1)","v":2},3,4,5,6,7,8,9]
[null,"Pastato elemento fiziniai parametrai ir tarnavimo laikotarpis",null,null,{"$f":"IF(E15<>\"\",E15,\"Nepasirinkta konstrukcija\")","v":"Nepasirinkta konstrukcija"},null,null,null,null,null,{"$f":"K4+1","v":1},null,{"$f":"IFERROR(IF(OFFSET(M3,0,1)=\"\",IF($E33<>\"\",IF(M1>0,SUM($I4-(M1*$I4/$K4)),0),SUM($I4-SUM(SUM(SUM(M3-YEAR($E38))-SUM(TRUNC((M3-YEAR($E38))/$K2)*$K2))*$I4/$K4))),0),0)","v":0},{"$f":"IFERROR(IF(OFFSET(N3,0,1)=\"\",IF($E33<>\"\",IF(N1>0,SUM($I4-(N1*$I4/$K4)),0),SUM($I4-SUM(SUM(SUM(N3-YEAR($E38))-SUM(TRUNC((N3-YEAR($E38))/$K2)*$K2))*$I4/$K4))),0),0)","v":0},0,0,0,0,0,0,0]
[null,null,null,null,null,null,null,"Investicijų išlaidos","Investicijų išlaidos, EUR",null,"Investicijų pasikartojimo periodas (metais)","Iš viso, EUR",{"$f":"YEAR('Bendrieji įvesties duomenys'!$C$6)+COLUMN(L3)-12","v":2019},{"$f":"YEAR('Bendrieji įvesties duomenys'!$C$6)+COLUMN(M3)-12","v":2020},{"$f":"YEAR('Bendrieji įvesties duomenys'!$C$6)+COLUMN(N3)-12","v":2021},{"$f":"YEAR('Bendrieji įvesties duomenys'!$C$6)+COLUMN(O3)-12","v":2022},{"$f":"YEAR('Bendrieji įvesties duomenys'!$C$6)+COLUMN(P3)-12","v":2023},{"$f":"YEAR('Bendrieji įvesties duomenys'!$C$6)+COLUMN(Q3)-12","v":2024},{"$f":"YEAR('Bendrieji įvesties duomenys'!$C$6)+COLUMN(R3)-12","v":2025},{"$f":"YEAR('Bendrieji įvesties duomenys'!$C$6)+COLUMN(S3)-12","v":2026},{"$f":"YEAR('Bendrieji įvesties duomenys'!$C$6)+COLUMN(T3)-12","v":2027}]
[null,null,null,null,null,null,null,"Investicijų suma",{"$f":"SUM(I5+I13)","v":0},null,{"$f":"E43","v":0},{"$f":"SUM(M4:OFFSET(M4,0,1000))","v":0},{"$f":"IFERROR(IF($E33>0,HLOOKUP(M33,$M38:OFFSET($M38,1,$E33-1),2,FALSE),M16),0)","v":0},{"$f":"IFERROR(IF($E33>0,HLOOKUP(N33,$M38:OFFSET($M38,1,$E33-1),2,FALSE),N16),0)","v":0},{"$f":"IFERROR(IF($E33>0,HLOOKUP(O33,$M38:OFFSET($M38,1,$E33-1),2,FALSE),O16),0)","v":0},{"$f":"IFERROR(IF($E33>0,HLOOKUP(P33,$M38:OFFSET($M38,1,$E33-1),2,FALSE),P16),0)","v":0},{"$f":"IFERROR(IF($E33>0,HLOOKUP(Q33,$M38:OFFSET($M38,1,$E33-1),2,FALSE),Q16),0)","v":0},{"$f":"IFERROR(IF($E33>0,HLOOKUP(R33,$M38:OFFSET($M38,1,$E33-1),2,FALSE),R16),0)","v":0},{"$f":"IFERROR(IF($E33>0,HLOOKUP(S33,$M38:OFFSET($M38,1,$E33-1),2,FALSE),S16),0)","v":0},{"$f":"IFERROR(IF($E33>0,HLOOKUP(T33,$M38:OFFSET($M38,1,$E33-1),2,FALSE),T16),0)","v":0},{"$f":"IFERROR(IF($E33>0,HLOOKUP(U33,$M38:OFFSET($M38,1,$E33-1),2,FALSE),U16),0)","v":0}]
[null,"Pastato paskirtis",null,null,{"$f":"'Bendrieji įvesties duomenys'!$C$29","v":"Administraciniai pastatai"},null,null,"A. Turto įsigijimo ir kūrimo išlaidos",{"$f":"SUM(I6:J12)","v":0},null,null,{"$f":"SUM(M5:OFFSET(M5,0,1000))","v":0},{"$f":"IFERROR(M4/$I4*$I5,0)","v":0},{"$f":"IFERROR(N4/$I4*$I5,0)","v":0},{"$f":"IFERROR(O4/$I4*$I5,0)","v":0},{"$f":"IFERROR(P4/$I4*$I5,0)","v":0},{"$f":"IFERROR(Q4/$I4*$I5,0)","v":0},0,0,0,0]
[null,null,null,null,null,null,null,"A.1. Žaliavų, medžiagų, sudedamųjų dalių ir detalių, sunaudotų kuriant ilgalaikį turtą, įsigijimo išlaidos",null,null,null,{"$f":"SUM(M6:OFFSET(M6,0,1000))","v":0},{"$f":"IFERROR(M4/$I4*$I6,0)","v":0},0,0,0,0,0,0,0,0]
[null,"Investavimo tikslas",null,null,null,null,null,"A.2. Statyba",null,null,null,{"$f":"SUM(M7:OFFSET(M7,0,1000))","v":0},{"$f":"IFERROR(M4/$I4*$I7,0)","v":0},0,0,0,0,0,0,0,0]
[null,null,null,null,null,null,null,"A.3. Rekonstravimas",null,null,null,{"$f":"SUM(M8:OFFSET(M8,0,1000))","v":0},{"$f":"IFERROR(M4/$I4*$I8,0)","v":0},0,0,0,0,0,0,0,0]
[null,"Pastato elementas",null,null,null,null,null,"A.4. Kapitalinis remontas",null,null,null,{"$f":"SUM(M9:OFFSET(M9,0,1000))","v":0},{"$f":"IFERROR(M4/$I4*$I9,0)","v":0},0,0,0,0,0,0,0,0]
[null,null,null,null,null,null,null,"A.5. Projektavimo paslaugos",null,null,null,{"$f":"SUM(M10:OFFSET(M10,0,1000))","v":0},{"$f":"IFERROR(M4/$I4*$I10,0)","v":0},0,0,0,0,0,0,0,0]
[null,"Pastato elemento atnaujinama dalis, %",null,null,null,null,null,"A.6. Techninės priežiūros paslaugos",null,null,null,{"$f":"SUM(M11:OFFSET(M11,0,1000))","v":0},{"$f":"IFERROR(M4/$I4*$I11,0)","v":0},0,0,0,0,0,0,0,0]
[null,null,null,null,null,null,null,"A.7. Kitos su investicijomis į ilgalaikį turtą susijusios paslaugos ir išlaidos",null,null,null,{"$f":"SUM(M12:OFFSET(M12,0,1000))","v":0},{"$f":"IFERROR(M4/$I4*$I12,0)","v":0},0,0,0,0,0,0,0,0]
[null,"Pastato elemento nenaujinama dalis, %",null,null,null,null,null,"B. Kitos paslaugos ir išlaidos",null,null,null,{"$f":"SUM(M13:OFFSET(M13,0,1000))","v":0},{"$f":"IFERROR(M4/$I4*$I13,0)","v":0},{"$f":"IFERROR(N4/$I4*$I13,0)","v":0},{"$f":"IFERROR(O4/$I4*$I13,0)","v":0},{"$f":"IFERROR(P4/$I4*$I13,0)","v":0},{"$f":"IFERROR(Q4/$I4*$I13,0)","v":0},0,0,0,0]
[null,null,null,null,null,null,null,"C. Likutinės vertės pinigų srautas",null,null,null,{"$f":"IFERROR(SUM(M14:OFFSET(M14,0,1000)),0)","v":0},{"$f":"IF(M2<0,0,M2)","v":0},{"$f":"IF(N2<0,0,N2)","v":0},0,0,0,0,0,0,0]
[null,"Konstrukcija / tipas",null,null,null,null,null,"Iš viso (A + B)",null,null,null,{"$f":"SUM(M15:OFFSET(M15,0,1000))","v":0},{"$f":"M5+M13","v":0},{"$f":"N5+N13","v":0},0,0,0,0,0,0,0]
[null,null,null,null,null,null,null,null,null,null,null,null,{"$f":"IFERROR(IF($E33>0,IF(M$2<=YEAR($E35),IF($E35<>\"\",IF(AND(M$2>=YEAR($E35),MOD(YEAR($E35),$K4+1)=MOD(M$2,$K4+1)),$I4,0),IF(AND(M$2>=YEAR($E38),MOD(YEAR($E38),$K4+1)=MOD(M$2,$K4+1)),$I4,0)),IF(OFFSET(M16,0,-1*($K4+$E33))>0,$I4,0)),IF(AND(M$2>=YEAR($E38),MOD(YEAR($E38),$K4+1)=MOD(M$2,$K4+1)),$I4,0)),0)","v":0},{"$f":"IFERROR(IF($E33>0,IF(N$2<=YEAR($E35),IF($E35<>\"\",IF(AND(N$2>=YEAR($E35),MOD(YEAR($E35),$K4+1)=MOD(N$2,$K4+1)),$I4,0),IF(AND(N$2>=YEAR($E38),MOD(YEAR($E38),$K4+1)=MOD(N$2,$K4+1)),$I4,0)),IF(OFFSET(N16,0,-1*($K4+$E33))>0,$I4,0)),IF(AND(N$2>=YEAR($E38),MOD(YEAR($E38),$K4+1)=MOD(N$2,$K4+1)),$I4,0)),0)","v":0},0,0,0,0,0,0,0]
[null,"Jeigu pasirinkote „Kita konstrukcija / tipas\", prašome nurodyti",null,null,null,null,null,"Eksploatavimo ir veiklos išlaidos","Palaikymo išlaidos (% nuo CAPEX)","Palaikymo išlaidos, EUR","Palaikymo išlaidų pasikartojimo periodas (metais)","Iš viso, EUR",{"$f":"YEAR('Bendrieji įvesties duomenys'!$C$6)+COLUMN(L17)-12","v":2019},{"$f":"YEAR('Bendrieji įvesties duomenys'!$C$6)+COLUMN(M17)-12","v":2020},{"$f":"YEAR('Bendrieji įvesties duomenys'!$C$6)+COLUMN(N17)-12","v":2021},{"$f":"YEAR('Bendrieji įvesties duomenys'!$C$6)+COLUMN(O17)-12","v":2022},{"$f":"YEAR('Bendrieji įvesties duomenys'!$C$6)+COLUMN(P17)-12","v":2023},{"$f":"YEAR('Bendrieji įvesties duomenys'!$C$6)+COLUMN(Q17)-12","v":2024},{"$f":"YEAR('Bendrieji įvesties duomenys'!$C$6)+COLUMN(R17)-12","v":2025},{"$f":"YEAR('Bendrieji įvesties duomenys'!$C$6)+COLUMN(S17)-12","v":2026},{"$f":"YEAR('Bendrieji įvesties duomenys'!$C$6)+COLUMN(T17)-12","v":2027}]
[null,null,null,null,null,null,null,"D. Veiklos išlaidos laikantis rinkoje taikomų eksploatavimo apimčių",null,{"$f":"I18*$I4","v":0},null,{"$f":"SUM(M18:OFFSET(M18,0,1000))","v":0},{"$f":"IFERROR(IF($I18>0,IF($E35<>\"\",IF(M$2<YEAR($E35)+1,0,$I18*$I4),IF(M$2<YEAR($E38),0,$I18*$I4)),0),0)","v":0},{"$f":"IFERROR(IF($I18>0,IF($E35<>\"\",IF(N$2<YEAR($E35)+1,0,$I18*$I4),IF(N$2<YEAR($E38),0,$I18*$I4)),0),0)","v":0},0,0,0,0,0,0,0]
[null,"Dalis / prietaisai",null,null,null,null,null,"D. Veiklos išlaidos laikantis pildančios institucijos taikomų eksploatavimo apimčių",null,{"$f":"I19*$I4","v":0},null,{"$f":"SUM(M19:OFFSET(M19,0,1000))","v":0},{"$f":"IFERROR(IF($I19>0,IF($E35<>\"\",IF(M$2<YEAR($E35)+1,0,$I19*$I4),IF(M$2<YEAR($E38),0,$I19*$I4)),0),0)","v":0},{"$f":"IFERROR(IF($I19>0,IF($E35<>\"\",IF(N$2<YEAR($E35)+1,0,$I19*$I4),IF(N$2<YEAR($E38),0,$I19*$I4)),0),0)","v":0},0,0,0,0,0,0,0]
[null,null,null,null,null,null,null,"D.1.Žaliavos",null,null,null,{"$f":"SUM(M20:OFFSET(M20,0,1000))","v":0},{"$f":"IFERROR(IF($E35<>\"\",IF(AND(M$2>=YEAR($E35)+1,MOD(YEAR($E35),$K20)=MOD(M$2,$K20)),$J20,0),IF(AND(M$2>=YEAR($E38),MOD(YEAR($E38),$K20)=MOD(M$2,$K20)),$J20,0)),0)","v":0},{"$f":"IFERROR(IF($E35<>\"\",IF(AND(N$2>=YEAR($E35)+1,MOD(YEAR($E35),$K20)=MOD(N$2,$K20)),$J20,0),IF(AND(N$2>=YEAR($E38),MOD(YEAR($E38),$K20)=MOD(N$2,$K20)),$J20,0)),0)","v":0},0,0,0,0,0,0,0]
[null,"Jeigu pasirinkote  „Kita dalis / prietaisai\", prašome nurodyti",null,null,null,null,null,"D.2. Darbo užmokesčio išlaidos",null,null,null,{"$f":"SUM(M21:OFFSET(M21,0,1000))","v":0},{"$f":"IFERROR(IF($E35<>\"\",IF(AND(M$2>=YEAR($E35)+1,MOD(YEAR($E35),$K21)=MOD(M$2,$K21)),$J21,0),IF(AND(M$2>=YEAR($E38),MOD(YEAR($E38),$K21)=MOD(M$2,$K21)),$J21,0)),0)","v":0},{"$f":"IFERROR(IF($E35<>\"\",IF(AND(N$2>=YEAR($E35)+1,MOD(YEAR($E35),$K21)=MOD(N$2,$K21)),$J21,0),IF(AND(N$2>=YEAR($E38),MOD(YEAR($E38),$K21)=MOD(N$2,$K21)),$J21,0)),0)","v":0},0,0,0,0,0,0,0]
[null,null,null,null,null,null,null,"D.4. Infrastruktūros būklės palaikymo (eksploatavimo) išlaidos",null,{"$f":"SUM(J23:J24)","v":0},null,{"$f":"SUM(M22:OFFSET(M22,0,1000))","v":0},{"$f":"SUM(M23:M24)","v":0},{"$f":"SUM(N23:N24)","v":0},{"$f":"SUM(O23:O24)","v":0},0,0,0,0,0,0]
[null,"Medžiaga",null,null,null,null,null,"D.4.0 Su pastato elementu susijusios infrastruktūros išlaidos ",null,null,null,{"$f":"SUM(M23:OFFSET(M23,0,1000))","v":0},{"$f":"IFERROR(IF($E35<>\"\",IF(AND(M$2>=YEAR($E35)+1,MOD(YEAR($E35),$K23)=MOD(M$2,$K23)),$J23,0),IF(AND(M$2>=YEAR($E38),MOD(YEAR($E38),$K23)=MOD(M$2,$K23)),$J23,0)),0)","v":0},0,0,0,0,0,0,0,0]
[null,null,null,null,null,null,null,"D.4.15. Kitos išlaidos",null,null,null,{"$f":"SUM(M24:OFFSET(M24,0,1000))","v":0},{"$f":"IFERROR(IF($E35<>\"\",IF(AND(M$2>=YEAR($E35)+1,MOD(YEAR($E35),$K24)=MOD(M$2,$K24)),$J24,0),IF(AND(M$2>=YEAR($E38),MOD(YEAR($E38),$K24)=MOD(M$2,$K24)),$J24,0)),0)","v":0},0,0,0,0,0,0,0,0]
[null,"Jeigu pasirinkote „Kita medžiaga\", prašome nurodyti",null,null,null,null,null,"D.5. Remonto išlaidos",null,{"$f":"J26","v":0},null,{"$f":"SUM(M25:OFFSET(M25,0,1000))","v":0},{"$f":"SUM(M26)","v":0},{"$f":"SUM(N26)","v":0},0,0,0,0,0,0,0]
[null,null,null,null,null,null,null,"D.5.1. Einamojo remonto išlaidos",null,null,null,{"$f":"SUM(M26:OFFSET(M26,0,1000))","v":0},{"$f":"IFERROR(IF($E35<>\"\",IF(AND(M$2>=YEAR($E35)+1,MOD(YEAR($E35),$K26)=MOD(M$2,$K26)),$J26,0),IF(AND(M$2>=YEAR($E38),MOD(YEAR($E38),$K26)=MOD(M$2,$K26)),$J26,0)),0)","v":0},0,0,0,0,0,0,0,0]
[null,"Dalies / prietaiso / medžiagos naudingo tarnavimo laikotarpis, metų skaičius",null," ",null,null,null,"D.6. Utilizavimo išlaidos",null,{"$f":"SUM(J28:J30)","v":0},null,{"$f":"SUM(M27:OFFSET(M27,0,1000))","v":0},{"$f":"SUM(M28:M30)","v":0},0,0,0,0,0,0,0,0]
[null,null,null,null,null,null,null,"D.6.1. Atliekų surinkimo išlaidos",null,null,null,{"$f":"SUM(M28:OFFSET(M28,0,1000))","v":0},{"$f":"IFERROR(IF($E35<>\"\",IF(AND(M$2>=YEAR($E35)+1,MOD(YEAR($E35),$K28)=MOD(M$2,$K28)),$J28,0),IF(AND(M$2>=YEAR($E38),MOD(YEAR($E38),$K28)=MOD(M$2,$K28)),$J28,0)),0)","v":0},0,0,0,0,0,0,0,0]
[null,"Jeigu pasirinkote „Kita\", prašome nurodyti alternatyvų naudingo tarnavimo laikotarpį",null,null,null,null,null,"D.6.2. Perdirbimo išlaidos",null,null,null,{"$f":"SUM(M29:OFFSET(M29,0,1000))","v":0},{"$f":"IFERROR(IF($E35<>\"\",IF(AND(M$2>=YEAR($E35)+1,MOD(YEAR($E35),$K29)=MOD(M$2,$K29)),$J29,0),IF(AND(M$2>=YEAR($E38),MOD(YEAR($E38),$K29)=MOD(M$2,$K29)),$J29,0)),0)","v":0},0,0,0,0,0,0,0,0]
[null,"Jeigu įrašėte pasirinkimą „Kita\", prašome paaiškinti ir nurodyti tai pagrindžiantį šaltinį",null,null,null,null,null,"D.6.3. Turto išmontavimo (nugriovimo išlaidos)",null,null,null,{"$f":"SUM(M30:OFFSET(M30,0,1000))","v":0},{"$f":"IFERROR(IF($E35<>\"\",IF(AND(M$2>=YEAR($E35)+1,MOD(YEAR($E35),$K30)=MOD(M$2,$K30)),$J30,0),IF(AND(M$2>=YEAR($E38),MOD(YEAR($E38),$K30)=MOD(M$2,$K30)),$J30,0)),0)","v":0},0,0,0,0,0,0,0,0]
[null,"Įvedimo į eksploataciją data (YYYY-MM-DD) (praeityje sukurto objekto)",null,null,{"$f":"IF('Bendrieji įvesties duomenys'!$C$33<>\"\",'Bendrieji įvesties duomenys'!$C$33,\"\")","v":""},null,null,"D.7. Kitos išlaidos",null,null,null,{"$f":"SUM(M31:OFFSET(M31,0,1000))","v":0},{"$f":"IFERROR(IF($E35<>\"\",IF(AND(M$2>=YEAR($E35)+1,MOD(YEAR($E35),$K31)=MOD(M$2,$K31)),$J31,0),IF(AND(M$2>=YEAR($E38),MOD(YEAR($E38),$K31)=MOD(M$2,$K31)),$J31,0)),0)","v":0},0,0,0,0,0,0,0,0]
[null,null,null,null,null,null,null,"D'. Veiklos išlaidos pagal pildančios institucijos numatytas palaikymo apimtis",null,null,null,{"$f":"SUM(M32:OFFSET(M32,0,1000))","v":0},{"$f":"IF(SUM($J31,$J27,$J25,$J22,$J21,$J20)>0,SUM(M31,M27,M25,M22,M21,M20),IF($I19<>\"\",M19,M18))","v":0},0,0,0,0,0,0,0,0]
[null,"Jeigu pastato konstrukcijos/tipo arba dalies/prietaiso atnaujinimas arba kūrimas bus vykdomas ateityje, per kiek metų nuo pildymo datos planuojama atlikti investicijas",null,null,null,null,null,null,null,null,{"$f":"IF(K34<>\"\",IF(SUM(M36:W36)<>100%,\"Neteisingas investicijų paskirstymas\",\"\"),\"\")","v":""},null,{"$f":"IF(OFFSET(M16,0,$E33-1)>0,1,IF(AND(L33<>$E33,L33<>0),L33+1,0))","v":0},0,0,0,0,0,0,0,0]
[null,null,null,null,null,null,null,"Investicijų paskirstymo lentelė",null,null,{"$f":"IF(E35<>\"\",\"Investicijų paskirstymo lentelė\",\"\")","v":""}]
[null,"Konstrukcijos / tipo arba dalies / prietaiso būsimų investicijų pabaigos ir įvedimo į eksploataciją data",null,null,{"$f":"IFERROR(IF(E33=0,\"\",'Bendrieji įvesties duomenys'!$C$6+($E33-1)*365),0)","v":""},null,null,null,null,null,{"$f":"IF(E35<>\"\",\"Metai\",\"\")","v":""},{"$f":"IF(E35<>\"\",\".\",\"\")","v":""},{"$f":"IF(AND($E33<>\"\",K35=\"Metai\"),$M3,IFERROR(IF(L35<>YEAR($E35),L35+1,\"\"),\"\"))","v":""},{"$f":"IF(AND($E33<>\"\",L35=\"Metai\"),$M3,IFERROR(IF(M35<>YEAR($E35),M35+1,\"\"),\"\"))","v":""},"","","","","","",""]
[null,null,null,null,null,null,null,null,null,null,{"$f":"IF(E35<>\"\",\"Investicijų apimtis (%)\",\"\")","v":""},{"$f":"IF(E35<>\"\",\".\",\"\")","v":""}]
[null,"Konstrukcijos / tipo arba dalies / prietaiso pilno atnaujinimo data (jei toks atnaujinimas buvo atliktas)",null,null,null,null,null,null,null,null,{"$f":"IF(E35<>\"\",\"Investicijų suma\",\"\")","v":""},{"$f":"IF(E35<>\"\",\".\",\"\")","v":""},{"$f":"M36*($I4)","v":0},0,0,0,0,0,0,0,0]
[null,"Sukūrimo / atnaujinimo data",null,null,{"$f":"IF($E35<>\"\",$E35,IF($E37<>\"\",$E37,$E31))","v":""},null,null,null,null,null,{"$f":"IF(E35<>\"\",\"Periodas\",\"\")","v":""},{"$f":"IF(E35<>\"\",\".\",\"\")","v":""},{"$f":"IFERROR(IF(K38=\"Periodas\",1,L38+1),\"\")","v":""},"","","","","","","",""]
[null,"Konstrukcijos / tipo arba dalies / prietaiso tarnavimo laikotarpio pabaiga",null,null,{"$f":"IFERROR(IF(E37<>\"\",E37+365*E43,IF(E35<>\"\",E35+365*E43,E31+365*E43)),0)","v":"00:00:00"},null,null,null,null,null,{"$f":"IF(E35<>\"\",\"Investicijų suma\",\"\")","v":""},null,{"$f":"M37","v":0},{"$f":"N37","v":0},{"$f":"O37","v":0},{"$f":"P37","v":0},{"$f":"Q37","v":0},0,0,0,0]
[null,"Skaičiavimuose naudojamas naudingo tarnavimo laikotarpis",null,null,{"$f":"IF(YEAR($E39)-YEAR('Bendrieji įvesties duomenys'!$C$6)<0,0,YEAR($E39)-YEAR('Bendrieji įvesties duomenys'!$C$6))","v":0}]
[null,"Jeigu aktualus, netinkamas palaikymo lygis (%)",null,null,{"$f":"IFERROR(IF(SUM(J20,J21,J23,J24,J26,J28,J30,J29,J31)>0,1-(SUM(IFERROR(J20/K20,0),IFERROR(J21/K21,0),IFERROR(J23/K23,0),IFERROR(J24/K24,0),IFERROR(J26/K26,0),IFERROR(J28/K28,0),IFERROR(J29/K29,0),IFERROR(J30/K30,0),IFERROR(J31/K31,0))/$I4)/$I18,IF($I19>0,1-$I19/$I18,0%)),0)","v":0}]
[]
[null,"Perskaičiuotas naudingo tarnavimo laikotarpis",null,null,{"$f":"IFERROR(ROUND(IF(E29<>\"\",E29*(1-E41),E27*(1-E41)),0),0)","v":0}]
[null,"Ar lentelė baigta pildyti?",null,null,"Ne"]

{"sheet":"Miestų klasifikatorius","index":34,"n_rows":176,"n_cols":3,"rows_kept":176,"cut":false,"hidden":true,"merged":[]}
["Apskritis","Savivaldybė","Miestas"]
["Alytaus apskritis"]
[null,"Alytaus m. sav."]
[null,null,"Alytus"]
[null,"Alytaus r. sav."]
[null,null,"Daugai"]
[null,null,"Simnas"]
[null,null,"Vabalninkas"]
[null,"Druskininkų sav."]
[null,null,"Druskininkai"]
[null,"Lazdijų r. sav."]
[null,null,"Lazdijai"]
[null,null,"Veisiejai"]
[null,"Varėnos r. sav."]
[null,null,"Varėna"]
["Kauno apskritis"]
[null,"Birštono sav."]
[null,null,"Birštonas"]
[null,"Jonavos r. sav."]
[null,null,"Jonava"]
[null,"Kaišiadorių r. sav."]
[null,null,"Kaišiadorys"]
[null,null,"Žiežmariai"]
[null,"Kauno m. sav."]
[null,null,"Kaunas"]
[null,"Kauno r. sav."]
[null,null,"Ežerėlis"]
[null,null,"Jonava"]
[null,null,"Vilkija"]
[null,"Kėdainių r. sav."]
[null,null,"Kėdainiai"]
[null,"Prienų r. sav."]
[null,null,"Jieznas"]
[null,null,"Prienai"]
[null,"Raseinių r. sav."]
[null,null,"Ariogala"]
[null,null,"Raseiniai"]
["Klaipėdos apskritis"]
[null,"Klaipėdos m. sav."]
[null,null,"Klaipėda"]
[null,"Klaipėdos r. sav."]
[null,null,"Gargždai"]
[null,null,"Garliava"]
[null,null,"Priekulė"]
[null,null,"Salantai"]
[null,"Kretingos r. sav."]
[null,null,"Kretinga"]
[null,"Neringos sav."]
[null,null,"Neringa"]
[null,"Palangos m. sav."]
[null,null,"Palanga"]
[null,"Skuodo r. sav."]
[null,null,"Skuodas"]
[null,"Šilutės r. sav."]
[null,null,"Šilutė"]
["Marijampolės apskritis"]
[null,"Kalvarijos sav."]
[null,null,"Kalvarija"]
[null,"Kazlų Rūdos sav."]
[null,null,"Kazlų Rūda"]
[null,"Marijampolės sav."]
[null,null,"Marijampolė"]
[null,"Marijampolės r. sav."]
[null,"Šakių r. sav."]
[null,null,"Gelgaudiškis"]
[null,null,"Kudirkos Naumiestis"]
[null,null,"Šakiai"]
[null,"Vilkaviškio r. sav."]
[null,null,"Vilkaviškis"]
[null,null,"Kybartai"]
[null,null,"Virbalis"]
["Panevėžio apskritis"]
[null,"Biržų r. sav."]
[null,null,"Biržai"]
[null,"Kupiškio r. sav."]
[null,null,"Kupiškis"]
[null,null,"Subačius"]
[null,"Panevėžio m. sav."]
[null,null,"Panevėžys"]
[null,"Panevėžio r. sav."]
[null,null,"Joniškėlis"]
[null,null,"Ramygala"]
[null,"Pasvalio r. sav."]
[null,null,"Pasvalys"]
[null,"Rokiškio r. sav."]
[null,null,"Rokškis"]
[null,null,"Obeliai"]
[null,null,"Pandėlys"]
["Šiaulių apskritis"]
[null,"Akmenės r. sav."]
[null,null,"Akmenė"]
[null,null,"Naujoji Akmenė"]
[null,null,"Venta"]
[null,"Joniškio r. sav."]
[null,null,"Joniškis"]
[null,null,"Žagarė"]
[null,"Kelmės r. sav."]
[null,null,"Kelmė"]
[null,null,"Tytuvėnai"]
[null,null,"Užventis"]
[null,"Pakruojo r. sav."]
[null,null,"Pakruojis"]
[null,null,"Linkuva"]
[null,"Radviliškio r. sav."]
[null,null,"Radviliškis"]
[null,null,"Šeduva"]
[null,"Šiaulių m. sav."]
[null,null,"Šiauliai"]
[null,"Šiaulių r. sav."]
[null,null,"Kuršėnai"]
["Tauragės apskritis"]
[null,"Jurbarko r. sav."]
[null,null,"Jurbarkas"]
[null,null,"Smalininkai"]
[null,"Pagėgių sav."]
[null,null,"Pagėgiai"]
[null,null,"Panemunė"]
[null,"Šilalės r. sav."]
[null,null,"Šilalė"]
[null,"Tauragės r. sav."]
[null,null,"Tauragė"]
[null,null,"Skaudvilė"]
["Telšių apskritis"]
[null,"Mažeikių r. sav."]
[null,null,"Mažeikiai"]
[null,null,"Seda"]
[null,null,"Vienkšiai"]
[null,"Plungės r. sav."]
[null,null,"Plungė"]
[null,"Rietavo sav."]
[null,null,"Rietavas"]
[null,"Telšių r. sav."]
[null,null,"Telšiai"]
[null,null,"Varniai"]
["Utenos apskritis"]
[null,"Anykščių r. sav."]
[null,null,"Anykščiai"]
[null,null,"Kavarskas"]
[null,null,"Troškūnai"]
[null,"Ignalinos r. sav."]
[null,null,"Dūkštas"]
[null,null,"Ignalina"]
[null,"Molėtų r. sav."]
[null,null,"Molėtai"]
[null,"Utenos r. sav."]
[null,null,"Utena"]
[null,"Visagino sav."]
[null,null,"Visaginas"]
[null,"Zarasų r. sav."]
[null,null,"Dusetos"]
[null,null,"Zarasai"]
["Vilniaus apskritis"]
[null,"Elektrėnų sav."]
[null,null,"Elektrėnai"]
[null,null,"Vievis"]
[null,"Šalčininkų r. sav."]
[null,null,"Baltoji Vokė"]
[null,null,"Eišiškės"]
[null,"Širvintų r. sav."]
[null,null,"Širvintos"]
[null,"Švenčionių r. sav."]
[null,null,"Švenčionys"]
[null,null,"Švenčionėliai"]
[null,null,"Pabradė"]
[null,"Trakų r. sav."]
[null,null,"Trakai"]
[null,null,"Lentvaris"]
[null,null,"Rūdiškės"]
[null,"Ukmergės r. sav."]
[null,null,"Ukmergė"]
[null,"Vilniaus m. sav."]
[null,null,"Grigiškės"]
[null,null,"Vilnius"]
[null,"Vilniaus r. sav."]
[null,null,"Nemenčinė"]
[null,null,"Šalčininkai"]

{"sheet":"Administravimas","index":35,"n_rows":6,"n_cols":6,"rows_kept":6,"cut":false,"hidden":true,"merged":[[1,3,2,3],[1,5,2,5],[1,0,2,0]]}
["Lapo pavadinimas","Keičiami laukai","Nuoroda","Susijęs lapas ","Komentaras","Svarbi pastaba"]
["Klasifikatorius2","Gali būti keičiami / koreguojami visi pastato sudėties elementai (pastato elementas ('C), konstrukcija/tipas (D), dalis/prietaisai (E), medžiaga (F)",1,"Visi pastato elementų duomenų įvesties lapai","Pakeitus sudėties elementus, įvesties lapuose pasirinkimų sarašuose atsiras pakeitimai","Pakeitus / pridėjus elementus būtina juos pakeisti ir \"Klasifikatorius\" lape"]
[null,"Tarnavimo laikotarpis pagal pastato paskirtį (stulpeliai I:P)"]
["Klasifikatorius","Palaikymo išlaidos (% nuo CAPEX per metus)",1,"Visi pastato elementų duomenų įvesties lapai","Pakeitus % nuo capex duomenų įvesties lapuose automatiškai bus įrašytas skaičius, atitinkamantis elemento pasirinkimus \"Veiklos išlaidos laikantis rinkoje taikomų eksploatavimo apimčių\" eilutėje"]
["Sąrašai","Duomenys apie turto / investavimo objektą (stulpeliai B:O)",null,"Bendrieji įvesties duomenys"]
["Sąrašai","Išorės išlaidų (šilumos ir elektros) koeficientai (eilutės 35 - 41)",null,"Bendrosios pastato išlaidos"]

{"sheet":"IP","index":36,"n_rows":49,"n_cols":12,"rows_kept":49,"cut":false,"hidden":true,"merged":[]}
[]
[null,"PASTATŲ GYVAVIMO CIKLO SĄNAUDŲ SKAIČIUOKLĖ"]
[]
[]
[]
[]
["Projekto biudžeto eilutė / Projekto įgyvendinimo kalendoriniai metai",null,"Iš viso, EUR",{"$f":"YEAR('Bendrieji įvesties duomenys'!$C$6)+COLUMN(D28)-4","v":2019},{"$f":"YEAR('Bendrieji įvesties duomenys'!$C$6)+COLUMN(E28)-4","v":2020},{"$f":"YEAR('Bendrieji įvesties duomenys'!$C$6)+COLUMN(F28)-4","v":2021},{"$f":"YEAR('Bendrieji įvesties duomenys'!$C$6)+COLUMN(G28)-4","v":2022},{"$f":"YEAR('Bendrieji įvesties duomenys'!$C$6)+COLUMN(H28)-4","v":2023},{"$f":"YEAR('Bendrieji įvesties duomenys'!$C$6)+COLUMN(I28)-4","v":2024},{"$f":"YEAR('Bendrieji įvesties duomenys'!$C$6)+COLUMN(J28)-4","v":2025},{"$f":"YEAR('Bendrieji įvesties duomenys'!$C$6)+COLUMN(K28)-4","v":2026},{"$f":"YEAR('Bendrieji įvesties duomenys'!$C$6)+COLUMN(L28)-4","v":2027}]
[]
["A.","Alternatyvos investicijos, iš viso","-","-","-","-","-","-","-","-","-","-"]
["A.1.","Žemė","-","-","-","-","-","-","-","-","-","-"]
["A.2.","Nekilnojamasis turtas",{"$f":"SUM(D11:OFFSET(D11,0,1000))","v":0},{"$f":"'Pastato išlaidų apibendrinimas'!D10","v":0},{"$f":"'Pastato išlaidų apibendrinimas'!E10","v":0},{"$f":"'Pastato išlaidų apibendrinimas'!F10","v":0},{"$f":"'Pastato išlaidų apibendrinimas'!G10","v":0},{"$f":"'Pastato išlaidų apibendrinimas'!H10","v":0},{"$f":"'Pastato išlaidų apibendrinimas'!I10","v":0},{"$f":"'Pastato išlaidų apibendrinimas'!J10","v":0},{"$f":"'Pastato išlaidų apibendrinimas'!K10","v":0},{"$f":"'Pastato išlaidų apibendrinimas'!L10","v":0}]
["A.3.","Statyba, rekonstravimas, kapitalinis remontas ir kiti darbai",{"$f":"SUM(D12:OFFSET(D12,0,1000))","v":0},{"$f":"'Pastato išlaidų apibendrinimas'!D12+'Pastato išlaidų apibendrinimas'!D13+'Pastato išlaidų apibendrinimas'!D14","v":0},{"$f":"'Pastato išlaidų apibendrinimas'!E12+'Pastato išlaidų apibendrinimas'!E13+'Pastato išlaidų apibendrinimas'!E14","v":0},{"$f":"'Pastato išlaidų apibendrinimas'!F12+'Pastato išlaidų apibendrinimas'!F13+'Pastato išlaidų apibendrinimas'!F14","v":0},{"$f":"'Pastato išlaidų apibendrinimas'!G12+'Pastato išlaidų apibendrinimas'!G13+'Pastato išlaidų apibendrinimas'!G14","v":0},{"$f":"'Pastato išlaidų apibendrinimas'!H12+'Pastato išlaidų apibendrinimas'!H13+'Pastato išlaidų apibendrinimas'!H14","v":0},{"$f":"'Pastato išlaidų apibendrinimas'!I12+'Pastato išlaidų apibendrinimas'!I13+'Pastato išlaidų apibendrinimas'!I14","v":0},{"$f":"'Pastato išlaidų apibendrinimas'!J12+'Pastato išlaidų apibendrinimas'!J13+'Pastato išlaidų apibendrinimas'!J14","v":0},{"$f":"'Pastato išlaidų apibendrinimas'!K12+'Pastato išlaidų apibendrinimas'!K13+'Pastato išlaidų apibendrinimas'!K14","v":0},{"$f":"'Pastato išlaidų apibendrinimas'!L12+'Pastato išlaidų apibendrinimas'!L13+'Pastato išlaidų apibendrinimas'!L14","v":0}]
["A.4.","Įranga, įrenginiai ir kitas ilgalaikis turtas","-","-","-","-","-","-","-","-","-","-"]
["A.5.","Projektavimo, techninės priežiūros ir kitos su investicijomis į ilgalaikį turtą (A.1.-A.4.) susijusios paslaugos",{"$f":"SUM(D14:OFFSET(D14,0,1000))","v":0},{"$f":"'Pastato išlaidų apibendrinimas'!D15+'Pastato išlaidų apibendrinimas'!D16+'Pastato išlaidų apibendrinimas'!D17","v":0},{"$f":"'Pastato išlaidų apibendrinimas'!E15+'Pastato išlaidų apibendrinimas'!E16+'Pastato išlaidų apibendrinimas'!E17","v":0},{"$f":"'Pastato išlaidų apibendrinimas'!F15+'Pastato išlaidų apibendrinimas'!F16+'Pastato išlaidų apibendrinimas'!F17","v":0},{"$f":"'Pastato išlaidų apibendrinimas'!G15+'Pastato išlaidų apibendrinimas'!G16+'Pastato išlaidų apibendrinimas'!G17","v":0},{"$f":"'Pastato išlaidų apibendrinimas'!H15+'Pastato išlaidų apibendrinimas'!H16+'Pastato išlaidų apibendrinimas'!H17","v":0},{"$f":"'Pastato išlaidų apibendrinimas'!I15+'Pastato išlaidų apibendrinimas'!I16+'Pastato išlaidų apibendrinimas'!I17","v":0},{"$f":"'Pastato išlaidų apibendrinimas'!J15+'Pastato išlaidų apibendrinimas'!J16+'Pastato išlaidų apibendrinimas'!J17","v":0},{"$f":"'Pastato išlaidų apibendrinimas'!K15+'Pastato išlaidų apibendrinimas'!K16+'Pastato išlaidų apibendrinimas'!K17","v":0},{"$f":"'Pastato išlaidų apibendrinimas'!L15+'Pastato išlaidų apibendrinimas'!L16+'Pastato išlaidų apibendrinimas'!L17","v":0}]
["A.6.","Projekto administravimas ir vykdymas","-","-","-","-","-","-","-","-","-","-"]
["A.7.","Kitos paslaugos ir išlaidos",{"$f":"SUM(D16:OFFSET(D16,0,1000))","v":0},{"$f":"'Pastato išlaidų apibendrinimas'!D18","v":0},{"$f":"'Pastato išlaidų apibendrinimas'!E18","v":0},{"$f":"'Pastato išlaidų apibendrinimas'!F18","v":0},{"$f":"'Pastato išlaidų apibendrinimas'!G18","v":0},{"$f":"'Pastato išlaidų apibendrinimas'!H18","v":0},{"$f":"'Pastato išlaidų apibendrinimas'!I18","v":0},{"$f":"'Pastato išlaidų apibendrinimas'!J18","v":0},{"$f":"'Pastato išlaidų apibendrinimas'!K18","v":0},{"$f":"'Pastato išlaidų apibendrinimas'!L18","v":0}]
["A.8.","Reinvesticijos ","-","-","-","-","-","-","-","-","-","-"]
["B.","Investicijų likutinė vertė",{"$f":"SUM(D18:OFFSET(D18,0,1000))","v":0},{"$f":"'Pastato išlaidų apibendrinimas'!D19","v":0},{"$f":"'Pastato išlaidų apibendrinimas'!E19","v":0},{"$f":"'Pastato išlaidų apibendrinimas'!F19","v":0},{"$f":"'Pastato išlaidų apibendrinimas'!G19","v":0},{"$f":"'Pastato išlaidų apibendrinimas'!H19","v":0},{"$f":"'Pastato išlaidų apibendrinimas'!I19","v":0},{"$f":"'Pastato išlaidų apibendrinimas'!J19","v":0},{"$f":"'Pastato išlaidų apibendrinimas'!K19","v":0},{"$f":"'Pastato išlaidų apibendrinimas'!L19","v":0}]
["C.","Veiklos pajamos, iš viso","-","-","-","-","-","-","-","-","-","-"]
["C.1.","Prekių pardavimo pajamos","-","-","-","-","-","-","-","-","-","-"]
["C.2.","Paslaugų suteikimo pajamos","-","-","-","-","-","-","-","-","-","-"]
["C.3.","Finansinės ir investicinės veiklos bei kitos pajamos","-","-","-","-","-","-","-","-","-","-"]
["D.","Veiklos ir finansinės išlaidos, iš viso",{"$f":"SUM(D23:OFFSET(D23,0,1000))","v":0},{"$f":"D24+D31","v":0},0,0,0,0,0,0,0,0]
["D.1.","Veiklos išlaidos",{"$f":"SUM(D24:OFFSET(D24,0,1000))","v":0},{"$f":"SUM(D25:D30)","v":0},0,0,0,0,0,0,0,0]
["D.1.1.","Žaliavos",{"$f":"SUM(D25:OFFSET(D25,0,1000))","v":0},{"$f":"'Pastato išlaidų apibendrinimas'!D26","v":0},{"$f":"'Pastato išlaidų apibendrinimas'!E26","v":0},{"$f":"'Pastato išlaidų apibendrinimas'!F26","v":0},{"$f":"'Pastato išlaidų apibendrinimas'!G26","v":0},{"$f":"'Pastato išlaidų apibendrinimas'!H26","v":0},{"$f":"'Pastato išlaidų apibendrinimas'!I26","v":0},{"$f":"'Pastato išlaidų apibendrinimas'!J26","v":0},{"$f":"'Pastato išlaidų apibendrinimas'!K26","v":0},{"$f":"'Pastato išlaidų apibendrinimas'!L26","v":0}]
["D.1.2.","Darbo užmokesčio išlaidos",{"$f":"SUM(D26:OFFSET(D26,0,1000))","v":0},{"$f":"'Pastato išlaidų apibendrinimas'!D27","v":0},{"$f":"'Pastato išlaidų apibendrinimas'!E27","v":0},{"$f":"'Pastato išlaidų apibendrinimas'!F27","v":0},{"$f":"'Pastato išlaidų apibendrinimas'!G27","v":0},{"$f":"'Pastato išlaidų apibendrinimas'!H27","v":0},{"$f":"'Pastato išlaidų apibendrinimas'!I27","v":0},{"$f":"'Pastato išlaidų apibendrinimas'!J27","v":0},{"$f":"'Pastato išlaidų apibendrinimas'!K27","v":0},{"$f":"'Pastato išlaidų apibendrinimas'!L27","v":0}]
["D.1.3.","Elektros energijos išlaidos",{"$f":"SUM(D27:OFFSET(D27,0,1000))","v":0},{"$f":"-'Pastato išlaidų apibendrinimas'!D30","v":0},{"$f":"-'Pastato išlaidų apibendrinimas'!E30","v":0},{"$f":"-'Pastato išlaidų apibendrinimas'!F30","v":0},{"$f":"-'Pastato išlaidų apibendrinimas'!G30","v":0},{"$f":"-'Pastato išlaidų apibendrinimas'!H30","v":0},{"$f":"-'Pastato išlaidų apibendrinimas'!I30","v":0},{"$f":"-'Pastato išlaidų apibendrinimas'!J30","v":0},{"$f":"-'Pastato išlaidų apibendrinimas'!K30","v":0},{"$f":"-'Pastato išlaidų apibendrinimas'!L30","v":0}]
["D.1.4.","Šildymo (išskyrus elektrą) išlaidos",{"$f":"SUM(D28:OFFSET(D28,0,1000))","v":0},{"$f":"'Pastato išlaidų apibendrinimas'!D31","v":0},{"$f":"'Pastato išlaidų apibendrinimas'!E31","v":0},{"$f":"'Pastato išlaidų apibendrinimas'!F31","v":0},{"$f":"'Pastato išlaidų apibendrinimas'!G31","v":0},{"$f":"'Pastato išlaidų apibendrinimas'!H31","v":0},{"$f":"'Pastato išlaidų apibendrinimas'!I31","v":0},{"$f":"'Pastato išlaidų apibendrinimas'!J31","v":0},{"$f":"'Pastato išlaidų apibendrinimas'!K31","v":0},{"$f":"'Pastato išlaidų apibendrinimas'!L31","v":0}]
["D.1.5.","Infrastruktūros būklės palaikymo išlaidos",{"$f":"SUM(D29:OFFSET(D29,0,1000))","v":0},{"$f":"'Pastato išlaidų apibendrinimas'!D33","v":0},{"$f":"'Pastato išlaidų apibendrinimas'!E33","v":0},{"$f":"'Pastato išlaidų apibendrinimas'!F33","v":0},{"$f":"'Pastato išlaidų apibendrinimas'!G33","v":0},{"$f":"'Pastato išlaidų apibendrinimas'!H33","v":0},{"$f":"'Pastato išlaidų apibendrinimas'!I33","v":0},{"$f":"'Pastato išlaidų apibendrinimas'!J33","v":0},{"$f":"'Pastato išlaidų apibendrinimas'!K33","v":0},{"$f":"'Pastato išlaidų apibendrinimas'!L33","v":0}]
["D.1.6.","Kitos išlaidos",{"$f":"SUM(D30:OFFSET(D30,0,1000))","v":0},{"$f":"'Pastato išlaidų apibendrinimas'!D55","v":0},{"$f":"'Pastato išlaidų apibendrinimas'!E55","v":0},{"$f":"'Pastato išlaidų apibendrinimas'!F55","v":0},{"$f":"'Pastato išlaidų apibendrinimas'!G55","v":0},{"$f":"'Pastato išlaidų apibendrinimas'!H55","v":0},{"$f":"'Pastato išlaidų apibendrinimas'!I55","v":0},{"$f":"'Pastato išlaidų apibendrinimas'!J55","v":0},{"$f":"'Pastato išlaidų apibendrinimas'!K55","v":0},{"$f":"'Pastato išlaidų apibendrinimas'!L55","v":0}]
["D.2.","Gautų paskolų (G.3.1.) palūkanos",{"$f":"SUM(D31:OFFSET(D31,0,1000))","v":0},{"$f":"'Pastato išlaidų apibendrinimas'!D57","v":0},{"$f":"'Pastato išlaidų apibendrinimas'!E57","v":0},{"$f":"'Pastato išlaidų apibendrinimas'!F57","v":0},{"$f":"'Pastato išlaidų apibendrinimas'!G57","v":0},{"$f":"'Pastato išlaidų apibendrinimas'!H57","v":0},{"$f":"'Pastato išlaidų apibendrinimas'!I57","v":0},{"$f":"'Pastato išlaidų apibendrinimas'!J57","v":0},{"$f":"'Pastato išlaidų apibendrinimas'!K57","v":0},{"$f":"'Pastato išlaidų apibendrinimas'!L57","v":0}]
["E.","Mokesčiai (+ neigiama įtaka; - teigiama įtaka biudžeto lėšų srautams)",{"$f":"SUM(D32:OFFSET(D32,0,1000))","v":0},{"$f":"SUM(D33:D35)","v":0},0,0,0,0,0,0,0,0]
["E.1.","Bendra importo/pirkimo PVM suma",{"$f":"SUM(D33:OFFSET(D33,0,1000))","v":0},{"$f":"'Pastato išlaidų apibendrinimas'!D59","v":0},{"$f":"'Pastato išlaidų apibendrinimas'!E59","v":0},{"$f":"'Pastato išlaidų apibendrinimas'!F59","v":0},{"$f":"'Pastato išlaidų apibendrinimas'!G59","v":0},{"$f":"'Pastato išlaidų apibendrinimas'!H59","v":0},{"$f":"'Pastato išlaidų apibendrinimas'!I59","v":0},{"$f":"'Pastato išlaidų apibendrinimas'!J59","v":0},{"$f":"'Pastato išlaidų apibendrinimas'!K59","v":0},{"$f":"'Pastato išlaidų apibendrinimas'!L59","v":0}]
["E.2.","Bendra pardavimo PVM suma",{"$f":"SUM(D34:OFFSET(D34,0,1000))","v":0},{"$f":"'Pastato išlaidų apibendrinimas'!D60","v":0},{"$f":"'Pastato išlaidų apibendrinimas'!E60","v":0},{"$f":"'Pastato išlaidų apibendrinimas'!F60","v":0},{"$f":"'Pastato išlaidų apibendrinimas'!G60","v":0},{"$f":"'Pastato išlaidų apibendrinimas'!H60","v":0},{"$f":"'Pastato išlaidų apibendrinimas'!I60","v":0},{"$f":"'Pastato išlaidų apibendrinimas'!J60","v":0},{"$f":"'Pastato išlaidų apibendrinimas'!K60","v":0},{"$f":"'Pastato išlaidų apibendrinimas'!L60","v":0}]
["E.3.","Bendra kitų mokėtinų netiesioginių mokesčių suma",{"$f":"SUM(D35:OFFSET(D35,0,1000))","v":0},{"$f":"'Pastato išlaidų apibendrinimas'!D61","v":0},{"$f":"'Pastato išlaidų apibendrinimas'!E61","v":0},{"$f":"'Pastato išlaidų apibendrinimas'!F61","v":0},{"$f":"'Pastato išlaidų apibendrinimas'!G61","v":0},{"$f":"'Pastato išlaidų apibendrinimas'!H61","v":0},{"$f":"'Pastato išlaidų apibendrinimas'!I61","v":0},{"$f":"'Pastato išlaidų apibendrinimas'!J61","v":0},{"$f":"'Pastato išlaidų apibendrinimas'!K61","v":0},{"$f":"'Pastato išlaidų apibendrinimas'!L61","v":0}]
["F.","Grynosios pajamos","-","-","-","-","-","-","-","-","-","-"]
["G. ","Finansavimas, iš viso","-","-","-","-","-","-","-","-","-","-"]
["G.1.","Prašomas finansavimas","-","-","-","-","-","-","-","-","-","-"]
["G.1.1.","ES struktūrinės paramos lėšos","-","-","-","-","-","-","-","-","-","-"]
["G.1.2.","LR bendrojo finansavimo lėšos","-","-","-","-","-","-","-","-","-","-"]
["G.1.3.","Kito tarptautinio finansavimo lėšos","-","-","-","-","-","-","-","-","-","-"]
["G.1.4.","Specialiosios programos lėšos, skirtos padengti netinkamą finansuoti PVM","-","-","-","-","-","-","-","-","-","-"]
["G.2.","Nuosavos lėšos","-","-","-","-","-","-","-","-","-","-"]
["G.2.1.","Viešosios lėšos (valstybės, savivaldybės biudžetai, kiti viešųjų lėšų šaltiniai)","-","-","-","-","-","-","-","-","-","-"]
["G.2.2.","Privačios lėšos (nuosavos, kitos privačios lėšos)","-","-","-","-","-","-","-","-","-","-"]
["G.3.","Paskolos","-","-","-","-","-","-","-","-","-","-"]
["G.3.1.","Paskolos","-","-","-","-","-","-","-","-","-","-"]
["G.3.2.","Paskolų grąžinimai (išskyrus palūkanas)","-","-","-","-","-","-","-","-","-","-"]
["H.","Socialinio ekonominio (SE) poveikio finansinė išraiška","-","-","-","-","-","-","-","-","-","-"]

{"sheet":"SĄRAŠAI","index":37,"n_rows":41,"n_cols":87,"rows_kept":41,"cut":false,"hidden":true,"merged":[]}
[null,null,null,null,null,null,null,null,null,null,null,null,"Pastato paskirtis ","Investavimo tikslas","Pastato funkcinių sąvybių pagerinimas","Naujo pastato statyba","Veikti kaip įprasta","Alytaus","Kauno","Klaipėdos","Marijampolės","Panevėžio","Šiaulių","Tauragės","Telšių","Utenos","Vilniaus","Akmenės r. ","Alytaus m.","Alytaus r. ","Anykščių r. ","Birštono ","Biržų r. ","Druskininkų ","Elektrėnų ","Ignalinos r. ","Jonavos r. ","Joniškio r. ","Jurbarko r. ","Kaišiadorių r. ","Kalvarijos ","Kauno m. ","Kauno r. ","Kazlų Rūdos ","Kėdainių r. ","Kelmės r. ","Klaipėdos m. ","Klaipėdos r. ","Kretingos r. ","Kupiškio r. ","Lazdijų r. ","Marijampolės sav.","Mažeikių r. ","Molėtų r. ","Neringos ","Pagėgių ","Pakruojo r. ","Palangos m. ","Panevėžio m. ","Panevėžio r. ","Pasvalio r. ","Plungės r. ","Prienų r. ","Šiaulių m. ","Radviliškio r. ","Raseinių r. ","Rietavo ","Rokiškio r. ","Skuodo r. ","Šakių r. ","Šalčininkų r. ","Šiaulių r. ","Šilalės r. ","Šilutės r. ","Širvintų r. ","Švenčionių r. ","Tauragės r. ","Telšių r. ","Trakų r. ","Ukmergės r. ","Utenos r. ","Varėnos r. ","Vilkaviškio r. ","Vilniaus m. ","Vilniaus r. ","Visagino ","Zarasų r. "]
[null,"Turto valdymo forma","Aukštų skaičius",null,null,"Ekonominės veiklos sektorius",null,"Turto / investavimo objekto tipas","Turto / investavimo objekto sub-tipas","Diskonto norma","Pastato energinis efektyvumas","Šildymo tipas","Pamatai","Veikti kaip įprastai laikantis rinkoje taikomų eksploatavimo apimčių ","Pastato elemento įsigijimas naujai","Pastato elemento įsigijimas naujai","Veikti kaip įprasta","Alytaus m. ","Birštono","Klaipėdos m.","Kalvarijos","Biržų r.","Akmenės r.","Jurbarko r.","Mažeikių r.","Anykščių r.","Elektrėnų","Naujoji Akmenė","Alytus","Simnas","Anykščiai","Birštonas","Biržai","Druskininkai ","Elektrėnai","Dūkštas","Jonava","Joniškis","Jurbarkas","Kaišiadoriai","Kalvarija","Kaunas","Ežerėlis","Kazlų Rūda","Kėdainiai","Kelmė","Klaipėda","Gargždai","Kretinga","Kupiškis","Lazdijai","Marijampolė","Mažeikiai ","Molėtai","Neringa","Pagėgiai","Pakruojis","Palanga","Panevėžys","Ramygala","Pasvalys","Plungė","Prienai","Šiauliai","Radviliškis","Raseiniai","Rietavas","Obeliai ","Skuodas","Gelgaudiškis","Baltoji Vokė","Kuršėnai","Šilalė ","Šilutė","Širvintos","Pabradė","Skaudvilė","Telšiai","Lentvaris","Ukmergė","Utena","Varėna","Kybartai","Vilnius","Nemenčinė","Visaginas","Dusetos"]
[null,"Patikėjimas",1,null,null,"Sveikatos apsauga",null,"Gyvenamieji pastatai","Vieno būsto pastatai",0.01,"A++","Centrinis","Perdangos","Veikti kaip įprastai laikantis pildančios institucijos taikomų eksploatavimo apimčių","Pastato elemento funkcinių sąvybių pagerinimas ",null,null,"Alytaus r.","Jonavos r.","Klaipėdos r.","Kazlų Rūdos","Kupiškio r.","Joniškio r.","Pagėgių ","Plungės r.","Ignalinos r.","Šalčininkų r.","Akmenė",null,"Daugai","Kavarskas",null,"Vabalninkas",null,"Vievis","Ignalina",null,"Žagarė","Smalininkai","Žiežmariai",null,null,"Garliava",null,null,"Tytuvėnai",null,"Priekulė","Salantai","Subačius","Veisiejai",null,"Seda ",null,null,"Panemunė","Linkuva",null,null,null,"Joniškėlis",null,"Jieznas",null,"Šeduva","Ariogala",null,"Pandėlys ",null,"Kudirkos Naumiestis","Eišiškės",null,null,null,null,"Švenčionėliai","Tauragė","Varniai","Rūdiškės",null,null,null,"Vilkaviškis",null,null,null,"Zarasai"]
[null,"Panauda",{"$f":"C3+1","v":2},null,null,"Socialinė apsauga",null,"Gamybos ir sandėliavimo pastatai","Dviejų ar daugiau būstų pastatai",0.02,"A+","Autonominis","Sienos","Pastato elemento įsigijimas naujai","Veikti kaip įprasta",null,null,"Druskininkų ","Kaišiadorių r.","Kretingos r.","Marijampolės sav.","Panevėžio m.","Kelmės r.","Šilalės r.","Rietavo","Molėtų r.","Širvintų r.","Venta",null,null,"Troškūnai",null,null,null,null,null,null,null,null,null,null,null,"Vilkija",null,null,"Užventis",null,null,null,null,null,null,"Viekšniai",null,null,null,null,null,null,null,null,null,null,null,null,null,null,"Rokiškis",null,"Šakiai","Šalčininkai",null,null,null,null,"Švenčionys",null,null,"Trakai",null,null,null,"Virbalis"]
[null,"Nuoma",{"$f":"C4+1","v":3},null,null,"Švietimas ir mokslas",null,"Administraciniai pastatai","Bendrabučiai",0.03,"A","Centrinis ir autonominis","Durys","Pastato elemento funkcinių savybių pagerinimas ",null,null,null,"Lazdijų r.","Kauno m.","Neringos m.","Šakių r.","Panevėžio r. ","Pakruojo r.","Tauragės r.","Telšių","Utenos r.","Švenčionių r."]
[null,"Nuosavybė",4,null,null,"Transportas",null,"Mokslo įstaigos","Socialinis būstas",0.04,"B",null,"Langai",null,null,null,null,"Varėnos r.","Kauno r.","Palangos m.","Vilkaviškio r.","Pasvalio r.","Radviliškio r.",null,null,"Visagino m.","Trakų r."]
[null,null,5,null,null,"Energetika",null,"Gydymo įstaigos","Pramoniniai pastatai",0.05,"C",null,"Laiptai",null,null,null,null,null,"Kėdainių r.","Skuodo r.",null,"Rokiškio r.","Šiaulių m.",null,null,"Zarasų r.","Ukmergės r."]
[null,null,6,null,null,"Informacinės visuomenės plėtra",null,"Transporto ir ryšių infrastruktūra","Rezervuarai, silosinės ir sandėliai",0.06,"D",null,"Stogas",null,null,null,null,null,"Prienų r.","Šilutės r.",null,null,"Šiaulių r.",null,null,null,"Vilniaus m."]
[null,null,7,null,null,"Aplinkos apsauga",null,"Kultūros objektai","Įkalinimo įstaigų pastatai",7.0000000000000007E-2,"E",null,"Vidaus apdaila",null,null,null,null,null,"Raseinių r.",null,null,null,null,null,null,null,"Vilniaus r."]
[null,null,8,null,null,"Urbanistinė plėtra",null,"Kiti pastatai","Ekspertizės įstaigų pastatai",0.08,"F",null,"Išorės apdaila"]
[null,null,9,null,null,"Krašto apsauga",null,null,"Teismų pastatai",0.09,"G",null,"Šildymo sistema (vidaus)"]
[null,null,10,null,null,"Teisingumas / Teisėtvarka",null,null,"Įstaigų pastatai (pastatai, skirti verslui, kanceliarijoms ir administravimo reikalams)",0.1,null,null,"Šildymo sistema (lauko)"]
[null,null,11,null,null,"Visuomenės apsauga",null,null,"Kiti institucijų administraciniai pastatai",null,null,null,"Šaldymas ir oro kondicionavimas"]
[null,null,12,null,null,"Turizmas",null,null,"Ikimokyklinio ugdymo pastatai",null,null,null,"Ventiliacija (vėdinimas)"]
[null,null,13,null,null,"Viešoji infrastruktūra verslui",null,null,"Mokyklų pastatai",null,null,null,"Vandentiekio sistema (vidaus)"]
[null,null,14,null,null,"Kultūra",null,null,"Profesinio ugdymo pastatai",null,null,null,"Vandentiekio sistema (lauko)"]
[null,null,15,null,null,"Viešųjų paslaugų administravimas ir politikos formavimas",null,null,"Universitetų pastatai",null,null,null,"Nuotekų šalinimo sistema (vidaus)"]
[null,null,16,null,null,null,null,null,"Tyrimų centrų pastatai",null,null,null,"Nuotekų šalinimo sistema (lauko)"]
[null,null,17,null,null,null,null,null,"Ligoninių ir slaugos įstaigų pastatai",null,null,null,"Elektros instaliacija (vidaus)"]
[null,null,18,null,null,null,null,null,"Ryšių pastatai, stotys, galiniai punktai ir panašūs pastatai",null,null,null,"Elektros instaliacija (lauko)"]
[null,null,19,null,null,null,null,null,"Garažų pastatai",null,null,null,"Dujos"]
[null,null,20,null,null,null,null,null,"Muziejai ir bibliotekos",null,null,null,"Apsaugos sistema"]
[null,null,21,null,null,null,null,null,"Viešųjų pramoginių renginių pastatai",null,null,null,"Telekomunikacijos"]
[null,null,22,null,null,null,null,null,"Negyvenamieji ūkiniai pastatai",null,null,null,"Gaisro gesinimo sistema"]
[null,null,23,null,null,null,null,null,"Istoriniai ar saugomi paminklai",null,null,null,"Transportavimo sistema"]
[null,null,24,null,null,null,null,null,"Maldos namų ir kitokios religinės veiklos pastatai",null,null,null,"Lietaus bei gruntinių vandenų surinkimo / nuvedimo sistemos"]
[null,null,25,null,null,null,null,null,"Kiti, niekur kitur nepriskirti, pastatai"]
[null,null,26]
[null,null,27]
[null,null,28]
[null,null,29]
[null,null,30]
[]
[]
[null,null,"Šilumos","Elektros"]
[null,"Energijos taršos konversijos faktorius, t/MWh į t CO2 e/metus",0.23300000000000001,0.70699999999999996]
[]
[]
[]
[null,"Sektorius","Poveikio komponentas",2018,2019,2020,2021,2022,2023,2024,2025,2026,2027,2028,2029,2030,2031,2032,2033,2034,2035,2036,2037,2038,2039,2040,2041,2042,2043,2044,2045,2046,2047,2048,2049,2050,2051,2052,2053,2054,2055,2056,2057,2058,2059,2060,2061,2062,2063,2064,2065]
[null,"Energetika","Anglies dioksido (kaip šiltnamio efektą sukeliančių dujų) emisijos sumažėjimas (centrinė vertė)",25,25,40,40,40,40,40,40,40,40,40,40,55,55,55,55,55,55,55,55,55,55,70,70,70,70,70,70,70,70,70,70,85,85,85,85,85,85,85,85,85,85,85,85,85,85,85,85]

{"sheet":"Klasifikatorius","index":38,"n_rows":1157,"n_cols":6,"rows_kept":1157,"cut":false,"hidden":true,"merged":[]}
[]
[]
["Nr.","Pastato elementas","Konstrukcija / tipas","Dalis / prietaisai","Medžiaga","Palaikymo išlaidos (% nuo CAPEX per metus)"]
["1.","Pamatai"]
["1.1",null,"Juostiniai"]
["1.1.1",null,null,"Pado blokai"]
["1.1.1.1",null,null,null,"Gelžbetonis"]
["1.1.1.2",null,null,null,"Kita"]
["1.1.2",null,null,"Sienos blokai"]
["1.1.2.1",null,null,null,"Betonas"]
["1.1.2.2",null,null,null,"Kita"]
["1.1.3",null,null,"Monolitas"]
["1.1.3.1",null,null,null,"Gelžbetonis"]
["1.1.3.2",null,null,null,"Kita"]
["1.1.4",null,null,"Kita"]
["1.1.4.1",null,null,null,"Kita"]
["1.2",null,"Ištisiniai"]
["1.2.1",null,null,"Plokštės"]
["1.2.1.1",null,null,null,"Gelžbetonis"]
["1.2.1.2",null,null,null,"Kita"]
["1.2.2",null,null,"Kita"]
["1.2.2.1",null,null,null,"Kita"]
["1.3",null,"Atskirieji seklieji pamatai"]
["1.3.1",null,null,"Monolitas"]
["1.3.1.1",null,null,null,"Gelžbetonis"]
["1.3.1.2",null,null,null,"Betonas"]
["1.3.1.3",null,null,null,"Akmenbetonis"]
["1.3.1.4",null,null,null,"Kita"]
["1.3.2",null,null,"Surenkamosios dalys"]
["1.3.2.1",null,null,null,"Gelžbetonis"]
["1.3.2.2",null,null,null,"Betonas"]
["1.3.2.3",null,null,null,"Akmenbetonis"]
["1.3.2.4",null,null,null,"Kita"]
["1.3.3",null,null,"Kita"]
["1.3.3.1",null,null,null,"Kita"]
["1.4",null,"Poliniai"]
["1.4.1",null,null,"Poliai"]
["1.4.1.1",null,null,null,"Gelžbetonis"]
["1.4.1.2",null,null,null,"Kita"]
["1.4.2",null,null,"Rostverkas"]
["1.4.2.1",null,null,null,"Gelžbetonis"]
["1.4.2.2",null,null,null,"Kita"]
["1.4.3",null,null,"Kita"]
["1.4.3.1",null,null,null,"Kita"]
["1.5",null,"Kita"]
["1.5.1",null,null,"Kita"]
["1.5.1.1",null,null,null,"Kita"]
["2.","Perdangos"]
["2.1",null,"Perdangos ant grunto"]
["2.1.1",null,null,"Sijos"]
["2.1.1.1",null,null,null,"Gelžbetonis"]
["2.1.1.2",null,null,null,"Medis"]
["2.1.1.3",null,null,null,"Metalas"]
["2.1.1.4",null,null,null,"Kita"]
["2.1.2",null,null,"Monolitinės plokštės"]
["2.1.2.1",null,null,null,"Gelžbetonis"]
["2.1.2.2",null,null,null,"Kita"]
["2.1.3",null,null,"Surenkamosios plokštės"]
["2.1.3.1",null,null,null,"Gelžbetonis"]
["2.1.3.2",null,null,null,"Kita"]
["2.1.4",null,null,"Surenkamosios monolitinės plokštės (blokeliai)"]
["2.1.4.1",null,null,null,"Keramika "]
["2.1.4.2",null,null,null,"Betonas"]
["2.1.4.3",null,null,null,"Kita"]
["2.1.5",null,null,"Kita"]
["2.1.5.1",null,null,null,"Kita"]
["2.2",null,"Cokolinės perdangos"]
["2.2.1",null,null,"Sijos"]
["2.2.1.1",null,null,null,"Gelžbetonis"]
["2.2.1.2",null,null,null,"Medis"]
["2.2.1.3",null,null,null,"Metalas"]
["2.2.1.4",null,null,null,"Kita"]
["2.2.2",null,null,"Monolitinės plokštės"]
["2.2.2.1",null,null,null,"Gelžbetonis"]
["2.2.2.2",null,null,null,"Kita"]
["2.2.3",null,null,"Surenkamosios plokštės"]
["2.2.3.1",null,null,null,"Gelžbetonis"]
["2.2.3.2",null,null,null,"Kita"]
["2.2.4",null,null,"Surenkamosios monolitinės plokštės (blokeliai)"]
["2.2.4.1",null,null,null,"Keramika "]
["2.2.4.2",null,null,null,"Betonas"]
["2.2.4.3",null,null,null,"Kita"]
["2.2.5",null,null,"Kita"]
["2.2.5.1",null,null,null,"Kita"]
["2.3",null,"Cokolinių perdangų termoizoliacija"]
["2.3.1",null,null,"Plokštės"]
["2.3.1.1",null,null,null,"Polistireninis putplastis"]
["2.3.1.2",null,null,null,"Mineralinė vata"]
["2.3.1.3",null,null,null,"Kita"]
["2.3.2",null,null,"Garo izoliacija"]
["2.3.2.1",null,null,null,"Aliuminio folija"]
["2.3.2.2",null,null,null,"Kita"]
["2.3.3",null,null,"Hidroizoliacinė tarpinė"]
["2.3.4",null,null,"Kita"]
["2.3.4.1",null,null,null,"Kita"]
["2.4",null,"Perdangos tarp aukštų"]
["2.4.1",null,null,"Sijos"]
["2.4.1.1",null,null,null,"Gelžbetonis"]
["2.4.1.2",null,null,null,"Medis"]
["2.4.1.3",null,null,null,"Metalas"]
["2.4.1.4",null,null,null,"Kita"]
["2.4.2",null,null,"Monolitinės plokštės"]
["2.4.2.1",null,null,null,"Gelžbetonis"]
["2.4.2.2",null,null,null,"Kita"]
["2.4.3",null,null,"Surenkamosios plokštės"]
["2.4.3.1",null,null,null,"Gelžbetonis"]
["2.4.3.2",null,null,null,"Kita"]
["2.4.4",null,null,"Surenkamosios monolitinės plokštės (blokeliai)"]
["2.4.4.1",null,null,null,"Keramika "]
["2.4.4.2",null,null,null,"Betonas"]
["2.4.4.3",null,null,null,"Kita"]
["2.4.5",null,null,"Kita"]
["2.4.5.1",null,null,null,"Kita"]
["2.5",null,"Perdangos pastogėje (stogo)"]
["2.5.1",null,null,"Sijos"]
["2.5.1.1",null,null,null,"Gelžbetonis"]
["2.5.1.2",null,null,null,"Medis"]
["2.5.1.3",null,null,null,"Metalas"]
["2.5.1.4",null,null,null,"Kita"]
["2.5.2",null,null,"Monolitinės plokštės"]
["2.5.2.1",null,null,null,"Gelžbetonis"]
["2.5.2.2",null,null,null,"Kita"]
["2.5.3",null,null,"Surenkamosios plokštės"]
["2.5.3.1",null,null,null,"Gelžbetonis"]
["2.5.3.2",null,null,null,"Kita"]
["2.5.4",null,null,"Surenkamosios monolitinės plokštės (blokeliai)"]
["2.5.4.1",null,null,null,"Keramika "]
["2.5.4.2",null,null,null,"Betonas"]
["2.5.4.3",null,null,null,"Kita"]
["2.5.5",null,null,"Kita"]
["2.5.5.1",null,null,null,"Kita"]
["2.6",null,"Kita"]
["2.6.1",null,null,"Kita"]
["2.6.1.1",null,null,null,"Kita"]
["3.","Sienos"]
["3.1",null,"Vidinės"]
["3.1.1",null,null,"Plytos"]
["3.1.1.1",null,null,null,"Silikatas"]
["3.1.1.2",null,null,null,"Molis"]
["3.1.1.3",null,null,null,"Kita"]
["3.1.2",null,null,"Blokeliai"]
["3.1.2.1",null,null,null,"Betonas"]
["3.1.2.2",null,null,null,"Keramika"]
["3.1.2.3",null,null,null,"Silikatas"]
["3.1.2.4",null,null,null,"Stiklas"]
["3.1.2.5",null,null,null,"Molis"]
["3.1.2.6",null,null,null,"Keramzitas"]
["3.1.2.7",null,null,null,"Kita"]
["3.1.3",null,null,"Plokštės"]
["3.1.3.1",null,null,null,"Gelžbetonis"]
["3.1.3.2",null,null,null,"Gipso kartonas"]
["3.1.3.3",null,null,null,"Kita"]
["3.1.4",null,null,"Monolitas"]
["3.1.4.1",null,null,null,"Gelžbetonis"]
["3.1.4.3",null,null,null,"Akmenbetonis"]
["3.1.4.4",null,null,null,"Kita"]
["3.1.5",null,null,"Blokai"]
["3.1.5.1",null,null,null,"Gelžbetonis"]
["3.1.5.2",null,null,null,"Akmuo"]
["3.1.5.3",null,null,null,"Kita"]
["3.1.6",null,null,"Rąstai"]
["3.1.6.1",null,null,null,"Medis"]
["3.1.6.2",null,null,null,"Kita"]
["3.1.7",null,null,"Karkasas"]
["3.1.7.1",null,null,null,"Gelžbetonis"]
["3.1.7.2",null,null,null,"Metalas"]
["3.1.7.3",null,null,null,"Medis"]
["3.1.7.4",null,null,null,"Kita"]
["3.1.8",null,null,"Kita"]
["3.1.8.1",null,null,null,"Kita"]
["3.2",null,"Išorinės"]
["3.2.1",null,null,"Plytos"]
["3.2.1.1",null,null,null,"Silikatas"]
["3.2.1.2",null,null,null,"Molis"]
["3.2.1.3",null,null,null,"Kita"]
["3.2.2",null,null,"Blokeliai"]
["3.2.2.1",null,null,null,"Betonas"]
["3.2.2.2",null,null,null,"Keramika"]
["3.2.2.3",null,null,null,"Silikatas"]
["3.2.2.4",null,null,null,"Stiklas"]
["3.2.2.5",null,null,null,"Molis"]
["3.2.2.6",null,null,null,"Keramzitas"]
["3.2.2.7",null,null,null,"Kita"]
["3.2.3",null,null,"Plokštės"]
["3.2.3.1",null,null,null,"Gelžbetonis"]
["3.2.3.2",null,null,null,"Gipso kartonas"]
["3.2.3.3",null,null,null,"Kita"]
["3.2.4",null,null,"Monolitas"]
["3.2.4.1",null,null,null,"Gelžbetonis"]
["3.2.4.3",null,null,null,"Akmenbetonis"]
["3.2.4.4",null,null,null,"Kita"]
["3.2.5",null,null,"Blokai"]
["3.2.5.1",null,null,null,"Gelžbetonis"]
["3.2.5.2",null,null,null,"Akmuo"]
["3.2.5.3",null,null,null,"Kita"]
["3.2.6",null,null,"Rąstai"]
["3.2.6.1",null,null,null,"Medis"]
["3.2.6.2",null,null,null,"Kita"]
["3.2.7",null,null,"Karkasas"]
["3.2.7.1",null,null,null,"Gelžbetonis"]
["3.2.7.2",null,null,null,"Metalas"]
["3.2.7.3",null,null,null,"Medis"]
["3.2.7.4",null,null,null,"Kita"]
["3.2.8",null,null,"Kita"]
["3.2.8.1",null,null,null,"Kita"]
["3.3",null,"Pertvaros"]
["3.3.1",null,null,"Plytos"]
["3.3.1.1",null,null,null,"Silikatas"]
["3.3.1.2",null,null,null,"Molis"]
["3.3.1.3",null,null,null,"Kita"]
["3.3.2",null,null,"Blokai"]
["3.3.2.1",null,null,null,"Gelžbetonis"]
["3.3.2.2",null,null,null,"Kita"]
["3.3.3",null,null,"Plokštės"]
["3.3.3.1",null,null,null,"Gelžbetonis"]
["3.3.3.2",null,null,null,"Gipso kartonas"]
["3.3.3.3",null,null,null,"Medis"]
["3.3.3.4",null,null,null,"Kita"]
["3.3.4",null,null,"Blokeliai"]
["3.3.4.1",null,null,null,"Betonas"]
["3.3.4.2",null,null,null,"Stiklas"]
["3.3.4.3",null,null,null,"Kita"]
["3.3.5",null,null,"Rąstai"]
["3.3.5.1",null,null,null,"Medis"]
["3.3.5.2",null,null,null,"Kita"]
["3.3.6",null,null,"Monolitas"]
["3.3.6.2",null,null,null,"Gelžbetonis"]
["3.3.6.3",null,null,null,"Akmenbetonis"]
["3.3.6.4",null,null,null,"Kita"]
["3.3.7",null,null,"Skydai"]
["3.3.7.1",null,null,null,"Medis"]
["3.3.7.2",null,null,null,"Kita"]
["3.3.8",null,null,"Lakštai"]
["3.3.8.1",null,null,null,"Metalas "]
["3.3.8.2",null,null,null,"Stiklas"]
["3.3.8.3",null,null,null,"Plastikas"]
["3.3.8.4",null,null,null,"Asbestcementis"]
["3.3.8.5",null,null,null,"Kita"]
["3.3.9",null,null,"Kita"]
["3.3.9.1",null,null,null,"Kita"]
["3.4",null,"Kolonos"]
["3.4.1"]
["3.4.1.1",null,null,null,"Gelžbetonis"]
["3.4.1.2",null,null,null,"Kita"]
["3.5",null,"Kita"]
["3.5.1",null,null,"Kita"]
["3.5.1.1",null,null,null,"Kita"]
["4.","Durys"]
["4.1",null,"Vidaus"]
["4.1.1",null,null,"Stakta"]
["4.1.1.1",null,null,null,"Medis"]
["4.1.1.2",null,null,null,"Plastikas"]
["4.1.1.3",null,null,null,"Metalas"]
["4.1.1.4",null,null,null,"Kita"]
["4.1.2",null,null,"Skydas"]
["4.1.2.1",null,null,null,"Medis"]
["4.1.2.2",null,null,null,"Plastikas"]
["4.1.2.3",null,null,null,"Metalas"]
["4.1.2.4",null,null,null,"Stiklas"]
["4.1.2.5",null,null,null,"Kita"]
["4.1.3",null,null,"Kita"]
["4.1.3.1",null,null,null,"Kita"]
["4.2",null,"Išorės"]
["4.2.1",null,null,"Stakta"]
["4.2.1.1",null,null,null,"Medis"]
["4.2.1.2",null,null,null,"Plastikas"]
["4.2.1.3",null,null,null,"Metalas"]
["4.2.1.4",null,null,null,"Kita"]
["4.2.2",null,null,"Skydas"]
["4.2.2.1",null,null,null,"Medis"]
["4.2.2.2",null,null,null,"Plastikas"]
["4.2.2.3",null,null,null,"Metalas"]
["4.2.2.4",null,null,null,"Stiklas"]
["4.2.2.5",null,null,null,"Kita"]
["4.2.3",null,null,"Kita"]
["4.2.3.1",null,null,null,"Kita"]
["4.3",null,"Kita"]
["4.3.1",null,null,"Kita"]
["4.3.1.1",null,null,null,"Kita"]
["5.","Langai"]
["5.1",null,"Langas"]
["5.1.1",null,null,"Stakta"]
["5.1.1.1",null,null,null,"Medis"]
["5.1.1.2",null,null,null,"Plastikas"]
["5.1.1.3",null,null,null,"Metalas"]
["5.1.1.4",null,null,null,"Aliuminis"]
["5.1.1.5",null,null,null,"Kita"]
["5.1.2",null,null,"Stiklas"]
["5.1.2.1",null,null,null,"Stiklo blokeliai "]
["5.1.2.2",null,null,null,"Kita"]
["5.1.3",null,null,"Lauko palangė"]
["5.1.3.1",null,null,null,"Cinkuota skarda"]
["5.1.3.2",null,null,null,"Kita"]
["5.1.4",null,null,"Vidaus palangė"]
["5.1.4.1",null,null,null,"Plastikas"]
["5.1.4.2",null,null,null,"Medis"]
["5.1.4.3",null,null,null,"Kita"]
["5.1.5",null,null,"Kita"]
["5.1.5.1",null,null,null,"Kita"]
["5.2",null,"Kita"]
["5.2.1",null,null,"Kita"]
["5.2.1.1",null,null,null,"Kita"]
["6.","Laiptai"]
["6.1",null,"Išorės"]
["6.1.1",null,null,"Laiptakis"]
["6.1.1.1",null,null,null,"Medis"]
["6.1.1.2",null,null,null,"Metalas"]
["6.1.1.3",null,null,null,"Gelžbetonis"]
["6.1.1.4",null,null,null,"Kita"]
["6.1.2",null,null,"Horizontali aikštelė"]
["6.1.2.1",null,null,null,"Medis"]
["6.1.2.2",null,null,null,"Metalas"]
["6.1.2.3",null,null,null,"Gelžbetonis"]
["6.1.2.4",null,null,null,"Kita"]
["6.1.3",null,null,"Turėklas"]
["6.1.3.1",null,null,null,"Medis"]
["6.1.3.2",null,null,null,"Metalas"]
["6.1.3.3",null,null,null,"Gelžbetonis"]
["6.1.3.4",null,null,null,"Kita"]
["6.1.4",null,null,"Kita"]
["6.1.4.1",null,null,null,"Kita"]
["6.2",null,"Vidaus"]
["6.2.1",null,null,"Laiptakis"]
["6.2.1.1",null,null,null,"Medis"]
["6.2.1.2",null,null,null,"Metalas"]
["6.2.1.3",null,null,null,"Gelžbetonis"]
["6.2.1.4",null,null,null,"Kita"]
["6.2.2",null,null,"Horizontali aikštelė"]
["6.2.2.1",null,null,null,"Medis"]
["6.2.2.2",null,null,null,"Metalas"]
["6.2.2.3",null,null,null,"Gelžbetonis"]
["6.2.2.4",null,null,null,"Kita"]
["6.2.3",null,null,"Turėklas"]
["6.2.3.1",null,null,null,"Medis"]
["6.2.3.2",null,null,null,"Metalas"]
["6.2.3.3",null,null,null,"Gelžbetonis"]
["6.2.3.4",null,null,null,"Kita"]
["6.2.4",null,null,"Kita"]
["6.2.4.1",null,null,null,"Kita"]
["6.3",null,"Kita"]
["6.3.1",null,null,"Kita"]
["6.3.1.1",null,null,null,"Kita"]
["7.","Stogas"]
["7.1",null,"Šlaitinis"]
["7.1.1",null,null,"Gegnės"]
["7.1.1.1",null,null,null,"Gelžbetonis"]
["7.1.1.2",null,null,null,"Medis"]
["7.1.1.3",null,null,null,"Kita"]
["7.1.2",null,null,"Santvaros"]
["7.1.2.1",null,null,null,"Medis"]
["7.1.2.2",null,null,null,"Kita"]
["7.1.3",null,null,"Paklotas (grebėstai)"]
["7.1.3.1",null,null,null,"Medis"]
["7.1.3.2",null,null,null,"Kita"]
["7.1.4",null,null,"Termoizoliacija"]
["7.1.4.1",null,null,null,"Polistireninis putplastis"]
["7.1.4.2",null,null,null,"Mineralinė vata"]
["7.1.4.3",null,null,null,"Kita"]
["7.1.5",null,null,"Garo izoliacija"]
["7.1.5.1",null,null,null,"Ruberoidas"]
["7.1.5.5",null,null,null,"Kita"]
["7.1.6",null,null,"Hidroizoliacija"]
["7.1.6.1",null,null,null,"Bituminė mastika"]
["7.1.6.2",null,null,null,"Kita"]
["7.1.7",null,null,"Danga"]
["7.1.7.1",null,null,null,"Skarda"]
["7.1.7.2",null,null,null,"Molinės čerpės"]
["7.1.7.3",null,null,null,"Betoninės čerpės"]
["7.1.7.4",null,null,null,"Bituminės čerpės"]
["7.1.7.5",null,null,null,"Kita"]
["7.1.8",null,null,"Kita"]
["7.1.8.1",null,null,null,"Kita"]
["7.2",null,"Plokščiasis"]
["7.2.1",null,null,"Laikančioji konstrukcija"]
["7.2.1.1",null,null,null,"Gelžbetonis "]
["7.2.1.2",null,null,null,"Medis"]
["7.2.1.3",null,null,null,"Metalas"]
["7.2.1.4",null,null,null,"Kita"]
["7.2.2",null,null,"Termoizoliacija"]
["7.2.2.1",null,null,null,"Mineralinė vata"]
["7.2.2.2",null,null,null,"Betonas"]
["7.2.2.3",null,null,null,"Keramzitas"]
["7.2.2.4",null,null,null,"Šlakas"]
["7.2.2.5",null,null,null,"Polistireninis putplastis"]
["7.2.2.6",null,null,null,"Kita"]
["7.2.3",null,null,"Garo izoliacija"]
["7.2.3.1",null,null,null,"Ruberoidas"]
["7.2.3.2",null,null,null,"Kita"]
["7.2.4",null,null,"Hidroizoliacija"]
["7.2.4.1",null,null,null,"Bituminė mastika"]
["7.2.4.2",null,null,null,"Kita"]
["7.2.5",null,null,"Danga"]
["7.2.5.1",null,null,null,"Ruberoidas, bitumas"]
["7.2.5.2",null,null,null,"Medinės lentelės"]
["7.2.5.3",null,null,null,"Kita"]
["7.2.6",null,null,"Kita"]
["7.2.6.1",null,null,null,"Kita"]
["7.3",null,"Kita"]
["7.3.1",null,null,"Kita"]
["7.3.1.1",null,null,null,"Kita"]
["8.","Vidaus apdaila"]
["8.1",null,"Sienų / pertvarų apdaila"]
["8.1.1",null,null,"Tinkas"]
["8.1.1.1",null,null,null,"Mūrinių ir betoninių sienų "]
["8.1.1.2",null,null,null,"Medinių sienų ir pertvarų"]
["8.1.1.3",null,null,null,"Dekoratyvinis "]
["8.1.1.4",null,null,null,"Kita"]
["8.1.2",null,null,"Dažai"]
["8.1.2.1",null,null,null,"Lateksiniai"]
["8.1.2.2",null,null,null,"Kita"]
["8.1.3",null,null,"Tapetai"]
["8.1.3.1",null,null,null,"Popieriniai"]
["8.1.3.2",null,null,null,"Kita"]
["8.1.4",null,null,"Plytelės"]
["8.1.4.1",null,null,null,"Keramika"]
["8.1.4.2",null,null,null,"Akmens masė"]
["8.1.4.3",null,null,null,"Kita"]
["8.1.5",null,null,"Dailylentės"]
["8.1.5.1",null,null,null,"Medis"]
["8.1.5.2",null,null,null,"Plastikas"]
["8.1.5.3",null,null,null,"Metalas"]
["8.1.5.4",null,null,null,"Kita"]
["8.1.6",null,null,"Plokštės"]
["8.1.6.1",null,null,null,"Akmuo"]
["8.1.6.2",null,null,null,"Medžio kamštis"]
["8.1.6.3",null,null,null,"Medienos plaušas"]
["8.1.6.4",null,null,null,"Medžio drožlės"]
["8.1.6.5",null,null,null,"Gipso kartonas"]
["8.1.6.6",null,null,null,"Kita"]
["8.1.7",null,null,"Plytos"]
["8.1.7.1",null,null,null,"Dekoratyvinės"]
["8.1.7.2",null,null,null,"Kita"]
["8.1.8",null,null,"Kita"]
["8.1.8.1",null,null,null,"Kita"]
["8.2",null,"Lubų apdaila"]
["8.2.1",null,null,"Tinkas"]
["8.2.1.1",null,null,null,"Mūrinių ir betoninių sienų "]
["8.2.1.2",null,null,null,"Medinių sienų ir pertvarų"]
["8.2.1.3",null,null,null,"Dekoratyvinis "]
["8.2.1.4",null,null,null,"Kita"]
["8.2.2",null,null,"Dažai"]
["8.2.2.1",null,null,null,"Lateksiniai"]
["8.2.2.2",null,null,null,"Kita"]
["8.2.3",null,null,"Dailylentės"]
["8.2.3.1",null,null,null,"Medis"]
["8.2.3.2",null,null,null,"Plastikas"]
["8.2.3.3",null,null,null,"Metalas"]
["8.2.3.4",null,null,null,"Kita"]
["8.2.4",null,null,"Plokštės"]
["8.2.4.1",null,null,null,"Akmuo"]
["8.2.4.2",null,null,null,"Medžio kamštis"]
["8.2.4.3",null,null,null,"Medienos plaušas "]
["8.2.4.4",null,null,null,"Medžio drožlės"]
["8.2.4.5",null,null,null,"Gipso kartonas"]
["8.2.4.6",null,null,null,"Kita"]
["8.2.5",null,null,"Plytos"]
["8.2.5.1",null,null,null,"Dekoratyvinės"]
["8.2.5.2",null,null,null,"Kita"]
["8.2.6",null,null,"Kita"]
["8.2.6.1",null,null,null,"Kita"]
["8.3",null,"Grindų termoizoliacija"]
["8.3.1",null,null,"Plokštės"]
["8.3.1.1",null,null,null,"Polistireninis putplastis "]
["8.3.1.2",null,null,null,"Mineralinė vata"]
["8.3.1.3",null,null,null,"Užpurškiama termoizoliacija"]
["8.3.1.4",null,null,null,"Kita"]
["8.3.2",null,null,"Kita"]
["8.3.2.1",null,null,null,"Kita"]
["8.4",null,"Grindų danga"]
["8.4.1",null,null,"Lentos"]
["8.4.1.1",null,null,null,"Medis"]
["8.4.1.2",null,null,null,"Parketas"]
["8.4.1.3",null,null,null,"Kita"]
["8.4.2",null,null,"Plytelės"]
["8.4.2.1",null,null,null,"Akmens masė"]
["8.4.2.2",null,null,null,"Keramika"]
["8.4.2.3",null,null,null,"Betonas"]
["8.4.2.4",null,null,null,"Kita"]
["8.4.3",null,null,"Plokštės"]
["8.4.3.1",null,null,null,"Betonas"]
["8.4.3.2",null,null,null,"Dirbtinis akmuo"]
["8.4.3.3",null,null,null,"Natūralus akmuo"]
["8.4.3.4",null,null,null,"Presuotas kartonas, medžio drožlės, mediena, medienos plaušas"]
["8.4.3.5",null,null,null,"Kita"]
["8.4.4",null,null,"Kita danga"]
["8.4.4.1",null,null,null,"Linoleumas, realinas"]
["8.4.4.2",null,null,null,"Kiliminė danga"]
["8.4.4.3",null,null,null,"Teraca"]
["8.4.4.4",null,null,null,"Asfaltas"]
["8.4.4.5",null,null,null,"Plūktas molis"]
["8.4.4.6",null,null,null,"Kita"]
["8.4.5",null,null,"Kita"]
["8.4.5.1",null,null,null,"Kita"]
["8.5",null,"Kita"]
["8.5.1",null,null,"Kita"]
["8.5.1.1",null,null,null,"Kita"]
["9.","Išorės apdaila"]
["9.1",null,"Sienų apdaila"]
["9.1.1",null,null,"Tinkas"]
["9.1.1.1",null,null,null,"Betoninių ir mūrinių sienų"]
["9.1.1.2",null,null,null,"Medinių sienų "]
["9.1.1.3",null,null,null,"Dekoratyvinis "]
["9.1.1.4",null,null,null,"Kita"]
["9.1.2",null,null,"Plytelės"]
["9.1.2.1",null,null,null,"Keramika"]
["9.1.2.2",null,null,null,"Stiklas"]
["9.1.2.3",null,null,null,"Kita"]
["9.1.3",null,null,"Plokštės"]
["9.1.3.1",null,null,null,"Akmuo"]
["9.1.3.2",null,null,null,"Stiklas"]
["9.1.3.3",null,null,null,"Betonas"]
["9.1.3.4",null,null,null,"Asbestcementinės, beasbestinės "]
["9.1.3.5",null,null,null,"Medžio drožlės"]
["9.1.3.6",null,null,null,"Medžio plauštas"]
["9.1.3.7",null,null,null,"Kita"]
["9.1.4",null,null,"Lakštai"]
["9.1.4.1",null,null,null,"Metalas"]
["9.1.4.2",null,null,null,"Kita"]
["9.1.5",null,null,"Dailylentės"]
["9.1.5.1",null,null,null,"Medis"]
["9.1.5.2",null,null,null,"Plastikas"]
["9.1.5.3",null,null,null,"Kita"]
["9.1.6",null,null,"Plytų mūras"]
["9.1.6.1",null,null,null,"Dekoratyvinis "]
["9.1.6.2",null,null,null,"Kita"]
["9.1.7",null,null,"Kita"]
["9.1.7.1",null,null,null,"Kita"]
["9.2",null,"Sienų termoizoliacija / hidroizoliacija"]
["9.2.1",null,null,"Plokštės"]
["9.2.1.1",null,null,null,"Polistireninis putplastis"]
["9.2.1.2",null,null,null,"Mineralinė vata"]
["9.2.1.3",null,null,null,"Kita"]
["9.2.2",null,null,"Drenažinė membrana"]
["9.2.3",null,null,"Ritininė danga"]
["9.2.3.1",null,null,null,"Ruberoidas"]
["9.2.3.2",null,null,null,"Kita"]
["9.2.4",null,null,"Kita"]
["9.2.4.1",null,null,null,"Kita"]
["9.3",null,"Kita"]
["9.3.1",null,null,"Kita"]
["9.3.1.1",null,null,null,"Kita"]
["10.","Šildymo sistema (vidaus)"]
["10.1",null,"Katilinis šildymas"]
["10.1.1",null,null,"Elektrinis katilas"]
["10.1.2",null,null,"Dujinis katilas"]
["10.1.3",null,null,"Kietojo kuro katilas"]
["10.1.4",null,null,"Biomasės katilas"]
["10.1.5",null,null,"Kita"]
["10.2",null,"Siurblinis šildymas"]
["10.2.1",null,null,"Siurblys (orasoras)"]
["10.2.2",null,null,"Siurblys (orasvanduo)"]
["10.2.3",null,null,"Geoterminis siurblys"]
["10.2.4",null,null,"Šildymo katilas"]
["10.2.5",null,null,"Kita"]
["10.3",null,"Šilumos punktas"]
["10.3.1",null,null,"Šilumokaitis"]
["10.3.2",null,null,"Slėgio reguliatorius"]
["10.3.3",null,null,"Elevatorius"]
["10.3.4",null,null,"Cirkuliacinis siurblys"]
["10.3.5",null,null,"Reguliavimo vožtuvas"]
["10.3.6",null,null,"Reguliavimo vožtuvo pavara"]
["10.3.7",null,null,"Balansavimo vožtuvas"]
["10.3.8",null,null,"Atbulinis vožtuvas"]
["10.3.9",null,null,"Šildymo sistemos valdiklis"]
["10.3.10",null,null,"Šilumnešio srauto matuoklis"]
["10.3.11",null,null,"Šilumos skaičiuoklis"]
["10.3.12",null,null,"Maitinimo blokas (elementas)"]
["10.3.13",null,null,"Temperatūros jutikliai"]
["10.3.14",null,null,"Kita"]
["10.4",null,"Šildymo sistemos tinklas"]
["10.4.1",null,null,"Šildymo sistemos vamzdžiai"]
["10.4.1.1",null,null,null,"Plastikas"]
["10.4.1.2",null,null,null,"Kita"]
["10.4.2",null,null,"Kita"]
["10.4.2.1",null,null,null,"Kita"]
["10.5",null,"Šildymo prietaisai"]
["10.5.1",null,null,"Radiatorius"]
["10.5.1.1",null,null,null,"Plienas"]
["10.5.1.2",null,null,null,"Kita"]
["10.5.2",null,null,"Gyvatukas"]
["10.5.2.1",null,null,null,"Varis"]
["10.5.2.2",null,null,null,"Kita"]
["10.5.3",null,null,"Konvektorius"]
["10.5.3.1",null,null,null,"Plienas"]
["10.5.3.2",null,null,null,"Kita"]
["10.5.4",null,null,"Grindinio šildymo vamzdynas"]
["10.4.4.1",null,null,null,"Plastikas"]
["10.4.4.2",null,null,null,"Kita"]
["10.5.5",null,null,"Kita"]
["10.5.5.1",null,null,null,"Kita"]
["10.6",null,"Kita"]
["10.6.1",null,null,"Kita"]
["10.6.1.1",null,null,null,"Kita"]
["11.","Šildymo sistema (lauko)"]
["11.1",null,"Centriniai šilumos tiekimo tinklai"]
["11.1.1",null,null,"Šilumos tiekimo vamzdynas"]
["11.1.1.1",null,null,null,"Plienas"]
["11.1.1.2",null,null,null,"Kita"]
["11.1.2",null,null,"Šilumos tiekimo vamzdynų izoliacija"]
["11.1.2.1",null,null,null,"Akmens vata"]
["11.1.2.2",null,null,null,"Kita"]
["11.1.3",null,null,"Šilumos tiekimo vamzdynų šuliniai"]
["11.1.3.1",null,null,null,"Betonas"]
["11.1.3.2",null,null,null,"Kita"]
["11.1.4",null,null,"Kita"]
["11.1.4.1",null,null,null,"Kita"]
["11.2",null,"Vietinis šildymas"]
["11.2.1",null,null,"Geoterminio šildymo kolektorius"]
["11.2.1.1",null,null,null,"Plienas"]
["11.2.1.2",null,null,null,"Kita"]
["11.2.2",null,null,"Saulės energijos kolektorius"]
["11.3",null,"Kita"]
["11.3.1",null,null,"Kita"]
["11.3.1.1",null,null,null,"Kita"]
["12.","Šaldymas ir oro kondicionavimas"]
["12.1",null,"Centrinis kondicionavimas",null,null,0.1]
["12.1.1",null,null,"Kondicionierius"]
["12.1.1.1",null,null,null,"Plienas"]
["12.1.1.2",null,null,null,"Kita"]
["12.1.2",null,null,"Kita"]
["12.1.2.1",null,null,null,"Kita",0.05]
["12.2",null,"Kambarinis kondicionavimas"]
["12.2.1",null,null,"Kondicionierius",null,0.1]
["12.2.1.1",null,null,null,"Plienas"]
["12.2.1.2",null,null,null,"Kita"]
["12.2.2",null,null,"Ortakiai",null,0.03]
["12.2.3",null,null,"Kita",null,0.03]
["12.2.3.1",null,null,null,"Kita"]
["12.3",null,"Kita"]
["12.3.1",null,null,"Kita"]
["12.3.1.1",null,null,null,"Kita"]
["13.","Ventiliacija (vėdinimas)"]
["13.1",null,"Ventiliacijos sistema"]
["13.1.1",null,null,"Ventiliatorius",null,0.1]
["13.1.1.1",null,null,null,"Plienas"]
["13.1.1.2",null,null,null,"Kita"]
["13.1.2",null,null,"Kaloriferis",null,0.1]
["13.1.2.1",null,null,null,"Plienas"]
["13.1.2.2",null,null,null,"Kita"]
["13.1.3",null,null,"Šilumogrąžos įrenginiai",null,0.05]
["13.1.3.1",null,null,null,"Plienas"]
["13.1.3.2",null,null,null,"Kita"]
["13.1.4",null,null,"Ortakiai",null,0.03]
["13.1.5",null,null,"Oro srauto reguliavimo įtaisai",null,0.03]
["13.1.6",null,null,"Oro sklaidytuvai",null,0.03]
["13.1.7",null,null,"Triukšmo slopintuvai",null,0.03]
[null,null,null,"Kita",null,0.03]
["13.1.8",null,null,null,"Kita",0.03]
["13.2",null,"Kita"]
["13.2.1",null,null,"Kita"]
["13.2.1.1",null,null,null,"Kita"]
["14.","Vandentiekio sistema (vidaus)"]
["14.1",null,"Geriamasis vandentiekis"]
["14.1.1",null,null,"Vandens apskaitos mazgas"]
["14.1.1.1",null,null,null,"Plienas"]
["14.1.1.2",null,null,null,"Kita"]
["14.1.2",null,null,"Slėgio reguliavimo įrenginys"]
["14.1.3",null,null,"Cirkuliacinis siurblys"]
["14.1.4",null,null,"Termostatinis temperatūros reguliatorius (balansavimo ventilis)"]
["14.1.5",null,null,"Tiekimo čiaupas"]
["14.1.5.1",null,null,null,"Plienas"]
["14.1.5.2",null,null,null,"Kita"]
["14.1.6",null,null,"Išleidimo čiaupas"]
["14.1.6.1",null,null,null,"Plienas"]
["14.1.6.2",null,null,null,"Kita"]
["14.1.7",null,null,"Magistralinis vamzdynas"]
["14.1.7.1",null,null,null,"Ketus"]
["14.1.7.2",null,null,null,"Plienas"]
["14.1.7.3",null,null,null,"Varis"]
["14.1.7.4",null,null,null,"Plastikas"]
["14.1.7.5",null,null,null,"Metaloplastikas"]
["14.1.7.6",null,null,null,"Kita"]
["14.1.8",null,null,"Stovas"]
["14.1.8.1",null,null,null,"Ketus"]
["14.1.8.2",null,null,null,"Plienas"]
["14.1.8.3",null,null,null,"Varis"]
["14.1.8.4",null,null,null,"Plastikas"]
["14.1.8.5",null,null,null,"Metaloplastikas"]
["14.1.8.6",null,null,null,"Kita"]
["14.1.9",null,null,"Aukšto įvadas"]
["14.1.9.1",null,null,null,"Ketus"]
["14.1.9.2",null,null,null,"Plienas"]
["14.1.9.3",null,null,null,"Varis"]
["14.1.9.4",null,null,null,"Plastikas"]
["14.1.9.5",null,null,null,"Metaloplastikas"]
["14.1.9.6",null,null,null,"Kita"]
["14.1.10",null,null,"Jungiamasis vamzdis"]
["14.1.10.1",null,null,null,"Ketus"]
["14.1.10.2",null,null,null,"Plienas"]
["14.1.10.3",null,null,null,"Varis"]
["14.1.10.4",null,null,null,"Plastikas"]
["14.1.10.5",null,null,null,"Metaloplastikas"]
["14.1.10.6",null,null,null,"Kita"]
["14.1.11",null,null,"Vamzdžių izoliacija"]
["14.1.11.1",null,null,null,"Pūstas polietilenas"]
["14.1.11.2",null,null,null,"Sintetinė guma"]
["14.1.11.3",null,null,null,"Kita"]
["14.1.12",null,null,"Ėmimo čiaupai ir taškai"]
["14.1.12.1",null,null,null,"Plienas"]
["14.1.12.2",null,null,null,"Kita"]
["14.1.13",null,null,"Kita"]
["14.1.13.1",null,null,null,"Kita"]
["14.2",null,"Gamybinis vandentiekis"]
["14.2.1",null,null,"Vandens apskaitos mazgas"]
["14.2.1.1",null,null,null,"Plienas"]
["14.2.1.2",null,null,null,"Kita"]
["14.2.2",null,null,"Slėgio reguliavimo įrenginiai"]
["14.2.3",null,null,"Cirkuliacinis siurblys"]
["14.2.4",null,null,"Termostatinis temperatūros reguliatorius (balansavimo ventilis)"]
["14.2.5",null,null,"Tiekimo čiaupas"]
["14.2.5.1",null,null,null,"Plienas"]
["14.2.5.2",null,null,null,"Kita"]
["14.2.6",null,null,"Išleidimo čiaupas"]
["14.2.6.1",null,null,null,"Plienas"]
["14.2.6.2",null,null,null,"Kita"]
["14.2.7",null,null,"Magistralinis vamzdynas"]
["14.2.7.1",null,null,null,"Ketus"]
["14.2.7.2",null,null,null,"Plienas"]
["14.2.7.3",null,null,null,"Varis"]
["14.2.7.4",null,null,null,"Plastikas"]
["14.2.7.5",null,null,null,"Metaloplastikas"]
["14.2.7.6",null,null,null,"Kita"]
["14.2.8",null,null,"Stovas"]
["14.2.8.1",null,null,null,"Ketus"]
["14.2.8.2",null,null,null,"Plienas"]
["14.2.8.3",null,null,null,"Varis"]
["14.2.8.4",null,null,null,"Plastikas"]
["14.2.8.5",null,null,null,"Metaloplastikas"]
["14.2.8.6",null,null,null,"Kita"]
["14.2.9",null,null,"Aukšto įvadas"]
["14.2.9.1",null,null,null,"Ketus"]
["14.2.9.2",null,null,null,"Plienas"]
["14.2.9.3",null,null,null,"Varis"]
["14.2.9.4",null,null,null,"Plastikas"]
["14.2.9.5",null,null,null,"Metaloplastikas"]
["14.2.9.6",null,null,null,"Kita"]
["14.2.10",null,null,"Jungiamasis vamzdis"]
["14.2.10.1",null,null,null,"Ketus"]
["14.2.10.2",null,null,null,"Plienas"]
["14.2.10.3",null,null,null,"Varis"]
["14.2.10.4",null,null,null,"Plastikas"]
["14.2.10.5",null,null,null,"Metaloplastikas"]
["14.2.10.6",null,null,null,"Kita"]
["14.2.11",null,null,"Vamzdžių izoliacija"]
["14.2.11.1",null,null,null,"Pūstas polietilenas"]
["14.2.11.2",null,null,null,"Sintetinė guma"]
["14.2.11.3",null,null,null,"Kita"]
["14.2.12",null,null,"Ėmimo čiaupai ir taškai"]
["14.2.12.1",null,null,null,"Plienas"]
["14.2.1.2",null,null,null,"Kita"]
["14.2.13",null,null,"Kita"]
["14.2.13.1",null,null,null,"Kita"]
["14.3",null,"Gaisrinis vandentiekis"]
["14.3.1",null,null,"Vandens apskaitos mazgas"]
["14.3.1.1",null,null,null,"Plienas"]
["14.1.1.2",null,null,null,"Kita"]
["14.3.2",null,null,"Slėgio reguliavimo įrenginiai"]
["14.3.3",null,null,"Cirkuliacinis siurblys"]
["14.3.4",null,null,"Termostatinis temperatūros reguliatorius (balansavimo ventilis)"]
["14.3.5",null,null,"Tiekimo čiaupas"]
["14.3.5.1",null,null,null,"Plienas"]
["14.3.5.2",null,null,null,"Kita"]
["14.3.6",null,null,"Išleidimo čiaupas"]
["14.3.6.1",null,null,null,"Plienas"]
["14.3.6.2",null,null,null,"Kita"]
["14.3.7",null,null,"Magistralinis vamzdynas"]
["14.3.7.1",null,null,null,"Ketus"]
["14.3.7.2",null,null,null,"Plienas"]
["14.3.7.3",null,null,null,"Varis"]
["14.3.7.4",null,null,null,"Plastikas"]
["14.3.7.5",null,null,null,"Metaloplastikas"]
["14.3.7.6",null,null,null,"Kita"]
["14.3.8",null,null,"Stovas"]
["14.3.8.1",null,null,null,"Ketus"]
["14.3.8.2",null,null,null,"Plienas"]
["14.3.8.3",null,null,null,"Varis"]
["14.3.8.4",null,null,null,"Plastikas"]
["14.3.8.5",null,null,null,"Metaloplastikas"]
["14.3.8.6",null,null,null,"Kita"]
["14.3.9",null,null,"Aukšto įvadas"]
["14.3.9.1",null,null,null,"Ketus"]
["14.3.9.2",null,null,null,"Plienas"]
["14.3.9.3",null,null,null,"Varis"]
["14.3.9.4",null,null,null,"Plastikas"]
["14.3.9.5",null,null,null,"Metaloplastikas"]
["14.3.9.6",null,null,null,"Kita"]
["14.3.10",null,null,"Jungiamasis vamzdis"]
["14.3.10.1",null,null,null,"Ketus"]
["14.3.10.2",null,null,null,"Plienas"]
["14.3.10.3",null,null,null,"Varis"]
["14.3.10.4",null,null,null,"Plastikas"]
["14.3.10.5",null,null,null,"Metaloplastikas"]
["14.3.10.6",null,null,null,"Kita"]
["14.3.11",null,null,"Vamzdžių izoliacija"]
["14.3.11.1",null,null,null,"Pūstas polietilenas"]
["14.3.11.2",null,null,null,"Sintetinė guma"]
["14.3.11.3",null,null,null,"Kita"]
["14.3.12",null,null,"Ėmimo čiaupai ir taškai"]
["14.3.12.1",null,null,null,"Plienas"]
["14.3.12.2",null,null,null,"Kita"]
["14.3.13",null,null,"Kita"]
["14.3.13.1",null,null,null,"Kita"]
["14.4",null,"Kita"]
["14.4.1",null,null,"Kita"]
["14.4.1.1",null,null,null,"Kita"]
["15.","Vandentiekio sistema (lauko)"]
["15.1",null,"Vandentiekio tinklas"]
["15.1.1",null,null,"Vamzdynai"]
["15.1.1.1",null,null," ","Ketus"]
["15.1.1.2",null,null,null,"Plienas"]
["15.1.1.3",null,null,null,"Varis"]
["15.1.1.4",null,null,null,"Plastikas"]
["15.1.1.5",null,null,null,"Metaloplastikas"]
["15.1.1.6",null,null,null,"Kita"]
["15.1.2",null,null,"Vamzdynų izoliacija"]
["15.1.2.1",null,null,null,"Akmens vata"]
["15.1.2.2",null,null,null,"Kita"]
["15.1.3",null,null,"Vamzdynų šuliniai"]
["15.1.3.1",null,null,null,"Gelžbetonis"]
["15.1.3.2",null,null,null,"Plytos"]
["15.1.3.3",null,null,null,"Kita"]
["15.1.4",null,null,"Kita"]
["15.1.4.1",null,null,null,"Kita"]
["15.2",null,"Šuliniai"]
["15.2.1",null,null,"Gręžtiniai vandens šuliniai su filtrais"]
["15.2.2",null,null,"Gręžtiniai vandens šuliniai be filtrų"]
["15.2.3",null,null,"Šachtiniai geriamojo vandens šuliniai"]
["15.2.3.1",null,null,null,"Gelžbetonis"]
["15.2.3.2",null,null,null,"Medis"]
["15.2.3.3",null,null,null,"Kita"]
["15.2.4",null,null,"Hidrantai"]
["15.2.4.1",null,null,null,"Plienas"]
["15.2.4.2",null,null,null,"Kita"]
["15.2.5",null,null,"Kita"]
["15.2.5.1",null,null,null,"Kita"]
["15.3",null,"Kita"]
["15.3.1",null,null,"Kita"]
["15.3.1.1",null,null,null,"Kita"]
["16.","Nuotekų šalinimo sistema (vidaus)"]
["16.1",null,"Nuotekų šalinimo tinklas"]
["16.1.1",null,null,"Išvadas"]
["16.1.1.1",null,null,null,"Keramika"]
["16.1.1.2",null,null,null,"Gelžbetonis"]
["16.1.1.3",null,null,null,"Asbestcementas"]
["16.1.1.4",null,null,null,"Ketus"]
["16.1.1.5",null,null,null,"Plastikas"]
["16.1.1.6",null,null,null,"Kita"]
["16.1.2",null,null,"Stovas"]
["16.1.2.1",null,null,null,"Keramika"]
["16.1.2.2",null,null,null,"Gelžbetonis"]
["16.1.2.3",null,null,null,"Asbestcementas"]
["16.1.2.4",null,null,null,"Ketus"]
["16.1.2.5",null,null,null,"Plastikas"]
["16.1.2.6",null,null,null,"Kita"]
["16.1.3",null,null,"Nuotakas"]
["16.1.3.1",null,null,null,"Keramika"]
["16.1.3.2",null,null,null,"Gelžbetonis"]
["16.1.3.3",null,null,null,"Asbestcementas"]
["16.1.3.4",null,null,null,"Ketus"]
["16.1.3.5",null,null,null,"Plastikas"]
["16.1.3.6",null,null,null,"Kita"]
["16.1.4",null,null,"Buitiniai sanitariniai prietaisai"]
["16.1.5",null,null,"Kita"]
["16.1.5.1",null,null,null,"Kita"]
["16.2",null,"Kita"]
["16.2.1",null,null,"Kita"]
["16.2.1.1",null,null,null,"Kita"]
["17.","Nuotekų šalinimo sistema (lauko)"]
["17.1.",null,"Centrinis nuotekų tinklas"]
["17.1.1",null,null,"Nuotekų vamzdžiai"]
["17.1.1.1",null,null,null,"Keramika"]
["17.1.1.2",null,null,null,"Gelžbetonis"]
["17.1.1.3",null,null,null,"Asbestcementas"]
["17.1.1.4",null,null,null,"Ketus"]
["17.1.1.5",null,null,null,"Plastikas"]
["17.1.1.6",null,null,null,"Kita"]
["17.1.2",null,null,"Nuotekų vamzdžių šuliniai"]
["17.1.2.1",null,null,null,"Gelžbetonis"]
["17.1.2.2",null,null,null,"Plytos"]
["17.1.2.3",null,null,null,"Plastikas"]
["17.1.2.4",null,null,null,"Kita"]
["17.1.3",null,null,"Kita"]
["17.1.3.1",null,null,null,"Kita"]
["17.2",null,"Vietinė nuotekų sistema"]
["17.2.1",null,null,"Nuotekų vamzdžiai"]
["17.2.1.1",null,null,null,"Keramika"]
["17.2.1.2",null,null,null,"Gelžbetonis"]
["17.2.1.3",null,null,null,"Asbestcementas"]
["17.2.1.4",null,null,null,"Ketus"]
["17.2.1.5",null,null,null,"Plastikas"]
["17.2.1.6",null,null,null,"Kita"]
["17.2.2",null,null,"Nuotekų vamzdžių šuliniai"]
["17.2.2.1",null,null,null,"Gelžbetonis"]
["17.2.2.2",null,null,null,"Plytos"]
["17.2.2.3",null,null,null,"Plastikas"]
["17.2.2.4",null,null,null,"Kita"]
["17.2.3",null,null,"Rezervuarai"]
["17.2.3.1",null,null,null,"Gelžbetonis"]
["17.2.3.2",null,null,null,"Kita"]
["17.2.4",null,null,"Mažieji nuotekų valymo įrenginiai",null,0.1]
["17.2.5",null,null,"Kita"]
["17.2.5.1",null,null,null,"Kita"]
["17.3",null,"Kita"]
["17.3.1",null,null,"Kita"]
["17.3.1.1",null,null,null,"Kita"]
["18.","Elektros instaliacija (vidaus)"]
["18.1",null,"Elektros tinklas"]
["18.1.1",null,null,"Įvadinė spinta"]
["18.1.2",null,null,"Elektros skydelis"]
["18.1.3",null,null,"Laidai"]
["18.1.3.1",null,null,null,"Aliuminis"]
["18.1.3.2",null,null,null,"Varis"]
["18.1.3.3",null,null,null,"Kita"]
["18.1.4",null,null,"Skirstomosios ir jungiamosios dėžutės"]
["18.1.5",null,null,"Kita"]
["18.1.5.1",null,null,null,"Kita"]
["18.2",null,"Apšvietimas"]
["18.2.1",null,null,"Atrama"]
["18.2.1.1",null,null,null,"Gelžbetonis"]
["18.2.1.2",null,null,null,"Metalas"]
["18.2.1.3",null,null,null,"Kita"]
["18.2.2",null,null,"Korpusas"]
["18.2.2.1",null,null,null,"Plienas"]
["18.2.2.2",null,null,null,"Aliuminis"]
["18.2.2.3",null,null,null,"Plastikas"]
["18.2.2.4",null,null,null,"Kita"]
["18.2.3",null,null,"Lempa"]
["18.2.3.1",null,null,null,"Liuminescencinės (fluorescencinės) arba dienos šviesos"]
["18.2.3.2",null,null,null,"LED  šviesos diodų"]
["18.2.3.3",null,null,null,"LED juostos"]
["18.2.3.4",null,null,null,"Halogenai"]
["18.2.3.5",null,null,null,"Kaitrinės (kaitinamosios)"]
["18.2.3.6",null,null,null,"Natrio"]
["18.2.3.7",null,null,null,"Kita"]
["18.2.4",null,null,"Kita"]
["18.2.4.1",null,null,null,"Kita"]
["18.3",null,"Jungikliai ir rozetės"]
["18.3.1",null,null,"Potinkiniai ir virštinkliniai jungikliai"]
["18.3.2",null,null,"Kištukiniai lizdai"]
["18.3.3",null,null,"Grindininės dėžės"]
["18.3.4",null,null,"Buitiniai ir pramoniniai ilgintuvai"]
[null,null,null,"Plastikiniai skydeliai"]
["18.4",null,"Kita"]
["18.4.1",null,null,"Kita"]
["18.4.1.1",null,null,null,"Kita"]
["19.","Elektros instaliacija (lauko)"]
["19.1",null,"Autonominiai elektros energijos tiekimo įrenginiai (šaltinis  saulės energija)"]
["19.1.1",null,null,"Saulės modulis"]
["19.1.2",null,null,"Inverteris"]
["19.1.3",null,null,"Įkrovimo valdiklis"]
["19.1.4",null,null,"Akumuliatorių baterija"]
["19.1.5",null,null,"Kita"]
["19.2",null,"Autonominiai elektros energijos tiekimo įrenginiai (šaltinis  vėjo energija)"]
["19.2.1",null,null,"Vėjo jėgainė"]
["19.2.2",null,null,"Inverteris"]
["19.2.3",null,null,"Įkrovimo valdiklis"]
["19.2.4",null,null,"Akumuliatorių baterija"]
["19.2.5",null,null,"Kita"]
["19.3",null,"Autonominiai elektros energijos tiekimo įrenginiai (šaltinis  skystasis kuras)"]
["19.3.1",null,null,"Skystojo kuro generatorius"]
["19.3.2",null,null,"Kita"]
["19.4",null,"Elektros tinklas"]
["19.4.1",null,null,"Įvadas"]
["19.4.2",null,null,"Kabeliai"]
["19.4.2.1",null,null,null,"Varis"]
["19.4.2.3",null,null,null,"Kita"]
["19.4.3",null,null,"Įvadinė spinta"]
["19.4.4",null,null,"Kita"]
["19.4.4.1",null,null,null,"Kita"]
["19.5",null,"Apšvietimas"]
["19.5.1",null,null,"Atrama"]
["19.5.1.1",null,null,null,"Gelžbetonis"]
["19.5.1.2",null,null,null,"Metalas"]
["19.5.1.3",null,null,null,"Kita"]
["19.5.2",null,null,"Korpusas"]
["19.5.2.2",null,null,null,"Plienas"]
["19.5.2.3",null,null,null,"Aliuminis"]
["19.5.2.4",null,null,null,"Plastikas"]
["19.5.2.5",null,null,null,"Kita"]
["19.5.3",null,null,"Lempa"]
["19.5.3.1",null,null,null,"Liuminescencinės (fluorescencinės) arba dienos šviesos"]
["19.5.3.2",null,null,null,"LED  šviesos diodų"]
["19.5.3.3",null,null,null,"LED juostos"]
["19.5.3.4",null,null,null,"Halogenai"]
["19.5.3.5",null,null,null,"Kaitrinės (kaitinamosios)"]
["19.5.3.6",null,null,null,"Natrio"]
["19.5.3.7",null,null,null,"Kita"]
["19.5.4",null,null,"Kita"]
["19.5.4.1",null,null,null,"Kita"]
["19.6",null,"Žaibolaidis"]
["19.6.1",null,null,"Žaibo ėmiklis"]
["19.6.1.1",null,null,null,"Aliuminis"]
["19.6.1.2",null,null,null,"Plienas"]
["19.6.1.3",null,null,null,"Kita"]
["19.6.2",null,null,"Elektroninė įranga (Early Streamer Emission)"]
["19.6.3",null,null,"Įžeminimo laidininkas"]
["19.6.3.1",null,null,null,"Varis"]
["19.6.3.2",null,null,null,"Nerūdijantis plienas"]
["19.6.3.3",null,null,null,"Aliuminis"]
["19.6.3.4",null,null,null,"Cinkuotas plienas"]
["19.6.3.5",null,null,null,"Kita"]
["19.6.4",null,null,"Įžemiklis"]
["19.6.4.1",null,null,null,"Varis"]
["19.6.4.2",null,null,null,"Variu dengtas plienas"]
["19.6.4.3",null,null,null,"Nerūdijantis plienas"]
["19.6.4.4",null,null,null,"Karštu būdu cinkuotas plienas"]
["19.6.4.5",null,null,null,"Kita"]
["19.6.5",null,null,"Kita"]
["19.6.5.1",null,null,null,"Kita"]
["19.7",null,"Kita"]
["19.7.1",null,null,"Kita"]
["19.7.1.1",null,null,null,"Kita"]
["20.","Dujos"]
["20.1",null,"Dujotiekio vamzdynas"]
["20.1.1",null,null,"Įvadas"]
["20.1.1.1",null,null,null,"Plienas"]
["20.1.1.2",null,null,null,"Kita"]
["20.1.2",null,null,"Vamzdžiai"]
["20.1.2.1",null,null,null,"Plienas"]
["20.1.2.2",null,null,null,"Kita"]
["20.1.3",null,null,"Kita"]
["20.1.3.1",null,null,null,"Kita"]
["20.2",null,"Dujiniai prietaisai"]
["20.2.1",null,null,"Slėgio reguliavimo įtaisai"]
["20.2.2",null,null,"Kontolės ir matavimo prietaisai"]
["20.2.3",null,null,"Kita"]
["20.3",null,"Dujas deginantys įrenginiai"]
["20.3.1",null,null,"Dujinis vandens šildytuvas"]
["20.3.2",null,null,"Dujinis šildymo katilas"]
["20.3.3",null,null,"Dujinis oro šildytuvas"]
["20.3.4",null,null,"Dujinis šildymo konvektorius"]
["20.3.5",null,null,"Kita"]
["20.4",null,"Kita"]
["20.4.1",null,null,"Kita"]
["20.4.1.1",null,null,null,"Kita"]
["21.","Apsaugos sistema"]
["21.1",null,"Signalizavimo prietaisai"]
["21.1.1",null,null,"Sirenos"]
["21.1.2",null,null,"Kita"]
["21.2",null,"Jutikliai"]
["21.2.1",null,null,"Judesio jutikliai"]
["21.2.2",null,null,"Stiklo dūžio jutikliai"]
["21.2.3",null,null,"Kita"]
["21.3",null,"Vaizdo stebėjimo sistema"]
["21.3.1",null,null,"Vaizdo kameros"]
["21.3.2",null,null,"Monitoriai"]
["21.3.3",null,null,"Kita"]
["21.4",null,"Įeigos kontrolės sistema"]
["21.4.1",null,null,"Turniketai"]
["21.4.2",null,null,"Elektromagnetinės spynos"]
["21.4.3",null,null,"Skaitytuvai"]
["21.4.4",null,null,"Kontroleriai"]
["21.4.5",null,null,"Kita"]
["21.5",null,"Laidai"]
["21.5.1",null,null,"Laidai"]
["21.5.1.1",null,null,null,"Aliuminis"]
["21.5.1.2",null,null,null,"Varis"]
["21.5.1.3",null,null,null,"KIta"]
["21.6",null,"Kita"]
["21.6.1",null,null,"Kita"]
["22.","Telekomunikacijos"]
["22.1",null,"Interneto ryšys"]
["22.1.1",null,null,"Linijos"]
["22.1.1.1",null,null,null,"Varis "]
["22.1.1.2",null,null,null,"Šviesolaidinis pluoštas"]
["22.1.1.3",null,null,null,"Kita"]
["22.1.2",null,null,"Komutatoriai"]
["22.1.3",null,null,"Maršrutirizatoriai"]
["22.1.4",null,null,"Serveriai"]
["22.1.5",null,null,"Kita"]
["22.1.5.1",null,null,null,"Kita"]
["22.2",null,"Telefoninis ryšys"]
["22.2.1",null,null,"Linijos"]
["22.2.1.1",null,null,null,"Varis"]
["22.2.1.2",null,null,null,"Kita"]
["22.2.2",null,null,"Kita"]
["22.2.2.1",null,null,null,"Kita"]
["22.3",null,"Televizija"]
["22.3.1",null,null,"Linijos"]
["22.3.1.1",null,null,null,"Varis "]
["22.3.1.2",null,null,null,"Šviesolaidinis pluoštas"]
["22.3.1.3",null,null,null,"Kita"]
["22.3.2",null,null,"Antenos"]
["22.3.2.1",null,null,null,"Plienas"]
["22.3.2.2",null,null,null,"Kita"]
["22.4",null,"Kita"]
["22.4.1",null,null,"Kita"]
["22.4.1.1",null,null,null,"Kita"]
["23.","Gaisro gesinimo sistema"]
["23.1",null,"Gaisro aptikimo įrenginiai"]
["23.1.1",null,null,"Temperatūros jutikliai"]
["23.1.2",null,null,"Dūmų jutikliai"]
["23.1.3",null,null,"Liepsnos jutikliai"]
["23.1.4",null,null,"Kita"]
["23.2",null,"Signalizavimo įrenginiai"]
["23.2.1",null,null,"Gaisrinės sirenos"]
["23.2.2",null,null,"Gaisro signalizacijos centralė"]
["23.2.3",null,null,"Kita"]
["23.3",null,"Stacionariosios gaisrų gesinimo (aušinimo) sistemos"]
["23.3.1",null,null,"Sprinkleriai"]
["23.3.2",null,null,"Vamzdžiai"]
["23.3.2.1",null,null,null,"Ketus"]
["23.3.2.2",null,null,null,"Plienas"]
["23.3.2.3",null,null,null,"Gelžbetonis"]
["23.3.2.4",null,null,null,"Plastikas"]
["23.3.2.5",null,null,null,"Kita"]
["23.4",null,"Kita"]
["23.4.1",null,null,"Kita"]
["23.4.1.1",null,null,null,"Kita"]
["24.","Transportavimo sistema"]
["24.1",null,"Transportavimo įrenginiai"]
["24.1.1",null,null,"Liftai"]
["24.1.2",null,null,"Eskalatoriai"]
["24.1.3",null,null,"Keltuvai"]
["24.1.4",null,null,"Kita"]
["24.2",null,"Kita"]
["24.2.1",null,null,"Kita"]
["24.2.2",null,null,null,"Kita"]
["25","Lietaus bei gruntinių vandenų surinkimo / nuvedimo sistemos"]
["25.1",null,"Lietaus surinkimo / nuvedimo sistema"]
["25.1.1",null,null,"Vandens surinkimo latakai"]
["25.1.1.1",null,null,null,"Plastikas"]
[null,null,null,null,"Aliuminis"]
["25.1.1.2",null,null,null,"Plienas"]
["25.1.1.3",null,null,null,"Kita"]
["25.1.2",null,null,"Lietvamzdžiai"]
["25.1.2.1",null,null,null,"Plastikas"]
[null,null,null,null,"Aliuminis"]
["25.1.2.2",null,null,null,"Plienas"]
["25.1.2.3",null,null,null,"Kita"]
["25.1.3",null,null,"Laikikliai"]
["25.1.3.1",null,null,null,"Plienas"]
["25.1.3.2",null,null,null,"Kita"]
["25.1.4",null,null,"Alkūnės"]
["25.1.4.1",null,null,null,"Plastikas"]
[null,null,null,null,"Aliuminis"]
["25.1.4.2",null,null,null,"Plienas"]
["25.1.4.3",null,null,null,"Kita"]
["25.1.5",null,null,"Nuolajos"]
["25.1.5.1",null,null,null,"Plastikas"]
[null,null,null,null,"Aliuminis"]
["25.1.5.2",null,null,null,"Plienas"]
["25.1.5.3",null,null,null,"Kita"]
["25.1.6",null,null,"Lietaus surinkimo šulinėliai"]
["25.1.6.1",null,null,null,"Plastikas"]
["25.1.6.2",null,null,null,"Kita"]
["25.1.7.1",null,null,"Kita"]
["25.1.7.2",null,null,null,"Kita"]
["25.2",null,"Gruntinių vandenų surinkimo / nuvedimo sistema"]
["25.2.1",null,null,"Drenažo vamzdžiai"]
["25.2.1.1",null,null,null,"Plastikas"]
["25.2.1.2",null,null,null,"Kita"]
["25.2.2.1",null,null,"Kita"]
["25.2.2.1",null,null,null,"Kita"]
["25.3",null,"Kita"]
["25.3.1",null,null,"Kita"]
["25.3.2",null,null,null,"Kita"]

{"sheet":"Klasifikatorius2","index":39,"n_rows":1157,"n_cols":131,"rows_kept":1157,"cut":false,"hidden":true,"merged":[]}
[null,null,null,null,null,null,null,null,null,null,null,null,null,null,null,null,null,"Atskirieji seklieji pamatai","Kita","Gelžbetonis",150,null,"Cokolinės perdangos","Kita","Kita","Kita",null,"Išorinės","Blokai","Akmenbetonis",30,null,"Išorės","Kita","Kita",50,null,"Kita","Kita","Aliuminis",25,null,"Išorės","Horizontali aikštelė","Gelžbetonis",30,null,"Kita","Danga","Betonas",12,null,"Grindų danga","Dailylentės","Akmens masė",5,null,"Kita","Dailylentės","Akmuo",12,null,"Katilinis šildymas","Atbulinis vožtuvas","Kita",10,null,null,null,null,null,null,"Centrinis kondicionavimas","Kita","Kita",10,null,null,null,null,null,null,null,null,null,null,null,null,null,null,null,null,"Kita","Buitiniai sanitariniai prietaisai","Asbestcementas",17,null,"Centrinis nuotekų tinklas","Kita","Asbestcementas",17,null,"Apšvietimas","Elektros skydelis","Kita",20,null,null,null,null,null,null,null,null,null,null,null,"Įeigos kontrolės sistema","Elektromagnetinės spynos",null,2,null,"Interneto ryšys","Kita",null,4,null,"Gaisro aptikimo įrenginiai","Dūmų jutikliai","Gelžbetonis",2]
[null,null,null,null,null,null,null,null,"Gyvenamieji pastatai","Gamybos ir sandėliavimo pastatai","Administraciniai pastatai","Mokslo įstaigos","Gydymo įstaigos","Transporto ir ryšių infrastruktūra","Kultūros objektai","Kiti pastatai",null,"Ištisiniai","Monolitas","Kita","Kita",null,"Cokolinių perdangų termoizoliacija",null,null,null,null,"Kita","Blokeliai","Akmuo",35,null,"Kita","Skydas","Medis","Kita",null,"Langas","Lauko palangė","Cinkuota skarda","Kita",null,"Kita","Kita","Kita","Kita",null,"Plokščiasis","Garo izoliacija","Bituminė mastika",35,null,"Grindų termoizoliacija","Dažai","Akmuo",10,null,"Sienų apdaila","Drenažinė membrana","Asbestcementinės, beasbestinės ",15,null,"Kita","Balansavimo vožtuvas","Plastikas",13,null,null,null,null,null,null,"Kambarinis kondicionavimas","Kondicionierius","Plienas","13",null,null,null,null,null,null,null,null,null,null,null,null,null,null,null,null,"Nuotekų šalinimo tinklas","Išvadas","Gelžbetonis",25,null,"Kita","Mažieji nuotekų valymo įrenginiai","Gelžbetonis",20,null,"Elektros tinklas","Įvadinė spinta","Varis","Kita",null,null,null,null,null,null,null,null,null,null,null,"Jutikliai","Judesio jutikliai",null,4,null,"Kita","Komutatoriai",null,"Kita",null,"Kita","Gaisrinės sirenos","Ketus",4]
[null,"Nr.","Pastato elementas","Konstrukcija / tipas","Dalis / prietaisai","Medžiaga","Klasifikavimo šaltinis","Tarnavimo laikotarpių šaltinis","Tarnavimo laikotarpis","Tarnavimo laikotarpis","Tarnavimo laikotarpis","Tarnavimo laikotarpis","Tarnavimo laikotarpis","Tarnavimo laikotarpis","Tarnavimo laikotarpis","Tarnavimo laikotarpis",null,"Juostiniai","Pado blokai",null,null,null,"Kita",null,null,null,null,"Kolonos","Karkasas","Asbestcementis",40,null,"Vidaus","Stakta","Metalas",null,null,null,"Stakta","Kita",null,null,"Vidaus","Laiptakis","Medis",null,null,"Šlaitinis","Hidroizoliacija","Gelžbetonis ",50,null,"Kita","Kita","Asfaltas",12,null,"Sienų termoizoliacija / hidroizoliacija","Kita","Betonas",20,null,"Siurblinis šildymas","Biomasės katilas","Plienas",15,null,null,null,null,null,null,"Kita","Ortakiai",null,"Kita",null,null,null,null,null,null,null,null,null,null,null,null,null,null,null,null,null,"Kita","Keramika",30,null,"Vietinė nuotekų sistema","Nuotekų vamzdžiai","Keramika",25,null,"Kita","Kita",null,null,null,null,null,null,null,null,null,null,null,null,null,"Kita","Kita",null,10,null,"Telefoninis ryšys","Linijos",null,null,null,"Signalizavimo įrenginiai","Gaisro signalizacijos centralė","Kita",5]
[null,"1.","Pamatai",null,null,null,"STR  Projektavimas",null,null,null,null,null,null,null,null,null,null,"Kita","Sienos blokai",null,null,null,"Perdangos ant grunto",null,null,null,null,"Pertvaros","Kita","Betonas",50,null,null,null,"Plastikas",null,null,null,"Stiklas","Medis",null,null,null,"Turėklas","Metalas",null,null,null,"Kita","Keramzitas",100,null,"Lubų apdaila","Kita danga","Betonas",15,null,null,"Lakštai","Betoninių ir mūrinių sienų",30,null,"Šildymo prietaisai","Cirkuliacinis siurblys","Varis",16,null,null,null,null,null,null,null,null,null,null,null,null,null,null,null,null,null,null,null,null,null,null,null,null,null,null,null,"Nuotakas","Ketus",35,null,null,"Nuotekų vamzdžių šuliniai","Ketus",30,null,null,"Laidai",null,null,null,null,null,null,null,null,null,null,null,null,null,"Signalizavimo prietaisai","Kontroleriai",null,15,null,"Televizija","Maršrutirizatoriai",null,null,null,"Stacionariosios gaisrų gesinimo (aušinimo) sistemos","Kita","Plastikas",10]
[null,"1.1",null,"Juostiniai",null,null,"STR  Projektavimas",null,null,null,null,null,null,null,null,null,null,"Poliniai",null,null,null,null,"Perdangos pastogėje (stogo)",null,null,null,null,"Vidinės","Lakštai","Gelžbetonis",55,null,null,null,"Stiklas",null,null,null,"Vidaus palangė","Metalas",null,null,null,null,null,null,null,null,"Laikančioji konstrukcija","Kita",125,null,"Sienų / pertvarų apdaila","Lentos","Dekoratyvinės",20,null,null,"Plytelės","Dekoratyvinis ",50,null,"Šildymo sistemos tinklas","Dujinis katilas",null,17,null,null,null,null,null,null,null,null,null,null,null,null,null,null,null,null,null,null,null,null,null,null,null,null,null,null,null,"Stovas","Kita","15",null,null,"Rezervuarai","Kita",35,null,null,"Skirstomosios ir jungiamosios dėžutės",null,null,null,null,null,null,null,null,null,null,null,null,null,"Vaizdo stebėjimo sistema","Monitoriai",null,"Kita",null,null,"Serveriai",null,null,null,null,"Liepsnos jutikliai","Plienas",20]
[null,"1.1.1",null,null,"Pado blokai",null,"VGTU  Pastatai",null,null,null,null,null,null,null,null,null,null,null,null,null,null,null,"Perdangos tarp aukštų",null,null,null,null,null,"Monolitas","Gipso kartonas",60,null,null,null,null,null,null,null,null,"Plastikas",null,null,null,null,null,null,null,null,"Termoizoliacija","Medinės lentelės","Kita",null,null,"Plytelės","Dekoratyvinis ",30,null,null,"Plytų mūras","Keramika",60,null,"Šilumos punktas","Elektrinis katilas",null,20,null,null,null,null,null,null,null,null,null,null,null,null,null,null,null,null,null,null,null,null,null,null,null,null,null,null,null,null,"Plastikas","Kita",null,null,null,"Plastikas","Kita",null,null,null,null,null,null,null,null,null,null,null,null,null,null,null,null,null,"Sirenos",null,null,null,null,null,null,null,null,null,"Sprinkleriai",null,25]
[null,"1.1.1.1",null,null,null,"Gelžbetonis","Sistela kainynas, Sistela SVN"," Sistela SVN",150,100,150,150,150,150,150,100,null,null,null,null,null,null,null,null,null,null,null,null,"Plytos","Keramika",65,null,null,null,null,null,null,null,null,"Stiklo blokeliai ",null,null,null,null,null,null,null,null,null,"Medis",null,null,null,"Plytos","Dirbtinis akmuo",40,null,null,"Plokštės","Kita",75,null,null,"Elevatorius",null,25,null,null,null,null,null,null,null,null,null,null,null,null,null,null,null,null,null,null,null,null,null,null,null,null,null,null,null,null,null,null,null,null,null,"Plytos",null,null,null,null,null,null,null,null,null,null,null,null,null,null,null,null,null,null,"Skaitytuvai",null,null,null,null,null,null,null,null,null,"Temperatūros jutikliai",null,50]
[null,"1.1.1.2",null,null,null,"Kita",null,null,null,null,null,null,null,null,null,null,null,null,null,null,null,null,null,null,null,null,null,null,"Plokštės","Keramzitas",75,null,null,null,null,null,null,null,null,null,null,null,null,null,null,null,null,null,null,"Metalas",null,null,null,"Plokštės","Gipso kartonas",50,null,null,"Ritininė danga","Medinių sienų ",100,null,null,"Geoterminis siurblys",null,30,null,null,null,null,null,null,null,null,null,null,null,null,null,null,null,null,null,null,null,null,null,null,null,null,null,null,null,null,null,null,null,null,null,null,null,null,null,null,null,null,null,null,null,null,null,null,null,null,null,null,null,null,"Stiklo dūžio jutikliai",null,null,null,null,null,null,null,null,null,"Vamzdžiai",null,"Kita"]
[null,"1.1.2",null,null,"Sienos blokai",null,"VGTU  Pastatai",null,null,null,null,null,null,null,null,null,null,null,null,null,null,null,null,null,null,null,null,null,"Rąstai","Kita",100,null,null,null,null,null,null,null,null,null,null,null,null,null,null,null,null,null,null,"Mineralinė vata",null,null,null,"Tapetai","Keramika",60,null,null,"Tinkas","Medis","Kita",null,null,"Gyvatukas",null,"Kita",null,null,null,null,null,null,null,null,null,null,null,null,null,null,null,null,null,null,null,null,null,null,null,null,null,null,null,null,null,null,null,null,null,null,null,null,null,null,null,null,null,null,null,null,null,null,null,null,null,null,null,null,"Turniketai"]
[null,"1.1.2.1",null,null,null,"Betonas","Sistela kainynas, Sistela SVN"," Sistela SVN",150,100,150,150,150,150,150,100,null,null,null,null,null,null,null,null,null,null,null,null,"Skydai","Medis",120,null,null,null,null,null,null,null,null,null,null,null,null,null,null,null,null,null,null,"Polistireninis putplastis",null,null,null,"Tinkas","Kiliminė danga",75,null,null,null,"Medžio drožlės",null,null,null,"Grindinio šildymo vamzdynas",null,null,null,null,null,null,null,null,null,null,null,null,null,null,null,null,null,null,null,null,null,null,null,null,null,null,null,null,null,null,null,null,null,null,null,null,null,null,null,null,null,null,null,null,null,null,null,null,null,null,null,null,null,null,"Vaizdo kameros"]
[null,"1.1.2.2",null,null,null,"Kita",null,null,null,null,null,null,null,null,null,null,null,null,null,null,null,null,null,null,null,null,null,null,null,"Metalas",125,null,null,null,null,null,null,null,null,null,null,null,null,null,null,null,null,null,null,"Ruberoidas",null,null,null,null,"Kita",80,null,null,null,"Medžio plauštas",null,null,null,"Kietojo kuro katilas"]
[null,"1.1.3",null,null,"Monolitas",null,"VGTU  Pastatai",null,null,null,null,null,null,null,null,null,null,null,null,null,null,null,null,null,null,null,null,null,null,"Metalas ",150,null,null,null,null,null,null,null,null,null,null,null,null,null,null,null,null,null,null,"Ruberoidas, bitumas",null,null,null,null,"Lateksiniai","Kita",null,null,null,"Metalas",null,null,null,"Kita"]
[null,"1.1.3.1",null,null,null,"Gelžbetonis","Sistela kainynas, Sistela SVN"," Sistela SVN",150,100,150,150,150,150,150,100,null,null,null,null,null,null,null,null,null,null,null,null,null,"Molis","Kita",null,null,null,null,null,null,null,null,null,null,null,null,null,null,null,null,null,null,"Šlakas",null,null,null,null,"Linoleumas, realinas",null,null,null,null,"Mineralinė vata",null,null,null,"Konvektorius"]
[null,"1.1.3.2",null,null,null,"Kita",null,null,null,null,null,null,null,null,null,null,null,null,null,null,null,null,null,null,null,null,null,null,null,"Plastikas",null,null,null,null,null,null,null,null,null,null,null,null,null,null,null,null,null,null,null,null,null,null,null,null,"Medienos plaušas",null,null,null,null,"Plastikas",null,null,null,"Maitinimo blokas (elementas)"]
[null,"1.1.4",null,null,"Kita",null,null,null,null,null,null,null,null,null,null,null,null,null,null,null,null,null,null,null,null,null,null,null,null,"Silikatas",null,null,null,null,null,null,null,null,null,null,null,null,null,null,null,null,null,null,null,null,null,null,null,null,"Medienos plaušas ",null,null,null,null,"Polistireninis putplastis",null,null,null,"Radiatorius"]
[null,"1.1.4.1",null,null,null,"Kita",null,null,null,null,null,null,null,null,null,null,null,null,null,null,null,null,null,null,null,null,null,null,null,"Stiklas",null,null,null,null,null,null,null,null,null,null,null,null,null,null,null,null,null,null,null,null,null,null,null,null,"Medinių sienų ir pertvarų",null,null,null,null,"Ruberoidas",null,null,null,"Reguliavimo vožtuvas"]
[null,"1.2",null,"Ištisiniai",null,null,"VGTU  Pastatai",null,null,null,null,null,null,null,null,null,null,null,null,null,null,null,null,null,null,null,null,null,null,null,null,null,null,null,null,null,null,null,null,null,null,null,null,null,null,null,null,null,null,null,null,null,null,null,"Medis",null,null,null,null,"Stiklas",null,null,null,"Reguliavimo vožtuvo pavara"]
[null,"1.2.1",null,null,"Plokštės",null,"VGTU  Pastatai",null,null,null,null,null,null,null,null,null,null,null,null,null,null,null,null,null,null,null,null,null,null,null,null,null,null,null,null,null,null,null,null,null,null,null,null,null,null,null,null,null,null,null,null,null,null,null,"Medžio drožlės",null,null,null,null,null,null,null,null,"Siurblys (orasoras)"]
[null,"1.2.1.1",null,null,null,"Gelžbetonis","Sistela kainynas, Sistela SVN"," Sistela SVN",150,100,150,150,150,150,150,100,null,null,null,null,null,null,null,null,null,null,null,null,null,null,null,null,null,null,null,null,null,null,null,null,null,null,null,null,null,null,null,null,null,null,null,null,null,null,"Medžio kamštis",null,null,null,null,null,null,null,null,"Siurblys (orasvanduo)"]
[null,"1.2.1.2",null,null,null,"Kita",null,null,null,null,null,null,null,null,null,null,null,null,null,null,null,null,null,null,null,null,null,null,null,null,null,null,null,null,null,null,null,null,null,null,null,null,null,null,null,null,null,null,null,null,null,null,null,null,"Metalas",null,null,null,null,null,null,null,null,"Slėgio reguliatorius"]
[null,"1.2.2",null,null,"Kita",null,null,null,null,null,null,null,null,null,null,null,null,null,null,null,null,null,null,null,null,null,null,null,null,null,null,null,null,null,null,null,null,null,null,null,null,null,null,null,null,null,null,null,null,null,null,null,null,null,"Mineralinė vata",null,null,null,null,null,null,null,null,"Šildymo katilas"]
[null,"1.2.2.1",null,null,null,"Kita",null,null,null,null,null,null,null,null,null,null,null,null,null,null,null,null,null,null,null,null,null,null,null,null,null,null,null,null,null,null,null,null,null,null,null,null,null,null,null,null,null,null,null,null,null,null,null,null,"Mūrinių ir betoninių sienų ",null,null,null,null,null,null,null,null,"Šildymo sistemos valdiklis"]
[null,"1.3",null,"Atskirieji seklieji pamatai",null,null,"VGTU  Pastatai",null,null,null,null,null,null,null,null,null,null,null,null,null,null,null,null,null,null,null,null,null,null,null,null,null,null,null,null,null,null,null,null,null,null,null,null,null,null,null,null,null,null,null,null,null,null,null,"Natūralus akmuo",null,null,null,null,null,null,null,null,"Šildymo sistemos vamzdžiai"]
[null,"1.3.1",null,null,"Monolitas",null,"VGTU  Pastatai",null,null,null,null,null,null,null,null,null,null,null,null,null,null,null,null,null,null,null,null,null,null,null,null,null,null,null,null,null,null,null,null,null,null,null,null,null,null,null,null,null,null,null,null,null,null,null,"Parketas",null,null,null,null,null,null,null,null,"Šilumnešio srauto matuoklis"]
[null,"1.3.1.1",null,null,null,"Gelžbetonis","Sistela kainynas, Sistela SVN"," Sistela SVN",150,100,150,150,150,150,150,100,null,null,null,null,null,null,null,null,null,null,null,null,null,null,null,null,null,null,null,null,null,null,null,null,null,null,null,null,null,null,null,null,null,null,null,null,null,null,"Plastikas",null,null,null,null,null,null,null,null,"Šilumokaitis"]
[null,"1.3.1.2",null,null,null,"Betonas","Sistela kainynas, Sistela SVN"," Sistela SVN",150,100,150,150,150,150,150,100,null,null,null,null,null,null,null,null,null,null,null,null,null,null,null,null,null,null,null,null,null,null,null,null,null,null,null,null,null,null,null,null,null,null,null,null,null,null,"Plūktas molis",null,null,null,null,null,null,null,null,"Šilumos skaičiuoklis"]
[null,"1.3.1.3",null,null,null,"Akmenbetonis","Sistela kainynas, Sistela SVN"," Sistela SVN",150,100,150,150,150,150,150,100,null,null,null,null,null,null,null,null,null,null,null,null,null,null,null,null,null,null,null,null,null,null,null,null,null,null,null,null,null,null,null,null,null,null,null,null,null,null,"Polistireninis putplastis ",null,null,null,null,null,null,null,null,"Temperatūros jutikliai"]
[null,"1.3.1.4",null,null,null,"Kita",null,null,null,null,null,null,null,null,null,null,null,null,null,null,null,null,null,null,null,null,null,null,null,null,null,null,null,null,null,null,null,null,null,null,null,null,null,null,null,null,null,null,null,null,null,null,null,null,"Popieriniai"]
[null,"1.3.2",null,null,"Surenkamosios dalys",null,"VGTU  Pastatai",null,null,null,null,null,null,null,null,null,null,null,null,null,null,null,null,null,null,null,null,null,null,null,null,null,null,null,null,null,null,null,null,null,null,null,null,null,null,null,null,null,null,null,null,null,null,null,"Presuotas kartonas, medžio drožlės, mediena, medienos plaušas"]
[null,"1.3.2.1",null,null,null,"Gelžbetonis","Sistela kainynas, Sistela SVN"," Sistela SVN",150,100,150,150,150,150,150,100,null,null,null,null,null,null,null,null,null,null,null,null,null,null,null,null,null,null,null,null,null,null,null,null,null,null,null,null,null,null,null,null,null,null,null,null,null,null,"Teraca"]
[null,"1.3.2.2",null,null,null,"Betonas","Sistela kainynas, Sistela SVN"," Sistela SVN",150,100,150,150,150,150,150,100,null,null,null,null,null,null,null,null,null,null,null,null,null,null,null,null,null,null,null,null,null,null,null,null,null,null,null,null,null,null,null,null,null,null,null,null,null,null,"Užpurškiama termoizoliacija"]
[null,"1.3.2.3",null,null,null,"Akmenbetonis","Sistela kainynas, Sistela SVN"," Sistela SVN",150,100,150,150,150,150,150,100]
[null,"1.3.2.4",null,null,null,"Kita"]
[null,"1.3.3",null,null,"Kita"]
[null,"1.3.3.1",null,null,null,"Kita"]
[null,"1.4",null,"Poliniai",null,null,"STR  Projektavimas"]
[null,"1.4.1",null,null,"Poliai",null,"VGTU  Pastatai"]
[null,"1.4.1.1",null,null,null,"Gelžbetonis","Sistela kainynas, Sistela SVN"," Sistela SVN",150,100,150,150,150,150,150,100]
[null,"1.4.1.2",null,null,null,"Kita"]
[null,"1.4.2",null,null,"Rostverkas",null,"VGTU  Pastatai"]
[null,"1.4.2.1",null,null,null,"Gelžbetonis","Sistela kainynas, Sistela SVN"," Sistela SVN",150,100,150,150,150,150,150,100]
[null,"1.4.2.2",null,null,null,"Kita"]
[null,"1.4.3",null,null,"Kita"]
[null,"1.4.3.1",null,null,null,"Kita"]
[null,"1.5",null,"Kita"]
[null,"1.5.1",null,null,"Kita"]
[null,"1.5.1.1",null,null,null,"Kita"]
[null,"2.","Perdangos",null,null,null,"STR  Projektavimas"]
[null,"2.1",null,"Perdangos ant grunto",null,null,"CPVA informacija"]
[null,"2.1.1",null,null,"Sijos",null,"VGTU  Pastatai"]
[null,"2.1.1.1",null,null,null,"Gelžbetonis","Sistela kainynas, Sistela SVN"," Sistela SVN",125,80,125,125,125,125,125,80]
[null,"2.1.1.2",null,null,null,"Medis","Sistela kainynas, Sistela SVN"," Sistela SVN",60,50,60,60,60,60,60,50]
[null,"2.1.1.3",null,null,null,"Metalas","Sistela kainynas, Sistela SVN"," Sistela SVN",125,80,125,125,125,125,125,80]
[null,"2.1.1.4",null,null,null,"Kita"]
[null,"2.1.2",null,null,"Monolitinės plokštės",null,"VGTU  Pastatai"]
[null,"2.1.2.1",null,null,null,"Gelžbetonis","Sistela kainynas, Sistela SVN"," Sistela SVN",125,80,125,125,125,125,125,80]
[null,"2.1.2.2",null,null,null,"Kita"]
[null,"2.1.3",null,null,"Surenkamosios plokštės",null,"VGTU  Pastatai"]
[null,"2.1.3.1",null,null,null,"Gelžbetonis","Sistela kainynas, Sistela SVN"," Sistela SVN",125,80,125,125,125,125,125,80]
[null,"2.1.3.2",null,null,null,"Kita"]
[null,"2.1.4",null,null,"Surenkamosios monolitinės plokštės (blokeliai)",null,"VGTU  Pastatai",null,0.04]
[null,"2.1.4.1",null,null,null,"Keramika ","VGTU  Pastatai","allconstructions.com",30,30,30,30,30,30,30,30]
[null,"2.1.4.2",null,null,null,"Betonas","VGTU  Pastatai","allconstructions.com",35,35,35,35,35,35,35,35]
[null,"2.1.4.3",null,null,null,"Kita"]
[null,"2.1.5",null,null,"Kita"]
[null,"2.1.5.1",null,null,null,"Kita"]
[null,"2.2",null,"Cokolinės perdangos",null,null,"VGTU  Pastatai"]
[null,"2.2.1",null,null,"Sijos",null,"VGTU  Pastatai"]
[null,"2.2.1.1",null,null,null,"Gelžbetonis","Sistela kainynas, Sistela SVN"," Sistela SVN",125,80,125,125,125,125,125,80]
[null,"2.2.1.2",null,null,null,"Medis","Sistela kainynas, Sistela SVN"," Sistela SVN",60,50,60,60,60,60,60,50]
[null,"2.2.1.3",null,null,null,"Metalas","Sistela kainynas, Sistela SVN"," Sistela SVN",125,80,125,125,125,125,125,80]
[null,"2.2.1.4",null,null,null,"Kita"]
[null,"2.2.2",null,null,"Monolitinės plokštės",null,"VGTU  Pastatai"]
[null,"2.2.2.1",null,null,null,"Gelžbetonis","Sistela kainynas, Sistela SVN"," Sistela SVN",125,80,125,125,125,125,125,80]
[null,"2.2.2.2",null,null,null,"Kita"]
[null,"2.2.3",null,null,"Surenkamosios plokštės",null,"VGTU  Pastatai"]
[null,"2.2.3.1",null,null,null,"Gelžbetonis","Sistela kainynas, Sistela SVN"," Sistela SVN",125,80,125,125,125,125,125,80]
[null,"2.2.3.2",null,null,null,"Kita"]
[null,"2.2.4",null,null,"Surenkamosios monolitinės plokštės (blokeliai)",null,"VGTU  Pastatai"]
[null,"2.2.4.1",null,null,null,"Keramika ","VGTU  Pastatai","allconstructions.com",30,30,30,30,30,30,30,30]
[null,"2.2.4.2",null,null,null,"Betonas","VGTU  Pastatai","allconstructions.com",35,35,35,35,35,35,35,35]
[null,"2.2.4.3",null,null,null,"Kita"]
[null,"2.2.5",null,null,"Kita"]
[null,"2.2.5.1",null,null,null,"Kita"]
[null,"2.3",null,"Cokolinių perdangų termoizoliacija",null,null,"BETA"]
[null,"2.3.1",null,null,"Plokštės",null," Sistela SVN"," Sistela SVN"]
[null,"2.3.1.1",null,null,null,"Polistireninis putplastis","CPVA informacija","Akustinės ir termoizoliacinės medžiagos",50,50,50,50,50,50,50,50]
[null,"2.3.1.2",null,null,null,"Mineralinė vata","CPVA informacija","Akustinės ir termoizoliacinės medžiagos",50,50,50,50,50,50,50,50]
[null,"2.3.1.3",null,null,null,"Kita"]
[null,"2.3.2",null,null,"Garo izoliacija",null,"BETA"]
[null,"2.3.2.1",null,null,null,"Aliuminio folija","Tiekėjai","Akustinės ir termoizoliacinės medžiagos",50,50,50,50,50,50,50,50]
[null,"2.3.2.2",null,null,null,"Kita"]
[null,"2.3.3",null,null,"Hidroizoliacinė tarpinė",null,"BETA","Akustinės ir termoizoliacinės medžiagos",50,50,50,50,50,50,50,50]
[null,"2.3.4",null,null,"Kita"]
[null,"2.3.4.1",null,null,null,"Kita"]
[null,"2.4",null,"Perdangos tarp aukštų",null,null,"CPVA informacija"]
[null,"2.4.1",null,null,"Sijos",null,"VGTU  Pastatai"]
[null,"2.4.1.1",null,null,null,"Gelžbetonis","Sistela kainynas, Sistela SVN"," Sistela SVN",125,80,125,125,125,125,125,80]
[null,"2.4.1.2",null,null,null,"Medis","Sistela kainynas, Sistela SVN"," Sistela SVN",60,50,60,60,60,60,60,50]
[null,"2.4.1.3",null,null,null,"Metalas","Sistela kainynas, Sistela SVN"," Sistela SVN",125,80,125,125,125,125,125,80]
[null,"2.4.1.4",null,null,null,"Kita",null,null,null,null,null,null,null,null,null,null,null,"Atskirieji seklieji pamatai","Kita","Akmenbetonis",150,null,"Cokolinės perdangos","Garo izoliacija","Aliuminio folija",0.04,null,"Išorinės","Blokai","Akmenbetonis",30,null,null,null,null,null,null,null,null,null,null,null,null,null,null,null,null,null,null,null,null,null,null,null,null,null,null,"Kita","Dailylentės","Akmuo",12,null,null,null,null,null,null,null,null,null,null,null,"Centrinis kondicionavimas","Kita","Kita",10,null,null,null,null,null,null,null,null,null,null,null,null,null,null,null,null,"Kita","Buitiniai sanitariniai prietaisai","Asbestcementas",17]
[null,"2.4.2",null,null,"Monolitinės plokštės",null,"VGTU  Pastatai",null,null,null,null,null,null,null,null,null,null,"Ištisiniai","Monolitas","Betonas","Kita",null,"Cokolinių perdangų termoizoliacija","Hidroizoliacinė tarpinė","Betonas",30,null,"Kita","Blokeliai","Akmuo",35,null,null,null,null,null,null,null,null,null,null,null,null,null,null,null,null,null,null,null,null,null,null,null,null,null,null,"Sienų apdaila","Drenažinė membrana","Asbestcementinės, beasbestinės ",15,null,null,null,null,null,null,null,null,null,null,null,"Kambarinis kondicionavimas","Kondicionierius","Plienas","13",null,null,null,null,null,null,null,null,null,null,null,null,null,null,null,null,"Nuotekų šalinimo tinklas","Išvadas","Gelžbetonis",25]
[null,"2.4.2.1",null,null,null,"Gelžbetonis","Sistela kainynas, Sistela SVN"," Sistela SVN",125,80,125,125,125,125,125,80,null,"Juostiniai","Pado blokai","Gelžbetonis",null,null,"Kita","Kita","Gelžbetonis",35,null,"Kolonos","Karkasas","Asbestcementis",40,null,null,null,null,null,null,null,null,null,null,null,null,null,null,null,null,null,null,null,null,null,null,null,null,null,null,"Sienų termoizoliacija / hidroizoliacija","Kita","Betonas",20,null,null,null,null,null,null,null,null,null,null,null,"Kita","Ortakiai",null,"Kita",null,null,null,null,null,null,null,null,null,null,null,null,null,null,null,null,null,"Kita","Keramika",30]
[null,"2.4.2.2",null,null,null,"Kita",null,null,null,null,null,null,null,null,null,null,null,"Kita","Plokštės","Kita",null,null,"Perdangos ant grunto","Monolitinės plokštės","Keramika ",50,null,"Pertvaros","Kita","Betonas",50,null,null,null,null,null,null,null,null,null,null,null,null,null,null,null,null,null,null,null,null,null,null,null,null,null,null,null,"Lakštai","Betoninių ir mūrinių sienų",30,null,null,null,null,null,null,null,null,null,null,null,null,null,null,null,null,null,null,null,null,null,null,null,null,null,null,null,null,null,null,null,null,"Nuotakas","Ketus",35]
[null,"2.4.3",null,null,"Surenkamosios plokštės",null,"VGTU  Pastatai",null,null,null,null,null,null,null,null,null,null,"Poliniai","Poliai",null,null,null,"Perdangos pastogėje (stogo)","Plokštės","Kita",60,null,"Vidinės","Lakštai","Gelžbetonis",55,null,null,null,null,null,null,null,null,null,null,null,null,null,null,null,null,null,null,null,null,null,null,null,null,null,null,null,"Plytelės","Dekoratyvinis ",50,null,null,null,null,null,null,null,null,null,null,null,null,null,null,null,null,null,null,null,null,null,null,null,null,null,null,null,null,null,null,null,null,"Stovas","Kita","15"]
[null,"2.4.3.1",null,null,null,"Gelžbetonis","Sistela kainynas, Sistela SVN"," Sistela SVN",125,80,125,125,125,125,125,80,null,null,"Rostverkas",null,null,null,"Perdangos tarp aukštų","Sijos","Medis",125,null,null,"Monolitas","Gipso kartonas",60,null,null,null,null,null,null,null,null,null,null,null,null,null,null,null,null,null,null,null,null,null,null,null,null,null,null,null,"Plytų mūras","Keramika",60,null,null,null,null,null,null,null,null,null,null,null,null,null,null,null,null,null,null,null,null,null,null,null,null,null,null,null,null,null,null,null,null,null,"Plastikas","Kita"]
[null,"2.4.3.2",null,null,null,"Kita",null,null,null,null,null,null,null,null,null,null,null,null,"Sienos blokai",null,null,null,null,"Surenkamosios monolitinės plokštės (blokeliai)","Metalas","Kita",null,null,"Plytos","Keramika",65,null,null,null,null,null,null,null,null,null,null,null,null,null,null,null,null,null,null,null,null,null,null,null,null,null,null,null,"Plokštės","Kita",75]
[null,"2.4.4",null,null,"Surenkamosios monolitinės plokštės (blokeliai)",null,"VGTU  Pastatai",null,null,null,null,null,null,null,null,null,null,null,"Surenkamosios dalys",null,null,null,null,"Surenkamosios plokštės","Mineralinė vata",null,null,null,"Plokštės","Keramzitas",75,null,null,null,null,null,null,null,null,null,null,null,null,null,null,null,null,null,null,null,null,null,null,null,null,null,null,null,"Ritininė danga","Medinių sienų ",100]
[null,"2.4.4.1",null,null,null,"Keramika ","VGTU  Pastatai","allconstructions.com",30,30,30,30,30,30,30,30,null,null,null,null,null,null,null,null,"Polistireninis putplastis",null,null,null,"Rąstai","Kita",100,null,null,null,null,null,null,null,null,null,null,null,null,null,null,null,null,null,null,null,null,null,null,null,null,null,null,null,"Tinkas","Medis","Kita"]
[null,"2.4.4.2",null,null,null,"Betonas","VGTU  Pastatai","allconstructions.com",35,35,35,35,35,35,35,35,null,null,null,null,null,null,null,null,null,null,null,null,"Skydai","Medis",120,null,null,null,null,null,null,null,null,null,null,null,null,null,null,null,null,null,null,null,null,null,null,null,null,null,null,null,null,"Medžio drožlės"]
[null,"2.4.4.3",null,null,null,"Kita",null,null,null,null,null,null,null,null,null,null,null,null,null,null,null,null,null,null,null,null,null,null,null,"Metalas",125,null,null,null,null,null,null,null,null,null,null,null,null,null,null,null,null,null,null,null,null,null,null,null,null,null,null,null,null,"Medžio plauštas"]
[null,"2.4.5",null,null,"Kita",null,null,null,null,null,null,null,null,null,null,null,null,null,null,null,null,null,null,null,null,null,null,null,null,"Metalas ",150,null,null,null,null,null,null,null,null,null,null,null,null,null,null,null,null,null,null,null,null,null,null,null,null,null,null,null,null,"Metalas"]
[null,"2.4.5.1",null,null,null,"Kita",null,null,null,null,null,null,null,null,null,null,null,null,null,null,null,null,null,null,null,null,null,null,null,"Molis","Kita",null,null,null,null,null,null,null,null,null,null,null,null,null,null,null,null,null,null,null,null,null,null,null,null,null,null,null,null,"Mineralinė vata"]
[null,"2.5",null,"Perdangos pastogėje (stogo)",null,null,"CPVA informacija",null,null,null,null,null,null,null,null,null,null,null,null,null,null,null,null,null,null,null,null,null,null,"Plastikas",null,null,null,null,null,null,null,null,null,null,null,null,null,null,null,null,null,null,null,null,null,null,null,null,null,null,null,null,null,"Plastikas"]
[null,"2.5.1",null,null,"Sijos",null,"VGTU  Pastatai",null,null,null,null,null,null,null,null,null,null,null,null,null,null,null,null,null,null,null,null,null,null,"Silikatas",null,null,null,null,null,null,null,null,null,null,null,null,null,null,null,null,null,null,null,null,null,null,null,null,null,null,null,null,null,"Polistireninis putplastis"]
[null,"2.5.1.1",null,null,null,"Gelžbetonis","Sistela kainynas, Sistela SVN"," Sistela SVN",125,80,125,125,125,125,125,80,null,null,null,null,null,null,null,null,null,null,null,null,null,"Stiklas",null,null,null,null,null,null,null,null,null,null,null,null,null,null,null,null,null,null,null,null,null,null,null,null,null,null,null,null,null,"Ruberoidas"]
[null,"2.5.1.2",null,null,null,"Medis","Sistela kainynas, Sistela SVN"," Sistela SVN",60,50,60,60,60,60,60,50,null,null,null,null,null,null,null,null,null,null,null,null,null,null,null,null,null,null,null,null,null,null,null,null,null,null,null,null,null,null,null,null,null,null,null,null,null,null,null,null,null,null,null,"Stiklas"]
[null,"2.5.1.3",null,null,null,"Metalas","Sistela kainynas, Sistela SVN"," Sistela SVN",125,80,125,125,125,125,125,80]
[null,"2.5.1.4",null,null,null,"Kita"]
[null,"2.5.2",null,null,"Monolitinės plokštės",null,"VGTU  Pastatai"]
[null,"2.5.2.1",null,null,null,"Gelžbetonis","Sistela kainynas, Sistela SVN"," Sistela SVN",125,80,125,125,125,125,125,80]
[null,"2.5.2.2",null,null,null,"Kita"]
[null,"2.5.3",null,null,"Surenkamosios plokštės",null,"VGTU  Pastatai"]
[null,"2.5.3.1",null,null,null,"Gelžbetonis","Sistela kainynas, Sistela SVN"," Sistela SVN",125,80,125,125,125,125,125,80]
[null,"2.5.3.2",null,null,null,"Kita"]
[null,"2.5.4",null,null,"Surenkamosios monolitinės plokštės (blokeliai)",null,"VGTU  Pastatai"]
[null,"2.5.4.1",null,null,null,"Keramika ","VGTU  Pastatai","allconstructions.com",30,30,30,30,30,30,30,30]
[null,"2.5.4.2",null,null,null,"Betonas","VGTU  Pastatai","allconstructions.com",35,35,35,35,35,35,35,35]
[null,"2.5.4.3",null,null,null,"Kita"]
[null,"2.5.5",null,null,"Kita"]
[null,"2.5.5.1",null,null,null,"Kita"]
[null,"2.6",null,"Kita"]
[null,"2.6.1",null,null,"Kita"]
[null,"2.6.1.1",null,null,null,"Kita"]
[null,"3.","Sienos",null,null,null,"STR  Projektavimas"]
[null,"3.1",null,"Vidinės",null,null,"VGTU  Pastatai"]
[null,"3.1.1",null,null,"Plytos",null,"Sistela kainynas, Sistela SVN","Sistela SVN"]
[null,"3.1.1.1",null,null,null,"Silikatas","CPVA informacija","Enclose | Build",120,120,120,120,120,120,120,120]
[null,"3.1.1.2",null,null,null,"Molis","CPVA informacija","Tiles & Bricks ",100,100,100,100,100,100,100,100]
[null,"3.1.1.3",null,null,null,"Kita"]
[null,"3.1.2",null,null,"Blokeliai",null,"Sistela kainynas, Sistela SVN"]
[null,"3.1.2.1",null,null,null,"Betonas","VGTU  Pastatai","allconstructions.com",35,35,35,35,35,35,35,35]
[null,"3.1.2.2",null,null,null,"Keramika","VGTU  Pastatai","allconstructions.com",30,30,30,30,30,30,30,30]
[null,"3.1.2.3",null,null,null,"Silikatas","VGTU  Pastatai","Enclose | Build",120,120,120,120,120,120,120,120]
[null,"3.1.2.4",null,null,null,"Stiklas","VGTU  Pastatai","Sistela SVN",50,40,50,50,50,50,50,40]
[null,"3.1.2.5",null,null,null,"Molis","CPVA informacija","Tiles & Bricks ",55,55,55,55,55,55,55,55]
[null,"3.1.2.6",null,null,null,"Keramzitas","CPVA informacija","allconstructions.com",50,50,50,50,50,50,50,50]
[null,"3.1.2.7",null,null,null,"Kita"]
[null,"3.1.3",null,null,"Plokštės",null,"Sistela kainynas, Sistela SVN"]
[null,"3.1.3.1",null,null,null,"Gelžbetonis","Sistela kainynas, Sistela SVN","Sistela SVN",125,85,125,125,125,125,125,85]
[null,"3.1.3.2",null,null,null,"Gipso kartonas","Tiekėjai","Sistela SVN",30,20,30,30,30,30,30,20]
[null,"3.1.3.3",null,null,null,"Kita"]
[null,"3.1.4",null,null,"Monolitas",null,"Sistela kainynas, Sistela SVN"]
[null,"3.1.4.1",null,null,null,"Gelžbetonis","Sistela kainynas, Sistela SVN","Sistela SVN",150,100,150,150,150,150,150,100]
[null,"3.1.4.3",null,null,null,"Akmenbetonis","Sistela kainynas, Sistela SVN","Sistela SVN",150,100,150,150,150,150,150,100]
[null,"3.1.4.4",null,null,null,"Kita"]
[null,"3.1.5",null,null,"Blokai",null,"Sistela kainynas, Sistela SVN"]
[null,"3.1.5.1",null,null,null,"Gelžbetonis","Sistela kainynas, Sistela SVN","Sistela SVN",125,85,125,125,125,125,125,85]
[null,"3.1.5.2",null,null,null,"Akmuo","Sistela kainynas, Sistela SVN","Sistela SVN",150,100,150,150,150,150,150,100]
[null,"3.1.5.3",null,null,null,"Kita"]
[null,"3.1.6",null,null,"Rąstai",null,"Sistela kainynas, Sistela SVN"]
[null,"3.1.6.1",null,null,null,"Medis","Sistela kainynas, Sistela SVN","Sistela SVN",65,50,65,65,65,65,65,50]
[null,"3.1.6.2",null,null,null,"Kita"]
[null,"3.1.7",null,null,"Karkasas",null,"VGTU  Pastatai"]
[null,"3.1.7.1",null,null,null,"Gelžbetonis","VGTU  Pastatai","Ekspertinis vertinimas",125,80,125,125,125,125,125,80]
[null,"3.1.7.2",null,null,null,"Metalas","VGTU  Pastatai","Sistela SVN",60,50,60,60,60,60,60,50]
[null,"3.1.7.3",null,null,null,"Medis","VGTU  Pastatai","Sistela SVN",40,35,40,40,40,40,40,35]
[null,"3.1.7.4",null,null,null,"Kita"]
[null,"3.1.8",null,null,"Kita"]
[null,"3.1.8.1",null,null,null,"Kita"]
[null,"3.2",null,"Išorinės",null,null,"VGTU  Pastatai"]
[null,"3.2.1",null,null,"Plytos",null,"Sistela kainynas, Sistela SVN","Sistela SVN"]
[null,"3.2.1.1",null,null,null,"Silikatas","CPVA informacija","Enclose | Build",120,120,120,120,120,120,120,120]
[null,"3.2.1.2",null,null,null,"Molis","CPVA informacija","Tiles & Bricks ",100,100,100,100,100,100,100,100]
[null,"3.2.1.3",null,null,null,"Kita"]
[null,"3.2.2",null,null,"Blokeliai",null,"Sistela kainynas, Sistela SVN"]
[null,"3.2.2.1",null,null,null,"Betonas","VGTU  Pastatai","allconstructions.com",35,35,35,35,35,35,35,35]
[null,"3.2.2.2",null,null,null,"Keramika","VGTU  Pastatai","allconstructions.com",30,30,30,30,30,30,30,30]
[null,"3.2.2.3",null,null,null,"Silikatas","VGTU  Pastatai","Enclose | Build",120,120,120,120,120,120,120,120]
[null,"3.2.2.4",null,null,null,"Stiklas","VGTU  Pastatai","Sistela SVN",50,40,50,50,50,50,50,40]
[null,"3.2.2.5",null,null,null,"Molis","CPVA informacija","Tiles & Bricks ",55,55,55,55,55,55,55,55]
[null,"3.2.2.6",null,null,null,"Keramzitas","CPVA informacija","allconstructions.com",50,50,50,50,50,50,50,50]
[null,"3.2.2.7",null,null,null,"Kita"]
[null,"3.2.3",null,null,"Plokštės",null,"Sistela kainynas, Sistela SVN"]
[null,"3.2.3.1",null,null,null,"Gelžbetonis","Sistela kainynas, Sistela SVN","Sistela SVN",125,85,125,125,125,125,125,85]
[null,"3.2.3.2",null,null,null,"Gipso kartonas","Tiekėjai","Sistela SVN",30,20,30,30,30,30,30,20]
[null,"3.2.3.3",null,null,null,"Kita"]
[null,"3.2.4",null,null,"Monolitas",null,"Sistela kainynas, Sistela SVN"]
[null,"3.2.4.1",null,null,null,"Gelžbetonis","Sistela kainynas, Sistela SVN","Sistela SVN",150,100,150,150,150,150,150,100]
[null,"3.2.4.3",null,null,null,"Akmenbetonis","Sistela kainynas, Sistela SVN","Sistela SVN",150,100,150,150,150,150,150,100]
[null,"3.2.4.4",null,null,null,"Kita"]
[null,"3.2.5",null,null,"Blokai",null,"Sistela kainynas, Sistela SVN"]
[null,"3.2.5.1",null,null,null,"Gelžbetonis","Sistela kainynas, Sistela SVN","Sistela SVN",125,85,125,125,125,125,125,85]
[null,"3.2.5.2",null,null,null,"Akmuo","Sistela kainynas, Sistela SVN","Sistela SVN",150,100,150,150,150,150,150,100]
[null,"3.2.5.3",null,null,null,"Kita"]
[null,"3.2.6",null,null,"Rąstai",null,"Sistela kainynas, Sistela SVN"]
[null,"3.2.6.1",null,null,null,"Medis","Sistela kainynas, Sistela SVN","Sistela SVN",65,50,65,65,65,65,65,50]
[null,"3.2.6.2",null,null,null,"Kita"]
[null,"3.2.7",null,null,"Karkasas",null,"VGTU  Pastatai"]
[null,"3.2.7.1",null,null,null,"Gelžbetonis","VGTU  Pastatai","Ekspertinis vertinimas",125,80,125,125,125,125,125,80]
[null,"3.2.7.2",null,null,null,"Metalas","VGTU  Pastatai","Sistela SVN",60,50,60,60,60,60,60,50,null,"Atskirieji seklieji pamatai","Kita","Akmenbetonis",150,null,"Cokolinės perdangos","Garo izoliacija","Aliuminio folija",0.04]
[null,"3.2.7.3",null,null,null,"Medis","VGTU  Pastatai","Sistela SVN",40,35,40,40,40,40,40,35,null,"Ištisiniai","Monolitas","Betonas","Kita",null,"Cokolinių perdangų termoizoliacija","Hidroizoliacinė tarpinė","Betonas",30]
[null,"3.2.7.4",null,null,null,"Kita",null,null,null,null,null,null,null,null,null,null,null,"Juostiniai","Pado blokai","Gelžbetonis",null,null,"Kita","Kita","Gelžbetonis",35]
[null,"3.2.8",null,null,"Kita",null,null,null,null,null,null,null,null,null,null,null,null,"Kita","Plokštės","Kita",null,null,"Perdangos ant grunto","Monolitinės plokštės","Keramika ",50]
[null,"3.2.8.1",null,null,null,"Kita",null,null,null,null,null,null,null,null,null,null,null,"Poliniai","Poliai",null,null,null,"Perdangos pastogėje (stogo)","Plokštės","Kita",60]
[null,"3.3",null,"Pertvaros",null,null,"VGTU  Pastatai",null,null,null,null,null,null,null,null,null,null,null,"Rostverkas"]
[null,"3.3.1",null,null,"Plytos",null,"Sistela SVN","Sistela SVN",null,null,null,null,null,null,null,null,null,null,"Sienos blokai"]
[null,"3.3.1.1",null,null,null,"Silikatas","CPVA informacija","Enclose | Build",120,120,120,120,120,120,120,120,null,null,"Surenkamosios dalys"]
[null,"3.3.1.2",null,null,null,"Molis","CPVA informacija","Tiles & Bricks ",55,55,55,55,55,55,55,55]
[null,"3.3.1.3",null,null,null,"Kita"]
[null,"3.3.2",null,null,"Blokai",null,"Sistela SVN"]
[null,"3.3.2.1",null,null,null,"Gelžbetonis","Sistela SVN","Sistela SVN",75,60,75,75,75,75,75,60]
[null,"3.3.2.2",null,null,null,"Kita"]
[null,"3.3.3",null,null,"Plokštės",null,"Sistela SVN"]
[null,"3.3.3.1",null,null,null,"Gelžbetonis","Sistela SVN","Sistela SVN",75,60,75,75,75,75,75,60]
[null,"3.3.3.2",null,null,null,"Gipso kartonas","Sistela SVN","Sistela SVN",30,20,30,30,30,30,30,20]
[null,"3.3.3.3",null,null,null,"Medis","Sistela SVN","Sistela SVN",30,20,30,30,30,30,30,20]
[null,"3.3.3.4",null,null,null,"Kita"]
[null,"3.3.4",null,null,"Blokeliai",null,"Sistela SVN"]
[null,"3.3.4.1",null,null,null,"Betonas","VGTU  Pastatai","allconstructions.com",35,35,35,35,35,35,35,35]
[null,"3.3.4.2",null,null,null,"Stiklas","Sistela SVN","Sistela SVN",50,40,50,50,50,50,50,40]
[null,"3.3.4.3",null,null,null,"Kita"]
[null,"3.3.5",null,null,"Rąstai",null,"Sistela SVN"]
[null,"3.3.5.1",null,null,null,"Medis","Sistela SVN","Sistela SVN",60,50,60,60,60,60,60,50]
[null,"3.3.5.2",null,null,null,"Kita"]
[null,"3.3.6",null,null,"Monolitas",null,"Sistela SVN"]
[null,"3.3.6.2",null,null,null,"Gelžbetonis","Sistela SVN","Sistela SVN",75,60,75,75,75,75,75,60]
[null,"3.3.6.3",null,null,null,"Akmenbetonis","Sistela SVN","Sistela SVN",75,60,75,75,75,75,75,60]
[null,"3.3.6.4",null,null,null,"Kita"]
[null,"3.3.7",null,null,"Skydai",null,"Sistela SVN"]
[null,"3.3.7.1",null,null,null,"Medis","Sistela SVN","Sistela SVN",40,30,40,40,40,40,40,30]
[null,"3.3.7.2",null,null,null,"Kita"]
[null,"3.3.8",null,null,"Lakštai",null,"Sistela SVN"]
[null,"3.3.8.1",null,null,null,"Metalas ","Sistela SVN","Sistela SVN",50,40,50,50,50,50,50,40]
[null,"3.3.8.2",null,null,null,"Stiklas","Sistela SVN","Sistela SVN",40,30,40,40,40,40,40,30]
[null,"3.3.8.3",null,null,null,"Plastikas","Sistela SVN","Sistela SVN",30,20,30,30,30,30,30,20]
[null,"3.3.8.4",null,null,null,"Asbestcementis","Sistela SVN","Sistela SVN",40,25,40,40,40,40,40,25]
[null,"3.3.8.5",null,null,null,"Kita"]
[null,"3.3.9",null,null,"Kita"]
[null,"3.3.9.1",null,null,null,"Kita"]
[null,"3.4",null,"Kolonos",null,null,"Ekspertinis vertinimas"]
[null,"3.4.1"]
[null,"3.4.1.1",null,null,null,"Gelžbetonis","VGTU  Pastatai","Sistela SVN",150,100,150,150,150,150,150,100]
[null,"3.4.1.2",null,null,null,"Kita"]
[null,"3.5",null,"Kita"]
[null,"3.5.1",null,null,"Kita"]
[null,"3.5.1.1",null,null,null,"Kita"]
[null,"4.","Durys",null,null,null,"STR  Langai/durys",null,null,null,null,null,null,null,null,null,null,null,null,null,null,null,null,null,"Polistireninis putplastis"]
[null,"4.1",null,"Vidaus",null,null,"Ekspertinis vertinimas"]
[null,"4.1.1",null,null,"Stakta",null,"STR  Langai/durys"]
[null,"4.1.1.1",null,null,null,"Medis","Sistela SVN","Sistela SVN",50,30,50,50,50,50,50,30]
[null,"4.1.1.2",null,null,null,"Plastikas","Sistela SVN","Sistela SVN",25,20,25,25,25,25,25,20]
[null,"4.1.1.3",null,null,null,"Metalas","Sistela SVN","Sistela SVN",60,40,60,60,60,60,60,40]
[null,"4.1.1.4",null,null,null,"Kita"]
[null,"4.1.2",null,null,"Skydas",null,"STR  Langai/durys"]
[null,"4.1.2.1",null,null,null,"Medis","Sistela SVN","Sistela SVN",50,30,50,50,50,50,50,30]
[null,"4.1.2.2",null,null,null,"Plastikas","Sistela SVN","Sistela SVN",25,20,25,25,25,25,25,20]
[null,"4.1.2.3",null,null,null,"Metalas","Sistela SVN","Sistela SVN",60,40,60,60,60,60,60,40]
[null,"4.1.2.4",null,null,null,"Stiklas","Sistela SVN","Sistela SVN",25,20,25,25,25,25,25,20]
[null,"4.1.2.5",null,null,null,"Kita"]
[null,"4.1.3",null,null,"Kita"]
[null,"4.1.3.1",null,null,null,"Kita"]
[null,"4.2",null,"Išorės",null,null,"Ekspertinis vertinimas"]
[null,"4.2.1",null,null,"Stakta",null,"STR  Langai/durys"]
[null,"4.2.1.1",null,null,null,"Medis","Sistela SVN","Sistela SVN",50,30,50,50,50,50,50,30]
[null,"4.2.1.2",null,null,null,"Plastikas","Sistela SVN","Sistela SVN",25,20,25,25,25,25,25,20]
[null,"4.2.1.3",null,null,null,"Metalas","Sistela SVN","Sistela SVN",60,40,60,60,60,60,60,40]
[null,"4.2.1.4",null,null,null,"Kita"]
[null,"4.2.2",null,null,"Skydas",null,"STR  Langai/durys"]
[null,"4.2.2.1",null,null,null,"Medis","Sistela SVN","Sistela SVN",50,30,50,50,50,50,50,30]
[null,"4.2.2.2",null,null,null,"Plastikas","Sistela SVN","Sistela SVN",25,20,25,25,25,25,25,20]
[null,"4.2.2.3",null,null,null,"Metalas","Sistela SVN","Sistela SVN",60,40,60,60,60,60,60,40]
[null,"4.2.2.4",null,null,null,"Stiklas","Sistela SVN","Sistela SVN",25,20,25,25,25,25,25,20]
[null,"4.2.2.5",null,null,null,"Kita"]
[null,"4.2.3",null,null,"Kita"]
[null,"4.2.3.1",null,null,null,"Kita"]
[null,"4.3",null,"Kita"]
[null,"4.3.1",null,null,"Kita"]
[null,"4.3.1.1",null,null,null,"Kita"]
[null,"5.","Langai",null,null,null,"STR  Langai/durys"]
[null,"5.1",null,"Langas",null,null,"Ekspertinis vertinimas"]
[null,"5.1.1",null,null,"Stakta",null,"STR  Langai/durys"]
[null,"5.1.1.1",null,null,null,"Medis","Sistela SVN","Sistela SVN",50,30,50,50,50,50,50,30]
[null,"5.1.1.2",null,null,null,"Plastikas","Sistela SVN","Sistela SVN",25,20,25,25,25,25,25,20]
[null,"5.1.1.3",null,null,null,"Metalas","Sistela SVN","Sistela SVN",60,40,60,60,60,60,60,40]
[null,"5.1.1.4",null,null,null,"Aliuminis","CPVA informacija","NAHB",18,18,18,18,18,18,18,18]
[null,"5.1.1.5",null,null,null,"Kita"]
[null,"5.1.2",null,null,"Stiklas",null,"STR  Langai/durys"]
[null,"5.1.2.1",null,null,null,"Stiklo blokeliai ","Sistela SVN","Sistela SVN",50,40,50,50,50,50,50,40]
[null,"5.1.2.2",null,null,null,"Kita"]
[null,"5.1.3",null,null,"Lauko palangė",null,"CPVA informacija"]
[null,"5.1.3.1",null,null,null,"Cinkuota skarda","CPVA informacija","GAA",23,23,23,23,23,23,23,23]
[null,"5.1.3.2",null,null,null,"Kita"]
[null,"5.1.4",null,null,"Vidaus palangė",null,"CPVA informacija"]
[null,"5.1.4.1",null,null,null,"Plastikas","CPVA informacija","WWA",15,15,15,15,15,15,15,15]
[null,"5.1.4.2",null,null,null,"Medis","CPVA informacija","WWA",30,30,30,30,30,30,30,30]
[null,"5.1.4.3",null,null,null,"Kita"]
[null,"5.1.5",null,null,"Kita"]
[null,"5.1.5.1",null,null,null,"Kita"]
[null,"5.2",null,"Kita"]
[null,"5.2.1",null,null,"Kita"]
[null,"5.2.1.1",null,null,null,"Kita"]
[null,"6.","Laiptai",null,null,null,"VGTU  Pastatai","EK levels",30,30,30,30,30,30,30,30]
[null,"6.1",null,"Išorės",null,null,"Ekspertinis vertinimas"]
[null,"6.1.1",null,null,"Laiptakis",null,"VGTU  Pastatai"]
[null,"6.1.1.1",null,null,null,"Medis","VGTU  Pastatai","Ekspertinis vertinimas",30,20,30,30,30,30,30,20]
[null,"6.1.1.2",null,null,null,"Metalas","VGTU  Pastatai","Ekspertinis vertinimas",60,50,60,60,60,60,60,50]
[null,"6.1.1.3",null,null,null,"Gelžbetonis","VGTU  Pastatai","Ekspertinis vertinimas",125,80,125,125,125,125,125,80]
[null,"6.1.1.4",null,null,null,"Kita"]
[null,"6.1.2",null,null,"Horizontali aikštelė",null,"VGTU  Pastatai"]
[null,"6.1.2.1",null,null,null,"Medis","VGTU  Pastatai","Ekspertinis vertinimas",30,20,30,30,30,30,30,20]
[null,"6.1.2.2",null,null,null,"Metalas","VGTU  Pastatai","Ekspertinis vertinimas",60,50,60,60,60,60,60,50]
[null,"6.1.2.3",null,null,null,"Gelžbetonis","VGTU  Pastatai","Ekspertinis vertinimas",125,80,125,125,125,125,125,80]
[null,"6.1.2.4",null,null,null,"Kita"]
[null,"6.1.3",null,null,"Turėklas",null,"VGTU  Pastatai"]
[null,"6.1.3.1",null,null,null,"Medis","VGTU  Pastatai","Ekspertinis vertinimas",30,20,30,30,30,30,30,20]
[null,"6.1.3.2",null,null,null,"Metalas","VGTU  Pastatai","Ekspertinis vertinimas",60,50,60,60,60,60,60,50]
[null,"6.1.3.3",null,null,null,"Gelžbetonis","VGTU  Pastatai","Ekspertinis vertinimas",125,80,125,125,125,125,125,80]
[null,"6.1.3.4",null,null,null,"Kita"]
[null,"6.1.4",null,null,"Kita"]
[null,"6.1.4.1",null,null,null,"Kita"]
[null,"6.2",null,"Vidaus",null,null,"Ekspertinis vertinimas"]
[null,"6.2.1",null,null,"Laiptakis",null,"VGTU  Pastatai"]
[null,"6.2.1.1",null,null,null,"Medis","VGTU  Pastatai","Ekspertinis vertinimas",30,20,30,30,30,30,30,20]
[null,"6.2.1.2",null,null,null,"Metalas","VGTU  Pastatai","Ekspertinis vertinimas",60,50,60,60,60,60,60,50]
[null,"6.2.1.3",null,null,null,"Gelžbetonis","VGTU  Pastatai","Ekspertinis vertinimas",125,80,125,125,125,125,125,80]
[null,"6.2.1.4",null,null,null,"Kita"]
[null,"6.2.2",null,null,"Horizontali aikštelė",null,"VGTU  Pastatai"]
[null,"6.2.2.1",null,null,null,"Medis","VGTU  Pastatai","Ekspertinis vertinimas",30,20,30,30,30,30,30,20]
[null,"6.2.2.2",null,null,null,"Metalas","VGTU  Pastatai","Ekspertinis vertinimas",60,50,60,60,60,60,60,50]
[null,"6.2.2.3",null,null,null,"Gelžbetonis","VGTU  Pastatai","Ekspertinis vertinimas",125,80,125,125,125,125,125,80]
[null,"6.2.2.4",null,null,null,"Kita"]
[null,"6.2.3",null,null,"Turėklas",null,"VGTU  Pastatai"]
[null,"6.2.3.1",null,null,null,"Medis","VGTU  Pastatai","Ekspertinis vertinimas",30,20,30,30,30,30,30,20]
[null,"6.2.3.2",null,null,null,"Metalas","VGTU  Pastatai","Ekspertinis vertinimas",60,50,60,60,60,60,60,50]
[null,"6.2.3.3",null,null,null,"Gelžbetonis","VGTU  Pastatai","Ekspertinis vertinimas",125,80,125,125,125,125,125,80]
[null,"6.2.3.4",null,null,null,"Kita"]
[null,"6.2.4",null,null,"Kita"]
[null,"6.2.4.1",null,null,null,"Kita"]
[null,"6.3",null,"Kita",null,null,null,null,null,null,null,null,null,null,null,null,null,null,null,null,null,null,"Cokolinės perdangos","Garo izoliacija","Aliuminio folija",0.04]
[null,"6.3.1",null,null,"Kita",null,null,null,null,null,null,null,null,null,null,null,null,null,null,null,null,null,"Cokolinių perdangų termoizoliacija","Hidroizoliacinė tarpinė","Betonas",30]
[null,"6.3.1.1",null,null,null,"Kita",null,null,null,null,null,null,null,null,null,null,null,null,null,null,null,null,"Kita","Kita","Gelžbetonis",35]
[null,"7.","Stogas",null,null,null,"VGTU  Pastatai",null,null,null,null,null,null,null,null,null,null,null,null,null,null,null,"Perdangos ant grunto","Monolitinės plokštės","Keramika ",50]
[null,"7.1",null,"Šlaitinis",null,null,"VGTU  Pastatai",null,null,null,null,null,null,null,null,null,null,null,null,null,null,null,"Perdangos pastogėje (stogo)","Plokštės","Kita",60]
[null,"7.1.1",null,null,"Gegnės",null,"VGTU  Pastatai",null,null,null,null,null,null,null,null,null,null,null,null,null,null,null,"Perdangos tarp aukštų","Sijos","Medis",125]
[null,"7.1.1.1",null,null,null,"Gelžbetonis","Sistela SVN"," Sistela SVN",125,80,125,125,125,125,125,125,null,null,null,null,null,null,null,"Surenkamosios monolitinės plokštės (blokeliai)","Metalas","Kita"]
[null,"7.1.1.2",null,null,null,"Medis","Sistela SVN"," Sistela SVN",50,50,50,50,50,50,50,50,null,null,null,null,null,null,null,"Surenkamosios plokštės","Mineralinė vata"]
[null,"7.1.1.3",null,null,null,"Kita",null,null,null,null,null,null,null,null,null,null,null,null,null,null,null,null,null,null,"Polistireninis putplastis"]
[null,"7.1.2",null,null,"Santvaros",null,"VGTU  Pastatai"]
[null,"7.1.2.1",null,null,null,"Medis","VGTU  Pastatai"," Sistela SVN",50,50,50,50,50,50,50,50]
[null,"7.1.2.2",null,null,null,"Kita"]
[null,"7.1.3",null,null,"Paklotas (grebėstai)",null,"VGTU  Pastatai"]
[null,"7.1.3.1",null,null,null,"Medis","Sistela SVN"," Sistela SVN",50,50,50,50,50,50,50,50]
[null,"7.1.3.2",null,null,null,"Kita"]
[null,"7.1.4",null,null,"Termoizoliacija",null,"VGTU  Pastatai"]
[null,"7.1.4.1",null,null,null,"Polistireninis putplastis","CPVA informacija","Akustinės ir termoizoliacinės medžiagos",50,50,50,50,50,50,50,50]
[null,"7.1.4.2",null,null,null,"Mineralinė vata","CPVA informacija","Akustinės ir termoizoliacinės medžiagos",50,50,50,50,50,50,50,50]
[null,"7.1.4.3",null,null,null,"Kita"]
[null,"7.1.5",null,null,"Garo izoliacija",null,"VGTU  Pastatai"]
[null,"7.1.5.1",null,null,null,"Ruberoidas","VGTU  Pastatai"," Sistela SVN",12,12,12,12,12,12,12,12]
[null,"7.1.5.5",null,null,null,"Kita"]
[null,"7.1.6",null,null,"Hidroizoliacija",null,"BETA"]
[null,"7.1.6.1",null,null,null,"Bituminė mastika","Tiekėjai"," Sistela SVN",12,12,12,12,12,12,12,12]
[null,"7.1.6.2",null,null,null,"Kita"]
[null,"7.1.7",null,null,"Danga",null,"VGTU  Pastatai"]
[null,"7.1.7.1",null,null,null,"Skarda","CPVA informacija"," Sistela SVN",25,25,25,25,25,25,25,25]
[null,"7.1.7.2",null,null,null,"Molinės čerpės","CPVA informacija","Tiles & Bricks ",100,100,100,100,100,100,100,100]
[null,"7.1.7.3",null,null,null,"Betoninės čerpės","Sistela SVN"," Sistela SVN",80,80,80,80,80,80,80,80]
[null,"7.1.7.4",null,null,null,"Bituminės čerpės","CPVA informacija","NAHB",20,20,20,20,20,20,20,20]
[null,"7.1.7.5",null,null,null,"Kita"]
[null,"7.1.8",null,null,"Kita"]
[null,"7.1.8.1",null,null,null,"Kita"]
[null,"7.2",null,"Plokščiasis",null,null,"VGTU  Pastatai"]
[null,"7.2.1",null,null,"Laikančioji konstrukcija",null,"VGTU  Pastatai"]
[null,"7.2.1.1",null,null,null,"Gelžbetonis ","Sistela SVN"," Sistela SVN",125,80,125,125,125,125,125,125]
[null,"7.2.1.2",null,null,null,"Medis","Sistela SVN"," Sistela SVN",50,50,50,50,50,50,50,50]
[null,"7.2.1.3",null,null,null,"Metalas","Sistela SVN"," Sistela SVN",100,70,100,100,100,100,100,100]
[null,"7.2.1.4",null,null,null,"Kita"]
[null,"7.2.2",null,null,"Termoizoliacija",null,"VGTU  Pastatai"]
[null,"7.2.2.1",null,null,null,"Mineralinė vata","VGTU  Pastatai","Akustinės ir termoizoliacinės medžiagos",50,50,50,50,50,50,50,50]
[null,"7.2.2.2",null,null,null,"Betonas","VGTU  Pastatai","Akustinės ir termoizoliacinės medžiagos",50,50,50,50,50,50,50,50]
[null,"7.2.2.3",null,null,null,"Keramzitas","VGTU  Pastatai","Akustinės ir termoizoliacinės medžiagos",50,50,50,50,50,50,50,50]
[null,"7.2.2.4",null,null,null,"Šlakas","VGTU  Pastatai","Akustinės ir termoizoliacinės medžiagos",50,50,50,50,50,50,50,50]
[null,"7.2.2.5",null,null,null,"Polistireninis putplastis","CPVA informacija","Akustinės ir termoizoliacinės medžiagos",50,50,50,50,50,50,50,50]
[null,"7.2.2.6",null,null,null,"Kita"]
[null,"7.2.3",null,null,"Garo izoliacija",null,"VGTU  Pastatai"]
[null,"7.2.3.1",null,null,null,"Ruberoidas","VGTU  Pastatai"," Sistela SVN",12,12,12,12,12,12,12,12]
[null,"7.2.3.2",null,null,null,"Kita"]
[null,"7.2.4",null,null,"Hidroizoliacija",null,"BETA"]
[null,"7.2.4.1",null,null,null,"Bituminė mastika","Tiekėjai"," Sistela SVN",12,12,12,12,12,12,12,12]
[null,"7.2.4.2",null,null,null,"Kita"]
[null,"7.2.5",null,null,"Danga",null,"VGTU  Pastatai"]
[null,"7.2.5.1",null,null,null,"Ruberoidas, bitumas","Sistela SVN"," Sistela SVN",12,12,12,12,12,12,12,12]
[null,"7.2.5.2",null,null,null,"Medinės lentelės","Sistela SVN"," Sistela SVN",35,35,35,35,35,35,35,35]
[null,"7.2.5.3",null,null,null,"Kita"]
[null,"7.2.6",null,null,"Kita"]
[null,"7.2.6.1",null,null,null,"Kita"]
[null,"7.3",null,"Kita"]
[null,"7.3.1",null,null,"Kita"]
[null,"7.3.1.1",null,null,null,"Kita"]
[null,"8.","Vidaus apdaila",null,null,null," Sistela SVN"]
[null,"8.1",null,"Sienų / pertvarų apdaila",null,null,"CPVA informacija"]
[null,"8.1.1",null,null,"Tinkas",null," Sistela SVN"]
[null,"8.1.1.1",null,null,null,"Mūrinių ir betoninių sienų "," Sistela SVN"," Sistela SVN",50,30,50,50,50,50,50,30]
[null,"8.1.1.2",null,null,null,"Medinių sienų ir pertvarų"," Sistela SVN"," Sistela SVN",30,20,30,30,30,30,30,20]
[null,"8.1.1.3",null,null,null,"Dekoratyvinis "," Sistela SVN"," Sistela SVN",60,40,60,60,60,60,60,40]
[null,"8.1.1.4",null,null,null,"Kita"]
[null,"8.1.2",null,null,"Dažai",null,"CPVA informacija"]
[null,"8.1.2.1",null,null,null,"Lateksiniai","Tiekėjai","NAHB",15,15,15,15,15,15,15,15]
[null,"8.1.2.2",null,null,null,"Kita"]
[null,"8.1.3",null,null,"Tapetai",null,"CPVA informacija"]
[null,"8.1.3.1",null,null,null,"Popieriniai","Tiekėjai","Senukai.lt",5,5,5,5,5,5,5,5]
[null,"8.1.3.2",null,null,null,"Kita"]
[null,"8.1.4",null,null,"Plytelės",null," Sistela SVN"]
[null,"8.1.4.1",null,null,null,"Keramika"," Sistela SVN"," Sistela SVN",40,30,40,40,40,40,40,30]
[null,"8.1.4.2",null,null,null,"Akmens masė","CPVA informacija","Ekspertinis vertinimas",40,30,40,40,40,40,40,30]
[null,"8.1.4.3",null,null,null,"Kita"]
[null,"8.1.5",null,null,"Dailylentės",null," Sistela SVN"]
[null,"8.1.5.1",null,null,null,"Medis"," Sistela SVN"," Sistela SVN",40,30,40,40,40,40,40,30]
[null,"8.1.5.2",null,null,null,"Plastikas"," Sistela SVN"," Sistela SVN",30,20,30,30,30,30,30,20]
[null,"8.1.5.3",null,null,null,"Metalas"," Sistela SVN"," Sistela SVN",30,20,30,30,30,30,30,20]
[null,"8.1.5.4",null,null,null,"Kita"]
[null,"8.1.6",null,null,"Plokštės",null," Sistela SVN"]
[null,"8.1.6.1",null,null,null,"Akmuo"," Sistela SVN"," Sistela SVN",80,60,80,80,80,80,80,60]
[null,"8.1.6.2",null,null,null,"Medžio kamštis"," Sistela SVN"," Sistela SVN",12,8,12,12,12,12,12,8]
[null,"8.1.6.3",null,null,null,"Medienos plaušas"," Sistela SVN"," Sistela SVN",30,15,30,30,30,30,30,15]
[null,"8.1.6.4",null,null,null,"Medžio drožlės"," Sistela SVN"," Sistela SVN",30,15,30,30,30,30,30,15]
[null,"8.1.6.5",null,null,null,"Gipso kartonas","CPVA informacija"," Sistela SVN",30,15,30,30,30,30,30,15]
[null,"8.1.6.6",null,null,null,"Kita"]
[null,"8.1.7",null,null,"Plytos",null," Sistela SVN"]
[null,"8.1.7.1",null,null,null,"Dekoratyvinės"," Sistela SVN"," Sistela SVN",75,50,75,75,75,75,75,50]
[null,"8.1.7.2",null,null,null,"Kita"]
[null,"8.1.8",null,null,"Kita"]
[null,"8.1.8.1",null,null,null,"Kita"]
[null,"8.2",null,"Lubų apdaila",null,null,"CPVA informacija"]
[null,"8.2.1",null,null,"Tinkas",null," Sistela SVN"]
[null,"8.2.1.1",null,null,null,"Mūrinių ir betoninių sienų "," Sistela SVN"," Sistela SVN",50,30,50,50,50,50,50,30]
[null,"8.2.1.2",null,null,null,"Medinių sienų ir pertvarų"," Sistela SVN"," Sistela SVN",30,20,30,30,30,30,30,20]
[null,"8.2.1.3",null,null,null,"Dekoratyvinis "," Sistela SVN"," Sistela SVN",60,40,60,60,60,60,60,40]
[null,"8.2.1.4",null,null,null,"Kita"]
[null,"8.2.2",null,null,"Dažai",null,"CPVA informacija"]
[null,"8.2.2.1",null,null,null,"Lateksiniai","Tiekėjai","NAHB",15,15,15,15,15,15,15,15]
[null,"8.2.2.2",null,null,null,"Kita"]
[null,"8.2.3",null,null,"Dailylentės",null," Sistela SVN"]
[null,"8.2.3.1",null,null,null,"Medis"," Sistela SVN"," Sistela SVN",40,30,40,40,40,40,40,30]
[null,"8.2.3.2",null,null,null,"Plastikas"," Sistela SVN"," Sistela SVN",30,20,30,30,30,30,30,20]
[null,"8.2.3.3",null,null,null,"Metalas"," Sistela SVN"," Sistela SVN",30,20,30,30,30,30,30,20]
[null,"8.2.3.4",null,null,null,"Kita"]
[null,"8.2.4",null,null,"Plokštės",null," Sistela SVN"]
[null,"8.2.4.1",null,null,null,"Akmuo"," Sistela SVN"," Sistela SVN",80,60,80,80,80,80,80,60]
[null,"8.2.4.2",null,null,null,"Medžio kamštis"," Sistela SVN"," Sistela SVN",12,8,12,12,12,12,12,8]
[null,"8.2.4.3",null,null,null,"Medienos plaušas "," Sistela SVN"," Sistela SVN",30,15,30,30,30,30,30,15]
[null,"8.2.4.4",null,null,null,"Medžio drožlės"," Sistela SVN"," Sistela SVN",30,15,30,30,30,30,30,15]
[null,"8.2.4.5",null,null,null,"Gipso kartonas","CPVA informacija"," Sistela SVN",30,15,30,30,30,30,30,15]
[null,"8.2.4.6",null,null,null,"Kita"]
[null,"8.2.5",null,null,"Plytos",null," Sistela SVN"]
[null,"8.2.5.1",null,null,null,"Dekoratyvinės"," Sistela SVN"," Sistela SVN",75,50,75,75,75,75,75,50]
[null,"8.2.5.2",null,null,null,"Kita"]
[null,"8.2.6",null,null,"Kita"]
[null,"8.2.6.1",null,null,null,"Kita"]
[null,"8.3",null,"Grindų termoizoliacija",null,null,"CPVA informacija","EK levels",30,30,30,30,30,30,30,30]
[null,"8.3.1",null,null,"Plokštės",null," Sistela SVN"]
[null,"8.3.1.1",null,null,null,"Polistireninis putplastis ","CPVA informacija","Akustinės ir termoizoliacinės medžiagos",50,50,50,50,50,50,50,50]
[null,"8.3.1.2",null,null,null,"Mineralinė vata","CPVA informacija","Akustinės ir termoizoliacinės medžiagos",50,50,50,50,50,50,50,50]
[null,"8.3.1.3",null,null,null,"Užpurškiama termoizoliacija","CPVA informacija","Akustinės ir termoizoliacinės medžiagos",50,50,50,50,50,50,50,50]
[null,"8.3.1.4",null,null,null,"Kita"]
[null,"8.3.2",null,null,"Kita"]
[null,"8.3.2.1",null,null,null,"Kita"]
[null,"8.4",null,"Grindų danga",null,null,"VGTU  Pastatai"]
[null,"8.4.1",null,null,"Lentos",null," Sistela SVN"]
[null,"8.4.1.1",null,null,null,"Medis"," Sistela SVN","Sistela SVN",30,20,30,30,30,30,30,20]
[null,"8.4.1.2",null,null,null,"Parketas"," Sistela SVN","Sistela SVN",20,10,20,20,20,20,20,10]
[null,"8.4.1.3",null,null,null,"Kita"]
[null,"8.4.2",null,null,"Plytelės",null," Sistela SVN"]
[null,"8.4.2.1",null,null,null,"Akmens masė"," Sistela SVN","Sistela SVN",80,50,80,80,80,80,80,50]
[null,"8.4.2.2",null,null,null,"Keramika"," Sistela SVN","Sistela SVN",60,40,60,60,60,60,60,40]
[null,"8.4.2.3",null,null,null,"Betonas"," Sistela SVN","Sistela SVN",20,15,20,20,20,20,20,15]
[null,"8.4.2.4",null,null,null,"Kita"]
[null,"8.4.3",null,null,"Plokštės",null," Sistela SVN"]
[null,"8.4.3.1",null,null,null,"Betonas"," Sistela SVN","Sistela SVN",30,20,30,30,30,30,30,20]
[null,"8.4.3.2",null,null,null,"Dirbtinis akmuo"," Sistela SVN","Sistela SVN",80,50,80,80,80,80,80,50]
[null,"8.4.3.3",null,null,null,"Natūralus akmuo"," Sistela SVN","Sistela SVN",80,50,80,80,80,80,80,50]
[null,"8.4.3.4",null,null,null,"Presuotas kartonas, medžio drožlės, mediena, medienos plaušas"," Sistela SVN","Sistela SVN",15,10,15,15,15,15,15,10]
[null,"8.4.3.5",null,null,null,"Kita"]
[null,"8.4.4",null,null,"Kita danga",null," Sistela SVN"]
[null,"8.4.4.1",null,null,null,"Linoleumas, realinas","Sistela SVN","Sistela SVN",15,10,15,15,15,15,15,10]
[null,"8.4.4.2",null,null,null,"Kiliminė danga","Sistela SVN","Sistela SVN",10,8,10,10,10,10,10,8]
[null,"8.4.4.3",null,null,null,"Teraca","Sistela SVN","Sistela SVN",30,20,30,30,30,30,30,20]
[null,"8.4.4.4",null,null,null,"Asfaltas","Sistela SVN","Sistela SVN",10,8,10,10,10,10,10,8]
[null,"8.4.4.5",null,null,null,"Plūktas molis","Sistela SVN","Sistela SVN",15,10,15,15,15,15,15,10]
[null,"8.4.4.6",null,null,null,"Kita"]
[null,"8.4.5",null,null,"Kita"]
[null,"8.4.5.1",null,null,null,"Kita"]
[null,"8.5",null,"Kita"]
[null,"8.5.1",null,null,"Kita"]
[null,"8.5.1.1",null,null,null,"Kita"]
[null,"9.","Išorės apdaila",null,null,null," Sistela SVN"]
[null,"9.1",null,"Sienų apdaila",null,null,"CPVA informacija"]
[null,"9.1.1",null,null,"Tinkas",null," Sistela SVN"]
[null,"9.1.1.1",null,null,null,"Betoninių ir mūrinių sienų"," Sistela SVN"," Sistela SVN",30,30,30,30,30,30,30,30]
[null,"9.1.1.2",null,null,null,"Medinių sienų "," Sistela SVN"," Sistela SVN",15,15,15,15,15,15,15,15]
[null,"9.1.1.3",null,null,null,"Dekoratyvinis "," Sistela SVN"," Sistela SVN",50,50,50,50,50,50,50,50]
[null,"9.1.1.4",null,null,null,"Kita"]
[null,"9.1.2",null,null,"Plytelės",null," Sistela SVN"]
[null,"9.1.2.1",null,null,null,"Keramika"," Sistela SVN"," Sistela SVN",75,75,75,75,75,75,75,75]
[null,"9.1.2.2",null,null,null,"Stiklas"," Sistela SVN"," Sistela SVN",30,30,30,30,30,30,30,30]
[null,"9.1.2.3",null,null,null,"Kita"]
[null,"9.1.3",null,null,"Plokštės",null," Sistela SVN"]
[null,"9.1.3.1",null,null,null,"Akmuo"," Sistela SVN"," Sistela SVN",100,100,100,100,100,100,100,100]
[null,"9.1.3.2",null,null,null,"Stiklas"," Sistela SVN"," Sistela SVN",30,30,30,30,30,30,30,30]
[null,"9.1.3.3",null,null,null,"Betonas"," Sistela SVN"," Sistela SVN",60,60,60,60,60,60,60,60]
[null,"9.1.3.4",null,null,null,"Asbestcementinės, beasbestinės "," Sistela SVN"," Sistela SVN",30,30,30,30,30,30,30,30]
[null,"9.1.3.5",null,null,null,"Medžio drožlės"," Sistela SVN"," Sistela SVN",15,15,15,15,15,15,15,15]
[null,"9.1.3.6",null,null,null,"Medžio plauštas"," Sistela SVN"," Sistela SVN",15,15,15,15,15,15,15,15]
[null,"9.1.3.7",null,null,null,"Kita"]
[null,"9.1.4",null,null,"Lakštai",null," Sistela SVN"]
[null,"9.1.4.1",null,null,null,"Metalas"," Sistela SVN"," Sistela SVN",30,30,30,30,30,30,30,30]
[null,"9.1.4.2",null,null,null,"Kita"]
[null,"9.1.5",null,null,"Dailylentės",null," Sistela SVN"]
[null,"9.1.5.1",null,null,null,"Medis"," Sistela SVN"," Sistela SVN",30,30,30,30,30,30,30,30]
[null,"9.1.5.2",null,null,null,"Plastikas"," Sistela SVN"," Sistela SVN",20,20,20,20,20,20,20,20]
[null,"9.1.5.3",null,null,null,"Kita"]
[null,"9.1.6",null,null,"Plytų mūras",null," Sistela SVN"]
[null,"9.1.6.1",null,null,null,"Dekoratyvinis "," Sistela SVN"," Sistela SVN",75,75,75,75,75,75,75,75]
[null,"9.1.6.2",null,null,null,"Kita"]
[null,"9.1.7",null,null,"Kita"]
[null,"9.1.7.1",null,null,null,"Kita"]
[null,"9.2",null,"Sienų termoizoliacija / hidroizoliacija",null,null,"CPVA informacija"]
[null,"9.2.1",null,null,"Plokštės",null," Sistela SVN"," Sistela SVN",20,20,20,20,20,20,20,20]
[null,"9.2.1.1",null,null,null,"Polistireninis putplastis","CPVA informacija","Akustinės ir termoizoliacinės medžiagos",50,50,50,50,50,50,50,50]
[null,"9.2.1.2",null,null,null,"Mineralinė vata","CPVA informacija","Akustinės ir termoizoliacinės medžiagos",50,50,50,50,50,50,50,50]
[null,"9.2.1.3",null,null,null,"Kita"]
[null,"9.2.2",null,null,"Drenažinė membrana",null,"BETA","Basementexpert.co.uk",100,100,100,100,100,100,100,100]
[null,"9.2.3",null,null,"Ritininė danga",null,"BETA"]
[null,"9.2.3.1",null,null,null,"Ruberoidas","Tiekėjai"," Sistela SVN",12,12,12,12,12,12,12,12]
[null,"9.2.3.2",null,null,null,"Kita"]
[null,"9.2.4",null,null,"Kita"]
[null,"9.2.4.1",null,null,null,"Kita"]
[null,"9.3",null,"Kita"]
[null,"9.3.1",null,null,"Kita"]
[null,"9.3.1.1",null,null,null,"Kita"]
[null,"10.","Šildymo sistema (vidaus)",null,null,null,"STR  Projektavimas","KTU studija",30,30,30,30,30,30,30,30]
[null,"10.1",null,"Katilinis šildymas",null,null,"Tiekėjai"]
[null,"10.1.1",null,null,"Elektrinis katilas",null,"CPVA informacija","NAHB",13,13,13,13,13,13,13,13]
[null,"10.1.2",null,null,"Dujinis katilas",null,"CPVA informacija","KTU studija",20,20,20,20,20,20,20,20]
[null,"10.1.3",null,null,"Kietojo kuro katilas",null,"CPVA informacija","KTU studija",20,20,20,20,20,20,20,20]
[null,"10.1.4",null,null,"Biomasės katilas",null,"Energy Saving Trust","Utkatilai.lt",10,10,10,10,10,10,10,10]
[null,"10.1.5",null,null,"Kita"]
[null,"10.2",null,"Siurblinis šildymas",null,null,"Energy Saving Trust"]
[null,"10.2.1",null,null,"Siurblys (orasoras)",null,"Energy Saving Trust","NAHB",16,16,16,16,16,16,16,16]
[null,"10.2.2",null,null,"Siurblys (orasvanduo)",null,"Energy Saving Trust","NAHB",16,16,16,16,16,16,16,16]
[null,"10.2.3",null,null,"Geoterminis siurblys",null,"Energy Saving Trust","NAHB",16,16,16,16,16,16,16,16]
[null,"10.2.4",null,null,"Šildymo katilas",null,"Tiekėjai","NAHB",17,17,17,17,17,17,17,17]
[null,"10.2.5",null,null,"Kita"]
[null,"10.3",null,"Šilumos punktas",null,null,"BETA"]
[null,"10.3.1",null,null,"Šilumokaitis",null,"BETA","BETA",10,10,10,10,10,10,10,10]
[null,"10.3.2",null,null,"Slėgio reguliatorius",null,"BETA","BETA",10,10,10,10,10,10,10,10]
[null,"10.3.3",null,null,"Elevatorius",null,"BETA","BETA",10,10,10,10,10,10,10,10]
[null,"10.3.4",null,null,"Cirkuliacinis siurblys",null,"BETA","BETA",10,10,10,10,10,10,10,10]
[null,"10.3.5",null,null,"Reguliavimo vožtuvas",null,"BETA","BETA",10,10,10,10,10,10,10,10]
[null,"10.3.6",null,null,"Reguliavimo vožtuvo pavara",null,"BETA","BETA",10,10,10,10,10,10,10,10]
[null,"10.3.7",null,null,"Balansavimo vožtuvas",null,"BETA","BETA",10,10,10,10,10,10,10,10]
[null,"10.3.8",null,null,"Atbulinis vožtuvas",null,"BETA","BETA",10,10,10,10,10,10,10,10]
[null,"10.3.9",null,null,"Šildymo sistemos valdiklis",null,"BETA","BETA",10,10,10,10,10,10,10,10]
[null,"10.3.10",null,null,"Šilumnešio srauto matuoklis",null,"BETA","BETA",10,10,10,10,10,10,10,10]
[null,"10.3.11",null,null,"Šilumos skaičiuoklis",null,"BETA","BETA",10,10,10,10,10,10,10,10]
[null,"10.3.12",null,null,"Maitinimo blokas (elementas)",null,"BETA","BETA",10,10,10,10,10,10,10,10]
[null,"10.3.13",null,null,"Temperatūros jutikliai",null,"BETA","BETA",10,10,10,10,10,10,10,10]
[null,"10.3.14",null,null,"Kita",null,"BETA","BETA",10,10,10,10,10,10,10,10]
[null,"10.4",null,"Šildymo sistemos tinklas",null,null,"Ūkio ministerija"]
[null,"10.4.1",null,null,"Šildymo sistemos vamzdžiai",null,"Tiekėjai"]
[null,"10.4.1.1",null,null,null,"Plastikas","Tiekėjai","Ekspertinis vertinimas",25,25,25,25,25,25,25,25]
[null,"10.4.1.2",null,null,null,"Kita"]
[null,"10.4.2",null,null,"Kita"]
[null,"10.4.2.1",null,null,null,"Kita"]
[null,"10.5",null,"Šildymo prietaisai",null,null,"Ūkio ministerija"]
[null,"10.5.1",null,null,"Radiatorius",null,"Ūkio ministerija"]
[null,"10.5.1.1",null,null,null,"Plienas","Tiekėjai","NAHB",15,15,15,15,15,15,15,15]
[null,"10.5.1.2",null,null,null,"Kita"]
[null,"10.5.2",null,null,"Gyvatukas",null,"Ūkio ministerija"]
[null,"10.5.2.1",null,null,null,"Varis","Tiekėjai","NAHB",15,15,15,15,15,15,15,15]
[null,"10.5.2.2",null,null,null,"Kita"]
[null,"10.5.3",null,null,"Konvektorius",null,"Ūkio ministerija"]
[null,"10.5.3.1",null,null,null,"Plienas","Tiekėjai","Ekspertinis vertinimas",15,15,15,15,15,15,15,15]
[null,"10.5.3.2",null,null,null,"Kita"]
[null,"10.5.4",null,null,"Grindinio šildymo vamzdynas",null,"Ūkio ministerija"]
[null,"10.4.4.1",null,null,null,"Plastikas","Tiekėjai","Ekspertinis vertinimas",25,25,25,25,25,25,25,25]
[null,"10.4.4.2",null,null,null,"Kita"]
[null,"10.5.5",null,null,"Kita"]
[null,"10.5.5.1",null,null,null,"Kita"]
[null,"10.6",null,"Kita"]
[null,"10.6.1",null,null,"Kita"]
[null,"10.6.1.1",null,null,null,"Kita"]
[null,"11.","Šildymo sistema (lauko)",null,null,null,"STR  Projektavimas"]
[null,"11.1",null,"Centriniai šilumos tiekimo tinklai",null,null,"CPVA informacija"]
[null,"11.1.1",null,null,"Šilumos tiekimo vamzdynas",null,"CPVA informacija"]
[null,"11.1.1.1",null,null,null,"Plienas","Tiekėjai","Sistela SVN",28,28,28,28,28,28,28,28]
[null,"11.1.1.2",null,null,null,"Kita"]
[null,"11.1.2",null,null,"Šilumos tiekimo vamzdynų izoliacija",null,"CPVA informacija"]
[null,"11.1.2.1",null,null,null,"Akmens vata","Tiekėjai","Akustinės ir termoizoliacinės medžiagos",50,50,50,50,50,50,50,50]
[null,"11.1.2.2",null,null,null,"Kita"]
[null,"11.1.3",null,null,"Šilumos tiekimo vamzdynų šuliniai",null,"CPVA informacija"]
[null,"11.1.3.1",null,null,null,"Betonas","Tiekėjai","Ekspertinis vertinimas",25,25,25,25,25,25,25,25]
[null,"11.1.3.2",null,null,null,"Kita"]
[null,"11.1.4",null,null,"Kita"]
[null,"11.1.4.1",null,null,null,"Kita"]
[null,"11.2",null,"Vietinis šildymas",null,null,"Ekspertinis vertinimas"]
[null,"11.2.1",null,null,"Geoterminio šildymo kolektorius",null,"Tiekėjai"]
[null,"11.2.1.1",null,null,null,"Plienas","Tiekėjai","Silumossiurbliai.lt",50,50,50,50,50,50,50,50]
[null,"11.2.1.2",null,null,null,"Kita"]
[null,"11.2.2",null,null,"Saulės energijos kolektorius",null,"Tiekėjai","Svarienergija.lt",50,50,50,50,50,50,50,50]
[null,"11.3",null,"Kita",null,null,null,null,null," "]
[null,"11.3.1",null,null,"Kita"]
[null,"11.3.1.1",null,null,null,"Kita"]
[null,"12.","Šaldymas ir oro kondicionavimas",null,null,null,"STR  Projektavimas"]
[null,"12.1",null,"Centrinis kondicionavimas",null,null,"VGTU  Vėdinimas"]
[null,"12.1.1",null,null,"Kondicionierius",null,"VGTU  Vėdinimas"]
[null,"12.1.1.1",null,null,null,"Plienas","Tiekėjai","NAHB","13","13","13","13","13","13","13","13"]
[null,"12.1.1.2",null,null,null,"Kita"]
[null,"12.1.2",null,null,"Kita"]
[null,"12.1.2.1",null,null,null,"Kita"]
[null,"12.2",null,"Kambarinis kondicionavimas",null,null,"VGTU  Vėdinimas"]
[null,"12.2.1",null,null,"Kondicionierius",null,"VGTU  Vėdinimas"]
[null,"12.2.1.1",null,null,null,"Plienas","Tiekėjai","NAHB","13","13","13","13","13","13","13","13"]
[null,"12.2.1.2",null,null,null,"Kita"]
[null,"12.2.2",null,null,"Ortakiai",null,"VGTU  Vėdinimas","NAHB",10,10,10,10,10,10,10,10]
[null,"12.2.3",null,null,"Kita"]
[null,"12.2.3.1",null,null,null,"Kita"]
[null,"12.3",null,"Kita"]
[null,"12.3.1",null,null,"Kita"]
[null,"12.3.1.1",null,null,null,"Kita"]
[null,"13.","Ventiliacija (vėdinimas)",null,null,null,"STR  Projektavimas"]
[null,"13.1",null,"Ventiliacijos sistema",null,null,"VGTU  Vėdinimas","EK levels",20,20,20,20,20,20,20,20]
[null,"13.1.1",null,null,"Ventiliatorius",null,"VGTU  Vėdinimas"]
[null,"13.1.1.1",null,null,null,"Plienas","VGTU  Vėdinimas","NAHB",7,7,7,7,7,7,7,7]
[null,"13.1.1.2",null,null,null,"Kita"]
[null,"13.1.2",null,null,"Kaloriferis",null,"VGTU  Vėdinimas"]
[null,"13.1.2.1",null,null,null,"Plienas","Tiekėjai","IACHI",40,40,40,40,40,40,40,40]
[null,"13.1.2.2",null,null,null,"Kita"]
[null,"13.1.3",null,null,"Šilumogrąžos įrenginiai",null,"VGTU  Vėdinimas"]
[null,"13.1.3.1",null,null,null,"Plienas","VGTU  Vėdinimas","NAHB",20,20,20,20,20,20,20,20]
[null,"13.1.3.2",null,null,null,"Kita"]
[null,"13.1.4",null,null,"Ortakiai",null,"VGTU  Vėdinimas","NAHB",10,10,10,10,10,10,10,10]
[null,"13.1.5",null,null,"Oro srauto reguliavimo įtaisai",null,"VGTU  Vėdinimas","Ekspertinis vertinimas",10,10,10,10,10,10,10,10]
[null,"13.1.6",null,null,"Oro sklaidytuvai",null,"VGTU  Vėdinimas","NAHB",25,25,25,25,25,25,25,25]
[null,"13.1.7",null,null,"Triukšmo slopintuvai",null,"VGTU  Vėdinimas","Ekspertinis vertinimas",10,10,10,10,10,10,10,10]
[null,null,null,null,"Kita"]
[null,"13.1.8",null,null,null,"Kita"]
[null,"13.2",null,"Kita"]
[null,"13.2.1",null,null,"Kita"]
[null,"13.2.1.1",null,null,null,"Kita"]
[null,"14.","Vandentiekio sistema (vidaus)",null,null,null,"STR  Projektavimas"]
[null,"14.1",null,"Geriamasis vandentiekis",null,null,"STR  Inžinerinės sistemos"]
[null,"14.1.1",null,null,"Vandens apskaitos mazgas",null,"STR  Inžinerinės sistemos"]
[null,"14.1.1.1",null,null,null,"Plienas","Tiekėjai","Ūkio ministerija",6,6,6,6,6,6,6,6]
[null,"14.1.1.2",null,null,null,"Kita"]
[null,"14.1.2",null,null,"Slėgio reguliavimo įrenginys",null,"BETA","Ekspertinis vertinimas",5,5,5,5,5,5,5,5]
[null,"14.1.3",null,null,"Cirkuliacinis siurblys",null,"BETA","Tiekėjai",5,5,5,5,5,5,5,5]
[null,"14.1.4",null,null,"Termostatinis temperatūros reguliatorius (balansavimo ventilis)",null,"BETA","Ekspertinis vertinimas",5,5,5,5,5,5,5,5]
[null,"14.1.5",null,null,"Tiekimo čiaupas",null,"STR  Inžinerinės sistemos"]
[null,"14.1.5.1",null,null,null,"Plienas","Tiekėjai","Ekspertinis vertinimas",20,20,20,20,20,20,20,20]
[null,"14.1.5.2",null,null,null,"Kita"]
[null,"14.1.6",null,null,"Išleidimo čiaupas",null,"STR  Inžinerinės sistemos"]
[null,"14.1.6.1",null,null,null,"Plienas","Tiekėjai","Ekspertinis vertinimas",20,20,20,20,20,20,20,20]
[null,"14.1.6.2",null,null,null,"Kita"]
[null,"14.1.7",null,null,"Magistralinis vamzdynas",null,"STR  Inžinerinės sistemos"]
[null,"14.1.7.1",null,null,null,"Ketus","Sistela SVN","Sistela SVN",50,50,50,50,50,50,50,50]
[null,"14.1.7.2",null,null,null,"Plienas","Sistela SVN","Sistela SVN",20,20,20,20,20,20,20,20]
[null,"14.1.7.3",null,null,null,"Varis","BETA","IACHI",50,50,50,50,50,50,50,50]
[null,"14.1.7.4",null,null,null,"Plastikas","Sistela SVN","Sistela SVN",25,25,25,25,25,25,25,25]
[null,"14.1.7.5",null,null,null,"Metaloplastikas","BETA","Ekspertinis vertinimas",25,25,25,25,25,25,25,25]
[null,"14.1.7.6",null,null,null,"Kita"]
[null,"14.1.8",null,null,"Stovas",null,"STR  Inžinerinės sistemos"]
[null,"14.1.8.1",null,null,null,"Ketus","Sistela SVN","Sistela SVN",50,50,50,50,50,50,50,50]
[null,"14.1.8.2",null,null,null,"Plienas","Sistela SVN","Sistela SVN",20,20,20,20,20,20,20,20]
[null,"14.1.8.3",null,null,null,"Varis","BETA","IACHI",50,50,50,50,50,50,50,50]
[null,"14.1.8.4",null,null,null,"Plastikas","Sistela SVN","Sistela SVN",25,25,25,25,25,25,25,25]
[null,"14.1.8.5",null,null,null,"Metaloplastikas","BETA","Ekspertinis vertinimas",25,25,25,25,25,25,25,25]
[null,"14.1.8.6",null,null,null,"Kita"]
[null,"14.1.9",null,null,"Aukšto įvadas",null,"STR  Inžinerinės sistemos"]
[null,"14.1.9.1",null,null,null,"Ketus","Sistela SVN","Sistela SVN",50,50,50,50,50,50,50,50]
[null,"14.1.9.2",null,null,null,"Plienas","Sistela SVN","Sistela SVN",20,20,20,20,20,20,20,20]
[null,"14.1.9.3",null,null,null,"Varis","BETA","IACHI",50,50,50,50,50,50,50,50]
[null,"14.1.9.4",null,null,null,"Plastikas","Sistela SVN","Sistela SVN",25,25,25,25,25,25,25,25]
[null,"14.1.9.5",null,null,null,"Metaloplastikas","BETA","Ekspertinis vertinimas",25,25,25,25,25,25,25,25]
[null,"14.1.9.6",null,null,null,"Kita"]
[null,"14.1.10",null,null,"Jungiamasis vamzdis",null,"STR  Inžinerinės sistemos"]
[null,"14.1.10.1",null,null,null,"Ketus","Sistela SVN","Sistela SVN",50,50,50,50,50,50,50,50]
[null,"14.1.10.2",null,null,null,"Plienas","Sistela SVN","Sistela SVN",20,20,20,20,20,20,20,20]
[null,"14.1.10.3",null,null,null,"Varis","BETA","IACHI",50,50,50,50,50,50,50,50]
[null,"14.1.10.4",null,null,null,"Plastikas","Sistela SVN","Sistela SVN",25,25,25,25,25,25,25,25]
[null,"14.1.10.5",null,null,null,"Metaloplastikas","BETA","Ekspertinis vertinimas",25,25,25,25,25,25,25,25]
[null,"14.1.10.6",null,null,null,"Kita"]
[null,"14.1.11",null,null,"Vamzdžių izoliacija",null,"BETA"]
[null,"14.1.11.1",null,null,null,"Pūstas polietilenas","BETA","Akustinės ir termoizoliacinės medžiagos",50,50,50,50,50,50,50,50]
[null,"14.1.11.2",null,null,null,"Sintetinė guma","BETA","Akustinės ir termoizoliacinės medžiagos",50,50,50,50,50,50,50,50]
[null,"14.1.11.3",null,null,null,"Kita"]
[null,"14.1.12",null,null,"Ėmimo čiaupai ir taškai",null,"STR  Inžinerinės sistemos"]
[null,"14.1.12.1",null,null,null,"Plienas","Tiekėjai","NAHB","15","15","15","15","15","15","15","15"]
[null,"14.1.12.2",null,null,null,"Kita"]
[null,"14.1.13",null,null,"Kita"]
[null,"14.1.13.1",null,null,null,"Kita"]
[null,"14.2",null,"Gamybinis vandentiekis",null,null,"STR  Inžinerinės sistemos"]
[null,"14.2.1",null,null,"Vandens apskaitos mazgas",null,"STR  Inžinerinės sistemos"]
[null,"14.2.1.1",null,null,null,"Plienas","Tiekėjai","Ūkio ministerija",6,6,6,6,6,6,6,6]
[null,"14.2.1.2",null,null,null,"Kita"]
[null,"14.2.2",null,null,"Slėgio reguliavimo įrenginiai",null,"BETA","Ekspertinis vertinimas",5,5,5,5,5,5,5,5]
[null,"14.2.3",null,null,"Cirkuliacinis siurblys",null,"BETA","Tiekėjai",5,5,5,5,5,5,5,5]
[null,"14.2.4",null,null,"Termostatinis temperatūros reguliatorius (balansavimo ventilis)",null,"BETA","Ekspertinis vertinimas",5,5,5,5,5,5,5,5]
[null,"14.2.5",null,null,"Tiekimo čiaupas",null,"STR  Inžinerinės sistemos"]
[null,"14.2.5.1",null,null,null,"Plienas","Tiekėjai","Ekspertinis vertinimas",20,20,20,20,20,20,20,20]
[null,"14.2.5.2",null,null,null,"Kita"]
[null,"14.2.6",null,null,"Išleidimo čiaupas",null,"STR  Inžinerinės sistemos"]
[null,"14.2.6.1",null,null,null,"Plienas","Tiekėjai","Ekspertinis vertinimas",20,20,20,20,20,20,20,20]
[null,"14.2.6.2",null,null,null,"Kita"]
[null,"14.2.7",null,null,"Magistralinis vamzdynas",null,"STR  Inžinerinės sistemos"]
[null,"14.2.7.1",null,null,null,"Ketus","Sistela SVN","Sistela SVN",50,50,50,50,50,50,50,50]
[null,"14.2.7.2",null,null,null,"Plienas","Sistela SVN","Sistela SVN",20,20,20,20,20,20,20,20]
[null,"14.2.7.3",null,null,null,"Varis","BETA","IACHI",50,50,50,50,50,50,50,50]
[null,"14.2.7.4",null,null,null,"Plastikas","Sistela SVN","Sistela SVN",25,25,25,25,25,25,25,25]
[null,"14.2.7.5",null,null,null,"Metaloplastikas","BETA","Ekspertinis vertinimas",25,25,25,25,25,25,25,25]
[null,"14.2.7.6",null,null,null,"Kita"]
[null,"14.2.8",null,null,"Stovas",null,"STR  Inžinerinės sistemos"]
[null,"14.2.8.1",null,null,null,"Ketus","Sistela SVN","Sistela SVN",50,50,50,50,50,50,50,50]
[null,"14.2.8.2",null,null,null,"Plienas","Sistela SVN","Sistela SVN",20,20,20,20,20,20,20,20]
[null,"14.2.8.3",null,null,null,"Varis","BETA","IACHI",50,50,50,50,50,50,50,50]
[null,"14.2.8.4",null,null,null,"Plastikas","Sistela SVN","Sistela SVN",25,25,25,25,25,25,25,25]
[null,"14.2.8.5",null,null,null,"Metaloplastikas","BETA","Ekspertinis vertinimas",25,25,25,25,25,25,25,25]
[null,"14.2.8.6",null,null,null,"Kita"]
[null,"14.2.9",null,null,"Aukšto įvadas",null,"STR  Inžinerinės sistemos"]
[null,"14.2.9.1",null,null,null,"Ketus","Sistela SVN","Sistela SVN",50,50,50,50,50,50,50,50]
[null,"14.2.9.2",null,null,null,"Plienas","Sistela SVN","Sistela SVN",20,20,20,20,20,20,20,20]
[null,"14.2.9.3",null,null,null,"Varis","BETA","IACHI",50,50,50,50,50,50,50,50]
[null,"14.2.9.4",null,null,null,"Plastikas","Sistela SVN","Sistela SVN",25,25,25,25,25,25,25,25]
[null,"14.2.9.5",null,null,null,"Metaloplastikas","BETA","Ekspertinis vertinimas",25,25,25,25,25,25,25,25]
[null,"14.2.9.6",null,null,null,"Kita"]
[null,"14.2.10",null,null,"Jungiamasis vamzdis",null,"STR  Inžinerinės sistemos"]
[null,"14.2.10.1",null,null,null,"Ketus","Sistela SVN","Sistela SVN",50,50,50,50,50,50,50,50]
[null,"14.2.10.2",null,null,null,"Plienas","Sistela SVN","Sistela SVN",20,20,20,20,20,20,20,20]
[null,"14.2.10.3",null,null,null,"Varis","BETA","IACHI",50,50,50,50,50,50,50,50]
[null,"14.2.10.4",null,null,null,"Plastikas","Sistela SVN","Sistela SVN",25,25,25,25,25,25,25,25]
[null,"14.2.10.5",null,null,null,"Metaloplastikas","BETA","Ekspertinis vertinimas",25,25,25,25,25,25,25,25]
[null,"14.2.10.6",null,null,null,"Kita"]
[null,"14.2.11",null,null,"Vamzdžių izoliacija",null,"BETA"]
[null,"14.2.11.1",null,null,null,"Pūstas polietilenas","BETA","Akustinės ir termoizoliacinės medžiagos",50,50,50,50,50,50,50,50]
[null,"14.2.11.2",null,null,null,"Sintetinė guma","BETA","Akustinės ir termoizoliacinės medžiagos",50,50,50,50,50,50,50,50]
[null,"14.2.11.3",null,null,null,"Kita"]
[null,"14.2.12",null,null,"Ėmimo čiaupai ir taškai",null,"STR  Inžinerinės sistemos"]
[null,"14.2.12.1",null,null,null,"Plienas","Tiekėjai","NAHB","15","15","15","15","15","15","15","15"]
[null,"14.2.1.2",null,null,null,"Kita"]
[null,"14.2.13",null,null,"Kita"]
[null,"14.2.13.1",null,null,null,"Kita"]
[null,"14.3",null,"Gaisrinis vandentiekis",null,null,"STR  Inžinerinės sistemos"]
[null,"14.3.1",null,null,"Vandens apskaitos mazgas",null,"STR  Inžinerinės sistemos"]
[null,"14.3.1.1",null,null,null,"Plienas","Tiekėjai","Ūkio ministerija",6,6,6,6,6,6,6,6]
[null,"14.1.1.2",null,null,null,"Kita"]
[null,"14.3.2",null,null,"Slėgio reguliavimo įrenginiai",null,"BETA","Ekspertinis vertinimas",5,5,5,5,5,5,5,5]
[null,"14.3.3",null,null,"Cirkuliacinis siurblys",null,"BETA","Tiekėjai",5,5,5,5,5,5,5,5]
[null,"14.3.4",null,null,"Termostatinis temperatūros reguliatorius (balansavimo ventilis)",null,"BETA","Ekspertinis vertinimas",5,5,5,5,5,5,5,5]
[null,"14.3.5",null,null,"Tiekimo čiaupas",null,"STR  Inžinerinės sistemos"]
[null,"14.3.5.1",null,null,null,"Plienas","Tiekėjai","Ekspertinis vertinimas",20,20,20,20,20,20,20,20]
[null,"14.3.5.2",null,null,null,"Kita"]
[null,"14.3.6",null,null,"Išleidimo čiaupas",null,"STR  Inžinerinės sistemos"]
[null,"14.3.6.1",null,null,null,"Plienas","Tiekėjai","Ekspertinis vertinimas",20,20,20,20,20,20,20,20]
[null,"14.3.6.2",null,null,null,"Kita"]
[null,"14.3.7",null,null,"Magistralinis vamzdynas",null,"STR  Inžinerinės sistemos"]
[null,"14.3.7.1",null,null,null,"Ketus","Sistela SVN","Sistela SVN",50,50,50,50,50,50,50,50]
[null,"14.3.7.2",null,null,null,"Plienas","Sistela SVN","Sistela SVN",20,20,20,20,20,20,20,20]
[null,"14.3.7.3",null,null,null,"Varis","BETA","IACHI",50,50,50,50,50,50,50,50]
[null,"14.3.7.4",null,null,null,"Plastikas","Sistela SVN","Sistela SVN",25,25,25,25,25,25,25,25]
[null,"14.3.7.5",null,null,null,"Metaloplastikas","BETA","Ekspertinis vertinimas",25,25,25,25,25,25,25,25]
[null,"14.3.7.6",null,null,null,"Kita"]
[null,"14.3.8",null,null,"Stovas",null,"STR  Inžinerinės sistemos"]
[null,"14.3.8.1",null,null,null,"Ketus","Sistela SVN","Sistela SVN",50,50,50,50,50,50,50,50]
[null,"14.3.8.2",null,null,null,"Plienas","Sistela SVN","Sistela SVN",20,20,20,20,20,20,20,20]
[null,"14.3.8.3",null,null,null,"Varis","BETA","IACHI",50,50,50,50,50,50,50,50]
[null,"14.3.8.4",null,null,null,"Plastikas","Sistela SVN","Sistela SVN",25,25,25,25,25,25,25,25]
[null,"14.3.8.5",null,null,null,"Metaloplastikas","BETA","Ekspertinis vertinimas",25,25,25,25,25,25,25,25]
[null,"14.3.8.6",null,null,null,"Kita"]
[null,"14.3.9",null,null,"Aukšto įvadas",null,"STR  Inžinerinės sistemos"]
[null,"14.3.9.1",null,null,null,"Ketus","Sistela SVN","Sistela SVN",50,50,50,50,50,50,50,50]
[null,"14.3.9.2",null,null,null,"Plienas","Sistela SVN","Sistela SVN",20,20,20,20,20,20,20,20]
[null,"14.3.9.3",null,null,null,"Varis","BETA","IACHI",50,50,50,50,50,50,50,50]
[null,"14.3.9.4",null,null,null,"Plastikas","Sistela SVN","Sistela SVN",25,25,25,25,25,25,25,25]
[null,"14.3.9.5",null,null,null,"Metaloplastikas","BETA","Ekspertinis vertinimas",25,25,25,25,25,25,25,25]
[null,"14.3.9.6",null,null,null,"Kita"]
[null,"14.3.10",null,null,"Jungiamasis vamzdis",null,"STR  Inžinerinės sistemos"]
[null,"14.3.10.1",null,null,null,"Ketus","Sistela SVN","Sistela SVN",50,50,50,50,50,50,50,50]
[null,"14.3.10.2",null,null,null,"Plienas","Sistela SVN","Sistela SVN",20,20,20,20,20,20,20,20]
[null,"14.3.10.3",null,null,null,"Varis","BETA","IACHI",50,50,50,50,50,50,50,50]
[null,"14.3.10.4",null,null,null,"Plastikas","Sistela SVN","Sistela SVN",25,25,25,25,25,25,25,25]
[null,"14.3.10.5",null,null,null,"Metaloplastikas","BETA","Ekspertinis vertinimas",25,25,25,25,25,25,25,25]
[null,"14.3.10.6",null,null,null,"Kita"]
[null,"14.3.11",null,null,"Vamzdžių izoliacija",null,"BETA"]
[null,"14.3.11.1",null,null,null,"Pūstas polietilenas","BETA","Akustinės ir termoizoliacinės medžiagos",50,50,50,50,50,50,50,50]
[null,"14.3.11.2",null,null,null,"Sintetinė guma","BETA","Akustinės ir termoizoliacinės medžiagos",50,50,50,50,50,50,50,50]
[null,"14.3.11.3",null,null,null,"Kita"]
[null,"14.3.12",null,null,"Ėmimo čiaupai ir taškai",null,"STR  Inžinerinės sistemos"]
[null,"14.3.12.1",null,null,null,"Plienas","Tiekėjai","NAHB","15","15","15","15","15","15","15","15"]
[null,"14.3.12.2",null,null,null,"Kita"]
[null,"14.3.13",null,null,"Kita"]
[null,"14.3.13.1",null,null,null,"Kita"]
[null,"14.4",null,"Kita"]
[null,"14.4.1",null,null,"Kita"]
[null,"14.4.1.1",null,null,null,"Kita"]
[null,"15.","Vandentiekio sistema (lauko)",null,null,null,"STR  Projektavimas"]
[null,"15.1",null,"Vandentiekio tinklas",null,null,"STR  Inžinerinės sistemos"]
[null,"15.1.1",null,null,"Vamzdynai",null,"CPVA informacija"]
[null,"15.1.1.1",null,null," ","Ketus","Sistela SVN","Sistela SVN",50,50,50,50,50,50,50,50]
[null,"15.1.1.2",null,null,null,"Plienas","Sistela SVN","Sistela SVN",20,20,20,20,20,20,20,20]
[null,"15.1.1.3",null,null,null,"Varis","BETA","IACHI",50,50,50,50,50,50,50,50]
[null,"15.1.1.4",null,null,null,"Plastikas","Sistela SVN","Sistela SVN",25,25,25,25,25,25,25,25]
[null,"15.1.1.5",null,null,null,"Metaloplastikas","BETA","Ekspertinis vertinimas",25,25,25,25,25,25,25,25]
[null,"15.1.1.6",null,null,null,"Kita"]
[null,"15.1.2",null,null,"Vamzdynų izoliacija",null,"CPVA informacija"]
[null,"15.1.2.1",null,null,null,"Akmens vata","Tiekėjai","Akustinės ir termoizoliacinės medžiagos",50,50,50,50,50,50,50,50]
[null,"15.1.2.2",null,null,null,"Kita"]
[null,"15.1.3",null,null,"Vamzdynų šuliniai",null,"CPVA informacija"]
[null,"15.1.3.1",null,null,null,"Gelžbetonis","Sistela SVN","Sistela SVN",25,25,25,25,25,25,25,25]
[null,"15.1.3.2",null,null,null,"Plytos","Sistela SVN","Sistela SVN",25,25,25,25,25,25,25,25]
[null,"15.1.3.3",null,null,null,"Kita"]
[null,"15.1.4",null,null,"Kita"]
[null,"15.1.4.1",null,null,null,"Kita"]
[null,"15.2",null,"Šuliniai",null,null,"Sistela SVN"]
[null,"15.2.1",null,null,"Gręžtiniai vandens šuliniai su filtrais",null,"Sistela SVN","Sistela SVN",20,20,20,20,20,20,20,20]
[null,"15.2.2",null,null,"Gręžtiniai vandens šuliniai be filtrų",null,"Sistela SVN","Sistela SVN",20,20,20,20,20,20,20,20]
[null,"15.2.3",null,null,"Šachtiniai geriamojo vandens šuliniai",null,"Sistela SVN"]
[null,"15.2.3.1",null,null,null,"Gelžbetonis","Sistela SVN","Sistela SVN",50,50,50,50,50,50,50,50]
[null,"15.2.3.2",null,null,null,"Medis","Sistela SVN","Sistela SVN",20,20,20,20,20,20,20,20]
[null,"15.2.3.3",null,null,null,"Kita"]
[null,"15.2.4",null,null,"Hidrantai",null,"CPVA informacija"]
[null,"15.2.4.1",null,null,null,"Plienas","Tiekėjai","Gairana.lt",10,10,10,10,10,10,10,10]
[null,"15.2.4.2",null,null,null,"Kita"]
[null,"15.2.5",null,null,"Kita"]
[null,"15.2.5.1",null,null,null,"Kita"]
[null,"15.3",null,"Kita"]
[null,"15.3.1",null,null,"Kita"]
[null,"15.3.1.1",null,null,null,"Kita"]
[null,"16.","Nuotekų šalinimo sistema (vidaus)",null,null,null,"STR  Projektavimas"]
[null,"16.1",null,"Nuotekų šalinimo tinklas",null,null,"STR  Inžinerinės sistemos"]
[null,"16.1.1",null,null,"Išvadas",null,"STR  Inžinerinės sistemos"]
[null,"16.1.1.1",null,null,null,"Keramika","Sistela SVN","Sistela SVN",30,30,30,30,30,30,30,30]
[null,"16.1.1.2",null,null,null,"Gelžbetonis","Sistela SVN","Sistela SVN",17,17,17,17,17,17,17,17]
[null,"16.1.1.3",null,null,null,"Asbestcementas","Sistela SVN","Sistela SVN",25,25,25,25,25,25,25,25]
[null,"16.1.1.4",null,null,null,"Ketus","Sistela SVN","Sistela SVN",35,35,35,35,35,35,35,35]
[null,"16.1.1.5",null,null,null,"Plastikas","Sistela SVN","Sistela SVN",30,30,30,30,30,30,30,30]
[null,"16.1.1.6",null,null,null,"Kita"]
[null,"16.1.2",null,null,"Stovas",null,"STR  Inžinerinės sistemos"]
[null,"16.1.2.1",null,null,null,"Keramika","Sistela SVN","Sistela SVN",30,30,30,30,30,30,30,30]
[null,"16.1.2.2",null,null,null,"Gelžbetonis","Sistela SVN","Sistela SVN",17,17,17,17,17,17,17,17]
[null,"16.1.2.3",null,null,null,"Asbestcementas","Sistela SVN","Sistela SVN",25,25,25,25,25,25,25,25]
[null,"16.1.2.4",null,null,null,"Ketus","Sistela SVN","Sistela SVN",35,35,35,35,35,35,35,35]
[null,"16.1.2.5",null,null,null,"Plastikas","Sistela SVN","Sistela SVN",30,30,30,30,30,30,30,30]
[null,"16.1.2.6",null,null,null,"Kita"]
[null,"16.1.3",null,null,"Nuotakas",null,"STR  Inžinerinės sistemos"]
[null,"16.1.3.1",null,null,null,"Keramika","Sistela SVN","Sistela SVN",30,30,30,30,30,30,30,30]
[null,"16.1.3.2",null,null,null,"Gelžbetonis","Sistela SVN","Sistela SVN",17,17,17,17,17,17,17,17]
[null,"16.1.3.3",null,null,null,"Asbestcementas","Sistela SVN","Sistela SVN",25,25,25,25,25,25,25,25]
[null,"16.1.3.4",null,null,null,"Ketus","Sistela SVN","Sistela SVN",35,35,35,35,35,35,35,35]
[null,"16.1.3.5",null,null,null,"Plastikas","Sistela SVN","Sistela SVN",30,30,30,30,30,30,30,30]
[null,"16.1.3.6",null,null,null,"Kita"]
[null,"16.1.4",null,null,"Buitiniai sanitariniai prietaisai",null,"STR  Inžinerinės sistemos","NAHB","15","15","15","15","15","15","15","15"]
[null,"16.1.5",null,null,"Kita"]
[null,"16.1.5.1",null,null,null,"Kita"]
[null,"16.2",null,"Kita"]
[null,"16.2.1",null,null,"Kita"]
[null,"16.2.1.1",null,null,null,"Kita"]
[null,"17.","Nuotekų šalinimo sistema (lauko)",null,null,null,"STR  Projektavimas"]
[null,"17.1.",null,"Centrinis nuotekų tinklas",null,null,"STR  Inžinerinės sistemos"]
[null,"17.1.1",null,null,"Nuotekų vamzdžiai",null,"STR  Inžinerinės sistemos"]
[null,"17.1.1.1",null,null,null,"Keramika","Sistela SVN","Sistela SVN",30,30,30,30,30,30,30,30]
[null,"17.1.1.2",null,null,null,"Gelžbetonis","Sistela SVN","Sistela SVN",17,17,17,17,17,17,17,17]
[null,"17.1.1.3",null,null,null,"Asbestcementas","Sistela SVN","Sistela SVN",25,25,25,25,25,25,25,25]
[null,"17.1.1.4",null,null,null,"Ketus","Sistela SVN","Sistela SVN",35,35,35,35,35,35,35,35]
[null,"17.1.1.5",null,null,null,"Plastikas","Sistela SVN","Sistela SVN",30,30,30,30,30,30,30,30]
[null,"17.1.1.6",null,null,null,"Kita"]
[null,"17.1.2",null,null,"Nuotekų vamzdžių šuliniai",null,"Sistela SVN"]
[null,"17.1.2.1",null,null,null,"Gelžbetonis","Sistela SVN","Sistela SVN",25,25,25,25,25,25,25,25]
[null,"17.1.2.2",null,null,null,"Plytos","Sistela SVN","Sistela SVN",20,20,20,20,20,20,20,20]
[null,"17.1.2.3",null,null,null,"Plastikas","Sistela SVN","Sistela SVN",30,30,30,30,30,30,30,30]
[null,"17.1.2.4",null,null,null,"Kita"]
[null,"17.1.3",null,null,"Kita"]
[null,"17.1.3.1",null,null,null,"Kita"]
[null,"17.2",null,"Vietinė nuotekų sistema",null,null,"CPVA informacija"]
[null,"17.2.1",null,null,"Nuotekų vamzdžiai",null,"Sistela SVN"]
[null,"17.2.1.1",null,null,null,"Keramika","Sistela SVN","Sistela SVN",30,30,30,30,30,30,30,30]
[null,"17.2.1.2",null,null,null,"Gelžbetonis","Sistela SVN","Sistela SVN",17,17,17,17,17,17,17,17]
[null,"17.2.1.3",null,null,null,"Asbestcementas","Sistela SVN","Sistela SVN",25,25,25,25,25,25,25,25]
[null,"17.2.1.4",null,null,null,"Ketus","Sistela SVN","Sistela SVN",35,35,35,35,35,35,35,35]
[null,"17.2.1.5",null,null,null,"Plastikas","Sistela SVN","Sistela SVN",30,30,30,30,30,30,30,30]
[null,"17.2.1.6",null,null,null,"Kita"]
[null,"17.2.2",null,null,"Nuotekų vamzdžių šuliniai",null,"Sistela SVN"]
[null,"17.2.2.1",null,null,null,"Gelžbetonis","Sistela SVN","Sistela SVN",25,25,25,25,25,25,25,25]
[null,"17.2.2.2",null,null,null,"Plytos","Sistela SVN","Sistela SVN",20,20,20,20,20,20,20,20]
[null,"17.2.2.3",null,null,null,"Plastikas","Sistela SVN","Sistela SVN",30,30,30,30,30,30,30,30]
[null,"17.2.2.4",null,null,null,"Kita"]
[null,"17.2.3",null,null,"Rezervuarai",null,"Sistela SVN"]
[null,"17.2.3.1",null,null,null,"Gelžbetonis","Sistela SVN","Sistela SVN",20,20,20,20,20,20,20,20]
[null,"17.2.3.2",null,null,null,"Kita"]
[null,"17.2.4",null,null,"Mažieji nuotekų valymo įrenginiai",null,"Sistela SVN","Sistela SVN",30,30,30,30,30,30,30,30]
[null,"17.2.5",null,null,"Kita"]
[null,"17.2.5.1",null,null,null,"Kita"]
[null,"17.3",null,"Kita"]
[null,"17.3.1",null,null,"Kita"]
[null,"17.3.1.1",null,null,null,"Kita"]
[null,"18.","Elektros instaliacija (vidaus)",null,null,null,"STR  Projektavimas"]
[null,"18.1",null,"Elektros tinklas",null,null,"STR  Projektavimas"]
[null,"18.1.1",null,null,"Įvadinė spinta",null,"LEEA","Ekspertinis vertinimas",20,20,20,20,20,20,20,20]
[null,"18.1.2",null,null,"Elektros skydelis",null,"LEEA","Ekspertinis vertinimas",20,20,20,20,20,20,20,20]
[null,"18.1.3",null,null,"Laidai",null,"LEEA"]
[null,"18.1.3.1",null,null,null,"Aliuminis","LEEA",null,"20","20","20","20","20","20","20","20"]
[null,"18.1.3.2",null,null,null,"Varis","LEEA","Elandcables.com",20,20,20,20,20,20,20,20]
[null,"18.1.3.3",null,null,null,"Kita"]
[null,"18.1.4",null,null,"Skirstomosios ir jungiamosios dėžutės",null,"LEEA","Ekspertinis vertinimas",20,20,20,20,20,20,20,20]
[null,"18.1.5",null,null,"Kita"]
[null,"18.1.5.1",null,null,null,"Kita"]
[null,"18.2",null,"Apšvietimas",null,null,"STR  Projektavimas"]
[null,"18.2.1",null,null,"Atrama",null,"CPVA informacija"]
[null,"18.2.1.1",null,null,null,"Gelžbetonis","CPVA informacija","Lonestarprestress.com",50,50,50,50,50,50,50,50]
[null,"18.2.1.2",null,null,null,"Metalas","CPVA informacija","Steeltimesint.com",80,80,80,80,80,80,80,80]
[null,"18.2.1.3",null,null,null,"Kita"]
[null,"18.2.2",null,null,"Korpusas",null,"CPVA informacija"]
[null,"18.2.2.1",null,null,null,"Plienas","CPVA informacija","Ekspertinis vertinimas",20,20,20,20,20,20,20,20]
[null,"18.2.2.2",null,null,null,"Aliuminis","CPVA informacija","Ekspertinis vertinimas",18,18,18,18,18,18,18,18]
[null,"18.2.2.3",null,null,null,"Plastikas","CPVA informacija","Ekspertinis vertinimas","13","13","13","13","13","13","13","13"]
[null,"18.2.2.4",null,null,null,"Kita"]
[null,"18.2.3",null,null,"Lempa",null,"CPVA informacija"]
[null,"18.2.3.1",null,null,null,"Liuminescencinės (fluorescencinės) arba dienos šviesos","CPVA informacija","IACHI",4,4,4,4,4,4,4,4]
[null,"18.2.3.2",null,null,null,"LED  šviesos diodų","CPVA informacija","IACHI",19,19,19,19,19,19,19,19]
[null,"18.2.3.3",null,null,null,"LED juostos","CPVA informacija","IACHI",19,19,19,19,19,19,19,19]
[null,"18.2.3.4",null,null,null,"Halogenai","CPVA informacija","IACHI",3,3,3,3,3,3,3,3]
[null,"18.2.3.5",null,null,null,"Kaitrinės (kaitinamosios)","CPVA informacija","IACHI",1,1,1,1,1,1,1,1]
[null,"18.2.3.6",null,null,null,"Natrio","CPVA informacija","Stouchlighting.com",10,10,10,10,10,10,10,10]
[null,"18.2.3.7",null,null,null,"Kita"]
[null,"18.2.4",null,null,"Kita"]
[null,"18.2.4.1",null,null,null,"Kita"]
[null,"18.3",null,"Jungikliai ir rozetės"]
[null,"18.3.1",null,null,"Potinkiniai ir virštinkliniai jungikliai",null,"Tiekėjai","Tiekėjai","15","15","15","15","15","15","15","15"]
[null,"18.3.2",null,null,"Kištukiniai lizdai",null,"Tiekėjai","Tiekėjai","16","16","16","16","16","16","16","16"]
[null,"18.3.3",null,null,"Grindininės dėžės",null,"Tiekėjai","Tiekėjai","17","17","17","17","17","17","17","17"]
[null,"18.3.4",null,null,"Buitiniai ir pramoniniai ilgintuvai",null,"Tiekėjai","Tiekėjai","18","18","18","18","18","18","18","18"]
[null,null,null,null,"Plastikiniai skydeliai",null,"Tiekėjai","Tiekėjai","19","19","19","19","19","19","19","19"]
[null,"18.4",null,"Kita"]
[null,"18.4.1",null,null,"Kita"]
[null,"18.4.1.1",null,null,null,"Kita"]
[null,"19.","Elektros instaliacija (lauko)",null,null,null,"STR  Projektavimas"]
[null,"19.1",null,"Autonominiai elektros energijos tiekimo įrenginiai (šaltinis  saulės energija)",null,null,"STR  Projektavimas"]
[null,"19.1.1",null,null,"Saulės modulis",null,"Tiekėjai","IACHI",25,25,25,25,25,25,25,25]
[null,"19.1.2",null,null,"Inverteris",null,"Tiekėjai","Ilumen.be",10,10,10,10,10,10,10,10]
[null,"19.1.3",null,null,"Įkrovimo valdiklis",null,"Tiekėjai","Ekspertinis vertinimas",10,10,10,10,10,10,10,10]
[null,"19.1.4",null,null,"Akumuliatorių baterija",null,"Tiekėjai","IACHI","8","8","8","8","8","8","8","8"]
[null,"19.1.5",null,null,"Kita"]
[null,"19.2",null,"Autonominiai elektros energijos tiekimo įrenginiai (šaltinis  vėjo energija)",null,null,"STR  Projektavimas"]
[null,"19.2.1",null,null,"Vėjo jėgainė",null,"Tiekėjai","IACHI",20,20,20,20,20,20,20,20]
[null,"19.2.2",null,null,"Inverteris",null,"Tiekėjai","Ilumen.be",10,10,10,10,10,10,10,10]
[null,"19.2.3",null,null,"Įkrovimo valdiklis",null,"Tiekėjai","Ekspertinis vertinimas",10,10,10,10,10,10,10,10]
[null,"19.2.4",null,null,"Akumuliatorių baterija",null,"Tiekėjai","Ekspertinis vertinimas","8","8","8","8","8","8","8","8"]
[null,"19.2.5",null,null,"Kita"]
[null,"19.3",null,"Autonominiai elektros energijos tiekimo įrenginiai (šaltinis  skystasis kuras)",null,null,"STR  Projektavimas"]
[null,"19.3.1",null,null,"Skystojo kuro generatorius",null,"Tiekėjai","Efficientplantmag.com",10,10,10,10,10,10,10,10]
[null,"19.3.2",null,null,"Kita"]
[null,"19.4",null,"Elektros tinklas",null,null,"STR  Projektavimas"]
[null,"19.4.1",null,null,"Įvadas",null,"LEEA","Elandcables.com",20,20,20,20,20,20,20,20]
[null,"19.4.2",null,null,"Kabeliai",null,"LEEA"]
[null,"19.4.2.1",null,null,null,"Varis","LEEA","Elandcables.com",20,20,20,20,20,20,20,20]
[null,"19.4.2.3",null,null,null,"Kita"]
[null,"19.4.3",null,null,"Įvadinė spinta",null,"LEEA","Ekspertinis vertinimas",20,20,20,20,20,20,20,20]
[null,"19.4.4",null,null,"Kita"]
[null,"19.4.4.1",null,null,null,"Kita"]
[null,"19.5",null,"Apšvietimas",null,null,"STR  Projektavimas"]
[null,"19.5.1",null,null,"Atrama",null,"CPVA informacija"]
[null,"19.5.1.1",null,null,null,"Gelžbetonis","CPVA informacija","Lonestarprestress.com",50,50,50,50,50,50,50,50]
[null,"19.5.1.2",null,null,null,"Metalas","CPVA informacija","Steeltimesint.com",80,80,80,80,80,80,80,80]
[null,"19.5.1.3",null,null,null,"Kita"]
[null,"19.5.2",null,null,"Korpusas",null,"CPVA informacija"]
[null,"19.5.2.2",null,null,null,"Plienas","CPVA informacija","Ekspertinis vertinimas",20,20,20,20,20,20,20,20]
[null,"19.5.2.3",null,null,null,"Aliuminis","CPVA informacija","Ekspertinis vertinimas",18,18,18,18,18,18,18,18]
[null,"19.5.2.4",null,null,null,"Plastikas","CPVA informacija","Ekspertinis vertinimas","13","13","13","13","13","13","13","13"]
[null,"19.5.2.5",null,null,null,"Kita"]
[null,"19.5.3",null,null,"Lempa",null,"CPVA informacija"]
[null,"19.5.3.1",null,null,null,"Liuminescencinės (fluorescencinės) arba dienos šviesos","CPVA informacija","IACHI",4,4,4,4,4,4,4,4]
[null,"19.5.3.2",null,null,null,"LED  šviesos diodų","CPVA informacija","IACHI",19,19,19,19,19,19,19,19]
[null,"19.5.3.3",null,null,null,"LED juostos","CPVA informacija","IACHI",19,19,19,19,19,19,19,19]
[null,"19.5.3.4",null,null,null,"Halogenai","CPVA informacija","IACHI",3,3,3,3,3,3,3,3]
[null,"19.5.3.5",null,null,null,"Kaitrinės (kaitinamosios)","CPVA informacija","IACHI",1,1,1,1,1,1,1,1]
[null,"19.5.3.6",null,null,null,"Natrio","CPVA informacija","Stouchlighting.com",10,10,10,10,10,10,10,10]
[null,"19.5.3.7",null,null,null,"Kita"]
[null,"19.5.4",null,null,"Kita"]
[null,"19.5.4.1",null,null,null,"Kita"]
[null,"19.6",null,"Žaibolaidis",null,null,"STR  Projektavimas"]
[null,"19.6.1",null,null,"Žaibo ėmiklis",null,"STR  Apsauga nuo žaibo"]
[null,"19.6.1.1",null,null,null,"Aliuminis","Tiekėjai","Obo.lt",50,50,50,50,50,50,50,50]
[null,"19.6.1.2",null,null,null,"Plienas","Tiekėjai","Obo.lt",50,50,50,50,50,50,50,50]
[null,"19.6.1.3",null,null,null,"Kita"]
[null,"19.6.2",null,null,"Elektroninė įranga (Early Streamer Emission)",null,"Tiekėjai","Ingesco.com",5,5,5,5,5,5,5,5]
[null,"19.6.3",null,null,"Įžeminimo laidininkas",null,"STR  Apsauga nuo žaibo"]
[null,"19.6.3.1",null,null,null,"Varis","Tiekėjai","Obo.lt",50,50,50,50,50,50,50,50]
[null,"19.6.3.2",null,null,null,"Nerūdijantis plienas","Tiekėjai","Obo.lt",50,50,50,50,50,50,50,50]
[null,"19.6.3.3",null,null,null,"Aliuminis","Tiekėjai","Obo.lt",50,50,50,50,50,50,50,50]
[null,"19.6.3.4",null,null,null,"Cinkuotas plienas","Tiekėjai","Obo.lt",50,50,50,50,50,50,50,50]
[null,"19.6.3.5",null,null,null,"Kita"]
[null,"19.6.4",null,null,"Įžemiklis",null,"STR  Apsauga nuo žaibo"]
[null,"19.6.4.1",null,null,null,"Varis","Tiekėjai","Obo.lt",50,50,50,50,50,50,50,50]
[null,"19.6.4.2",null,null,null,"Variu dengtas plienas","Tiekėjai","Obo.lt",50,50,50,50,50,50,50,50]
[null,"19.6.4.3",null,null,null,"Nerūdijantis plienas","Tiekėjai","Obo.lt",50,50,50,50,50,50,50,50]
[null,"19.6.4.4",null,null,null,"Karštu būdu cinkuotas plienas","Tiekėjai","Obo.lt",50,50,50,50,50,50,50,50]
[null,"19.6.4.5",null,null,null,"Kita"]
[null,"19.6.5",null,null,"Kita"]
[null,"19.6.5.1",null,null,null,"Kita"]
[null,"19.7",null,"Kita"]
[null,"19.7.1",null,null,"Kita"]
[null,"19.7.1.1",null,null,null,"Kita"]
[null,"20.","Dujos",null,null,null,"STR  Projektavimas"]
[null,"20.1",null,"Dujotiekio vamzdynas",null,null,"Statybos taisyklės"]
[null,"20.1.1",null,null,"Įvadas",null,"Statybos taisyklės"]
[null,"20.1.1.1",null,null,null,"Plienas","Statybos taisyklės","IACHI",75,75,75,75,75,75,75,75]
[null,"20.1.1.2",null,null,null,"Kita"]
[null,"20.1.2",null,null,"Vamzdžiai",null,"Statybos taisyklės"]
[null,"20.1.2.1",null,null,null,"Plienas","Statybos taisyklės","IACHI",75,75,75,75,75,75,75,75]
[null,"20.1.2.2",null,null,null,"Kita"]
[null,"20.1.3",null,null,"Kita"]
[null,"20.1.3.1",null,null,null,"Kita"]
[null,"20.2",null,"Dujiniai prietaisai",null,null,"Statybos taisyklės"]
[null,"20.2.1",null,null,"Slėgio reguliavimo įtaisai",null,"Statybos taisyklės","Propanecouncil.org",15,15,15,15,15,15,15,15]
[null,"20.2.2",null,null,"Kontolės ir matavimo prietaisai",null,"Statybos taisyklės","Ofgem.gov.uk",20,20,20,20,20,20,20,20]
[null,"20.2.3",null,null,"Kita"]
[null,"20.3",null,"Dujas deginantys įrenginiai",null,null,"Statybos taisyklės"]
[null,"20.3.1",null,null,"Dujinis vandens šildytuvas",null,"Statybos taisyklės","NAHB",10,10,10,10,10,10,10,10]
[null,"20.3.2",null,null,"Dujinis šildymo katilas",null,"Statybos taisyklės","NAHB",21,21,21,21,21,21,21,21]
[null,"20.3.3",null,null,"Dujinis oro šildytuvas",null,"Statybos taisyklės","NAHB",18,18,18,18,18,18,18,18]
[null,"20.3.4",null,null,"Dujinis šildymo konvektorius",null,"Statybos taisyklės","Ekspertinis vertinimas",15,15,15,15,15,15,15,15]
[null,"20.3.5",null,null,"Kita"]
[null,"20.4",null,"Kita"]
[null,"20.4.1",null,null,"Kita"]
[null,"20.4.1.1",null,null,null,"Kita"]
[null,"21.","Apsaugos sistema",null,null,null,"STR  Projektavimas","EK levels",15,15,15,15,15,15,15,15]
[null,"21.1",null,"Signalizavimo prietaisai",null,null,"Tiekėjai"]
[null,"21.1.1",null,null,"Sirenos",null,"Tiekėjai","Tiekėjai",2,2,2,2,2,2,2,2]
[null,"21.1.2",null,null,"Kita"]
[null,"21.2",null,"Jutikliai",null,null,"Tiekėjai"]
[null,"21.2.1",null,null,"Judesio jutikliai",null,"Tiekėjai","Ekspertinis vertinimas",10,10,10,10,10,10,10,10]
[null,"21.2.2",null,null,"Stiklo dūžio jutikliai",null,"Tiekėjai","Ekspertinis vertinimas",10,10,10,10,10,10,10,10]
[null,"21.2.3",null,null,"Kita"]
[null,"21.3",null,"Vaizdo stebėjimo sistema",null,null,"Tiekėjai"]
[null,"21.3.1",null,null,"Vaizdo kameros",null,"Tiekėjai","Tiekėjai",4,4,4,4,4,4,4,4]
[null,"21.3.2",null,null,"Monitoriai",null,"Tiekėjai","Tiekėjai",4,4,4,4,4,4,4,4]
[null,"21.3.3",null,null,"Kita"]
[null,"21.4",null,"Įeigos kontrolės sistema",null,null,"Tiekėjai"]
[null,"21.4.1",null,null,"Turniketai",null,"Tiekėjai","Ekspertinis vertinimas",10,10,10,10,10,10,10,10]
[null,"21.4.2",null,null,"Elektromagnetinės spynos",null,"Tiekėjai","Ekspertinis vertinimas",4,4,4,4,4,4,4,4]
[null,"21.4.3",null,null,"Skaitytuvai",null,"Tiekėjai","Ekspertinis vertinimas",4,4,4,4,4,4,4,4]
[null,"21.4.4",null,null,"Kontroleriai",null,"Tiekėjai","Ekspertinis vertinimas",4,4,4,4,4,4,4,4]
[null,"21.4.5",null,null,"Kita"]
[null,"21.5",null,"Laidai"]
[null,"21.5.1",null,null,"Laidai"]
[null,"21.5.1.1",null,null,null,"Aliuminis","LEEA",null,"20","20","20","20","20","20","20","20"]
[null,"21.5.1.2",null,null,null,"Varis","LEEA","Elandcables.com",20,20,20,20,20,20,20,20]
[null,"21.5.1.3",null,null,null,"KIta"]
[null,"21.6",null,"Kita"]
[null,"21.6.1",null,null,"Kita"]
[null,"22.","Telekomunikacijos",null,null,null,"STR  Projektavimas","EK levels",15,15,15,15,15,15,15,15]
[null,"22.1",null,"Interneto ryšys",null,null,"STR  Projektavimas"]
[null,"22.1.1",null,null,"Linijos",null,"Tiekėjai"]
[null,"22.1.1.1",null,null,null,"Varis ","Tiekėjai","IACHI",100,100,100,100,100,100,100,100]
[null,"22.1.1.2",null,null,null,"Šviesolaidinis pluoštas","Tiekėjai","Tiekėjai",25,25,25,25,25,25,25,25]
[null,"22.1.1.3",null,null,null,"Kita"]
[null,"22.1.2",null,null,"Komutatoriai",null,"Tiekėjai","Tiekėjai",4,4,4,4,4,4,4,4]
[null,"22.1.3",null,null,"Maršrutirizatoriai",null,"Tiekėjai","Tiekėjai",4,4,4,4,4,4,4,4]
[null,"22.1.4",null,null,"Serveriai",null,"Tiekėjai","Tiekėjai",4,4,4,4,4,4,4,4]
[null,"22.1.5",null,null,"Kita"]
[null,"22.1.5.1",null,null,null,"Kita"]
[null,"22.2",null,"Telefoninis ryšys",null,null,"STR  Projektavimas"]
[null,"22.2.1",null,null,"Linijos",null,"Tiekėjai"]
[null,"22.2.1.1",null,null,null,"Varis","Tiekėjai","IACHI",100,100,100,100,100,100,100,100]
[null,"22.2.1.2",null,null,null,"Kita"]
[null,"22.2.2",null,null,"Kita"]
[null,"22.2.2.1",null,null,null,"Kita"]
[null,"22.3",null,"Televizija",null,null,"STR  Projektavimas"]
[null,"22.3.1",null,null,"Linijos",null,"Tiekėjai"]
[null,"22.3.1.1",null,null,null,"Varis ","Tiekėjai","IACHI",100,100,100,100,100,100,100,100]
[null,"22.3.1.2",null,null,null,"Šviesolaidinis pluoštas","Tiekėjai","Tiekėjai",25,25,25,25,25,25,25,25]
[null,"22.3.1.3",null,null,null,"Kita"]
[null,"22.3.2",null,null,"Antenos",null,"Tiekėjai"]
[null,"22.3.2.1",null,null,null,"Plienas","Tiekėjai","Sunlandtvservice.com",13,13,13,13,13,13,13,13]
[null,"22.3.2.2",null,null,null,"Kita"]
[null,"22.4",null,"Kita"]
[null,"22.4.1",null,null,"Kita"]
[null,"22.4.1.1",null,null,null,"Kita"]
[null,"23.","Gaisro gesinimo sistema",null,null,null,"STR  Projektavimas"]
[null,"23.1",null,"Gaisro aptikimo įrenginiai",null,null,"STR  Projektavimas"]
[null,"23.1.1",null,null,"Temperatūros jutikliai",null,"Tiekėjai","IACHI",10,10,10,10,10,10,10,10]
[null,"23.1.2",null,null,"Dūmų jutikliai",null,"Tiekėjai","IACHI",10,10,10,10,10,10,10,10]
[null,"23.1.3",null,null,"Liepsnos jutikliai",null,"Tiekėjai","IACHI",5,5,5,5,5,5,5,5]
[null,"23.1.4",null,null,"Kita"]
[null,"23.2",null,"Signalizavimo įrenginiai",null,null,"STR  Projektavimas"]
[null,"23.2.1",null,null,"Gaisrinės sirenos",null,"Tiekėjai","Tiekėjai",2,2,2,2,2,2,2,2]
[null,"23.2.2",null,null,"Gaisro signalizacijos centralė",null,"Tiekėjai","Ekspertinis vertinimas",4,4,4,4,4,4,4,4]
[null,"23.2.3",null,null,"Kita"]
[null,"23.3",null,"Stacionariosios gaisrų gesinimo (aušinimo) sistemos",null,null,"STR  Projektavimas"]
[null,"23.3.1",null,null,"Sprinkleriai",null,"Tiekėjai","NAHB",20,20,20,20,20,20,20,20]
[null,"23.3.2",null,null,"Vamzdžiai",null,"Sistela SVN"]
[null,"23.3.2.1",null,null,null,"Ketus","Sistela SVN","Sistela SVN",50,50,50,50,50,50,50,50]
[null,"23.3.2.2",null,null,null,"Plienas","Sistela SVN","Sistela SVN",20,20,20,20,20,20,20,20]
[null,"23.3.2.3",null,null,null,"Gelžbetonis","Sistela SVN","Sistela SVN",25,25,25,25,25,25,25,25]
[null,"23.3.2.4",null,null,null,"Plastikas","Sistela SVN","Sistela SVN",25,25,25,25,25,25,25,25]
[null,"23.3.2.5",null,null,null,"Kita"]
[null,"23.4",null,"Kita"]
[null,"23.4.1",null,null,"Kita"]
[null,"23.4.1.1",null,null,null,"Kita"]
[null,"24.","Transportavimo sistema"]
[null,"24.1",null,"Transportavimo įrenginiai",null,null,"Ekspertinis vertinimas"]
[null,"24.1.1",null,null,"Liftai",null,"Tiekėjai","EK levels",20,20,20,20,20,20,20,20]
[null,"24.1.2",null,null,"Eskalatoriai",null,"Tiekėjai","EK levels",20,20,20,20,20,20,20,20]
[null,"24.1.3",null,null,"Keltuvai",null,"Tiekėjai","Ekspertinis vertinimas",20,20,20,20,20,20,20,20]
[null,"24.1.4",null,null,"Kita"]
[null,"24.2",null,"Kita"]
[null,"24.2.1",null,null,"Kita"]
[null,"24.2.2",null,null,null,"Kita"]
[null,"25","Lietaus bei gruntinių vandenų surinkimo / nuvedimo sistemos"]
[null,"25.1",null,"Lietaus surinkimo / nuvedimo sistema",null,null,"Ekspertinis vertinimas"]
[null,"25.1.1",null,null,"Vandens surinkimo latakai",null,"Tiekėjai"]
[null,"25.1.1.1",null,null,null,"Plastikas","Tiekėjai","Ekspertinis vertinimas",13,13,13,13,13,13,13,13]
[null,null,null,null,null,"Aliuminis","Tiekėjai","NAHB",20,20,20,20,20,20,20,20]
[null,"25.1.1.2",null,null,null,"Plienas","Tiekėjai","NAHB",20,20,20,20,20,20,20,20]
[null,"25.1.1.3",null,null,null,"Kita","Tiekėjai"]
[null,"25.1.2",null,null,"Lietvamzdžiai",null,"Tiekėjai"]
[null,"25.1.2.1",null,null,null,"Plastikas","Tiekėjai","Ekspertinis vertinimas",13,13,13,13,13,13,13,13]
[null,null,null,null,null,"Aliuminis","Tiekėjai","NAHB",20,20,20,20,20,20,20,20]
[null,"25.1.2.2",null,null,null,"Plienas","Tiekėjai","NAHB",20,20,20,20,20,20,20,20]
[null,"25.1.2.3",null,null,null,"Kita","Tiekėjai"]
[null,"25.1.3",null,null,"Laikikliai",null,"Tiekėjai"]
[null,"25.1.3.1",null,null,null,"Plienas","Tiekėjai","Ekspertinis vertinimas",20,20,20,20,20,20,20,20]
[null,"25.1.3.2",null,null,null,"Kita","Tiekėjai"]
[null,"25.1.4",null,null,"Alkūnės",null,"Tiekėjai"]
[null,"25.1.4.1",null,null,null,"Plastikas","Tiekėjai","Ekspertinis vertinimas","13","13","13","13","13","13","13","13"]
[null,null,null,null,null,"Aliuminis","Tiekėjai","NAHB",20,20,20,20,20,20,20,20]
[null,"25.1.4.2",null,null,null,"Plienas","Tiekėjai","NAHB",20,20,20,20,20,20,20,20]
[null,"25.1.4.3",null,null,null,"Kita","Tiekėjai"]
[null,"25.1.5",null,null,"Nuolajos",null,"Tiekėjai"]
[null,"25.1.5.1",null,null,null,"Plastikas","Tiekėjai","Ekspertinis vertinimas","13","13","13","13","13","13","13","13"]
[null,null,null,null,null,"Aliuminis","Tiekėjai","NAHB",20,20,20,20,20,20,20,20]
[null,"25.1.5.2",null,null,null,"Plienas","Tiekėjai","NAHB",20,20,20,20,20,20,20,20]
[null,"25.1.5.3",null,null,null,"Kita","Tiekėjai"]
[null,"25.1.6",null,null,"Lietaus surinkimo šulinėliai",null,"Tiekėjai"]
[null,"25.1.6.1",null,null,null,"Plastikas","Tiekėjai","Ekspertinis vertinimas","13","13","13","13","13","13","13","13"]
[null,"25.1.6.2",null,null,null,"Kita","Tiekėjai"]
[null,"25.1.7.1",null,null,"Kita"]
[null,"25.1.7.2",null,null,null,"Kita"]
[null,"25.2",null,"Gruntinių vandenų surinkimo / nuvedimo sistema",null,null,"Ekspertinis vertinimas"]
[null,"25.2.1",null,null,"Drenažo vamzdžiai",null,"Tiekėjai"]
[null,"25.2.1.1",null,null,null,"Plastikas","Tiekėjai","Ekspertinis vertinimas","13","13","13","13","13","13","13","13"]
[null,"25.2.1.2",null,null,null,"Kita","Tiekėjai"]
[null,"25.2.2.1",null,null,"Kita"]
[null,"25.2.2.1",null,null,null,"Kita"]
[null,"25.3",null,"Kita"]
[null,"25.3.1",null,null,"Kita"]
[null,"25.3.2",null,null,null,"Kita"]

{"sheet":"Modifikuoti svoriai ","index":40,"n_rows":30,"n_cols":11,"rows_kept":30,"cut":false,"hidden":true,"merged":[[29,1,29,2]]}
[]
[]
[]
[null,"Eil. Nr.","Pastato elementas","Gyvenamieji pastatai","Gamybos ir sandėliavimo pastatai","Administraciniai pastatai","Mokslo įstaigos","Gydymo įstaigos","Transporto ir ryšių infrastruktūra","Kultūros objektai","Kiti pastatai"]
[null,1,"Pamatai",6.405000000000001E-2,4.5750000000000006E-2,2.8050000000000002E-2,3.7000000000000005E-2,3.6600000000000001E-2,3.7000000000000005E-2,3.7400000000000003E-2,5.6100000000000004E-2]
[null,2,"Perdangos",0.10065,0.33855000000000002,0.16830000000000001,0.14800000000000002,9.1500000000000012E-2,0.13875000000000001,0.10285000000000001,9.3500000000000014E-2]
[null,3,"Sienos",0.23790000000000003,0.19214999999999999,0.22440000000000002,0.18500000000000003,0.28365000000000001,0.27750000000000002,0.27115,0.24310000000000001]
[null,4,"Durys",3.6600000000000001E-2,9.1500000000000001E-3,3.7400000000000003E-2,2.775E-2,2.7449999999999999E-2,1.8500000000000003E-2,2.8050000000000002E-2,3.7400000000000003E-2]
[null,5,"Langai",5.4899999999999997E-2,4.5750000000000006E-2,8.4150000000000003E-2,6.4750000000000016E-2,5.4899999999999997E-2,4.6250000000000006E-2,5.6100000000000004E-2,4.6750000000000007E-2]
[null,6,"Laiptai",0.02,0.01,0.02,0.02,0.02,0.01,0.02,0.02]
[null,7,"Stogas",4.5750000000000006E-2,6.405000000000001E-2,3.7400000000000003E-2,3.7000000000000005E-2,4.5750000000000006E-2,7.400000000000001E-2,3.7400000000000003E-2,7.4800000000000005E-2]
[null,8,"Vidaus apdaila",0.17385,0.10979999999999999,0.20570000000000002,0.24975000000000003,0.19214999999999999,0.20350000000000001,0.22440000000000002,0.20570000000000002]
[null,9,"Išorės apdaila",3.6600000000000001E-2,0.01,0.01,9.2500000000000013E-3,9.1500000000000001E-3,0.01,9.3500000000000007E-3,9.3500000000000007E-3]
[null,10,"Šildymo sistema (vidaus)",2.2875000000000003E-2,1.83E-2,1.8700000000000001E-2,2.3125000000000003E-2,1.83E-2,1.8500000000000003E-2,1.8700000000000001E-2,1.8700000000000001E-2]
[null,11,"Šildymo sistema (lauko)",2.2875000000000003E-2,1.83E-2,1.8700000000000001E-2,2.3125000000000003E-2,1.83E-2,1.8500000000000003E-2,1.8700000000000001E-2,1.8700000000000001E-2]
[null,12,"Šaldymas ir oro kondicionavimas",1.4999999999999999E-2,4.5750000000000001E-3,1.4025000000000001E-2,1.3875E-2,1.3724999999999999E-2,9.2500000000000013E-3,2.8050000000000002E-2,1.4025000000000001E-2]
[null,13,"Ventiliacija (vėdinimas)",1.4999999999999999E-2,4.5750000000000001E-3,1.4025000000000001E-2,1.3875E-2,1.3724999999999999E-2,9.2500000000000013E-3,2.8050000000000002E-2,1.4025000000000001E-2]
[null,14,"Vandentiekio sistema (vidaus)",1.83E-2,9.1500000000000001E-3,9.3500000000000007E-3,9.2500000000000013E-3,1.1437500000000001E-2,1.3875E-2,4.6750000000000003E-3,1.4025000000000001E-2]
[null,15,"Vandentiekio sistema (lauko)",1.83E-2,9.1500000000000001E-3,9.3500000000000007E-3,9.2500000000000013E-3,1.1437500000000001E-2,1.3875E-2,4.6750000000000003E-3,1.4025000000000001E-2]
[null,16,"Nuotekų šalinimo sistema (vidaus)",1.3724999999999999E-2,4.5750000000000001E-3,4.6750000000000003E-3,4.6250000000000006E-3,1.1437500000000001E-2,9.2500000000000013E-3,4.6750000000000003E-3,9.3500000000000007E-3]
[null,17,"Nuotekų šalinimo sistema (lauko)",1.3724999999999999E-2,4.5750000000000001E-3,4.6750000000000003E-3,4.6250000000000006E-3,1.1437500000000001E-2,9.2500000000000013E-3,4.6750000000000003E-3,9.3500000000000007E-3]
[null,18,"Elektros instaliacija (vidaus)",1.83E-2,1.83E-2,2.8050000000000002E-2,3.2375000000000008E-2,3.2025000000000005E-2,1.3875E-2,2.8050000000000002E-2,2.8050000000000002E-2]
[null,19,"Elektros instaliacija (lauko)",1.83E-2,1.83E-2,2.8050000000000002E-2,3.2375000000000008E-2,3.2025000000000005E-2,1.3875E-2,2.8050000000000002E-2,2.8050000000000002E-2]
[null,20,"Dujos",1.83E-2,0.01,0,0.01,0.01,0,0.01,0.01]
[null,21,"Apsaugos sistema",5.0000000000000001E-3,0.01,5.0000000000000001E-3,5.0000000000000001E-3,0.01,0.01,5.0000000000000001E-3,5.0000000000000001E-3]
[null,22,"Telekomunikacijos",0.01,0.01,0.01,0.01,0.01,0.01,0.01,0.01]
[null,23,"Gaisro gesinimo sistema",5.0000000000000001E-3,0.01,5.0000000000000001E-3,5.0000000000000001E-3,0.01,0.01,5.0000000000000001E-3,5.0000000000000001E-3]
[null,24,"Transportavimo sistema",0.01,0.02,0.01,0.02,0.02,0.02,0.01,0.01]
[null,25,"Lietaus bei gruntinių vandenų surinkimo / nuvedimo sistemos",5.0000000000000001E-3,5.0000000000000001E-3,5.0000000000000001E-3,5.0000000000000001E-3,5.0000000000000001E-3,5.0000000000000001E-3,5.0000000000000001E-3,5.0000000000000001E-3]
[null,null,null,0.99999999999999989,1,1,1,0.99999999999999989,0.99999999999999989,1,1]

{"sheet":"Statybos vertės pasiskirstymas","index":41,"n_rows":37,"n_cols":11,"rows_kept":37,"cut":false,"hidden":false,"merged":[[29,1,29,2]]}
[]
[]
[null,"Statybos vertės pasiskirstymas"]
[null,"Eil. Nr.","Pastato elementas","Gyvenamieji pastatai","Gamybos ir sandėliavimo pastatai","Administraciniai pastatai","Mokslo įstaigos","Gydymo įstaigos","Transporto ir ryšių infrastruktūra","Kultūros objektai","Kiti pastatai"]
[null,1,"Pamatai",{"$f":"IF(D$4='Bendrieji įvesties duomenys'!$C$29,'Bendrieji įvesties duomenys'!$C$34*'Modifikuoti svoriai '!D5,0)","v":0},{"$f":"IF(E$4='Bendrieji įvesties duomenys'!$C$29,'Bendrieji įvesties duomenys'!$C$34*'Modifikuoti svoriai '!E5,0)","v":0},{"$f":"IF(F$4='Bendrieji įvesties duomenys'!$C$29,'Bendrieji įvesties duomenys'!$C$34*'Modifikuoti svoriai '!F5,0)","v":0},{"$f":"IF(G$4='Bendrieji įvesties duomenys'!$C$29,'Bendrieji įvesties duomenys'!$C$34*'Modifikuoti svoriai '!G5,0)","v":0},{"$f":"IF(H$4='Bendrieji įvesties duomenys'!$C$29,'Bendrieji įvesties duomenys'!$C$34*'Modifikuoti svoriai '!H5,0)","v":0},{"$f":"IF(I$4='Bendrieji įvesties duomenys'!$C$29,'Bendrieji įvesties duomenys'!$C$34*'Modifikuoti svoriai '!I5,0)","v":0},{"$f":"IF(J$4='Bendrieji įvesties duomenys'!$C$29,'Bendrieji įvesties duomenys'!$C$34*'Modifikuoti svoriai '!J5,0)","v":0},{"$f":"IF(K$4='Bendrieji įvesties duomenys'!$C$29,'Bendrieji įvesties duomenys'!$C$34*'Modifikuoti svoriai '!K5,0)","v":0}]
[null,2,"Perdangos",{"$f":"IF(D$4='Bendrieji įvesties duomenys'!$C$29,'Bendrieji įvesties duomenys'!$C$34*'Modifikuoti svoriai '!D6,0)","v":0},{"$f":"IF(E$4='Bendrieji įvesties duomenys'!$C$29,'Bendrieji įvesties duomenys'!$C$34*'Modifikuoti svoriai '!E6,0)","v":0},{"$f":"IF(F$4='Bendrieji įvesties duomenys'!$C$29,'Bendrieji įvesties duomenys'!$C$34*'Modifikuoti svoriai '!F6,0)","v":0},{"$f":"IF(G$4='Bendrieji įvesties duomenys'!$C$29,'Bendrieji įvesties duomenys'!$C$34*'Modifikuoti svoriai '!G6,0)","v":0},{"$f":"IF(H$4='Bendrieji įvesties duomenys'!$C$29,'Bendrieji įvesties duomenys'!$C$34*'Modifikuoti svoriai '!H6,0)","v":0},{"$f":"IF(I$4='Bendrieji įvesties duomenys'!$C$29,'Bendrieji įvesties duomenys'!$C$34*'Modifikuoti svoriai '!I6,0)","v":0},{"$f":"IF(J$4='Bendrieji įvesties duomenys'!$C$29,'Bendrieji įvesties duomenys'!$C$34*'Modifikuoti svoriai '!J6,0)","v":0},{"$f":"IF(K$4='Bendrieji įvesties duomenys'!$C$29,'Bendrieji įvesties duomenys'!$C$34*'Modifikuoti svoriai '!K6,0)","v":0}]
[null,3,"Sienos",{"$f":"IF(D$4='Bendrieji įvesties duomenys'!$C$29,'Bendrieji įvesties duomenys'!$C$34*'Modifikuoti svoriai '!D7,0)","v":0},{"$f":"IF(E$4='Bendrieji įvesties duomenys'!$C$29,'Bendrieji įvesties duomenys'!$C$34*'Modifikuoti svoriai '!E7,0)","v":0},{"$f":"IF(F$4='Bendrieji įvesties duomenys'!$C$29,'Bendrieji įvesties duomenys'!$C$34*'Modifikuoti svoriai '!F7,0)","v":0},{"$f":"IF(G$4='Bendrieji įvesties duomenys'!$C$29,'Bendrieji įvesties duomenys'!$C$34*'Modifikuoti svoriai '!G7,0)","v":0},{"$f":"IF(H$4='Bendrieji įvesties duomenys'!$C$29,'Bendrieji įvesties duomenys'!$C$34*'Modifikuoti svoriai '!H7,0)","v":0},{"$f":"IF(I$4='Bendrieji įvesties duomenys'!$C$29,'Bendrieji įvesties duomenys'!$C$34*'Modifikuoti svoriai '!I7,0)","v":0},{"$f":"IF(J$4='Bendrieji įvesties duomenys'!$C$29,'Bendrieji įvesties duomenys'!$C$34*'Modifikuoti svoriai '!J7,0)","v":0},{"$f":"IF(K$4='Bendrieji įvesties duomenys'!$C$29,'Bendrieji įvesties duomenys'!$C$34*'Modifikuoti svoriai '!K7,0)","v":0}]
[null,4,"Durys",{"$f":"IF(D$4='Bendrieji įvesties duomenys'!$C$29,'Bendrieji įvesties duomenys'!$C$34*'Modifikuoti svoriai '!D8,0)","v":0},{"$f":"IF(E$4='Bendrieji įvesties duomenys'!$C$29,'Bendrieji įvesties duomenys'!$C$34*'Modifikuoti svoriai '!E8,0)","v":0},{"$f":"IF(F$4='Bendrieji įvesties duomenys'!$C$29,'Bendrieji įvesties duomenys'!$C$34*'Modifikuoti svoriai '!F8,0)","v":0},{"$f":"IF(G$4='Bendrieji įvesties duomenys'!$C$29,'Bendrieji įvesties duomenys'!$C$34*'Modifikuoti svoriai '!G8,0)","v":0},{"$f":"IF(H$4='Bendrieji įvesties duomenys'!$C$29,'Bendrieji įvesties duomenys'!$C$34*'Modifikuoti svoriai '!H8,0)","v":0},{"$f":"IF(I$4='Bendrieji įvesties duomenys'!$C$29,'Bendrieji įvesties duomenys'!$C$34*'Modifikuoti svoriai '!I8,0)","v":0},{"$f":"IF(J$4='Bendrieji įvesties duomenys'!$C$29,'Bendrieji įvesties duomenys'!$C$34*'Modifikuoti svoriai '!J8,0)","v":0},{"$f":"IF(K$4='Bendrieji įvesties duomenys'!$C$29,'Bendrieji įvesties duomenys'!$C$34*'Modifikuoti svoriai '!K8,0)","v":0}]
[null,5,"Langai",{"$f":"IF(D$4='Bendrieji įvesties duomenys'!$C$29,'Bendrieji įvesties duomenys'!$C$34*'Modifikuoti svoriai '!D9,0)","v":0},{"$f":"IF(E$4='Bendrieji įvesties duomenys'!$C$29,'Bendrieji įvesties duomenys'!$C$34*'Modifikuoti svoriai '!E9,0)","v":0},{"$f":"IF(F$4='Bendrieji įvesties duomenys'!$C$29,'Bendrieji įvesties duomenys'!$C$34*'Modifikuoti svoriai '!F9,0)","v":0},{"$f":"IF(G$4='Bendrieji įvesties duomenys'!$C$29,'Bendrieji įvesties duomenys'!$C$34*'Modifikuoti svoriai '!G9,0)","v":0},{"$f":"IF(H$4='Bendrieji įvesties duomenys'!$C$29,'Bendrieji įvesties duomenys'!$C$34*'Modifikuoti svoriai '!H9,0)","v":0},{"$f":"IF(I$4='Bendrieji įvesties duomenys'!$C$29,'Bendrieji įvesties duomenys'!$C$34*'Modifikuoti svoriai '!I9,0)","v":0},{"$f":"IF(J$4='Bendrieji įvesties duomenys'!$C$29,'Bendrieji įvesties duomenys'!$C$34*'Modifikuoti svoriai '!J9,0)","v":0},{"$f":"IF(K$4='Bendrieji įvesties duomenys'!$C$29,'Bendrieji įvesties duomenys'!$C$34*'Modifikuoti svoriai '!K9,0)","v":0}]
[null,6,"Laiptai",{"$f":"IF(D$4='Bendrieji įvesties duomenys'!$C$29,'Bendrieji įvesties duomenys'!$C$34*'Modifikuoti svoriai '!D10,0)","v":0},{"$f":"IF(E$4='Bendrieji įvesties duomenys'!$C$29,'Bendrieji įvesties duomenys'!$C$34*'Modifikuoti svoriai '!E10,0)","v":0},{"$f":"IF(F$4='Bendrieji įvesties duomenys'!$C$29,'Bendrieji įvesties duomenys'!$C$34*'Modifikuoti svoriai '!F10,0)","v":0},{"$f":"IF(G$4='Bendrieji įvesties duomenys'!$C$29,'Bendrieji įvesties duomenys'!$C$34*'Modifikuoti svoriai '!G10,0)","v":0},{"$f":"IF(H$4='Bendrieji įvesties duomenys'!$C$29,'Bendrieji įvesties duomenys'!$C$34*'Modifikuoti svoriai '!H10,0)","v":0},{"$f":"IF(I$4='Bendrieji įvesties duomenys'!$C$29,'Bendrieji įvesties duomenys'!$C$34*'Modifikuoti svoriai '!I10,0)","v":0},{"$f":"IF(J$4='Bendrieji įvesties duomenys'!$C$29,'Bendrieji įvesties duomenys'!$C$34*'Modifikuoti svoriai '!J10,0)","v":0},{"$f":"IF(K$4='Bendrieji įvesties duomenys'!$C$29,'Bendrieji įvesties duomenys'!$C$34*'Modifikuoti svoriai '!K10,0)","v":0}]
[null,7,"Stogas",{"$f":"IF(D$4='Bendrieji įvesties duomenys'!$C$29,'Bendrieji įvesties duomenys'!$C$34*'Modifikuoti svoriai '!D11,0)","v":0},{"$f":"IF(E$4='Bendrieji įvesties duomenys'!$C$29,'Bendrieji įvesties duomenys'!$C$34*'Modifikuoti svoriai '!E11,0)","v":0},{"$f":"IF(F$4='Bendrieji įvesties duomenys'!$C$29,'Bendrieji įvesties duomenys'!$C$34*'Modifikuoti svoriai '!F11,0)","v":0},{"$f":"IF(G$4='Bendrieji įvesties duomenys'!$C$29,'Bendrieji įvesties duomenys'!$C$34*'Modifikuoti svoriai '!G11,0)","v":0},{"$f":"IF(H$4='Bendrieji įvesties duomenys'!$C$29,'Bendrieji įvesties duomenys'!$C$34*'Modifikuoti svoriai '!H11,0)","v":0},{"$f":"IF(I$4='Bendrieji įvesties duomenys'!$C$29,'Bendrieji įvesties duomenys'!$C$34*'Modifikuoti svoriai '!I11,0)","v":0},{"$f":"IF(J$4='Bendrieji įvesties duomenys'!$C$29,'Bendrieji įvesties duomenys'!$C$34*'Modifikuoti svoriai '!J11,0)","v":0},{"$f":"IF(K$4='Bendrieji įvesties duomenys'!$C$29,'Bendrieji įvesties duomenys'!$C$34*'Modifikuoti svoriai '!K11,0)","v":0}]
[null,8,"Vidaus apdaila",{"$f":"IF(D$4='Bendrieji įvesties duomenys'!$C$29,'Bendrieji įvesties duomenys'!$C$34*'Modifikuoti svoriai '!D12,0)","v":0},{"$f":"IF(E$4='Bendrieji įvesties duomenys'!$C$29,'Bendrieji įvesties duomenys'!$C$34*'Modifikuoti svoriai '!E12,0)","v":0},{"$f":"IF(F$4='Bendrieji įvesties duomenys'!$C$29,'Bendrieji įvesties duomenys'!$C$34*'Modifikuoti svoriai '!F12,0)","v":0},{"$f":"IF(G$4='Bendrieji įvesties duomenys'!$C$29,'Bendrieji įvesties duomenys'!$C$34*'Modifikuoti svoriai '!G12,0)","v":0},{"$f":"IF(H$4='Bendrieji įvesties duomenys'!$C$29,'Bendrieji įvesties duomenys'!$C$34*'Modifikuoti svoriai '!H12,0)","v":0},{"$f":"IF(I$4='Bendrieji įvesties duomenys'!$C$29,'Bendrieji įvesties duomenys'!$C$34*'Modifikuoti svoriai '!I12,0)","v":0},{"$f":"IF(J$4='Bendrieji įvesties duomenys'!$C$29,'Bendrieji įvesties duomenys'!$C$34*'Modifikuoti svoriai '!J12,0)","v":0},{"$f":"IF(K$4='Bendrieji įvesties duomenys'!$C$29,'Bendrieji įvesties duomenys'!$C$34*'Modifikuoti svoriai '!K12,0)","v":0}]
[null,9,"Išorės apdaila",{"$f":"IF(D$4='Bendrieji įvesties duomenys'!$C$29,'Bendrieji įvesties duomenys'!$C$34*'Modifikuoti svoriai '!D13,0)","v":0},{"$f":"IF(E$4='Bendrieji įvesties duomenys'!$C$29,'Bendrieji įvesties duomenys'!$C$34*'Modifikuoti svoriai '!E13,0)","v":0},{"$f":"IF(F$4='Bendrieji įvesties duomenys'!$C$29,'Bendrieji įvesties duomenys'!$C$34*'Modifikuoti svoriai '!F13,0)","v":0},{"$f":"IF(G$4='Bendrieji įvesties duomenys'!$C$29,'Bendrieji įvesties duomenys'!$C$34*'Modifikuoti svoriai '!G13,0)","v":0},{"$f":"IF(H$4='Bendrieji įvesties duomenys'!$C$29,'Bendrieji įvesties duomenys'!$C$34*'Modifikuoti svoriai '!H13,0)","v":0},{"$f":"IF(I$4='Bendrieji įvesties duomenys'!$C$29,'Bendrieji įvesties duomenys'!$C$34*'Modifikuoti svoriai '!I13,0)","v":0},{"$f":"IF(J$4='Bendrieji įvesties duomenys'!$C$29,'Bendrieji įvesties duomenys'!$C$34*'Modifikuoti svoriai '!J13,0)","v":0},{"$f":"IF(K$4='Bendrieji įvesties duomenys'!$C$29,'Bendrieji įvesties duomenys'!$C$34*'Modifikuoti svoriai '!K13,0)","v":0}]
[null,10,"Šildymo sistema (vidaus)",{"$f":"IF(D$4='Bendrieji įvesties duomenys'!$C$29,'Bendrieji įvesties duomenys'!$C$34*'Modifikuoti svoriai '!D14,0)","v":0},{"$f":"IF(E$4='Bendrieji įvesties duomenys'!$C$29,'Bendrieji įvesties duomenys'!$C$34*'Modifikuoti svoriai '!E14,0)","v":0},{"$f":"IF(F$4='Bendrieji įvesties duomenys'!$C$29,'Bendrieji įvesties duomenys'!$C$34*'Modifikuoti svoriai '!F14,0)","v":0},{"$f":"IF(G$4='Bendrieji įvesties duomenys'!$C$29,'Bendrieji įvesties duomenys'!$C$34*'Modifikuoti svoriai '!G14,0)","v":0},{"$f":"IF(H$4='Bendrieji įvesties duomenys'!$C$29,'Bendrieji įvesties duomenys'!$C$34*'Modifikuoti svoriai '!H14,0)","v":0},{"$f":"IF(I$4='Bendrieji įvesties duomenys'!$C$29,'Bendrieji įvesties duomenys'!$C$34*'Modifikuoti svoriai '!I14,0)","v":0},{"$f":"IF(J$4='Bendrieji įvesties duomenys'!$C$29,'Bendrieji įvesties duomenys'!$C$34*'Modifikuoti svoriai '!J14,0)","v":0},{"$f":"IF(K$4='Bendrieji įvesties duomenys'!$C$29,'Bendrieji įvesties duomenys'!$C$34*'Modifikuoti svoriai '!K14,0)","v":0}]
[null,11,"Šildymo sistema (lauko)",{"$f":"IF(D$4='Bendrieji įvesties duomenys'!$C$29,'Bendrieji įvesties duomenys'!$C$34*'Modifikuoti svoriai '!D15,0)","v":0},{"$f":"IF(E$4='Bendrieji įvesties duomenys'!$C$29,'Bendrieji įvesties duomenys'!$C$34*'Modifikuoti svoriai '!E15,0)","v":0},{"$f":"IF(F$4='Bendrieji įvesties duomenys'!$C$29,'Bendrieji įvesties duomenys'!$C$34*'Modifikuoti svoriai '!F15,0)","v":0},{"$f":"IF(G$4='Bendrieji įvesties duomenys'!$C$29,'Bendrieji įvesties duomenys'!$C$34*'Modifikuoti svoriai '!G15,0)","v":0},{"$f":"IF(H$4='Bendrieji įvesties duomenys'!$C$29,'Bendrieji įvesties duomenys'!$C$34*'Modifikuoti svoriai '!H15,0)","v":0},{"$f":"IF(I$4='Bendrieji įvesties duomenys'!$C$29,'Bendrieji įvesties duomenys'!$C$34*'Modifikuoti svoriai '!I15,0)","v":0},{"$f":"IF(J$4='Bendrieji įvesties duomenys'!$C$29,'Bendrieji įvesties duomenys'!$C$34*'Modifikuoti svoriai '!J15,0)","v":0},{"$f":"IF(K$4='Bendrieji įvesties duomenys'!$C$29,'Bendrieji įvesties duomenys'!$C$34*'Modifikuoti svoriai '!K15,0)","v":0}]
[null,12,"Šaldymas ir oro kondicionavimas",{"$f":"IF(D$4='Bendrieji įvesties duomenys'!$C$29,'Bendrieji įvesties duomenys'!$C$34*'Modifikuoti svoriai '!D16,0)","v":0},{"$f":"IF(E$4='Bendrieji įvesties duomenys'!$C$29,'Bendrieji įvesties duomenys'!$C$34*'Modifikuoti svoriai '!E16,0)","v":0},{"$f":"IF(F$4='Bendrieji įvesties duomenys'!$C$29,'Bendrieji įvesties duomenys'!$C$34*'Modifikuoti svoriai '!F16,0)","v":0},{"$f":"IF(G$4='Bendrieji įvesties duomenys'!$C$29,'Bendrieji įvesties duomenys'!$C$34*'Modifikuoti svoriai '!G16,0)","v":0},{"$f":"IF(H$4='Bendrieji įvesties duomenys'!$C$29,'Bendrieji įvesties duomenys'!$C$34*'Modifikuoti svoriai '!H16,0)","v":0},{"$f":"IF(I$4='Bendrieji įvesties duomenys'!$C$29,'Bendrieji įvesties duomenys'!$C$34*'Modifikuoti svoriai '!I16,0)","v":0},{"$f":"IF(J$4='Bendrieji įvesties duomenys'!$C$29,'Bendrieji įvesties duomenys'!$C$34*'Modifikuoti svoriai '!J16,0)","v":0},{"$f":"IF(K$4='Bendrieji įvesties duomenys'!$C$29,'Bendrieji įvesties duomenys'!$C$34*'Modifikuoti svoriai '!K16,0)","v":0}]
[null,13,"Ventiliacija (vėdinimas)",{"$f":"IF(D$4='Bendrieji įvesties duomenys'!$C$29,'Bendrieji įvesties duomenys'!$C$34*'Modifikuoti svoriai '!D17,0)","v":0},{"$f":"IF(E$4='Bendrieji įvesties duomenys'!$C$29,'Bendrieji įvesties duomenys'!$C$34*'Modifikuoti svoriai '!E17,0)","v":0},{"$f":"IF(F$4='Bendrieji įvesties duomenys'!$C$29,'Bendrieji įvesties duomenys'!$C$34*'Modifikuoti svoriai '!F17,0)","v":0},{"$f":"IF(G$4='Bendrieji įvesties duomenys'!$C$29,'Bendrieji įvesties duomenys'!$C$34*'Modifikuoti svoriai '!G17,0)","v":0},{"$f":"IF(H$4='Bendrieji įvesties duomenys'!$C$29,'Bendrieji įvesties duomenys'!$C$34*'Modifikuoti svoriai '!H17,0)","v":0},{"$f":"IF(I$4='Bendrieji įvesties duomenys'!$C$29,'Bendrieji įvesties duomenys'!$C$34*'Modifikuoti svoriai '!I17,0)","v":0},{"$f":"IF(J$4='Bendrieji įvesties duomenys'!$C$29,'Bendrieji įvesties duomenys'!$C$34*'Modifikuoti svoriai '!J17,0)","v":0},{"$f":"IF(K$4='Bendrieji įvesties duomenys'!$C$29,'Bendrieji įvesties duomenys'!$C$34*'Modifikuoti svoriai '!K17,0)","v":0}]
[null,14,"Vandentiekio sistema (vidaus)",{"$f":"IF(D$4='Bendrieji įvesties duomenys'!$C$29,'Bendrieji įvesties duomenys'!$C$34*'Modifikuoti svoriai '!D18,0)","v":0},{"$f":"IF(E$4='Bendrieji įvesties duomenys'!$C$29,'Bendrieji įvesties duomenys'!$C$34*'Modifikuoti svoriai '!E18,0)","v":0},{"$f":"IF(F$4='Bendrieji įvesties duomenys'!$C$29,'Bendrieji įvesties duomenys'!$C$34*'Modifikuoti svoriai '!F18,0)","v":0},{"$f":"IF(G$4='Bendrieji įvesties duomenys'!$C$29,'Bendrieji įvesties duomenys'!$C$34*'Modifikuoti svoriai '!G18,0)","v":0},{"$f":"IF(H$4='Bendrieji įvesties duomenys'!$C$29,'Bendrieji įvesties duomenys'!$C$34*'Modifikuoti svoriai '!H18,0)","v":0},{"$f":"IF(I$4='Bendrieji įvesties duomenys'!$C$29,'Bendrieji įvesties duomenys'!$C$34*'Modifikuoti svoriai '!I18,0)","v":0},{"$f":"IF(J$4='Bendrieji įvesties duomenys'!$C$29,'Bendrieji įvesties duomenys'!$C$34*'Modifikuoti svoriai '!J18,0)","v":0},{"$f":"IF(K$4='Bendrieji įvesties duomenys'!$C$29,'Bendrieji įvesties duomenys'!$C$34*'Modifikuoti svoriai '!K18,0)","v":0}]
[null,15,"Vandentiekio sistema (lauko)",{"$f":"IF(D$4='Bendrieji įvesties duomenys'!$C$29,'Bendrieji įvesties duomenys'!$C$34*'Modifikuoti svoriai '!D19,0)","v":0},{"$f":"IF(E$4='Bendrieji įvesties duomenys'!$C$29,'Bendrieji įvesties duomenys'!$C$34*'Modifikuoti svoriai '!E19,0)","v":0},{"$f":"IF(F$4='Bendrieji įvesties duomenys'!$C$29,'Bendrieji įvesties duomenys'!$C$34*'Modifikuoti svoriai '!F19,0)","v":0},{"$f":"IF(G$4='Bendrieji įvesties duomenys'!$C$29,'Bendrieji įvesties duomenys'!$C$34*'Modifikuoti svoriai '!G19,0)","v":0},{"$f":"IF(H$4='Bendrieji įvesties duomenys'!$C$29,'Bendrieji įvesties duomenys'!$C$34*'Modifikuoti svoriai '!H19,0)","v":0},{"$f":"IF(I$4='Bendrieji įvesties duomenys'!$C$29,'Bendrieji įvesties duomenys'!$C$34*'Modifikuoti svoriai '!I19,0)","v":0},{"$f":"IF(J$4='Bendrieji įvesties duomenys'!$C$29,'Bendrieji įvesties duomenys'!$C$34*'Modifikuoti svoriai '!J19,0)","v":0},{"$f":"IF(K$4='Bendrieji įvesties duomenys'!$C$29,'Bendrieji įvesties duomenys'!$C$34*'Modifikuoti svoriai '!K19,0)","v":0}]
[null,16,"Nuotekų šalinimo sistema (vidaus)",{"$f":"IF(D$4='Bendrieji įvesties duomenys'!$C$29,'Bendrieji įvesties duomenys'!$C$34*'Modifikuoti svoriai '!D20,0)","v":0},{"$f":"IF(E$4='Bendrieji įvesties duomenys'!$C$29,'Bendrieji įvesties duomenys'!$C$34*'Modifikuoti svoriai '!E20,0)","v":0},{"$f":"IF(F$4='Bendrieji įvesties duomenys'!$C$29,'Bendrieji įvesties duomenys'!$C$34*'Modifikuoti svoriai '!F20,0)","v":0},{"$f":"IF(G$4='Bendrieji įvesties duomenys'!$C$29,'Bendrieji įvesties duomenys'!$C$34*'Modifikuoti svoriai '!G20,0)","v":0},{"$f":"IF(H$4='Bendrieji įvesties duomenys'!$C$29,'Bendrieji įvesties duomenys'!$C$34*'Modifikuoti svoriai '!H20,0)","v":0},{"$f":"IF(I$4='Bendrieji įvesties duomenys'!$C$29,'Bendrieji įvesties duomenys'!$C$34*'Modifikuoti svoriai '!I20,0)","v":0},{"$f":"IF(J$4='Bendrieji įvesties duomenys'!$C$29,'Bendrieji įvesties duomenys'!$C$34*'Modifikuoti svoriai '!J20,0)","v":0},{"$f":"IF(K$4='Bendrieji įvesties duomenys'!$C$29,'Bendrieji įvesties duomenys'!$C$34*'Modifikuoti svoriai '!K20,0)","v":0}]
[null,17,"Nuotekų šalinimo sistema (lauko)",{"$f":"IF(D$4='Bendrieji įvesties duomenys'!$C$29,'Bendrieji įvesties duomenys'!$C$34*'Modifikuoti svoriai '!D21,0)","v":0},{"$f":"IF(E$4='Bendrieji įvesties duomenys'!$C$29,'Bendrieji įvesties duomenys'!$C$34*'Modifikuoti svoriai '!E21,0)","v":0},{"$f":"IF(F$4='Bendrieji įvesties duomenys'!$C$29,'Bendrieji įvesties duomenys'!$C$34*'Modifikuoti svoriai '!F21,0)","v":0},{"$f":"IF(G$4='Bendrieji įvesties duomenys'!$C$29,'Bendrieji įvesties duomenys'!$C$34*'Modifikuoti svoriai '!G21,0)","v":0},{"$f":"IF(H$4='Bendrieji įvesties duomenys'!$C$29,'Bendrieji įvesties duomenys'!$C$34*'Modifikuoti svoriai '!H21,0)","v":0},{"$f":"IF(I$4='Bendrieji įvesties duomenys'!$C$29,'Bendrieji įvesties duomenys'!$C$34*'Modifikuoti svoriai '!I21,0)","v":0},{"$f":"IF(J$4='Bendrieji įvesties duomenys'!$C$29,'Bendrieji įvesties duomenys'!$C$34*'Modifikuoti svoriai '!J21,0)","v":0},{"$f":"IF(K$4='Bendrieji įvesties duomenys'!$C$29,'Bendrieji įvesties duomenys'!$C$34*'Modifikuoti svoriai '!K21,0)","v":0}]
[null,18,"Elektros instaliacija (vidaus)",{"$f":"IF(D$4='Bendrieji įvesties duomenys'!$C$29,'Bendrieji įvesties duomenys'!$C$34*'Modifikuoti svoriai '!D22,0)","v":0},{"$f":"IF(E$4='Bendrieji įvesties duomenys'!$C$29,'Bendrieji įvesties duomenys'!$C$34*'Modifikuoti svoriai '!E22,0)","v":0},{"$f":"IF(F$4='Bendrieji įvesties duomenys'!$C$29,'Bendrieji įvesties duomenys'!$C$34*'Modifikuoti svoriai '!F22,0)","v":0},{"$f":"IF(G$4='Bendrieji įvesties duomenys'!$C$29,'Bendrieji įvesties duomenys'!$C$34*'Modifikuoti svoriai '!G22,0)","v":0},{"$f":"IF(H$4='Bendrieji įvesties duomenys'!$C$29,'Bendrieji įvesties duomenys'!$C$34*'Modifikuoti svoriai '!H22,0)","v":0},{"$f":"IF(I$4='Bendrieji įvesties duomenys'!$C$29,'Bendrieji įvesties duomenys'!$C$34*'Modifikuoti svoriai '!I22,0)","v":0},{"$f":"IF(J$4='Bendrieji įvesties duomenys'!$C$29,'Bendrieji įvesties duomenys'!$C$34*'Modifikuoti svoriai '!J22,0)","v":0},{"$f":"IF(K$4='Bendrieji įvesties duomenys'!$C$29,'Bendrieji įvesties duomenys'!$C$34*'Modifikuoti svoriai '!K22,0)","v":0}]
[null,19,"Elektros instaliacija (lauko)",{"$f":"IF(D$4='Bendrieji įvesties duomenys'!$C$29,'Bendrieji įvesties duomenys'!$C$34*'Modifikuoti svoriai '!D23,0)","v":0},{"$f":"IF(E$4='Bendrieji įvesties duomenys'!$C$29,'Bendrieji įvesties duomenys'!$C$34*'Modifikuoti svoriai '!E23,0)","v":0},{"$f":"IF(F$4='Bendrieji įvesties duomenys'!$C$29,'Bendrieji įvesties duomenys'!$C$34*'Modifikuoti svoriai '!F23,0)","v":0},{"$f":"IF(G$4='Bendrieji įvesties duomenys'!$C$29,'Bendrieji įvesties duomenys'!$C$34*'Modifikuoti svoriai '!G23,0)","v":0},{"$f":"IF(H$4='Bendrieji įvesties duomenys'!$C$29,'Bendrieji įvesties duomenys'!$C$34*'Modifikuoti svoriai '!H23,0)","v":0},{"$f":"IF(I$4='Bendrieji įvesties duomenys'!$C$29,'Bendrieji įvesties duomenys'!$C$34*'Modifikuoti svoriai '!I23,0)","v":0},{"$f":"IF(J$4='Bendrieji įvesties duomenys'!$C$29,'Bendrieji įvesties duomenys'!$C$34*'Modifikuoti svoriai '!J23,0)","v":0},{"$f":"IF(K$4='Bendrieji įvesties duomenys'!$C$29,'Bendrieji įvesties duomenys'!$C$34*'Modifikuoti svoriai '!K23,0)","v":0}]
[null,20,"Dujos",{"$f":"IF(D$4='Bendrieji įvesties duomenys'!$C$29,'Bendrieji įvesties duomenys'!$C$34*'Modifikuoti svoriai '!D24,0)","v":0},{"$f":"IF(E$4='Bendrieji įvesties duomenys'!$C$29,'Bendrieji įvesties duomenys'!$C$34*'Modifikuoti svoriai '!E24,0)","v":0},{"$f":"IF(F$4='Bendrieji įvesties duomenys'!$C$29,'Bendrieji įvesties duomenys'!$C$34*'Modifikuoti svoriai '!F24,0)","v":0},{"$f":"IF(G$4='Bendrieji įvesties duomenys'!$C$29,'Bendrieji įvesties duomenys'!$C$34*'Modifikuoti svoriai '!G24,0)","v":0},{"$f":"IF(H$4='Bendrieji įvesties duomenys'!$C$29,'Bendrieji įvesties duomenys'!$C$34*'Modifikuoti svoriai '!H24,0)","v":0},{"$f":"IF(I$4='Bendrieji įvesties duomenys'!$C$29,'Bendrieji įvesties duomenys'!$C$34*'Modifikuoti svoriai '!I24,0)","v":0},{"$f":"IF(J$4='Bendrieji įvesties duomenys'!$C$29,'Bendrieji įvesties duomenys'!$C$34*'Modifikuoti svoriai '!J24,0)","v":0},{"$f":"IF(K$4='Bendrieji įvesties duomenys'!$C$29,'Bendrieji įvesties duomenys'!$C$34*'Modifikuoti svoriai '!K24,0)","v":0}]
[null,21,"Apsaugos sistema",{"$f":"IF(D$4='Bendrieji įvesties duomenys'!$C$29,'Bendrieji įvesties duomenys'!$C$34*'Modifikuoti svoriai '!D25,0)","v":0},{"$f":"IF(E$4='Bendrieji įvesties duomenys'!$C$29,'Bendrieji įvesties duomenys'!$C$34*'Modifikuoti svoriai '!E25,0)","v":0},{"$f":"IF(F$4='Bendrieji įvesties duomenys'!$C$29,'Bendrieji įvesties duomenys'!$C$34*'Modifikuoti svoriai '!F25,0)","v":0},{"$f":"IF(G$4='Bendrieji įvesties duomenys'!$C$29,'Bendrieji įvesties duomenys'!$C$34*'Modifikuoti svoriai '!G25,0)","v":0},{"$f":"IF(H$4='Bendrieji įvesties duomenys'!$C$29,'Bendrieji įvesties duomenys'!$C$34*'Modifikuoti svoriai '!H25,0)","v":0},{"$f":"IF(I$4='Bendrieji įvesties duomenys'!$C$29,'Bendrieji įvesties duomenys'!$C$34*'Modifikuoti svoriai '!I25,0)","v":0},{"$f":"IF(J$4='Bendrieji įvesties duomenys'!$C$29,'Bendrieji įvesties duomenys'!$C$34*'Modifikuoti svoriai '!J25,0)","v":0},{"$f":"IF(K$4='Bendrieji įvesties duomenys'!$C$29,'Bendrieji įvesties duomenys'!$C$34*'Modifikuoti svoriai '!K25,0)","v":0}]
[null,22,"Telekomunikacijos",{"$f":"IF(D$4='Bendrieji įvesties duomenys'!$C$29,'Bendrieji įvesties duomenys'!$C$34*'Modifikuoti svoriai '!D26,0)","v":0},{"$f":"IF(E$4='Bendrieji įvesties duomenys'!$C$29,'Bendrieji įvesties duomenys'!$C$34*'Modifikuoti svoriai '!E26,0)","v":0},{"$f":"IF(F$4='Bendrieji įvesties duomenys'!$C$29,'Bendrieji įvesties duomenys'!$C$34*'Modifikuoti svoriai '!F26,0)","v":0},{"$f":"IF(G$4='Bendrieji įvesties duomenys'!$C$29,'Bendrieji įvesties duomenys'!$C$34*'Modifikuoti svoriai '!G26,0)","v":0},{"$f":"IF(H$4='Bendrieji įvesties duomenys'!$C$29,'Bendrieji įvesties duomenys'!$C$34*'Modifikuoti svoriai '!H26,0)","v":0},{"$f":"IF(I$4='Bendrieji įvesties duomenys'!$C$29,'Bendrieji įvesties duomenys'!$C$34*'Modifikuoti svoriai '!I26,0)","v":0},{"$f":"IF(J$4='Bendrieji įvesties duomenys'!$C$29,'Bendrieji įvesties duomenys'!$C$34*'Modifikuoti svoriai '!J26,0)","v":0},{"$f":"IF(K$4='Bendrieji įvesties duomenys'!$C$29,'Bendrieji įvesties duomenys'!$C$34*'Modifikuoti svoriai '!K26,0)","v":0}]
[null,23,"Gaisro gesinimo sistema",{"$f":"IF(D$4='Bendrieji įvesties duomenys'!$C$29,'Bendrieji įvesties duomenys'!$C$34*'Modifikuoti svoriai '!D27,0)","v":0},{"$f":"IF(E$4='Bendrieji įvesties duomenys'!$C$29,'Bendrieji įvesties duomenys'!$C$34*'Modifikuoti svoriai '!E27,0)","v":0},{"$f":"IF(F$4='Bendrieji įvesties duomenys'!$C$29,'Bendrieji įvesties duomenys'!$C$34*'Modifikuoti svoriai '!F27,0)","v":0},{"$f":"IF(G$4='Bendrieji įvesties duomenys'!$C$29,'Bendrieji įvesties duomenys'!$C$34*'Modifikuoti svoriai '!G27,0)","v":0},{"$f":"IF(H$4='Bendrieji įvesties duomenys'!$C$29,'Bendrieji įvesties duomenys'!$C$34*'Modifikuoti svoriai '!H27,0)","v":0},{"$f":"IF(I$4='Bendrieji įvesties duomenys'!$C$29,'Bendrieji įvesties duomenys'!$C$34*'Modifikuoti svoriai '!I27,0)","v":0},{"$f":"IF(J$4='Bendrieji įvesties duomenys'!$C$29,'Bendrieji įvesties duomenys'!$C$34*'Modifikuoti svoriai '!J27,0)","v":0},{"$f":"IF(K$4='Bendrieji įvesties duomenys'!$C$29,'Bendrieji įvesties duomenys'!$C$34*'Modifikuoti svoriai '!K27,0)","v":0}]
[null,24,"Transportavimo sistema",{"$f":"IF(D$4='Bendrieji įvesties duomenys'!$C$29,'Bendrieji įvesties duomenys'!$C$34*'Modifikuoti svoriai '!D28,0)","v":0},{"$f":"IF(E$4='Bendrieji įvesties duomenys'!$C$29,'Bendrieji įvesties duomenys'!$C$34*'Modifikuoti svoriai '!E28,0)","v":0},{"$f":"IF(F$4='Bendrieji įvesties duomenys'!$C$29,'Bendrieji įvesties duomenys'!$C$34*'Modifikuoti svoriai '!F28,0)","v":0},{"$f":"IF(G$4='Bendrieji įvesties duomenys'!$C$29,'Bendrieji įvesties duomenys'!$C$34*'Modifikuoti svoriai '!G28,0)","v":0},{"$f":"IF(H$4='Bendrieji įvesties duomenys'!$C$29,'Bendrieji įvesties duomenys'!$C$34*'Modifikuoti svoriai '!H28,0)","v":0},{"$f":"IF(I$4='Bendrieji įvesties duomenys'!$C$29,'Bendrieji įvesties duomenys'!$C$34*'Modifikuoti svoriai '!I28,0)","v":0},{"$f":"IF(J$4='Bendrieji įvesties duomenys'!$C$29,'Bendrieji įvesties duomenys'!$C$34*'Modifikuoti svoriai '!J28,0)","v":0},{"$f":"IF(K$4='Bendrieji įvesties duomenys'!$C$29,'Bendrieji įvesties duomenys'!$C$34*'Modifikuoti svoriai '!K28,0)","v":0}]
[null,25,"Lietaus bei gruntinių vandenų surinkimo / nuvedimo sistemos",{"$f":"IF(D$4='Bendrieji įvesties duomenys'!$C$29,'Bendrieji įvesties duomenys'!$C$34*'Modifikuoti svoriai '!D29,0)","v":0},{"$f":"IF(E$4='Bendrieji įvesties duomenys'!$C$29,'Bendrieji įvesties duomenys'!$C$34*'Modifikuoti svoriai '!E29,0)","v":0},{"$f":"IF(F$4='Bendrieji įvesties duomenys'!$C$29,'Bendrieji įvesties duomenys'!$C$34*'Modifikuoti svoriai '!F29,0)","v":0},{"$f":"IF(G$4='Bendrieji įvesties duomenys'!$C$29,'Bendrieji įvesties duomenys'!$C$34*'Modifikuoti svoriai '!G29,0)","v":0},{"$f":"IF(H$4='Bendrieji įvesties duomenys'!$C$29,'Bendrieji įvesties duomenys'!$C$34*'Modifikuoti svoriai '!H29,0)","v":0},{"$f":"IF(I$4='Bendrieji įvesties duomenys'!$C$29,'Bendrieji įvesties duomenys'!$C$34*'Modifikuoti svoriai '!I29,0)","v":0},{"$f":"IF(J$4='Bendrieji įvesties duomenys'!$C$29,'Bendrieji įvesties duomenys'!$C$34*'Modifikuoti svoriai '!J29,0)","v":0},{"$f":"IF(K$4='Bendrieji įvesties duomenys'!$C$29,'Bendrieji įvesties duomenys'!$C$34*'Modifikuoti svoriai '!K29,0)","v":0}]
[null,"Iš viso:",null,{"$f":"SUM(D5:D29)","v":0},{"$f":"SUM(E5:E29)","v":0},0,0,0,0,0,0]
[]
[]
[null,"Perdangų / sienų vertės apskaičiavimas"]
[null,"Eil. Nr.","Pastato elementas","Gyvenamieji pastatai","Gamybos ir sandėliavimo pastatai","Administraciniai pastatai","Mokslo įstaigos","Gydymo įstaigos","Transporto ir ryšių infrastruktūra","Kultūros objektai","Kiti pastatai"]
[null,null,"Bendra perdangų/sienų vertė"]
[null,1,"Perdangos",{"$f":"IFERROR('Modifikuoti svoriai '!D6*100/(SUM('Modifikuoti svoriai '!D6+'Modifikuoti svoriai '!D7))/100*D35,0)","v":0},{"$f":"IFERROR('Modifikuoti svoriai '!E6*100/(SUM('Modifikuoti svoriai '!E6+'Modifikuoti svoriai '!E7))/100*E35,0)","v":0},{"$f":"IFERROR('Modifikuoti svoriai '!F6*100/(SUM('Modifikuoti svoriai '!F6+'Modifikuoti svoriai '!F7))/100*F35,0)","v":0},{"$f":"IFERROR('Modifikuoti svoriai '!G6*100/(SUM('Modifikuoti svoriai '!G6+'Modifikuoti svoriai '!G7))/100*G35,0)","v":0},{"$f":"IFERROR('Modifikuoti svoriai '!H6*100/(SUM('Modifikuoti svoriai '!H6+'Modifikuoti svoriai '!H7))/100*H35,0)","v":0},{"$f":"IFERROR('Modifikuoti svoriai '!I6*100/(SUM('Modifikuoti svoriai '!I6+'Modifikuoti svoriai '!I7))/100*I35,0)","v":0},{"$f":"IFERROR('Modifikuoti svoriai '!J6*100/(SUM('Modifikuoti svoriai '!J6+'Modifikuoti svoriai '!J7))/100*J35,0)","v":0},{"$f":"IFERROR('Modifikuoti svoriai '!K6*100/(SUM('Modifikuoti svoriai '!K6+'Modifikuoti svoriai '!K7))/100*K35,0)","v":0}]
[null,2,"Sienos",{"$f":"IFERROR('Modifikuoti svoriai '!D7*100/(SUM('Modifikuoti svoriai '!D6+'Modifikuoti svoriai '!D7))/100*D35,0)","v":0},{"$f":"IFERROR('Modifikuoti svoriai '!E7*100/(SUM('Modifikuoti svoriai '!E6+'Modifikuoti svoriai '!E7))/100*E35,0)","v":0},{"$f":"IFERROR('Modifikuoti svoriai '!F7*100/(SUM('Modifikuoti svoriai '!F6+'Modifikuoti svoriai '!F7))/100*F35,0)","v":0},{"$f":"IFERROR('Modifikuoti svoriai '!G7*100/(SUM('Modifikuoti svoriai '!G6+'Modifikuoti svoriai '!G7))/100*G35,0)","v":0},{"$f":"IFERROR('Modifikuoti svoriai '!H7*100/(SUM('Modifikuoti svoriai '!H6+'Modifikuoti svoriai '!H7))/100*H35,0)","v":0},{"$f":"IFERROR('Modifikuoti svoriai '!I7*100/(SUM('Modifikuoti svoriai '!I6+'Modifikuoti svoriai '!I7))/100*I35,0)","v":0},{"$f":"IFERROR('Modifikuoti svoriai '!J7*100/(SUM('Modifikuoti svoriai '!J6+'Modifikuoti svoriai '!J7))/100*J35,0)","v":0},{"$f":"IFERROR('Modifikuoti svoriai '!K7*100/(SUM('Modifikuoti svoriai '!K6+'Modifikuoti svoriai '!K7))/100*K35,0)","v":0}]